{"text_format":"1","workbook":"xlsx","n_sheets":8,"sheets":["TES X Template","TES Bowler Template","X-Matrix Overview","Bowler Overview","Sheet10","Sheet11","Sheet12","Sheet14"],"not_rendered":{"charts":0,"images":7,"macros":1,"external_links":0,"defined_names":6,"comments":0,"pivot_tables":0},"unopened":[],"bounds":{"document_bytes":16777216,"sheet_cells":100000,"rows_first":2000,"rows_last":500,"rows_between":2000,"halvings":0,"cell_chars":16384,"cell_head_chars":4096},"cells_cut":0,"cells_raw":0,"read":"whole","date_system":"1900"}

{"sheet":"TES X Template","index":0,"n_rows":18,"n_cols":45,"rows_kept":18,"cut":false,"hidden":false,"merged":[[22,1,22,44],[1,29,14,29],[16,14,16,22]]}
[]
[]
[]
[]
[]
[]
[]
[]
[null,null,null,null,null,null,null,null,null,null,null,null,null,null,null,null,null,null,null,null,null,null,null,null,"n","n","n"]
[null,null,null,null,null,null,null,null,null,null,null,null,null,null,null,null,null,null,null,null,null,"n","n","n"]
[null,null,null,null,null,null,null,null,null,null,null,null,null,null,null,null,null,null,"n","n","n"]
[null,null,null,null,null,null,null,null,null,null,null,null,null,null,null,"n","n","n"]
[null,null,null,null,null,null,null,null,null,null,null,null,"n","n","n"]
[null,null,null,null,null,null,null,null,null,"n","n","n"]
[null,null,null,null,null,"Staffing = $875k (Booked)","Recruiting Revenue = $50k","TES Consulting = $187.5 (Booked)",null,"TEST","test",null,null,null,null,null,null,null,null,null,null,null,null,null,null,null,null,null,null,null,null,null,null,null,null,{"$f":"IF(ISTEXT(#REF!),#REF!,\"\")","v":""},{"$f":"IF(ISTEXT(#REF!),#REF!,\"\")","v":""},{"$f":"IF(ISTEXT(#REF!),#REF!,\"\")","v":""},{"$f":"IF(ISTEXT(#REF!),#REF!,\"\")","v":""},{"$f":"IF(ISTEXT(#REF!),#REF!,\"\")","v":""},{"$f":"IF(ISTEXT(#REF!),#REF!,\"\")","v":""},{"$f":"IF(ISTEXT(#REF!),#REF!,\"\")","v":""},{"$f":"IF(ISTEXT(#REF!),#REF!,\"\")","v":""},{"$f":"IF(ISTEXT(#REF!),#REF!,\"\")","v":""},{"$f":"IF(ISTEXT(#REF!),#REF!,\"\")","v":""}]
[null,null,null,null,null,null,null,"n","TES Consulting = $750k+",1,2,3,4,5,6,7,8,9,10,11,12,13,14,15,16,17,18,19,20,null,null,null,"Resources - \"Who\""]
[null,null,null,null,null,null,"n",null,"Recruiting Revenue = $200k+",null,null,null,null,null,null,null,null,null,null,null,null,null,null,null,null,null,null,null,null,null,null,null,"n","Primary Responsibility"]
[null,null,null,null,null,"n",null,null,"Staffing = $3.5M +",null,null,null,null,null,null,null,null,null,null,null,null,null,null,null,null,null,null,null,null,null,null,null,"o","Secondary Responsibility"]

{"sheet":"TES Bowler Template","index":1,"n_rows":45,"n_cols":21,"rows_kept":45,"cut":false,"hidden":false,"merged":[[17,7,18,7],[19,7,20,7],[37,7,38,7],[39,7,40,7],[41,7,42,7],[21,7,22,7],[23,7,24,7],[25,7,26,7],[27,7,28,7],[43,7,44,7],[29,7,30,7],[31,7,32,7],[33,7,34,7],[35,7,36,7],[27,1,28,1],[27,2,28,4],[27,6,28,6],[29,1,30,1],[29,2,30,4],[29,6,30,6],[43,1,44,1],[43,2,44,4],[43,6,44,6],[37,1,38,1],[37,2,38,4],[37,6,38,6],[0,1,0,20],[39,1,40,1],[39,2,40,4],[39,6,40,6],[41,1,42,1],[41,2,42,4],[41,6,42,6],[35,1,36,1],[35,2,36,4],[35,6,36,6],[31,1,32,1],[31,2,32,4],[31,6,32,6],[33,1,34,1],[33,2,34,4],[33,6,34,6],[23,1,24,1],[23,2,24,4],[23,6,24,6],[25,1,26,1],[25,2,26,4],[25,6,26,6],[21,6,22,6],[5,7,6,7],[7,7,8,7],[9,7,10,7],[17,1,18,1],[19,1,20,1],[21,1,22,1],[13,6,14,6],[5,1,6,1],[5,2,6,4],[15,6,16,6],[17,6,18,6],[19,6,20,6],[5,6,6,6],[7,6,8,6],[9,6,10,6],[21,2,22,4],[4,2,4,4],[15,2,16,4],[17,2,18,4],[19,2,20,4],[7,2,8,4],[9,2,10,4],[11,2,12,4],[13,2,14,4],[11,7,12,7],[13,7,14,7],[13,1,14,1],[15,1,16,1],[1,2,2,18],[11,6,12,6],[7,1,8,1],[9,1,10,1],[11,1,12,1],[15,7,16,7]]}
[null,"Strategic Performance Dashboard"]
[null,null,"Each target you have previously entered will appear below automatically. For each target, enter your starting point and plot the progression needed to meet the target on time. Fill in the actually progression over time.  Current cell formatting will show any actual result that is LESS than the planned result to highlight the cell in RED."]
[]
[null,null,null,"2023 Dashboard"]
[null,null,"Deliverables and Measures",null,null,"Owner","Starting Point","EOY Est","Week",1,2,3,4,5,6,7,8,9,10,11,12]
[null,1,null,null,null,null,0," ","Plan"]
[null,null,null,null,null,null,null,null,"Actual"]
[null,2,null,null,null,null,0," ","Plan"]
[null,null,null,null,null,null,null,null,"Actual"]
[null,3,null,null,null,null,null,null,"Plan"]
[null,null,null,null,null,null,null,null,"Actual"]
[null,4,null,null,null,null,null,null,"Plan"]
[null,null,null,null,null,null,null,null,"Actual"]
[null,5,null,null,null,null,null,null,"Plan"]
[null,null,null,null,null,null,null,null,"Actual"]
[null,6,null,null,null,null,null,null,"Plan"]
[null,null,null,null,null,null,null,null,"Actual"]
[null,7,null,null,null,null,null,null,"Plan"]
[null,null,null,null,null,null,null,null,"Actual"]
[null,8,null,null,null,null,null,null,"Plan"]
[null,null,null,null,null,null,null,null,"Actual"]
[null,9,{"$f":"IF(ISTEXT('TES X Template'!R15),'TES X Template'!R15,\"\")","v":""},null,null,null,null,null,"Plan"]
[null,null,null,null,null,null,null,null,"Actual"]
[null,10,{"$f":"IF(ISTEXT('TES X Template'!S15),'TES X Template'!S15,\"\")","v":""},null,null,null,null,null,"Plan"]
[null,null,null,null,null,null,null,null,"Actual"]
[null,11,{"$f":"IF(ISTEXT('TES X Template'!T15),'TES X Template'!T15,\"\")","v":""},null,null,null,null,null,"Plan"]
[null,null,null,null,null,null,null,null,"Actual"]
[null,12,{"$f":"IF(ISTEXT('TES X Template'!U15),'TES X Template'!U15,\"\")","v":""},null,null,null,null,null,"Plan"]
[null,null,null,null,null,null,null,null,"Actual"]
[null,13,{"$f":"IF(ISTEXT('TES X Template'!V15),'TES X Template'!V15,\"\")","v":""},null,null,null,null,null,"Plan"]
[null,null,null,null,null,null,null,null,"Actual"]
[null,14,{"$f":"IF(ISTEXT('TES X Template'!W15),'TES X Template'!W15,\"\")","v":""},null,null,null,null,null,"Plan"]
[null,null,null,null,null,null,null,null,"Actual"]
[null,15,{"$f":"IF(ISTEXT('TES X Template'!X15),'TES X Template'!X15,\"\")","v":""},null,null,null,null,null,"Plan"]
[null,null,null,null,null,null,null,null,"Actual"]
[null,16,{"$f":"IF(ISTEXT('TES X Template'!Y15),'TES X Template'!Y15,\"\")","v":""},null,null,null,null,null,"Plan"]
[null,null,null,null,null,null,null,null,"Actual"]
[null,17,{"$f":"IF(ISTEXT('TES X Template'!Z15),'TES X Template'!Z15,\"\")","v":""},null,null,null,null,null,"Plan"]
[null,null,null,null,null,null,null,null,"Actual"]
[null,18,{"$f":"IF(ISTEXT('TES X Template'!AA15),'TES X Template'!AA15,\"\")","v":""},null,null,null,null,null,"Plan"]
[null,null,null,null,null,null,null,null,"Actual"]
[null,19,{"$f":"IF(ISTEXT('TES X Template'!AB15),'TES X Template'!AB15,\"\")","v":""},null,null,null,null,null,"Plan"]
[null,null,null,null,null,null,null,null,"Actual"]
[null,20,{"$f":"IF(ISTEXT('TES X Template'!AC15),'TES X Template'!AC15,\"\")","v":""},null,null,null,null,null,"Plan"]
[null,null,null,null,null,null,null,null,"Actual"]

{"sheet":"X-Matrix Overview","index":2,"n_rows":0,"n_cols":0,"rows_kept":0,"cut":false,"hidden":false,"merged":[]}

{"sheet":"Bowler Overview","index":3,"n_rows":0,"n_cols":0,"rows_kept":0,"cut":false,"hidden":false,"merged":[]}

{"sheet":"Sheet10","index":4,"n_rows":1,"n_cols":2,"rows_kept":1,"cut":false,"hidden":true,"merged":[]}
["Reduce International COGS from 52.5% to 51.5% by 12/31/2012","Reduce International COGS from 52.5% to 51.5% by 12/31/2012"]

{"sheet":"Sheet11","index":5,"n_rows":3,"n_cols":2,"rows_kept":3,"cut":false,"hidden":true,"merged":[]}
["Reduce APAC COGS from X% to Y%","Reduce APAC COGS from X% to Y%"]
["Reduce LA COGS from X% to Y%","Reduce LA COGS from X% to Y%"]
["Reduce WE COGS from X% to Y%","Reduce WE COGS from X% to Y%"]

{"sheet":"Sheet12","index":6,"n_rows":3,"n_cols":2,"rows_kept":3,"cut":false,"hidden":true,"merged":[]}
["Reduce Factory Cost from X% to Y%","Reduce Factory Cost from X% to Y%"]
["Change COGS related to MIX from  X% to Y%","Change COGS related to MIX from  X% to Y%"]
["Increase Price Yield by X% or $Y","Increase Price Yield by X% or $Y"]

{"sheet":"Sheet14","index":7,"n_rows":6173,"n_cols":65,"rows_kept":1125,"cut":true,"hidden":true,"merged":[],"bounds":{"rows_first":500,"rows_last":125,"rows_between":500,"halvings":2}}
[]
[]
[]
[]
[]
[]
[]
[]
[]
[null,null,{"$f":"IF(ISTEXT(#REF!),#REF!,\"\")","v":""},{"$f":"IF(ISTEXT(#REF!),#REF!,\"\")","v":""},{"$f":"IF(ISTEXT(#REF!),#REF!,\"\")","v":""},{"$f":"IF(ISTEXT(#REF!),#REF!,\"\")","v":""},{"$f":"IF(ISTEXT(#REF!),#REF!,\"\")","v":""},{"$f":"IF(ISTEXT(#REF!),#REF!,\"\")","v":""},{"$f":"IF(ISTEXT(#REF!),#REF!,\"\")","v":""},null,{"$f":"IF(ISTEXT(#REF!),#REF!,\"\")","v":""},{"$f":"IF(ISTEXT(#REF!),#REF!,\"\")","v":""},{"$f":"IF(ISNUMBER(#REF!),#REF!,\"\")","v":""},{"$f":"IF(ISTEXT(#REF!),#REF!,\"\")","v":""},null,{"$f":"IF(ISTEXT(#REF!),#REF!,\"\")","v":""},{"$f":"IF(ISTEXT(#REF!),#REF!,\"\")","v":""},{"$f":"IF(ISTEXT(#REF!),#REF!,\"\")","v":""},{"$f":"IF(ISTEXT(#REF!),#REF!,\"\")","v":""},{"$f":"IF(ISTEXT(#REF!),#REF!,\"\")","v":""},{"$f":"IF(ISTEXT(#REF!),#REF!,\"\")","v":""},{"$f":"IF(ISTEXT(#REF!),#REF!,\"\")","v":""},null,{"$f":"IF(ISTEXT(#REF!),#REF!,\"\")","v":""},{"$f":"IF(ISTEXT(#REF!),#REF!,\"\")","v":""},{"$f":"IF(ISNUMBER(#REF!),#REF!,\"\")","v":""},{"$f":"IF(ISTEXT(#REF!),#REF!,\"\")","v":""},{"$f":"IF(ISTEXT(#REF!),#REF!,\"\")","v":""},{"$f":"IF(ISTEXT(#REF!),#REF!,\"\")","v":""},{"$f":"IF(ISTEXT(#REF!),#REF!,\"\")","v":""},{"$f":"IF(ISTEXT(#REF!),#REF!,\"\")","v":""},{"$f":"IF(ISTEXT(#REF!),#REF!,\"\")","v":""},{"$f":"IF(ISTEXT(#REF!),#REF!,\"\")","v":""},{"$f":"IF(ISTEXT(#REF!),#REF!,\"\")","v":""},null,{"$f":"IF(ISTEXT(#REF!),#REF!,\"\")","v":""},{"$f":"IF(ISTEXT(#REF!),#REF!,\"\")","v":""},{"$f":"IF(ISNUMBER(#REF!),#REF!,\"\")","v":""},{"$f":"IF(ISTEXT(#REF!),#REF!,\"\")","v":""},null,{"$f":"IF(ISTEXT(#REF!),#REF!,\"\")","v":""},{"$f":"IF(ISTEXT(#REF!),#REF!,\"\")","v":""},{"$f":"IF(ISTEXT(#REF!),#REF!,\"\")","v":""},{"$f":"IF(ISTEXT(#REF!),#REF!,\"\")","v":""},{"$f":"IF(ISTEXT(#REF!),#REF!,\"\")","v":""},{"$f":"IF(ISTEXT(#REF!),#REF!,\"\")","v":""},{"$f":"IF(ISTEXT(#REF!),#REF!,\"\")","v":""},null,{"$f":"IF(ISTEXT(#REF!),#REF!,\"\")","v":""},{"$f":"IF(ISTEXT(#REF!),#REF!,\"\")","v":""},{"$f":"IF(ISNUMBER(#REF!),#REF!,\"\")","v":""},{"$f":"IF(ISTEXT(#REF!),#REF!,\"\")","v":""},null,{"$f":"IF(ISTEXT(#REF!),#REF!,\"\")","v":""},{"$f":"IF(ISTEXT(#REF!),#REF!,\"\")","v":""},{"$f":"IF(ISTEXT(#REF!),#REF!,\"\")","v":""},{"$f":"IF(ISTEXT(#REF!),#REF!,\"\")","v":""},{"$f":"IF(ISTEXT(#REF!),#REF!,\"\")","v":""},{"$f":"IF(ISTEXT(#REF!),#REF!,\"\")","v":""},{"$f":"IF(ISTEXT(#REF!),#REF!,\"\")","v":""},null,{"$f":"IF(ISTEXT(#REF!),#REF!,\"\")","v":""},{"$f":"IF(ISTEXT(#REF!),#REF!,\"\")","v":""},{"$f":"IF(ISNUMBER(#REF!),#REF!,\"\")","v":""},{"$f":"IF(ISTEXT(#REF!),#REF!,\"\")","v":""}]
[null,null,{"$f":"IF(ISTEXT(#REF!),#REF!,\"\")","v":""},{"$f":"IF(ISTEXT(#REF!),#REF!,\"\")","v":""},{"$f":"IF(ISTEXT(#REF!),#REF!,\"\")","v":""},{"$f":"IF(ISTEXT(#REF!),#REF!,\"\")","v":""},{"$f":"IF(ISTEXT(#REF!),#REF!,\"\")","v":""},{"$f":"IF(ISTEXT(#REF!),#REF!,\"\")","v":""},{"$f":"IF(ISTEXT(#REF!),#REF!,\"\")","v":""},null,{"$f":"IF(ISTEXT(#REF!),#REF!,\"\")","v":""},null,{"$f":"IF(ISNUMBER(#REF!),#REF!,\"\")","v":""},{"$f":"IF(ISTEXT(#REF!),#REF!,\"\")","v":""},null,{"$f":"IF(ISTEXT(#REF!),#REF!,\"\")","v":""},{"$f":"IF(ISTEXT(#REF!),#REF!,\"\")","v":""},{"$f":"IF(ISTEXT(#REF!),#REF!,\"\")","v":""},{"$f":"IF(ISTEXT(#REF!),#REF!,\"\")","v":""},{"$f":"IF(ISTEXT(#REF!),#REF!,\"\")","v":""},{"$f":"IF(ISTEXT(#REF!),#REF!,\"\")","v":""},{"$f":"IF(ISTEXT(#REF!),#REF!,\"\")","v":""},null,{"$f":"IF(ISTEXT(#REF!),#REF!,\"\")","v":""},{"$f":"IF(ISTEXT(#REF!),#REF!,\"\")","v":""},{"$f":"IF(ISNUMBER(#REF!),#REF!,\"\")","v":""},{"$f":"IF(ISTEXT(#REF!),#REF!,\"\")","v":""},{"$f":"IF(ISTEXT(#REF!),#REF!,\"\")","v":""},{"$f":"IF(ISTEXT(#REF!),#REF!,\"\")","v":""},{"$f":"IF(ISTEXT(#REF!),#REF!,\"\")","v":""},{"$f":"IF(ISTEXT(#REF!),#REF!,\"\")","v":""},{"$f":"IF(ISTEXT(#REF!),#REF!,\"\")","v":""},{"$f":"IF(ISTEXT(#REF!),#REF!,\"\")","v":""},{"$f":"IF(ISTEXT(#REF!),#REF!,\"\")","v":""},null,{"$f":"IF(ISTEXT(#REF!),#REF!,\"\")","v":""},{"$f":"IF(ISTEXT(#REF!),#REF!,\"\")","v":""},{"$f":"IF(ISNUMBER(#REF!),#REF!,\"\")","v":""},{"$f":"IF(ISTEXT(#REF!),#REF!,\"\")","v":""},null,{"$f":"IF(ISTEXT(#REF!),#REF!,\"\")","v":""},{"$f":"IF(ISTEXT(#REF!),#REF!,\"\")","v":""},{"$f":"IF(ISTEXT(#REF!),#REF!,\"\")","v":""},{"$f":"IF(ISTEXT(#REF!),#REF!,\"\")","v":""},{"$f":"IF(ISTEXT(#REF!),#REF!,\"\")","v":""},{"$f":"IF(ISTEXT(#REF!),#REF!,\"\")","v":""},{"$f":"IF(ISTEXT(#REF!),#REF!,\"\")","v":""},null,{"$f":"IF(ISTEXT(#REF!),#REF!,\"\")","v":""},{"$f":"IF(ISTEXT(#REF!),#REF!,\"\")","v":""},{"$f":"IF(ISNUMBER(#REF!),#REF!,\"\")","v":""},{"$f":"IF(ISTEXT(#REF!),#REF!,\"\")","v":""},null,{"$f":"IF(ISTEXT(#REF!),#REF!,\"\")","v":""},{"$f":"IF(ISTEXT(#REF!),#REF!,\"\")","v":""},{"$f":"IF(ISTEXT(#REF!),#REF!,\"\")","v":""},{"$f":"IF(ISTEXT(#REF!),#REF!,\"\")","v":""},{"$f":"IF(ISTEXT(#REF!),#REF!,\"\")","v":""},{"$f":"IF(ISTEXT(#REF!),#REF!,\"\")","v":""},{"$f":"IF(ISTEXT(#REF!),#REF!,\"\")","v":""},null,{"$f":"IF(ISTEXT(#REF!),#REF!,\"\")","v":""},{"$f":"IF(ISTEXT(#REF!),#REF!,\"\")","v":""},{"$f":"IF(ISNUMBER(#REF!),#REF!,\"\")","v":""},{"$f":"IF(ISTEXT(#REF!),#REF!,\"\")","v":""}]
[null,null,{"$f":"IF(ISTEXT(#REF!),#REF!,\"\")","v":""},{"$f":"IF(ISTEXT(#REF!),#REF!,\"\")","v":""},{"$f":"IF(ISTEXT(#REF!),#REF!,\"\")","v":""},{"$f":"IF(ISTEXT(#REF!),#REF!,\"\")","v":""},{"$f":"IF(ISTEXT(#REF!),#REF!,\"\")","v":""},{"$f":"IF(ISTEXT(#REF!),#REF!,\"\")","v":""},{"$f":"IF(ISTEXT(#REF!),#REF!,\"\")","v":""},null,{"$f":"IF(ISTEXT(#REF!),#REF!,\"\")","v":""},{"$f":"IF(ISTEXT(#REF!),#REF!,\"\")","v":""},{"$f":"IF(ISNUMBER(#REF!),#REF!,\"\")","v":""},{"$f":"IF(ISTEXT(#REF!),#REF!,\"\")","v":""},null,{"$f":"IF(ISTEXT(#REF!),#REF!,\"\")","v":""},{"$f":"IF(ISTEXT(#REF!),#REF!,\"\")","v":""},{"$f":"IF(ISTEXT(#REF!),#REF!,\"\")","v":""},{"$f":"IF(ISTEXT(#REF!),#REF!,\"\")","v":""},{"$f":"IF(ISTEXT(#REF!),#REF!,\"\")","v":""},{"$f":"IF(ISTEXT(#REF!),#REF!,\"\")","v":""},{"$f":"IF(ISTEXT(#REF!),#REF!,\"\")","v":""},null,{"$f":"IF(ISTEXT(#REF!),#REF!,\"\")","v":""},{"$f":"IF(ISTEXT(#REF!),#REF!,\"\")","v":""},{"$f":"IF(ISNUMBER(#REF!),#REF!,\"\")","v":""},{"$f":"IF(ISTEXT(#REF!),#REF!,\"\")","v":""},{"$f":"IF(ISTEXT(#REF!),#REF!,\"\")","v":""},{"$f":"IF(ISTEXT(#REF!),#REF!,\"\")","v":""},{"$f":"IF(ISTEXT(#REF!),#REF!,\"\")","v":""},{"$f":"IF(ISTEXT(#REF!),#REF!,\"\")","v":""},{"$f":"IF(ISTEXT(#REF!),#REF!,\"\")","v":""},{"$f":"IF(ISTEXT(#REF!),#REF!,\"\")","v":""},{"$f":"IF(ISTEXT(#REF!),#REF!,\"\")","v":""},null,{"$f":"IF(ISTEXT(#REF!),#REF!,\"\")","v":""},{"$f":"IF(ISTEXT(#REF!),#REF!,\"\")","v":""},{"$f":"IF(ISNUMBER(#REF!),#REF!,\"\")","v":""},{"$f":"IF(ISTEXT(#REF!),#REF!,\"\")","v":""},null,{"$f":"IF(ISTEXT(#REF!),#REF!,\"\")","v":""},{"$f":"IF(ISTEXT(#REF!),#REF!,\"\")","v":""},{"$f":"IF(ISTEXT(#REF!),#REF!,\"\")","v":""},{"$f":"IF(ISTEXT(#REF!),#REF!,\"\")","v":""},{"$f":"IF(ISTEXT(#REF!),#REF!,\"\")","v":""},{"$f":"IF(ISTEXT(#REF!),#REF!,\"\")","v":""},{"$f":"IF(ISTEXT(#REF!),#REF!,\"\")","v":""},null,{"$f":"IF(ISTEXT(#REF!),#REF!,\"\")","v":""},{"$f":"IF(ISTEXT(#REF!),#REF!,\"\")","v":""},{"$f":"IF(ISNUMBER(#REF!),#REF!,\"\")","v":""},{"$f":"IF(ISTEXT(#REF!),#REF!,\"\")","v":""},null,{"$f":"IF(ISTEXT(#REF!),#REF!,\"\")","v":""},{"$f":"IF(ISTEXT(#REF!),#REF!,\"\")","v":""},{"$f":"IF(ISTEXT(#REF!),#REF!,\"\")","v":""},{"$f":"IF(ISTEXT(#REF!),#REF!,\"\")","v":""},{"$f":"IF(ISTEXT(#REF!),#REF!,\"\")","v":""},{"$f":"IF(ISTEXT(#REF!),#REF!,\"\")","v":""},{"$f":"IF(ISTEXT(#REF!),#REF!,\"\")","v":""},null,{"$f":"IF(ISTEXT(#REF!),#REF!,\"\")","v":""},{"$f":"IF(ISTEXT(#REF!),#REF!,\"\")","v":""},{"$f":"IF(ISNUMBER(#REF!),#REF!,\"\")","v":""},{"$f":"IF(ISTEXT(#REF!),#REF!,\"\")","v":""}]
[null,null,{"$f":"IF(ISTEXT(#REF!),#REF!,\"\")","v":""},{"$f":"IF(ISTEXT(#REF!),#REF!,\"\")","v":""},{"$f":"IF(ISTEXT(#REF!),#REF!,\"\")","v":""},{"$f":"IF(ISTEXT(#REF!),#REF!,\"\")","v":""},{"$f":"IF(ISTEXT(#REF!),#REF!,\"\")","v":""},{"$f":"IF(ISTEXT(#REF!),#REF!,\"\")","v":""},{"$f":"IF(ISTEXT(#REF!),#REF!,\"\")","v":""},null,{"$f":"IF(ISTEXT(#REF!),#REF!,\"\")","v":""},{"$f":"IF(ISTEXT(#REF!),#REF!,\"\")","v":""},{"$f":"IF(ISNUMBER(#REF!),#REF!,\"\")","v":""},{"$f":"IF(ISTEXT(#REF!),#REF!,\"\")","v":""},null,{"$f":"IF(ISTEXT(#REF!),#REF!,\"\")","v":""},{"$f":"IF(ISTEXT(#REF!),#REF!,\"\")","v":""},{"$f":"IF(ISTEXT(#REF!),#REF!,\"\")","v":""},{"$f":"IF(ISTEXT(#REF!),#REF!,\"\")","v":""},{"$f":"IF(ISTEXT(#REF!),#REF!,\"\")","v":""},{"$f":"IF(ISTEXT(#REF!),#REF!,\"\")","v":""},{"$f":"IF(ISTEXT(#REF!),#REF!,\"\")","v":""},null,{"$f":"IF(ISTEXT(#REF!),#REF!,\"\")","v":""},{"$f":"IF(ISTEXT(#REF!),#REF!,\"\")","v":""},{"$f":"IF(ISNUMBER(#REF!),#REF!,\"\")","v":""},{"$f":"IF(ISTEXT(#REF!),#REF!,\"\")","v":""},{"$f":"IF(ISTEXT(#REF!),#REF!,\"\")","v":""},{"$f":"IF(ISTEXT(#REF!),#REF!,\"\")","v":""},{"$f":"IF(ISTEXT(#REF!),#REF!,\"\")","v":""},{"$f":"IF(ISTEXT(#REF!),#REF!,\"\")","v":""},{"$f":"IF(ISTEXT(#REF!),#REF!,\"\")","v":""},{"$f":"IF(ISTEXT(#REF!),#REF!,\"\")","v":""},{"$f":"IF(ISTEXT(#REF!),#REF!,\"\")","v":""},null,{"$f":"IF(ISTEXT(#REF!),#REF!,\"\")","v":""},{"$f":"IF(ISTEXT(#REF!),#REF!,\"\")","v":""},{"$f":"IF(ISNUMBER(#REF!),#REF!,\"\")","v":""},{"$f":"IF(ISTEXT(#REF!),#REF!,\"\")","v":""},null,{"$f":"IF(ISTEXT(#REF!),#REF!,\"\")","v":""},{"$f":"IF(ISTEXT(#REF!),#REF!,\"\")","v":""},{"$f":"IF(ISTEXT(#REF!),#REF!,\"\")","v":""},{"$f":"IF(ISTEXT(#REF!),#REF!,\"\")","v":""},{"$f":"IF(ISTEXT(#REF!),#REF!,\"\")","v":""},{"$f":"IF(ISTEXT(#REF!),#REF!,\"\")","v":""},{"$f":"IF(ISTEXT(#REF!),#REF!,\"\")","v":""},null,{"$f":"IF(ISTEXT(#REF!),#REF!,\"\")","v":""},{"$f":"IF(ISTEXT(#REF!),#REF!,\"\")","v":""},{"$f":"IF(ISNUMBER(#REF!),#REF!,\"\")","v":""},{"$f":"IF(ISTEXT(#REF!),#REF!,\"\")","v":""},null,{"$f":"IF(ISTEXT(#REF!),#REF!,\"\")","v":""},{"$f":"IF(ISTEXT(#REF!),#REF!,\"\")","v":""},{"$f":"IF(ISTEXT(#REF!),#REF!,\"\")","v":""},{"$f":"IF(ISTEXT(#REF!),#REF!,\"\")","v":""},{"$f":"IF(ISTEXT(#REF!),#REF!,\"\")","v":""},{"$f":"IF(ISTEXT(#REF!),#REF!,\"\")","v":""},{"$f":"IF(ISTEXT(#REF!),#REF!,\"\")","v":""},null,{"$f":"IF(ISTEXT(#REF!),#REF!,\"\")","v":""},{"$f":"IF(ISTEXT(#REF!),#REF!,\"\")","v":""},{"$f":"IF(ISNUMBER(#REF!),#REF!,\"\")","v":""},{"$f":"IF(ISTEXT(#REF!),#REF!,\"\")","v":""}]
[null,null,{"$f":"IF(ISTEXT(#REF!),#REF!,\"\")","v":""},{"$f":"IF(ISTEXT(#REF!),#REF!,\"\")","v":""},{"$f":"IF(ISTEXT(#REF!),#REF!,\"\")","v":""},{"$f":"IF(ISTEXT(#REF!),#REF!,\"\")","v":""},{"$f":"IF(ISTEXT(#REF!),#REF!,\"\")","v":""},{"$f":"IF(ISTEXT(#REF!),#REF!,\"\")","v":""},{"$f":"IF(ISTEXT(#REF!),#REF!,\"\")","v":""},null,{"$f":"IF(ISTEXT(#REF!),#REF!,\"\")","v":""},{"$f":"IF(ISTEXT(#REF!),#REF!,\"\")","v":""},{"$f":"IF(ISNUMBER(#REF!),#REF!,\"\")","v":""},{"$f":"IF(ISTEXT(#REF!),#REF!,\"\")","v":""},null,{"$f":"IF(ISTEXT(#REF!),#REF!,\"\")","v":""},{"$f":"IF(ISTEXT(#REF!),#REF!,\"\")","v":""},{"$f":"IF(ISTEXT(#REF!),#REF!,\"\")","v":""},{"$f":"IF(ISTEXT(#REF!),#REF!,\"\")","v":""},{"$f":"IF(ISTEXT(#REF!),#REF!,\"\")","v":""},{"$f":"IF(ISTEXT(#REF!),#REF!,\"\")","v":""},{"$f":"IF(ISTEXT(#REF!),#REF!,\"\")","v":""},null,{"$f":"IF(ISTEXT(#REF!),#REF!,\"\")","v":""},{"$f":"IF(ISTEXT(#REF!),#REF!,\"\")","v":""},{"$f":"IF(ISNUMBER(#REF!),#REF!,\"\")","v":""},{"$f":"IF(ISTEXT(#REF!),#REF!,\"\")","v":""},{"$f":"IF(ISTEXT(#REF!),#REF!,\"\")","v":""},{"$f":"IF(ISTEXT(#REF!),#REF!,\"\")","v":""},{"$f":"IF(ISTEXT(#REF!),#REF!,\"\")","v":""},{"$f":"IF(ISTEXT(#REF!),#REF!,\"\")","v":""},{"$f":"IF(ISTEXT(#REF!),#REF!,\"\")","v":""},{"$f":"IF(ISTEXT(#REF!),#REF!,\"\")","v":""},{"$f":"IF(ISTEXT(#REF!),#REF!,\"\")","v":""},null,{"$f":"IF(ISTEXT(#REF!),#REF!,\"\")","v":""},{"$f":"IF(ISTEXT(#REF!),#REF!,\"\")","v":""},{"$f":"IF(ISNUMBER(#REF!),#REF!,\"\")","v":""},{"$f":"IF(ISTEXT(#REF!),#REF!,\"\")","v":""},null,{"$f":"IF(ISTEXT(#REF!),#REF!,\"\")","v":""},{"$f":"IF(ISTEXT(#REF!),#REF!,\"\")","v":""},{"$f":"IF(ISTEXT(#REF!),#REF!,\"\")","v":""},{"$f":"IF(ISTEXT(#REF!),#REF!,\"\")","v":""},{"$f":"IF(ISTEXT(#REF!),#REF!,\"\")","v":""},{"$f":"IF(ISTEXT(#REF!),#REF!,\"\")","v":""},{"$f":"IF(ISTEXT(#REF!),#REF!,\"\")","v":""},null,{"$f":"IF(ISTEXT(#REF!),#REF!,\"\")","v":""},{"$f":"IF(ISTEXT(#REF!),#REF!,\"\")","v":""},{"$f":"IF(ISNUMBER(#REF!),#REF!,\"\")","v":""},{"$f":"IF(ISTEXT(#REF!),#REF!,\"\")","v":""},null,{"$f":"IF(ISTEXT(#REF!),#REF!,\"\")","v":""},{"$f":"IF(ISTEXT(#REF!),#REF!,\"\")","v":""},{"$f":"IF(ISTEXT(#REF!),#REF!,\"\")","v":""},{"$f":"IF(ISTEXT(#REF!),#REF!,\"\")","v":""},{"$f":"IF(ISTEXT(#REF!),#REF!,\"\")","v":""},{"$f":"IF(ISTEXT(#REF!),#REF!,\"\")","v":""},{"$f":"IF(ISTEXT(#REF!),#REF!,\"\")","v":""},null,{"$f":"IF(ISTEXT(#REF!),#REF!,\"\")","v":""},{"$f":"IF(ISTEXT(#REF!),#REF!,\"\")","v":""},{"$f":"IF(ISNUMBER(#REF!),#REF!,\"\")","v":""},{"$f":"IF(ISTEXT(#REF!),#REF!,\"\")","v":""}]
[null,null,{"$f":"IF(ISTEXT(#REF!),#REF!,\"\")","v":""},{"$f":"IF(ISTEXT(#REF!),#REF!,\"\")","v":""},{"$f":"IF(ISTEXT(#REF!),#REF!,\"\")","v":""},{"$f":"IF(ISTEXT(#REF!),#REF!,\"\")","v":""},{"$f":"IF(ISTEXT(#REF!),#REF!,\"\")","v":""},{"$f":"IF(ISTEXT(#REF!),#REF!,\"\")","v":""},{"$f":"IF(ISTEXT(#REF!),#REF!,\"\")","v":""},null,{"$f":"IF(ISTEXT(#REF!),#REF!,\"\")","v":""},{"$f":"IF(ISTEXT(#REF!),#REF!,\"\")","v":""},{"$f":"IF(ISNUMBER(#REF!),#REF!,\"\")","v":""},{"$f":"IF(ISTEXT(#REF!),#REF!,\"\")","v":""},null,{"$f":"IF(ISTEXT(#REF!),#REF!,\"\")","v":""},{"$f":"IF(ISTEXT(#REF!),#REF!,\"\")","v":""},{"$f":"IF(ISTEXT(#REF!),#REF!,\"\")","v":""},{"$f":"IF(ISTEXT(#REF!),#REF!,\"\")","v":""},{"$f":"IF(ISTEXT(#REF!),#REF!,\"\")","v":""},{"$f":"IF(ISTEXT(#REF!),#REF!,\"\")","v":""},{"$f":"IF(ISTEXT(#REF!),#REF!,\"\")","v":""},null,{"$f":"IF(ISTEXT(#REF!),#REF!,\"\")","v":""},{"$f":"IF(ISTEXT(#REF!),#REF!,\"\")","v":""},{"$f":"IF(ISNUMBER(#REF!),#REF!,\"\")","v":""},{"$f":"IF(ISTEXT(#REF!),#REF!,\"\")","v":""},{"$f":"IF(ISTEXT(#REF!),#REF!,\"\")","v":""},{"$f":"IF(ISTEXT(#REF!),#REF!,\"\")","v":""},{"$f":"IF(ISTEXT(#REF!),#REF!,\"\")","v":""},{"$f":"IF(ISTEXT(#REF!),#REF!,\"\")","v":""},{"$f":"IF(ISTEXT(#REF!),#REF!,\"\")","v":""},{"$f":"IF(ISTEXT(#REF!),#REF!,\"\")","v":""},{"$f":"IF(ISTEXT(#REF!),#REF!,\"\")","v":""},null,{"$f":"IF(ISTEXT(#REF!),#REF!,\"\")","v":""},{"$f":"IF(ISTEXT(#REF!),#REF!,\"\")","v":""},{"$f":"IF(ISNUMBER(#REF!),#REF!,\"\")","v":""},{"$f":"IF(ISTEXT(#REF!),#REF!,\"\")","v":""},null,{"$f":"IF(ISTEXT(#REF!),#REF!,\"\")","v":""},{"$f":"IF(ISTEXT(#REF!),#REF!,\"\")","v":""},{"$f":"IF(ISTEXT(#REF!),#REF!,\"\")","v":""},{"$f":"IF(ISTEXT(#REF!),#REF!,\"\")","v":""},{"$f":"IF(ISTEXT(#REF!),#REF!,\"\")","v":""},{"$f":"IF(ISTEXT(#REF!),#REF!,\"\")","v":""},{"$f":"IF(ISTEXT(#REF!),#REF!,\"\")","v":""},null,{"$f":"IF(ISTEXT(#REF!),#REF!,\"\")","v":""},{"$f":"IF(ISTEXT(#REF!),#REF!,\"\")","v":""},{"$f":"IF(ISNUMBER(#REF!),#REF!,\"\")","v":""},{"$f":"IF(ISTEXT(#REF!),#REF!,\"\")","v":""},null,{"$f":"IF(ISTEXT(#REF!),#REF!,\"\")","v":""},{"$f":"IF(ISTEXT(#REF!),#REF!,\"\")","v":""},{"$f":"IF(ISTEXT(#REF!),#REF!,\"\")","v":""},{"$f":"IF(ISTEXT(#REF!),#REF!,\"\")","v":""},{"$f":"IF(ISTEXT(#REF!),#REF!,\"\")","v":""},{"$f":"IF(ISTEXT(#REF!),#REF!,\"\")","v":""},{"$f":"IF(ISTEXT(#REF!),#REF!,\"\")","v":""},null,{"$f":"IF(ISTEXT(#REF!),#REF!,\"\")","v":""},{"$f":"IF(ISTEXT(#REF!),#REF!,\"\")","v":""},{"$f":"IF(ISNUMBER(#REF!),#REF!,\"\")","v":""},{"$f":"IF(ISTEXT(#REF!),#REF!,\"\")","v":""}]
[null,null,{"$f":"IF(ISTEXT(#REF!),#REF!,\"\")","v":""},{"$f":"IF(ISTEXT(#REF!),#REF!,\"\")","v":""},{"$f":"IF(ISTEXT(#REF!),#REF!,\"\")","v":""},{"$f":"IF(ISTEXT(#REF!),#REF!,\"\")","v":""},{"$f":"IF(ISTEXT(#REF!),#REF!,\"\")","v":""},{"$f":"IF(ISTEXT(#REF!),#REF!,\"\")","v":""},{"$f":"IF(ISTEXT(#REF!),#REF!,\"\")","v":""},null,{"$f":"IF(ISTEXT(#REF!),#REF!,\"\")","v":""},{"$f":"IF(ISTEXT(#REF!),#REF!,\"\")","v":""},{"$f":"IF(ISNUMBER(#REF!),#REF!,\"\")","v":""},{"$f":"IF(ISTEXT(#REF!),#REF!,\"\")","v":""},null,{"$f":"IF(ISTEXT(#REF!),#REF!,\"\")","v":""},{"$f":"IF(ISTEXT(#REF!),#REF!,\"\")","v":""},{"$f":"IF(ISTEXT(#REF!),#REF!,\"\")","v":""},{"$f":"IF(ISTEXT(#REF!),#REF!,\"\")","v":""},{"$f":"IF(ISTEXT(#REF!),#REF!,\"\")","v":""},{"$f":"IF(ISTEXT(#REF!),#REF!,\"\")","v":""},{"$f":"IF(ISTEXT(#REF!),#REF!,\"\")","v":""},null,{"$f":"IF(ISTEXT(#REF!),#REF!,\"\")","v":""},{"$f":"IF(ISTEXT(#REF!),#REF!,\"\")","v":""},{"$f":"IF(ISNUMBER(#REF!),#REF!,\"\")","v":""},{"$f":"IF(ISTEXT(#REF!),#REF!,\"\")","v":""},{"$f":"IF(ISTEXT(#REF!),#REF!,\"\")","v":""},{"$f":"IF(ISTEXT(#REF!),#REF!,\"\")","v":""},{"$f":"IF(ISTEXT(#REF!),#REF!,\"\")","v":""},{"$f":"IF(ISTEXT(#REF!),#REF!,\"\")","v":""},{"$f":"IF(ISTEXT(#REF!),#REF!,\"\")","v":""},{"$f":"IF(ISTEXT(#REF!),#REF!,\"\")","v":""},{"$f":"IF(ISTEXT(#REF!),#REF!,\"\")","v":""},null,{"$f":"IF(ISTEXT(#REF!),#REF!,\"\")","v":""},{"$f":"IF(ISTEXT(#REF!),#REF!,\"\")","v":""},{"$f":"IF(ISNUMBER(#REF!),#REF!,\"\")","v":""},{"$f":"IF(ISTEXT(#REF!),#REF!,\"\")","v":""},null,{"$f":"IF(ISTEXT(#REF!),#REF!,\"\")","v":""},{"$f":"IF(ISTEXT(#REF!),#REF!,\"\")","v":""},{"$f":"IF(ISTEXT(#REF!),#REF!,\"\")","v":""},{"$f":"IF(ISTEXT(#REF!),#REF!,\"\")","v":""},{"$f":"IF(ISTEXT(#REF!),#REF!,\"\")","v":""},{"$f":"IF(ISTEXT(#REF!),#REF!,\"\")","v":""},{"$f":"IF(ISTEXT(#REF!),#REF!,\"\")","v":""},null,{"$f":"IF(ISTEXT(#REF!),#REF!,\"\")","v":""},{"$f":"IF(ISTEXT(#REF!),#REF!,\"\")","v":""},{"$f":"IF(ISNUMBER(#REF!),#REF!,\"\")","v":""},{"$f":"IF(ISTEXT(#REF!),#REF!,\"\")","v":""},null,{"$f":"IF(ISTEXT(#REF!),#REF!,\"\")","v":""},{"$f":"IF(ISTEXT(#REF!),#REF!,\"\")","v":""},{"$f":"IF(ISTEXT(#REF!),#REF!,\"\")","v":""},{"$f":"IF(ISTEXT(#REF!),#REF!,\"\")","v":""},{"$f":"IF(ISTEXT(#REF!),#REF!,\"\")","v":""},{"$f":"IF(ISTEXT(#REF!),#REF!,\"\")","v":""},{"$f":"IF(ISTEXT(#REF!),#REF!,\"\")","v":""},null,{"$f":"IF(ISTEXT(#REF!),#REF!,\"\")","v":""},{"$f":"IF(ISTEXT(#REF!),#REF!,\"\")","v":""},{"$f":"IF(ISNUMBER(#REF!),#REF!,\"\")","v":""},{"$f":"IF(ISTEXT(#REF!),#REF!,\"\")","v":""}]
[null,null,{"$f":"IF(ISTEXT(#REF!),#REF!,\"\")","v":""},{"$f":"IF(ISTEXT(#REF!),#REF!,\"\")","v":""},{"$f":"IF(ISTEXT(#REF!),#REF!,\"\")","v":""},{"$f":"IF(ISTEXT(#REF!),#REF!,\"\")","v":""},{"$f":"IF(ISTEXT(#REF!),#REF!,\"\")","v":""},{"$f":"IF(ISTEXT(#REF!),#REF!,\"\")","v":""},{"$f":"IF(ISTEXT(#REF!),#REF!,\"\")","v":""},null,{"$f":"IF(ISTEXT(#REF!),#REF!,\"\")","v":""},{"$f":"IF(ISTEXT(#REF!),#REF!,\"\")","v":""},{"$f":"IF(ISNUMBER(#REF!),#REF!,\"\")","v":""},{"$f":"IF(ISTEXT(#REF!),#REF!,\"\")","v":""},null,{"$f":"IF(ISTEXT(#REF!),#REF!,\"\")","v":""},{"$f":"IF(ISTEXT(#REF!),#REF!,\"\")","v":""},{"$f":"IF(ISTEXT(#REF!),#REF!,\"\")","v":""},{"$f":"IF(ISTEXT(#REF!),#REF!,\"\")","v":""},{"$f":"IF(ISTEXT(#REF!),#REF!,\"\")","v":""},{"$f":"IF(ISTEXT(#REF!),#REF!,\"\")","v":""},{"$f":"IF(ISTEXT(#REF!),#REF!,\"\")","v":""},null,{"$f":"IF(ISTEXT(#REF!),#REF!,\"\")","v":""},{"$f":"IF(ISTEXT(#REF!),#REF!,\"\")","v":""},{"$f":"IF(ISNUMBER(#REF!),#REF!,\"\")","v":""},{"$f":"IF(ISTEXT(#REF!),#REF!,\"\")","v":""},{"$f":"IF(ISTEXT(#REF!),#REF!,\"\")","v":""},{"$f":"IF(ISTEXT(#REF!),#REF!,\"\")","v":""},{"$f":"IF(ISTEXT(#REF!),#REF!,\"\")","v":""},{"$f":"IF(ISTEXT(#REF!),#REF!,\"\")","v":""},{"$f":"IF(ISTEXT(#REF!),#REF!,\"\")","v":""},{"$f":"IF(ISTEXT(#REF!),#REF!,\"\")","v":""},{"$f":"IF(ISTEXT(#REF!),#REF!,\"\")","v":""},null,{"$f":"IF(ISTEXT(#REF!),#REF!,\"\")","v":""},{"$f":"IF(ISTEXT(#REF!),#REF!,\"\")","v":""},{"$f":"IF(ISNUMBER(#REF!),#REF!,\"\")","v":""},{"$f":"IF(ISTEXT(#REF!),#REF!,\"\")","v":""},null,{"$f":"IF(ISTEXT(#REF!),#REF!,\"\")","v":""},{"$f":"IF(ISTEXT(#REF!),#REF!,\"\")","v":""},{"$f":"IF(ISTEXT(#REF!),#REF!,\"\")","v":""},{"$f":"IF(ISTEXT(#REF!),#REF!,\"\")","v":""},{"$f":"IF(ISTEXT(#REF!),#REF!,\"\")","v":""},{"$f":"IF(ISTEXT(#REF!),#REF!,\"\")","v":""},{"$f":"IF(ISTEXT(#REF!),#REF!,\"\")","v":""},null,{"$f":"IF(ISTEXT(#REF!),#REF!,\"\")","v":""},{"$f":"IF(ISTEXT(#REF!),#REF!,\"\")","v":""},{"$f":"IF(ISNUMBER(#REF!),#REF!,\"\")","v":""},{"$f":"IF(ISTEXT(#REF!),#REF!,\"\")","v":""},null,{"$f":"IF(ISTEXT(#REF!),#REF!,\"\")","v":""},{"$f":"IF(ISTEXT(#REF!),#REF!,\"\")","v":""},{"$f":"IF(ISTEXT(#REF!),#REF!,\"\")","v":""},{"$f":"IF(ISTEXT(#REF!),#REF!,\"\")","v":""},{"$f":"IF(ISTEXT(#REF!),#REF!,\"\")","v":""},{"$f":"IF(ISTEXT(#REF!),#REF!,\"\")","v":""},{"$f":"IF(ISTEXT(#REF!),#REF!,\"\")","v":""},null,{"$f":"IF(ISTEXT(#REF!),#REF!,\"\")","v":""},{"$f":"IF(ISTEXT(#REF!),#REF!,\"\")","v":""},{"$f":"IF(ISNUMBER(#REF!),#REF!,\"\")","v":""},{"$f":"IF(ISTEXT(#REF!),#REF!,\"\")","v":""}]
[null,null,{"$f":"IF(ISTEXT(#REF!),#REF!,\"\")","v":""},{"$f":"IF(ISTEXT(#REF!),#REF!,\"\")","v":""},{"$f":"IF(ISTEXT(#REF!),#REF!,\"\")","v":""},{"$f":"IF(ISTEXT(#REF!),#REF!,\"\")","v":""},{"$f":"IF(ISTEXT(#REF!),#REF!,\"\")","v":""},{"$f":"IF(ISTEXT(#REF!),#REF!,\"\")","v":""},{"$f":"IF(ISTEXT(#REF!),#REF!,\"\")","v":""},null,{"$f":"IF(ISTEXT(#REF!),#REF!,\"\")","v":""},{"$f":"IF(ISTEXT(#REF!),#REF!,\"\")","v":""},{"$f":"IF(ISNUMBER(#REF!),#REF!,\"\")","v":""},{"$f":"IF(ISTEXT(#REF!),#REF!,\"\")","v":""},null,{"$f":"IF(ISTEXT(#REF!),#REF!,\"\")","v":""},{"$f":"IF(ISTEXT(#REF!),#REF!,\"\")","v":""},{"$f":"IF(ISTEXT(#REF!),#REF!,\"\")","v":""},{"$f":"IF(ISTEXT(#REF!),#REF!,\"\")","v":""},{"$f":"IF(ISTEXT(#REF!),#REF!,\"\")","v":""},{"$f":"IF(ISTEXT(#REF!),#REF!,\"\")","v":""},{"$f":"IF(ISTEXT(#REF!),#REF!,\"\")","v":""},null,{"$f":"IF(ISTEXT(#REF!),#REF!,\"\")","v":""},{"$f":"IF(ISTEXT(#REF!),#REF!,\"\")","v":""},{"$f":"IF(ISNUMBER(#REF!),#REF!,\"\")","v":""},{"$f":"IF(ISTEXT(#REF!),#REF!,\"\")","v":""},{"$f":"IF(ISTEXT(#REF!),#REF!,\"\")","v":""},{"$f":"IF(ISTEXT(#REF!),#REF!,\"\")","v":""},{"$f":"IF(ISTEXT(#REF!),#REF!,\"\")","v":""},{"$f":"IF(ISTEXT(#REF!),#REF!,\"\")","v":""},{"$f":"IF(ISTEXT(#REF!),#REF!,\"\")","v":""},{"$f":"IF(ISTEXT(#REF!),#REF!,\"\")","v":""},{"$f":"IF(ISTEXT(#REF!),#REF!,\"\")","v":""},null,{"$f":"IF(ISTEXT(#REF!),#REF!,\"\")","v":""},{"$f":"IF(ISTEXT(#REF!),#REF!,\"\")","v":""},{"$f":"IF(ISNUMBER(#REF!),#REF!,\"\")","v":""},{"$f":"IF(ISTEXT(#REF!),#REF!,\"\")","v":""},null,{"$f":"IF(ISTEXT(#REF!),#REF!,\"\")","v":""},{"$f":"IF(ISTEXT(#REF!),#REF!,\"\")","v":""},{"$f":"IF(ISTEXT(#REF!),#REF!,\"\")","v":""},{"$f":"IF(ISTEXT(#REF!),#REF!,\"\")","v":""},{"$f":"IF(ISTEXT(#REF!),#REF!,\"\")","v":""},{"$f":"IF(ISTEXT(#REF!),#REF!,\"\")","v":""},{"$f":"IF(ISTEXT(#REF!),#REF!,\"\")","v":""},null,{"$f":"IF(ISTEXT(#REF!),#REF!,\"\")","v":""},{"$f":"IF(ISTEXT(#REF!),#REF!,\"\")","v":""},{"$f":"IF(ISNUMBER(#REF!),#REF!,\"\")","v":""},{"$f":"IF(ISTEXT(#REF!),#REF!,\"\")","v":""},null,{"$f":"IF(ISTEXT(#REF!),#REF!,\"\")","v":""},{"$f":"IF(ISTEXT(#REF!),#REF!,\"\")","v":""},{"$f":"IF(ISTEXT(#REF!),#REF!,\"\")","v":""},{"$f":"IF(ISTEXT(#REF!),#REF!,\"\")","v":""},{"$f":"IF(ISTEXT(#REF!),#REF!,\"\")","v":""},{"$f":"IF(ISTEXT(#REF!),#REF!,\"\")","v":""},{"$f":"IF(ISTEXT(#REF!),#REF!,\"\")","v":""},null,{"$f":"IF(ISTEXT(#REF!),#REF!,\"\")","v":""},{"$f":"IF(ISTEXT(#REF!),#REF!,\"\")","v":""},{"$f":"IF(ISNUMBER(#REF!),#REF!,\"\")","v":""},{"$f":"IF(ISTEXT(#REF!),#REF!,\"\")","v":""}]
[null,null,{"$f":"IF(ISTEXT(#REF!),#REF!,\"\")","v":""},{"$f":"IF(ISTEXT(#REF!),#REF!,\"\")","v":""},{"$f":"IF(ISTEXT(#REF!),#REF!,\"\")","v":""},{"$f":"IF(ISTEXT(#REF!),#REF!,\"\")","v":""},{"$f":"IF(ISTEXT(#REF!),#REF!,\"\")","v":""},{"$f":"IF(ISTEXT(#REF!),#REF!,\"\")","v":""},{"$f":"IF(ISTEXT(#REF!),#REF!,\"\")","v":""},null,{"$f":"IF(ISTEXT(#REF!),#REF!,\"\")","v":""},{"$f":"IF(ISTEXT(#REF!),#REF!,\"\")","v":""},{"$f":"IF(ISNUMBER(#REF!),#REF!,\"\")","v":""},{"$f":"IF(ISTEXT(#REF!),#REF!,\"\")","v":""},null,{"$f":"IF(ISTEXT(#REF!),#REF!,\"\")","v":""},{"$f":"IF(ISTEXT(#REF!),#REF!,\"\")","v":""},{"$f":"IF(ISTEXT(#REF!),#REF!,\"\")","v":""},{"$f":"IF(ISTEXT(#REF!),#REF!,\"\")","v":""},{"$f":"IF(ISTEXT(#REF!),#REF!,\"\")","v":""},{"$f":"IF(ISTEXT(#REF!),#REF!,\"\")","v":""},{"$f":"IF(ISTEXT(#REF!),#REF!,\"\")","v":""},null,{"$f":"IF(ISTEXT(#REF!),#REF!,\"\")","v":""},{"$f":"IF(ISTEXT(#REF!),#REF!,\"\")","v":""},{"$f":"IF(ISNUMBER(#REF!),#REF!,\"\")","v":""},{"$f":"IF(ISTEXT(#REF!),#REF!,\"\")","v":""},{"$f":"IF(ISTEXT(#REF!),#REF!,\"\")","v":""},{"$f":"IF(ISTEXT(#REF!),#REF!,\"\")","v":""},{"$f":"IF(ISTEXT(#REF!),#REF!,\"\")","v":""},{"$f":"IF(ISTEXT(#REF!),#REF!,\"\")","v":""},{"$f":"IF(ISTEXT(#REF!),#REF!,\"\")","v":""},{"$f":"IF(ISTEXT(#REF!),#REF!,\"\")","v":""},{"$f":"IF(ISTEXT(#REF!),#REF!,\"\")","v":""},null,{"$f":"IF(ISTEXT(#REF!),#REF!,\"\")","v":""},{"$f":"IF(ISTEXT(#REF!),#REF!,\"\")","v":""},{"$f":"IF(ISNUMBER(#REF!),#REF!,\"\")","v":""},{"$f":"IF(ISTEXT(#REF!),#REF!,\"\")","v":""},null,{"$f":"IF(ISTEXT(#REF!),#REF!,\"\")","v":""},{"$f":"IF(ISTEXT(#REF!),#REF!,\"\")","v":""},{"$f":"IF(ISTEXT(#REF!),#REF!,\"\")","v":""},{"$f":"IF(ISTEXT(#REF!),#REF!,\"\")","v":""},{"$f":"IF(ISTEXT(#REF!),#REF!,\"\")","v":""},{"$f":"IF(ISTEXT(#REF!),#REF!,\"\")","v":""},{"$f":"IF(ISTEXT(#REF!),#REF!,\"\")","v":""},null,{"$f":"IF(ISTEXT(#REF!),#REF!,\"\")","v":""},{"$f":"IF(ISTEXT(#REF!),#REF!,\"\")","v":""},{"$f":"IF(ISNUMBER(#REF!),#REF!,\"\")","v":""},{"$f":"IF(ISTEXT(#REF!),#REF!,\"\")","v":""},null,{"$f":"IF(ISTEXT(#REF!),#REF!,\"\")","v":""},{"$f":"IF(ISTEXT(#REF!),#REF!,\"\")","v":""},{"$f":"IF(ISTEXT(#REF!),#REF!,\"\")","v":""},{"$f":"IF(ISTEXT(#REF!),#REF!,\"\")","v":""},{"$f":"IF(ISTEXT(#REF!),#REF!,\"\")","v":""},{"$f":"IF(ISTEXT(#REF!),#REF!,\"\")","v":""},{"$f":"IF(ISTEXT(#REF!),#REF!,\"\")","v":""},null,{"$f":"IF(ISTEXT(#REF!),#REF!,\"\")","v":""},{"$f":"IF(ISTEXT(#REF!),#REF!,\"\")","v":""},{"$f":"IF(ISNUMBER(#REF!),#REF!,\"\")","v":""},{"$f":"IF(ISTEXT(#REF!),#REF!,\"\")","v":""}]
[null,null,{"$f":"IF(ISTEXT(#REF!),#REF!,\"\")","v":""},{"$f":"IF(ISTEXT(#REF!),#REF!,\"\")","v":""},{"$f":"IF(ISTEXT(#REF!),#REF!,\"\")","v":""},{"$f":"IF(ISTEXT(#REF!),#REF!,\"\")","v":""},{"$f":"IF(ISTEXT(#REF!),#REF!,\"\")","v":""},{"$f":"IF(ISTEXT(#REF!),#REF!,\"\")","v":""},{"$f":"IF(ISTEXT(#REF!),#REF!,\"\")","v":""},null,{"$f":"IF(ISTEXT(#REF!),#REF!,\"\")","v":""},{"$f":"IF(ISTEXT(#REF!),#REF!,\"\")","v":""},{"$f":"IF(ISNUMBER(#REF!),#REF!,\"\")","v":""},{"$f":"IF(ISTEXT(#REF!),#REF!,\"\")","v":""},null,{"$f":"IF(ISTEXT(#REF!),#REF!,\"\")","v":""},{"$f":"IF(ISTEXT(#REF!),#REF!,\"\")","v":""},{"$f":"IF(ISTEXT(#REF!),#REF!,\"\")","v":""},{"$f":"IF(ISTEXT(#REF!),#REF!,\"\")","v":""},{"$f":"IF(ISTEXT(#REF!),#REF!,\"\")","v":""},{"$f":"IF(ISTEXT(#REF!),#REF!,\"\")","v":""},{"$f":"IF(ISTEXT(#REF!),#REF!,\"\")","v":""},null,{"$f":"IF(ISTEXT(#REF!),#REF!,\"\")","v":""},{"$f":"IF(ISTEXT(#REF!),#REF!,\"\")","v":""},{"$f":"IF(ISNUMBER(#REF!),#REF!,\"\")","v":""},{"$f":"IF(ISTEXT(#REF!),#REF!,\"\")","v":""},{"$f":"IF(ISTEXT(#REF!),#REF!,\"\")","v":""},{"$f":"IF(ISTEXT(#REF!),#REF!,\"\")","v":""},{"$f":"IF(ISTEXT(#REF!),#REF!,\"\")","v":""},{"$f":"IF(ISTEXT(#REF!),#REF!,\"\")","v":""},{"$f":"IF(ISTEXT(#REF!),#REF!,\"\")","v":""},{"$f":"IF(ISTEXT(#REF!),#REF!,\"\")","v":""},{"$f":"IF(ISTEXT(#REF!),#REF!,\"\")","v":""},null,{"$f":"IF(ISTEXT(#REF!),#REF!,\"\")","v":""},{"$f":"IF(ISTEXT(#REF!),#REF!,\"\")","v":""},{"$f":"IF(ISNUMBER(#REF!),#REF!,\"\")","v":""},{"$f":"IF(ISTEXT(#REF!),#REF!,\"\")","v":""},null,{"$f":"IF(ISTEXT(#REF!),#REF!,\"\")","v":""},{"$f":"IF(ISTEXT(#REF!),#REF!,\"\")","v":""},{"$f":"IF(ISTEXT(#REF!),#REF!,\"\")","v":""},{"$f":"IF(ISTEXT(#REF!),#REF!,\"\")","v":""},{"$f":"IF(ISTEXT(#REF!),#REF!,\"\")","v":""},{"$f":"IF(ISTEXT(#REF!),#REF!,\"\")","v":""},{"$f":"IF(ISTEXT(#REF!),#REF!,\"\")","v":""},null,{"$f":"IF(ISTEXT(#REF!),#REF!,\"\")","v":""},{"$f":"IF(ISTEXT(#REF!),#REF!,\"\")","v":""},{"$f":"IF(ISNUMBER(#REF!),#REF!,\"\")","v":""},{"$f":"IF(ISTEXT(#REF!),#REF!,\"\")","v":""},null,{"$f":"IF(ISTEXT(#REF!),#REF!,\"\")","v":""},{"$f":"IF(ISTEXT(#REF!),#REF!,\"\")","v":""},{"$f":"IF(ISTEXT(#REF!),#REF!,\"\")","v":""},{"$f":"IF(ISTEXT(#REF!),#REF!,\"\")","v":""},{"$f":"IF(ISTEXT(#REF!),#REF!,\"\")","v":""},{"$f":"IF(ISTEXT(#REF!),#REF!,\"\")","v":""},{"$f":"IF(ISTEXT(#REF!),#REF!,\"\")","v":""},null,{"$f":"IF(ISTEXT(#REF!),#REF!,\"\")","v":""},{"$f":"IF(ISTEXT(#REF!),#REF!,\"\")","v":""},{"$f":"IF(ISNUMBER(#REF!),#REF!,\"\")","v":""},{"$f":"IF(ISTEXT(#REF!),#REF!,\"\")","v":""}]
[null,null,{"$f":"IF(ISTEXT(#REF!),#REF!,\"\")","v":""},{"$f":"IF(ISTEXT(#REF!),#REF!,\"\")","v":""},{"$f":"IF(ISTEXT(#REF!),#REF!,\"\")","v":""},{"$f":"IF(ISTEXT(#REF!),#REF!,\"\")","v":""},{"$f":"IF(ISTEXT(#REF!),#REF!,\"\")","v":""},{"$f":"IF(ISTEXT(#REF!),#REF!,\"\")","v":""},{"$f":"IF(ISTEXT(#REF!),#REF!,\"\")","v":""},null,{"$f":"IF(ISTEXT(#REF!),#REF!,\"\")","v":""},{"$f":"IF(ISTEXT(#REF!),#REF!,\"\")","v":""},{"$f":"IF(ISNUMBER(#REF!),#REF!,\"\")","v":""},{"$f":"IF(ISTEXT(#REF!),#REF!,\"\")","v":""},null,{"$f":"IF(ISTEXT(#REF!),#REF!,\"\")","v":""},{"$f":"IF(ISTEXT(#REF!),#REF!,\"\")","v":""},{"$f":"IF(ISTEXT(#REF!),#REF!,\"\")","v":""},{"$f":"IF(ISTEXT(#REF!),#REF!,\"\")","v":""},{"$f":"IF(ISTEXT(#REF!),#REF!,\"\")","v":""},{"$f":"IF(ISTEXT(#REF!),#REF!,\"\")","v":""},{"$f":"IF(ISTEXT(#REF!),#REF!,\"\")","v":""},null,{"$f":"IF(ISTEXT(#REF!),#REF!,\"\")","v":""},{"$f":"IF(ISTEXT(#REF!),#REF!,\"\")","v":""},{"$f":"IF(ISNUMBER(#REF!),#REF!,\"\")","v":""},{"$f":"IF(ISTEXT(#REF!),#REF!,\"\")","v":""},{"$f":"IF(ISTEXT(#REF!),#REF!,\"\")","v":""},{"$f":"IF(ISTEXT(#REF!),#REF!,\"\")","v":""},{"$f":"IF(ISTEXT(#REF!),#REF!,\"\")","v":""},{"$f":"IF(ISTEXT(#REF!),#REF!,\"\")","v":""},{"$f":"IF(ISTEXT(#REF!),#REF!,\"\")","v":""},{"$f":"IF(ISTEXT(#REF!),#REF!,\"\")","v":""},{"$f":"IF(ISTEXT(#REF!),#REF!,\"\")","v":""},null,{"$f":"IF(ISTEXT(#REF!),#REF!,\"\")","v":""},{"$f":"IF(ISTEXT(#REF!),#REF!,\"\")","v":""},{"$f":"IF(ISNUMBER(#REF!),#REF!,\"\")","v":""},{"$f":"IF(ISTEXT(#REF!),#REF!,\"\")","v":""},null,{"$f":"IF(ISTEXT(#REF!),#REF!,\"\")","v":""},{"$f":"IF(ISTEXT(#REF!),#REF!,\"\")","v":""},{"$f":"IF(ISTEXT(#REF!),#REF!,\"\")","v":""},{"$f":"IF(ISTEXT(#REF!),#REF!,\"\")","v":""},{"$f":"IF(ISTEXT(#REF!),#REF!,\"\")","v":""},{"$f":"IF(ISTEXT(#REF!),#REF!,\"\")","v":""},{"$f":"IF(ISTEXT(#REF!),#REF!,\"\")","v":""},null,{"$f":"IF(ISTEXT(#REF!),#REF!,\"\")","v":""},{"$f":"IF(ISTEXT(#REF!),#REF!,\"\")","v":""},{"$f":"IF(ISNUMBER(#REF!),#REF!,\"\")","v":""},{"$f":"IF(ISTEXT(#REF!),#REF!,\"\")","v":""},null,{"$f":"IF(ISTEXT(#REF!),#REF!,\"\")","v":""},{"$f":"IF(ISTEXT(#REF!),#REF!,\"\")","v":""},{"$f":"IF(ISTEXT(#REF!),#REF!,\"\")","v":""},{"$f":"IF(ISTEXT(#REF!),#REF!,\"\")","v":""},{"$f":"IF(ISTEXT(#REF!),#REF!,\"\")","v":""},{"$f":"IF(ISTEXT(#REF!),#REF!,\"\")","v":""},{"$f":"IF(ISTEXT(#REF!),#REF!,\"\")","v":""},null,{"$f":"IF(ISTEXT(#REF!),#REF!,\"\")","v":""},{"$f":"IF(ISTEXT(#REF!),#REF!,\"\")","v":""},{"$f":"IF(ISNUMBER(#REF!),#REF!,\"\")","v":""},{"$f":"IF(ISTEXT(#REF!),#REF!,\"\")","v":""}]
[null,null,{"$f":"IF(ISTEXT(#REF!),#REF!,\"\")","v":""},{"$f":"IF(ISTEXT(#REF!),#REF!,\"\")","v":""},{"$f":"IF(ISTEXT(#REF!),#REF!,\"\")","v":""},{"$f":"IF(ISTEXT(#REF!),#REF!,\"\")","v":""},{"$f":"IF(ISTEXT(#REF!),#REF!,\"\")","v":""},{"$f":"IF(ISTEXT(#REF!),#REF!,\"\")","v":""},{"$f":"IF(ISTEXT(#REF!),#REF!,\"\")","v":""},null,{"$f":"IF(ISTEXT(#REF!),#REF!,\"\")","v":""},{"$f":"IF(ISTEXT(#REF!),#REF!,\"\")","v":""},{"$f":"IF(ISNUMBER(#REF!),#REF!,\"\")","v":""},{"$f":"IF(ISTEXT(#REF!),#REF!,\"\")","v":""},null,{"$f":"IF(ISTEXT(#REF!),#REF!,\"\")","v":""},{"$f":"IF(ISTEXT(#REF!),#REF!,\"\")","v":""},{"$f":"IF(ISTEXT(#REF!),#REF!,\"\")","v":""},{"$f":"IF(ISTEXT(#REF!),#REF!,\"\")","v":""},{"$f":"IF(ISTEXT(#REF!),#REF!,\"\")","v":""},{"$f":"IF(ISTEXT(#REF!),#REF!,\"\")","v":""},{"$f":"IF(ISTEXT(#REF!),#REF!,\"\")","v":""},null,{"$f":"IF(ISTEXT(#REF!),#REF!,\"\")","v":""},{"$f":"IF(ISTEXT(#REF!),#REF!,\"\")","v":""},{"$f":"IF(ISNUMBER(#REF!),#REF!,\"\")","v":""},{"$f":"IF(ISTEXT(#REF!),#REF!,\"\")","v":""},{"$f":"IF(ISTEXT(#REF!),#REF!,\"\")","v":""},{"$f":"IF(ISTEXT(#REF!),#REF!,\"\")","v":""},{"$f":"IF(ISTEXT(#REF!),#REF!,\"\")","v":""},{"$f":"IF(ISTEXT(#REF!),#REF!,\"\")","v":""},{"$f":"IF(ISTEXT(#REF!),#REF!,\"\")","v":""},{"$f":"IF(ISTEXT(#REF!),#REF!,\"\")","v":""},{"$f":"IF(ISTEXT(#REF!),#REF!,\"\")","v":""},null,{"$f":"IF(ISTEXT(#REF!),#REF!,\"\")","v":""},{"$f":"IF(ISTEXT(#REF!),#REF!,\"\")","v":""},{"$f":"IF(ISNUMBER(#REF!),#REF!,\"\")","v":""},{"$f":"IF(ISTEXT(#REF!),#REF!,\"\")","v":""},null,{"$f":"IF(ISTEXT(#REF!),#REF!,\"\")","v":""},{"$f":"IF(ISTEXT(#REF!),#REF!,\"\")","v":""},{"$f":"IF(ISTEXT(#REF!),#REF!,\"\")","v":""},{"$f":"IF(ISTEXT(#REF!),#REF!,\"\")","v":""},{"$f":"IF(ISTEXT(#REF!),#REF!,\"\")","v":""},{"$f":"IF(ISTEXT(#REF!),#REF!,\"\")","v":""},{"$f":"IF(ISTEXT(#REF!),#REF!,\"\")","v":""},null,{"$f":"IF(ISTEXT(#REF!),#REF!,\"\")","v":""},{"$f":"IF(ISTEXT(#REF!),#REF!,\"\")","v":""},{"$f":"IF(ISNUMBER(#REF!),#REF!,\"\")","v":""},{"$f":"IF(ISTEXT(#REF!),#REF!,\"\")","v":""},null,{"$f":"IF(ISTEXT(#REF!),#REF!,\"\")","v":""},{"$f":"IF(ISTEXT(#REF!),#REF!,\"\")","v":""},{"$f":"IF(ISTEXT(#REF!),#REF!,\"\")","v":""},{"$f":"IF(ISTEXT(#REF!),#REF!,\"\")","v":""},{"$f":"IF(ISTEXT(#REF!),#REF!,\"\")","v":""},{"$f":"IF(ISTEXT(#REF!),#REF!,\"\")","v":""},{"$f":"IF(ISTEXT(#REF!),#REF!,\"\")","v":""},null,{"$f":"IF(ISTEXT(#REF!),#REF!,\"\")","v":""},{"$f":"IF(ISTEXT(#REF!),#REF!,\"\")","v":""},{"$f":"IF(ISNUMBER(#REF!),#REF!,\"\")","v":""},{"$f":"IF(ISTEXT(#REF!),#REF!,\"\")","v":""}]
[null,null,{"$f":"IF(ISTEXT(#REF!),#REF!,\"\")","v":""},{"$f":"IF(ISTEXT(#REF!),#REF!,\"\")","v":""},{"$f":"IF(ISTEXT(#REF!),#REF!,\"\")","v":""},{"$f":"IF(ISTEXT(#REF!),#REF!,\"\")","v":""},{"$f":"IF(ISTEXT(#REF!),#REF!,\"\")","v":""},{"$f":"IF(ISTEXT(#REF!),#REF!,\"\")","v":""},{"$f":"IF(ISTEXT(#REF!),#REF!,\"\")","v":""},null,{"$f":"IF(ISTEXT(#REF!),#REF!,\"\")","v":""},{"$f":"IF(ISTEXT(#REF!),#REF!,\"\")","v":""},{"$f":"IF(ISNUMBER(#REF!),#REF!,\"\")","v":""},{"$f":"IF(ISTEXT(#REF!),#REF!,\"\")","v":""},null,{"$f":"IF(ISTEXT(#REF!),#REF!,\"\")","v":""},{"$f":"IF(ISTEXT(#REF!),#REF!,\"\")","v":""},{"$f":"IF(ISTEXT(#REF!),#REF!,\"\")","v":""},{"$f":"IF(ISTEXT(#REF!),#REF!,\"\")","v":""},{"$f":"IF(ISTEXT(#REF!),#REF!,\"\")","v":""},{"$f":"IF(ISTEXT(#REF!),#REF!,\"\")","v":""},{"$f":"IF(ISTEXT(#REF!),#REF!,\"\")","v":""},null,{"$f":"IF(ISTEXT(#REF!),#REF!,\"\")","v":""},{"$f":"IF(ISTEXT(#REF!),#REF!,\"\")","v":""},{"$f":"IF(ISNUMBER(#REF!),#REF!,\"\")","v":""},{"$f":"IF(ISTEXT(#REF!),#REF!,\"\")","v":""},{"$f":"IF(ISTEXT(#REF!),#REF!,\"\")","v":""},{"$f":"IF(ISTEXT(#REF!),#REF!,\"\")","v":""},{"$f":"IF(ISTEXT(#REF!),#REF!,\"\")","v":""},{"$f":"IF(ISTEXT(#REF!),#REF!,\"\")","v":""},{"$f":"IF(ISTEXT(#REF!),#REF!,\"\")","v":""},{"$f":"IF(ISTEXT(#REF!),#REF!,\"\")","v":""},{"$f":"IF(ISTEXT(#REF!),#REF!,\"\")","v":""},null,{"$f":"IF(ISTEXT(#REF!),#REF!,\"\")","v":""},{"$f":"IF(ISTEXT(#REF!),#REF!,\"\")","v":""},{"$f":"IF(ISNUMBER(#REF!),#REF!,\"\")","v":""},{"$f":"IF(ISTEXT(#REF!),#REF!,\"\")","v":""},null,{"$f":"IF(ISTEXT(#REF!),#REF!,\"\")","v":""},{"$f":"IF(ISTEXT(#REF!),#REF!,\"\")","v":""},{"$f":"IF(ISTEXT(#REF!),#REF!,\"\")","v":""},{"$f":"IF(ISTEXT(#REF!),#REF!,\"\")","v":""},{"$f":"IF(ISTEXT(#REF!),#REF!,\"\")","v":""},{"$f":"IF(ISTEXT(#REF!),#REF!,\"\")","v":""},{"$f":"IF(ISTEXT(#REF!),#REF!,\"\")","v":""},null,{"$f":"IF(ISTEXT(#REF!),#REF!,\"\")","v":""},{"$f":"IF(ISTEXT(#REF!),#REF!,\"\")","v":""},{"$f":"IF(ISNUMBER(#REF!),#REF!,\"\")","v":""},{"$f":"IF(ISTEXT(#REF!),#REF!,\"\")","v":""},null,{"$f":"IF(ISTEXT(#REF!),#REF!,\"\")","v":""},{"$f":"IF(ISTEXT(#REF!),#REF!,\"\")","v":""},{"$f":"IF(ISTEXT(#REF!),#REF!,\"\")","v":""},{"$f":"IF(ISTEXT(#REF!),#REF!,\"\")","v":""},{"$f":"IF(ISTEXT(#REF!),#REF!,\"\")","v":""},{"$f":"IF(ISTEXT(#REF!),#REF!,\"\")","v":""},{"$f":"IF(ISTEXT(#REF!),#REF!,\"\")","v":""},null,{"$f":"IF(ISTEXT(#REF!),#REF!,\"\")","v":""},{"$f":"IF(ISTEXT(#REF!),#REF!,\"\")","v":""},{"$f":"IF(ISNUMBER(#REF!),#REF!,\"\")","v":""},{"$f":"IF(ISTEXT(#REF!),#REF!,\"\")","v":""}]
[null,null,{"$f":"IF(ISTEXT(#REF!),#REF!,\"\")","v":""},{"$f":"IF(ISTEXT(#REF!),#REF!,\"\")","v":""},{"$f":"IF(ISTEXT(#REF!),#REF!,\"\")","v":""},{"$f":"IF(ISTEXT(#REF!),#REF!,\"\")","v":""},{"$f":"IF(ISTEXT(#REF!),#REF!,\"\")","v":""},{"$f":"IF(ISTEXT(#REF!),#REF!,\"\")","v":""},{"$f":"IF(ISTEXT(#REF!),#REF!,\"\")","v":""},null,{"$f":"IF(ISTEXT(#REF!),#REF!,\"\")","v":""},{"$f":"IF(ISTEXT(#REF!),#REF!,\"\")","v":""},{"$f":"IF(ISNUMBER(#REF!),#REF!,\"\")","v":""},{"$f":"IF(ISTEXT(#REF!),#REF!,\"\")","v":""},null,{"$f":"IF(ISTEXT(#REF!),#REF!,\"\")","v":""},{"$f":"IF(ISTEXT(#REF!),#REF!,\"\")","v":""},{"$f":"IF(ISTEXT(#REF!),#REF!,\"\")","v":""},{"$f":"IF(ISTEXT(#REF!),#REF!,\"\")","v":""},{"$f":"IF(ISTEXT(#REF!),#REF!,\"\")","v":""},{"$f":"IF(ISTEXT(#REF!),#REF!,\"\")","v":""},{"$f":"IF(ISTEXT(#REF!),#REF!,\"\")","v":""},null,{"$f":"IF(ISTEXT(#REF!),#REF!,\"\")","v":""},{"$f":"IF(ISTEXT(#REF!),#REF!,\"\")","v":""},{"$f":"IF(ISNUMBER(#REF!),#REF!,\"\")","v":""},{"$f":"IF(ISTEXT(#REF!),#REF!,\"\")","v":""},{"$f":"IF(ISTEXT(#REF!),#REF!,\"\")","v":""},{"$f":"IF(ISTEXT(#REF!),#REF!,\"\")","v":""},{"$f":"IF(ISTEXT(#REF!),#REF!,\"\")","v":""},{"$f":"IF(ISTEXT(#REF!),#REF!,\"\")","v":""},{"$f":"IF(ISTEXT(#REF!),#REF!,\"\")","v":""},{"$f":"IF(ISTEXT(#REF!),#REF!,\"\")","v":""},{"$f":"IF(ISTEXT(#REF!),#REF!,\"\")","v":""},null,{"$f":"IF(ISTEXT(#REF!),#REF!,\"\")","v":""},{"$f":"IF(ISTEXT(#REF!),#REF!,\"\")","v":""},{"$f":"IF(ISNUMBER(#REF!),#REF!,\"\")","v":""},{"$f":"IF(ISTEXT(#REF!),#REF!,\"\")","v":""},null,{"$f":"IF(ISTEXT(#REF!),#REF!,\"\")","v":""},{"$f":"IF(ISTEXT(#REF!),#REF!,\"\")","v":""},{"$f":"IF(ISTEXT(#REF!),#REF!,\"\")","v":""},{"$f":"IF(ISTEXT(#REF!),#REF!,\"\")","v":""},{"$f":"IF(ISTEXT(#REF!),#REF!,\"\")","v":""},{"$f":"IF(ISTEXT(#REF!),#REF!,\"\")","v":""},{"$f":"IF(ISTEXT(#REF!),#REF!,\"\")","v":""},null,{"$f":"IF(ISTEXT(#REF!),#REF!,\"\")","v":""},{"$f":"IF(ISTEXT(#REF!),#REF!,\"\")","v":""},{"$f":"IF(ISNUMBER(#REF!),#REF!,\"\")","v":""},{"$f":"IF(ISTEXT(#REF!),#REF!,\"\")","v":""},null,{"$f":"IF(ISTEXT(#REF!),#REF!,\"\")","v":""},{"$f":"IF(ISTEXT(#REF!),#REF!,\"\")","v":""},{"$f":"IF(ISTEXT(#REF!),#REF!,\"\")","v":""},{"$f":"IF(ISTEXT(#REF!),#REF!,\"\")","v":""},{"$f":"IF(ISTEXT(#REF!),#REF!,\"\")","v":""},{"$f":"IF(ISTEXT(#REF!),#REF!,\"\")","v":""},{"$f":"IF(ISTEXT(#REF!),#REF!,\"\")","v":""},null,{"$f":"IF(ISTEXT(#REF!),#REF!,\"\")","v":""},{"$f":"IF(ISTEXT(#REF!),#REF!,\"\")","v":""},{"$f":"IF(ISNUMBER(#REF!),#REF!,\"\")","v":""},{"$f":"IF(ISTEXT(#REF!),#REF!,\"\")","v":""}]
[null,null,{"$f":"IF(ISTEXT(#REF!),#REF!,\"\")","v":""},{"$f":"IF(ISTEXT(#REF!),#REF!,\"\")","v":""},{"$f":"IF(ISTEXT(#REF!),#REF!,\"\")","v":""},{"$f":"IF(ISTEXT(#REF!),#REF!,\"\")","v":""},{"$f":"IF(ISTEXT(#REF!),#REF!,\"\")","v":""},{"$f":"IF(ISTEXT(#REF!),#REF!,\"\")","v":""},{"$f":"IF(ISTEXT(#REF!),#REF!,\"\")","v":""},null,{"$f":"IF(ISTEXT(#REF!),#REF!,\"\")","v":""},{"$f":"IF(ISTEXT(#REF!),#REF!,\"\")","v":""},{"$f":"IF(ISNUMBER(#REF!),#REF!,\"\")","v":""},{"$f":"IF(ISTEXT(#REF!),#REF!,\"\")","v":""},null,{"$f":"IF(ISTEXT(#REF!),#REF!,\"\")","v":""},{"$f":"IF(ISTEXT(#REF!),#REF!,\"\")","v":""},{"$f":"IF(ISTEXT(#REF!),#REF!,\"\")","v":""},{"$f":"IF(ISTEXT(#REF!),#REF!,\"\")","v":""},{"$f":"IF(ISTEXT(#REF!),#REF!,\"\")","v":""},{"$f":"IF(ISTEXT(#REF!),#REF!,\"\")","v":""},{"$f":"IF(ISTEXT(#REF!),#REF!,\"\")","v":""},null,{"$f":"IF(ISTEXT(#REF!),#REF!,\"\")","v":""},{"$f":"IF(ISTEXT(#REF!),#REF!,\"\")","v":""},{"$f":"IF(ISNUMBER(#REF!),#REF!,\"\")","v":""},{"$f":"IF(ISTEXT(#REF!),#REF!,\"\")","v":""},{"$f":"IF(ISTEXT(#REF!),#REF!,\"\")","v":""},{"$f":"IF(ISTEXT(#REF!),#REF!,\"\")","v":""},{"$f":"IF(ISTEXT(#REF!),#REF!,\"\")","v":""},{"$f":"IF(ISTEXT(#REF!),#REF!,\"\")","v":""},{"$f":"IF(ISTEXT(#REF!),#REF!,\"\")","v":""},{"$f":"IF(ISTEXT(#REF!),#REF!,\"\")","v":""},{"$f":"IF(ISTEXT(#REF!),#REF!,\"\")","v":""},null,{"$f":"IF(ISTEXT(#REF!),#REF!,\"\")","v":""},{"$f":"IF(ISTEXT(#REF!),#REF!,\"\")","v":""},{"$f":"IF(ISNUMBER(#REF!),#REF!,\"\")","v":""},{"$f":"IF(ISTEXT(#REF!),#REF!,\"\")","v":""},null,{"$f":"IF(ISTEXT(#REF!),#REF!,\"\")","v":""},{"$f":"IF(ISTEXT(#REF!),#REF!,\"\")","v":""},{"$f":"IF(ISTEXT(#REF!),#REF!,\"\")","v":""},{"$f":"IF(ISTEXT(#REF!),#REF!,\"\")","v":""},{"$f":"IF(ISTEXT(#REF!),#REF!,\"\")","v":""},{"$f":"IF(ISTEXT(#REF!),#REF!,\"\")","v":""},{"$f":"IF(ISTEXT(#REF!),#REF!,\"\")","v":""},null,{"$f":"IF(ISTEXT(#REF!),#REF!,\"\")","v":""},{"$f":"IF(ISTEXT(#REF!),#REF!,\"\")","v":""},{"$f":"IF(ISNUMBER(#REF!),#REF!,\"\")","v":""},{"$f":"IF(ISTEXT(#REF!),#REF!,\"\")","v":""},null,{"$f":"IF(ISTEXT(#REF!),#REF!,\"\")","v":""},{"$f":"IF(ISTEXT(#REF!),#REF!,\"\")","v":""},{"$f":"IF(ISTEXT(#REF!),#REF!,\"\")","v":""},{"$f":"IF(ISTEXT(#REF!),#REF!,\"\")","v":""},{"$f":"IF(ISTEXT(#REF!),#REF!,\"\")","v":""},{"$f":"IF(ISTEXT(#REF!),#REF!,\"\")","v":""},{"$f":"IF(ISTEXT(#REF!),#REF!,\"\")","v":""},null,{"$f":"IF(ISTEXT(#REF!),#REF!,\"\")","v":""},{"$f":"IF(ISTEXT(#REF!),#REF!,\"\")","v":""},{"$f":"IF(ISNUMBER(#REF!),#REF!,\"\")","v":""},{"$f":"IF(ISTEXT(#REF!),#REF!,\"\")","v":""}]
[null,null,{"$f":"IF(ISTEXT(#REF!),#REF!,\"\")","v":""},{"$f":"IF(ISTEXT(#REF!),#REF!,\"\")","v":""},{"$f":"IF(ISTEXT(#REF!),#REF!,\"\")","v":""},{"$f":"IF(ISTEXT(#REF!),#REF!,\"\")","v":""},{"$f":"IF(ISTEXT(#REF!),#REF!,\"\")","v":""},{"$f":"IF(ISTEXT(#REF!),#REF!,\"\")","v":""},{"$f":"IF(ISTEXT(#REF!),#REF!,\"\")","v":""},null,{"$f":"IF(ISTEXT(#REF!),#REF!,\"\")","v":""},{"$f":"IF(ISTEXT(#REF!),#REF!,\"\")","v":""},{"$f":"IF(ISNUMBER(#REF!),#REF!,\"\")","v":""},{"$f":"IF(ISTEXT(#REF!),#REF!,\"\")","v":""},null,{"$f":"IF(ISTEXT(#REF!),#REF!,\"\")","v":""},{"$f":"IF(ISTEXT(#REF!),#REF!,\"\")","v":""},{"$f":"IF(ISTEXT(#REF!),#REF!,\"\")","v":""},{"$f":"IF(ISTEXT(#REF!),#REF!,\"\")","v":""},{"$f":"IF(ISTEXT(#REF!),#REF!,\"\")","v":""},{"$f":"IF(ISTEXT(#REF!),#REF!,\"\")","v":""},{"$f":"IF(ISTEXT(#REF!),#REF!,\"\")","v":""},null,{"$f":"IF(ISTEXT(#REF!),#REF!,\"\")","v":""},{"$f":"IF(ISTEXT(#REF!),#REF!,\"\")","v":""},{"$f":"IF(ISNUMBER(#REF!),#REF!,\"\")","v":""},{"$f":"IF(ISTEXT(#REF!),#REF!,\"\")","v":""},{"$f":"IF(ISTEXT(#REF!),#REF!,\"\")","v":""},{"$f":"IF(ISTEXT(#REF!),#REF!,\"\")","v":""},{"$f":"IF(ISTEXT(#REF!),#REF!,\"\")","v":""},{"$f":"IF(ISTEXT(#REF!),#REF!,\"\")","v":""},{"$f":"IF(ISTEXT(#REF!),#REF!,\"\")","v":""},{"$f":"IF(ISTEXT(#REF!),#REF!,\"\")","v":""},{"$f":"IF(ISTEXT(#REF!),#REF!,\"\")","v":""},null,{"$f":"IF(ISTEXT(#REF!),#REF!,\"\")","v":""},{"$f":"IF(ISTEXT(#REF!),#REF!,\"\")","v":""},{"$f":"IF(ISNUMBER(#REF!),#REF!,\"\")","v":""},{"$f":"IF(ISTEXT(#REF!),#REF!,\"\")","v":""},null,{"$f":"IF(ISTEXT(#REF!),#REF!,\"\")","v":""},{"$f":"IF(ISTEXT(#REF!),#REF!,\"\")","v":""},{"$f":"IF(ISTEXT(#REF!),#REF!,\"\")","v":""},{"$f":"IF(ISTEXT(#REF!),#REF!,\"\")","v":""},{"$f":"IF(ISTEXT(#REF!),#REF!,\"\")","v":""},{"$f":"IF(ISTEXT(#REF!),#REF!,\"\")","v":""},{"$f":"IF(ISTEXT(#REF!),#REF!,\"\")","v":""},null,{"$f":"IF(ISTEXT(#REF!),#REF!,\"\")","v":""},{"$f":"IF(ISTEXT(#REF!),#REF!,\"\")","v":""},{"$f":"IF(ISNUMBER(#REF!),#REF!,\"\")","v":""},{"$f":"IF(ISTEXT(#REF!),#REF!,\"\")","v":""},null,{"$f":"IF(ISTEXT(#REF!),#REF!,\"\")","v":""},{"$f":"IF(ISTEXT(#REF!),#REF!,\"\")","v":""},{"$f":"IF(ISTEXT(#REF!),#REF!,\"\")","v":""},{"$f":"IF(ISTEXT(#REF!),#REF!,\"\")","v":""},{"$f":"IF(ISTEXT(#REF!),#REF!,\"\")","v":""},{"$f":"IF(ISTEXT(#REF!),#REF!,\"\")","v":""},{"$f":"IF(ISTEXT(#REF!),#REF!,\"\")","v":""},null,{"$f":"IF(ISTEXT(#REF!),#REF!,\"\")","v":""},{"$f":"IF(ISTEXT(#REF!),#REF!,\"\")","v":""},{"$f":"IF(ISNUMBER(#REF!),#REF!,\"\")","v":""},{"$f":"IF(ISTEXT(#REF!),#REF!,\"\")","v":""}]
[null,null,{"$f":"IF(ISTEXT(#REF!),#REF!,\"\")","v":""},{"$f":"IF(ISTEXT(#REF!),#REF!,\"\")","v":""},{"$f":"IF(ISTEXT(#REF!),#REF!,\"\")","v":""},{"$f":"IF(ISTEXT(#REF!),#REF!,\"\")","v":""},{"$f":"IF(ISTEXT(#REF!),#REF!,\"\")","v":""},{"$f":"IF(ISTEXT(#REF!),#REF!,\"\")","v":""},{"$f":"IF(ISTEXT(#REF!),#REF!,\"\")","v":""},null,{"$f":"IF(ISTEXT(#REF!),#REF!,\"\")","v":""},{"$f":"IF(ISTEXT(#REF!),#REF!,\"\")","v":""},{"$f":"IF(ISNUMBER(#REF!),#REF!,\"\")","v":""},{"$f":"IF(ISTEXT(#REF!),#REF!,\"\")","v":""},null,{"$f":"IF(ISTEXT(#REF!),#REF!,\"\")","v":""},{"$f":"IF(ISTEXT(#REF!),#REF!,\"\")","v":""},{"$f":"IF(ISTEXT(#REF!),#REF!,\"\")","v":""},{"$f":"IF(ISTEXT(#REF!),#REF!,\"\")","v":""},{"$f":"IF(ISTEXT(#REF!),#REF!,\"\")","v":""},{"$f":"IF(ISTEXT(#REF!),#REF!,\"\")","v":""},{"$f":"IF(ISTEXT(#REF!),#REF!,\"\")","v":""},null,{"$f":"IF(ISTEXT(#REF!),#REF!,\"\")","v":""},{"$f":"IF(ISTEXT(#REF!),#REF!,\"\")","v":""},{"$f":"IF(ISNUMBER(#REF!),#REF!,\"\")","v":""},{"$f":"IF(ISTEXT(#REF!),#REF!,\"\")","v":""},{"$f":"IF(ISTEXT(#REF!),#REF!,\"\")","v":""},{"$f":"IF(ISTEXT(#REF!),#REF!,\"\")","v":""},{"$f":"IF(ISTEXT(#REF!),#REF!,\"\")","v":""},{"$f":"IF(ISTEXT(#REF!),#REF!,\"\")","v":""},{"$f":"IF(ISTEXT(#REF!),#REF!,\"\")","v":""},{"$f":"IF(ISTEXT(#REF!),#REF!,\"\")","v":""},{"$f":"IF(ISTEXT(#REF!),#REF!,\"\")","v":""},null,{"$f":"IF(ISTEXT(#REF!),#REF!,\"\")","v":""},{"$f":"IF(ISTEXT(#REF!),#REF!,\"\")","v":""},{"$f":"IF(ISNUMBER(#REF!),#REF!,\"\")","v":""},{"$f":"IF(ISTEXT(#REF!),#REF!,\"\")","v":""},null,{"$f":"IF(ISTEXT(#REF!),#REF!,\"\")","v":""},{"$f":"IF(ISTEXT(#REF!),#REF!,\"\")","v":""},{"$f":"IF(ISTEXT(#REF!),#REF!,\"\")","v":""},{"$f":"IF(ISTEXT(#REF!),#REF!,\"\")","v":""},{"$f":"IF(ISTEXT(#REF!),#REF!,\"\")","v":""},{"$f":"IF(ISTEXT(#REF!),#REF!,\"\")","v":""},{"$f":"IF(ISTEXT(#REF!),#REF!,\"\")","v":""},null,{"$f":"IF(ISTEXT(#REF!),#REF!,\"\")","v":""},{"$f":"IF(ISTEXT(#REF!),#REF!,\"\")","v":""},{"$f":"IF(ISNUMBER(#REF!),#REF!,\"\")","v":""},{"$f":"IF(ISTEXT(#REF!),#REF!,\"\")","v":""},null,{"$f":"IF(ISTEXT(#REF!),#REF!,\"\")","v":""},{"$f":"IF(ISTEXT(#REF!),#REF!,\"\")","v":""},{"$f":"IF(ISTEXT(#REF!),#REF!,\"\")","v":""},{"$f":"IF(ISTEXT(#REF!),#REF!,\"\")","v":""},{"$f":"IF(ISTEXT(#REF!),#REF!,\"\")","v":""},{"$f":"IF(ISTEXT(#REF!),#REF!,\"\")","v":""},{"$f":"IF(ISTEXT(#REF!),#REF!,\"\")","v":""},null,{"$f":"IF(ISTEXT(#REF!),#REF!,\"\")","v":""},{"$f":"IF(ISTEXT(#REF!),#REF!,\"\")","v":""},{"$f":"IF(ISNUMBER(#REF!),#REF!,\"\")","v":""},{"$f":"IF(ISTEXT(#REF!),#REF!,\"\")","v":""}]
[null,null,{"$f":"IF(ISTEXT(#REF!),#REF!,\"\")","v":""},{"$f":"IF(ISTEXT(#REF!),#REF!,\"\")","v":""},{"$f":"IF(ISTEXT(#REF!),#REF!,\"\")","v":""},{"$f":"IF(ISTEXT(#REF!),#REF!,\"\")","v":""},{"$f":"IF(ISTEXT(#REF!),#REF!,\"\")","v":""},{"$f":"IF(ISTEXT(#REF!),#REF!,\"\")","v":""},{"$f":"IF(ISTEXT(#REF!),#REF!,\"\")","v":""},null,{"$f":"IF(ISTEXT(#REF!),#REF!,\"\")","v":""},{"$f":"IF(ISTEXT(#REF!),#REF!,\"\")","v":""},{"$f":"IF(ISNUMBER(#REF!),#REF!,\"\")","v":""},{"$f":"IF(ISTEXT(#REF!),#REF!,\"\")","v":""},null,{"$f":"IF(ISTEXT(#REF!),#REF!,\"\")","v":""},{"$f":"IF(ISTEXT(#REF!),#REF!,\"\")","v":""},{"$f":"IF(ISTEXT(#REF!),#REF!,\"\")","v":""},{"$f":"IF(ISTEXT(#REF!),#REF!,\"\")","v":""},{"$f":"IF(ISTEXT(#REF!),#REF!,\"\")","v":""},{"$f":"IF(ISTEXT(#REF!),#REF!,\"\")","v":""},{"$f":"IF(ISTEXT(#REF!),#REF!,\"\")","v":""},null,{"$f":"IF(ISTEXT(#REF!),#REF!,\"\")","v":""},{"$f":"IF(ISTEXT(#REF!),#REF!,\"\")","v":""},{"$f":"IF(ISNUMBER(#REF!),#REF!,\"\")","v":""},{"$f":"IF(ISTEXT(#REF!),#REF!,\"\")","v":""},{"$f":"IF(ISTEXT(#REF!),#REF!,\"\")","v":""},{"$f":"IF(ISTEXT(#REF!),#REF!,\"\")","v":""},{"$f":"IF(ISTEXT(#REF!),#REF!,\"\")","v":""},{"$f":"IF(ISTEXT(#REF!),#REF!,\"\")","v":""},{"$f":"IF(ISTEXT(#REF!),#REF!,\"\")","v":""},{"$f":"IF(ISTEXT(#REF!),#REF!,\"\")","v":""},{"$f":"IF(ISTEXT(#REF!),#REF!,\"\")","v":""},null,{"$f":"IF(ISTEXT(#REF!),#REF!,\"\")","v":""},{"$f":"IF(ISTEXT(#REF!),#REF!,\"\")","v":""},{"$f":"IF(ISNUMBER(#REF!),#REF!,\"\")","v":""},{"$f":"IF(ISTEXT(#REF!),#REF!,\"\")","v":""},null,{"$f":"IF(ISTEXT(#REF!),#REF!,\"\")","v":""},{"$f":"IF(ISTEXT(#REF!),#REF!,\"\")","v":""},{"$f":"IF(ISTEXT(#REF!),#REF!,\"\")","v":""},{"$f":"IF(ISTEXT(#REF!),#REF!,\"\")","v":""},{"$f":"IF(ISTEXT(#REF!),#REF!,\"\")","v":""},{"$f":"IF(ISTEXT(#REF!),#REF!,\"\")","v":""},{"$f":"IF(ISTEXT(#REF!),#REF!,\"\")","v":""},null,{"$f":"IF(ISTEXT(#REF!),#REF!,\"\")","v":""},{"$f":"IF(ISTEXT(#REF!),#REF!,\"\")","v":""},{"$f":"IF(ISNUMBER(#REF!),#REF!,\"\")","v":""},{"$f":"IF(ISTEXT(#REF!),#REF!,\"\")","v":""},null,{"$f":"IF(ISTEXT(#REF!),#REF!,\"\")","v":""},{"$f":"IF(ISTEXT(#REF!),#REF!,\"\")","v":""},{"$f":"IF(ISTEXT(#REF!),#REF!,\"\")","v":""},{"$f":"IF(ISTEXT(#REF!),#REF!,\"\")","v":""},{"$f":"IF(ISTEXT(#REF!),#REF!,\"\")","v":""},{"$f":"IF(ISTEXT(#REF!),#REF!,\"\")","v":""},{"$f":"IF(ISTEXT(#REF!),#REF!,\"\")","v":""},null,{"$f":"IF(ISTEXT(#REF!),#REF!,\"\")","v":""},{"$f":"IF(ISTEXT(#REF!),#REF!,\"\")","v":""},{"$f":"IF(ISNUMBER(#REF!),#REF!,\"\")","v":""},{"$f":"IF(ISTEXT(#REF!),#REF!,\"\")","v":""}]
[null,null,{"$f":"IF(ISTEXT(#REF!),#REF!,\"\")","v":""},{"$f":"IF(ISTEXT(#REF!),#REF!,\"\")","v":""},{"$f":"IF(ISTEXT(#REF!),#REF!,\"\")","v":""},{"$f":"IF(ISTEXT(#REF!),#REF!,\"\")","v":""},{"$f":"IF(ISTEXT(#REF!),#REF!,\"\")","v":""},{"$f":"IF(ISTEXT(#REF!),#REF!,\"\")","v":""},{"$f":"IF(ISTEXT(#REF!),#REF!,\"\")","v":""},null,{"$f":"IF(ISTEXT(#REF!),#REF!,\"\")","v":""},{"$f":"IF(ISTEXT(#REF!),#REF!,\"\")","v":""},{"$f":"IF(ISNUMBER(#REF!),#REF!,\"\")","v":""},{"$f":"IF(ISTEXT(#REF!),#REF!,\"\")","v":""},null,{"$f":"IF(ISTEXT(#REF!),#REF!,\"\")","v":""},{"$f":"IF(ISTEXT(#REF!),#REF!,\"\")","v":""},{"$f":"IF(ISTEXT(#REF!),#REF!,\"\")","v":""},{"$f":"IF(ISTEXT(#REF!),#REF!,\"\")","v":""},{"$f":"IF(ISTEXT(#REF!),#REF!,\"\")","v":""},{"$f":"IF(ISTEXT(#REF!),#REF!,\"\")","v":""},{"$f":"IF(ISTEXT(#REF!),#REF!,\"\")","v":""},null,{"$f":"IF(ISTEXT(#REF!),#REF!,\"\")","v":""},{"$f":"IF(ISTEXT(#REF!),#REF!,\"\")","v":""},{"$f":"IF(ISNUMBER(#REF!),#REF!,\"\")","v":""},{"$f":"IF(ISTEXT(#REF!),#REF!,\"\")","v":""},{"$f":"IF(ISTEXT(#REF!),#REF!,\"\")","v":""},{"$f":"IF(ISTEXT(#REF!),#REF!,\"\")","v":""},{"$f":"IF(ISTEXT(#REF!),#REF!,\"\")","v":""},{"$f":"IF(ISTEXT(#REF!),#REF!,\"\")","v":""},{"$f":"IF(ISTEXT(#REF!),#REF!,\"\")","v":""},{"$f":"IF(ISTEXT(#REF!),#REF!,\"\")","v":""},{"$f":"IF(ISTEXT(#REF!),#REF!,\"\")","v":""},null,{"$f":"IF(ISTEXT(#REF!),#REF!,\"\")","v":""},{"$f":"IF(ISTEXT(#REF!),#REF!,\"\")","v":""},{"$f":"IF(ISNUMBER(#REF!),#REF!,\"\")","v":""},{"$f":"IF(ISTEXT(#REF!),#REF!,\"\")","v":""},null,{"$f":"IF(ISTEXT(#REF!),#REF!,\"\")","v":""},{"$f":"IF(ISTEXT(#REF!),#REF!,\"\")","v":""},{"$f":"IF(ISTEXT(#REF!),#REF!,\"\")","v":""},{"$f":"IF(ISTEXT(#REF!),#REF!,\"\")","v":""},{"$f":"IF(ISTEXT(#REF!),#REF!,\"\")","v":""},{"$f":"IF(ISTEXT(#REF!),#REF!,\"\")","v":""},{"$f":"IF(ISTEXT(#REF!),#REF!,\"\")","v":""},null,{"$f":"IF(ISTEXT(#REF!),#REF!,\"\")","v":""},{"$f":"IF(ISTEXT(#REF!),#REF!,\"\")","v":""},{"$f":"IF(ISNUMBER(#REF!),#REF!,\"\")","v":""},{"$f":"IF(ISTEXT(#REF!),#REF!,\"\")","v":""},null,{"$f":"IF(ISTEXT(#REF!),#REF!,\"\")","v":""},{"$f":"IF(ISTEXT(#REF!),#REF!,\"\")","v":""},{"$f":"IF(ISTEXT(#REF!),#REF!,\"\")","v":""},{"$f":"IF(ISTEXT(#REF!),#REF!,\"\")","v":""},{"$f":"IF(ISTEXT(#REF!),#REF!,\"\")","v":""},{"$f":"IF(ISTEXT(#REF!),#REF!,\"\")","v":""},{"$f":"IF(ISTEXT(#REF!),#REF!,\"\")","v":""},null,{"$f":"IF(ISTEXT(#REF!),#REF!,\"\")","v":""},{"$f":"IF(ISTEXT(#REF!),#REF!,\"\")","v":""},{"$f":"IF(ISNUMBER(#REF!),#REF!,\"\")","v":""},{"$f":"IF(ISTEXT(#REF!),#REF!,\"\")","v":""}]
[null,null,{"$f":"IF(ISTEXT(#REF!),#REF!,\"\")","v":""},{"$f":"IF(ISTEXT(#REF!),#REF!,\"\")","v":""},{"$f":"IF(ISTEXT(#REF!),#REF!,\"\")","v":""},{"$f":"IF(ISTEXT(#REF!),#REF!,\"\")","v":""},{"$f":"IF(ISTEXT(#REF!),#REF!,\"\")","v":""},{"$f":"IF(ISTEXT(#REF!),#REF!,\"\")","v":""},{"$f":"IF(ISTEXT(#REF!),#REF!,\"\")","v":""},null,{"$f":"IF(ISTEXT(#REF!),#REF!,\"\")","v":""},{"$f":"IF(ISTEXT(#REF!),#REF!,\"\")","v":""},{"$f":"IF(ISNUMBER(#REF!),#REF!,\"\")","v":""},{"$f":"IF(ISTEXT(#REF!),#REF!,\"\")","v":""},null,{"$f":"IF(ISTEXT(#REF!),#REF!,\"\")","v":""},{"$f":"IF(ISTEXT(#REF!),#REF!,\"\")","v":""},{"$f":"IF(ISTEXT(#REF!),#REF!,\"\")","v":""},{"$f":"IF(ISTEXT(#REF!),#REF!,\"\")","v":""},{"$f":"IF(ISTEXT(#REF!),#REF!,\"\")","v":""},{"$f":"IF(ISTEXT(#REF!),#REF!,\"\")","v":""},{"$f":"IF(ISTEXT(#REF!),#REF!,\"\")","v":""},null,{"$f":"IF(ISTEXT(#REF!),#REF!,\"\")","v":""},{"$f":"IF(ISTEXT(#REF!),#REF!,\"\")","v":""},{"$f":"IF(ISNUMBER(#REF!),#REF!,\"\")","v":""},{"$f":"IF(ISTEXT(#REF!),#REF!,\"\")","v":""},{"$f":"IF(ISTEXT(#REF!),#REF!,\"\")","v":""},{"$f":"IF(ISTEXT(#REF!),#REF!,\"\")","v":""},{"$f":"IF(ISTEXT(#REF!),#REF!,\"\")","v":""},{"$f":"IF(ISTEXT(#REF!),#REF!,\"\")","v":""},{"$f":"IF(ISTEXT(#REF!),#REF!,\"\")","v":""},{"$f":"IF(ISTEXT(#REF!),#REF!,\"\")","v":""},{"$f":"IF(ISTEXT(#REF!),#REF!,\"\")","v":""},null,{"$f":"IF(ISTEXT(#REF!),#REF!,\"\")","v":""},{"$f":"IF(ISTEXT(#REF!),#REF!,\"\")","v":""},{"$f":"IF(ISNUMBER(#REF!),#REF!,\"\")","v":""},{"$f":"IF(ISTEXT(#REF!),#REF!,\"\")","v":""},null,{"$f":"IF(ISTEXT(#REF!),#REF!,\"\")","v":""},{"$f":"IF(ISTEXT(#REF!),#REF!,\"\")","v":""},{"$f":"IF(ISTEXT(#REF!),#REF!,\"\")","v":""},{"$f":"IF(ISTEXT(#REF!),#REF!,\"\")","v":""},{"$f":"IF(ISTEXT(#REF!),#REF!,\"\")","v":""},{"$f":"IF(ISTEXT(#REF!),#REF!,\"\")","v":""},{"$f":"IF(ISTEXT(#REF!),#REF!,\"\")","v":""},null,{"$f":"IF(ISTEXT(#REF!),#REF!,\"\")","v":""},{"$f":"IF(ISTEXT(#REF!),#REF!,\"\")","v":""},{"$f":"IF(ISNUMBER(#REF!),#REF!,\"\")","v":""},{"$f":"IF(ISTEXT(#REF!),#REF!,\"\")","v":""},null,{"$f":"IF(ISTEXT(#REF!),#REF!,\"\")","v":""},{"$f":"IF(ISTEXT(#REF!),#REF!,\"\")","v":""},{"$f":"IF(ISTEXT(#REF!),#REF!,\"\")","v":""},{"$f":"IF(ISTEXT(#REF!),#REF!,\"\")","v":""},{"$f":"IF(ISTEXT(#REF!),#REF!,\"\")","v":""},{"$f":"IF(ISTEXT(#REF!),#REF!,\"\")","v":""},{"$f":"IF(ISTEXT(#REF!),#REF!,\"\")","v":""},null,{"$f":"IF(ISTEXT(#REF!),#REF!,\"\")","v":""},{"$f":"IF(ISTEXT(#REF!),#REF!,\"\")","v":""},{"$f":"IF(ISNUMBER(#REF!),#REF!,\"\")","v":""},{"$f":"IF(ISTEXT(#REF!),#REF!,\"\")","v":""}]
[null,null,{"$f":"IF(ISTEXT(#REF!),#REF!,\"\")","v":""},{"$f":"IF(ISTEXT(#REF!),#REF!,\"\")","v":""},{"$f":"IF(ISTEXT(#REF!),#REF!,\"\")","v":""},{"$f":"IF(ISTEXT(#REF!),#REF!,\"\")","v":""},{"$f":"IF(ISTEXT(#REF!),#REF!,\"\")","v":""},{"$f":"IF(ISTEXT(#REF!),#REF!,\"\")","v":""},{"$f":"IF(ISTEXT(#REF!),#REF!,\"\")","v":""},null,{"$f":"IF(ISTEXT(#REF!),#REF!,\"\")","v":""},{"$f":"IF(ISTEXT(#REF!),#REF!,\"\")","v":""},{"$f":"IF(ISNUMBER(#REF!),#REF!,\"\")","v":""},{"$f":"IF(ISTEXT(#REF!),#REF!,\"\")","v":""},null,{"$f":"IF(ISTEXT(#REF!),#REF!,\"\")","v":""},{"$f":"IF(ISTEXT(#REF!),#REF!,\"\")","v":""},{"$f":"IF(ISTEXT(#REF!),#REF!,\"\")","v":""},{"$f":"IF(ISTEXT(#REF!),#REF!,\"\")","v":""},{"$f":"IF(ISTEXT(#REF!),#REF!,\"\")","v":""},{"$f":"IF(ISTEXT(#REF!),#REF!,\"\")","v":""},{"$f":"IF(ISTEXT(#REF!),#REF!,\"\")","v":""},null,{"$f":"IF(ISTEXT(#REF!),#REF!,\"\")","v":""},{"$f":"IF(ISTEXT(#REF!),#REF!,\"\")","v":""},{"$f":"IF(ISNUMBER(#REF!),#REF!,\"\")","v":""},{"$f":"IF(ISTEXT(#REF!),#REF!,\"\")","v":""},{"$f":"IF(ISTEXT(#REF!),#REF!,\"\")","v":""},{"$f":"IF(ISTEXT(#REF!),#REF!,\"\")","v":""},{"$f":"IF(ISTEXT(#REF!),#REF!,\"\")","v":""},{"$f":"IF(ISTEXT(#REF!),#REF!,\"\")","v":""},{"$f":"IF(ISTEXT(#REF!),#REF!,\"\")","v":""},{"$f":"IF(ISTEXT(#REF!),#REF!,\"\")","v":""},{"$f":"IF(ISTEXT(#REF!),#REF!,\"\")","v":""},null,{"$f":"IF(ISTEXT(#REF!),#REF!,\"\")","v":""},{"$f":"IF(ISTEXT(#REF!),#REF!,\"\")","v":""},{"$f":"IF(ISNUMBER(#REF!),#REF!,\"\")","v":""},{"$f":"IF(ISTEXT(#REF!),#REF!,\"\")","v":""},null,{"$f":"IF(ISTEXT(#REF!),#REF!,\"\")","v":""},{"$f":"IF(ISTEXT(#REF!),#REF!,\"\")","v":""},{"$f":"IF(ISTEXT(#REF!),#REF!,\"\")","v":""},{"$f":"IF(ISTEXT(#REF!),#REF!,\"\")","v":""},{"$f":"IF(ISTEXT(#REF!),#REF!,\"\")","v":""},{"$f":"IF(ISTEXT(#REF!),#REF!,\"\")","v":""},{"$f":"IF(ISTEXT(#REF!),#REF!,\"\")","v":""},null,{"$f":"IF(ISTEXT(#REF!),#REF!,\"\")","v":""},{"$f":"IF(ISTEXT(#REF!),#REF!,\"\")","v":""},{"$f":"IF(ISNUMBER(#REF!),#REF!,\"\")","v":""},{"$f":"IF(ISTEXT(#REF!),#REF!,\"\")","v":""},null,{"$f":"IF(ISTEXT(#REF!),#REF!,\"\")","v":""},{"$f":"IF(ISTEXT(#REF!),#REF!,\"\")","v":""},{"$f":"IF(ISTEXT(#REF!),#REF!,\"\")","v":""},{"$f":"IF(ISTEXT(#REF!),#REF!,\"\")","v":""},{"$f":"IF(ISTEXT(#REF!),#REF!,\"\")","v":""},{"$f":"IF(ISTEXT(#REF!),#REF!,\"\")","v":""},{"$f":"IF(ISTEXT(#REF!),#REF!,\"\")","v":""},null,{"$f":"IF(ISTEXT(#REF!),#REF!,\"\")","v":""},{"$f":"IF(ISTEXT(#REF!),#REF!,\"\")","v":""},{"$f":"IF(ISNUMBER(#REF!),#REF!,\"\")","v":""},{"$f":"IF(ISTEXT(#REF!),#REF!,\"\")","v":""}]
[null,null,{"$f":"IF(ISTEXT(#REF!),#REF!,\"\")","v":""},{"$f":"IF(ISTEXT(#REF!),#REF!,\"\")","v":""},{"$f":"IF(ISTEXT(#REF!),#REF!,\"\")","v":""},{"$f":"IF(ISTEXT(#REF!),#REF!,\"\")","v":""},{"$f":"IF(ISTEXT(#REF!),#REF!,\"\")","v":""},{"$f":"IF(ISTEXT(#REF!),#REF!,\"\")","v":""},{"$f":"IF(ISTEXT(#REF!),#REF!,\"\")","v":""},null,{"$f":"IF(ISTEXT(#REF!),#REF!,\"\")","v":""},{"$f":"IF(ISTEXT(#REF!),#REF!,\"\")","v":""},{"$f":"IF(ISNUMBER(#REF!),#REF!,\"\")","v":""},{"$f":"IF(ISTEXT(#REF!),#REF!,\"\")","v":""},null,{"$f":"IF(ISTEXT(#REF!),#REF!,\"\")","v":""},{"$f":"IF(ISTEXT(#REF!),#REF!,\"\")","v":""},{"$f":"IF(ISTEXT(#REF!),#REF!,\"\")","v":""},{"$f":"IF(ISTEXT(#REF!),#REF!,\"\")","v":""},{"$f":"IF(ISTEXT(#REF!),#REF!,\"\")","v":""},{"$f":"IF(ISTEXT(#REF!),#REF!,\"\")","v":""},{"$f":"IF(ISTEXT(#REF!),#REF!,\"\")","v":""},null,{"$f":"IF(ISTEXT(#REF!),#REF!,\"\")","v":""},{"$f":"IF(ISTEXT(#REF!),#REF!,\"\")","v":""},{"$f":"IF(ISNUMBER(#REF!),#REF!,\"\")","v":""},{"$f":"IF(ISTEXT(#REF!),#REF!,\"\")","v":""},{"$f":"IF(ISTEXT(#REF!),#REF!,\"\")","v":""},{"$f":"IF(ISTEXT(#REF!),#REF!,\"\")","v":""},{"$f":"IF(ISTEXT(#REF!),#REF!,\"\")","v":""},{"$f":"IF(ISTEXT(#REF!),#REF!,\"\")","v":""},{"$f":"IF(ISTEXT(#REF!),#REF!,\"\")","v":""},{"$f":"IF(ISTEXT(#REF!),#REF!,\"\")","v":""},{"$f":"IF(ISTEXT(#REF!),#REF!,\"\")","v":""},null,{"$f":"IF(ISTEXT(#REF!),#REF!,\"\")","v":""},{"$f":"IF(ISTEXT(#REF!),#REF!,\"\")","v":""},{"$f":"IF(ISNUMBER(#REF!),#REF!,\"\")","v":""},{"$f":"IF(ISTEXT(#REF!),#REF!,\"\")","v":""},null,{"$f":"IF(ISTEXT(#REF!),#REF!,\"\")","v":""},{"$f":"IF(ISTEXT(#REF!),#REF!,\"\")","v":""},{"$f":"IF(ISTEXT(#REF!),#REF!,\"\")","v":""},{"$f":"IF(ISTEXT(#REF!),#REF!,\"\")","v":""},{"$f":"IF(ISTEXT(#REF!),#REF!,\"\")","v":""},{"$f":"IF(ISTEXT(#REF!),#REF!,\"\")","v":""},{"$f":"IF(ISTEXT(#REF!),#REF!,\"\")","v":""},null,{"$f":"IF(ISTEXT(#REF!),#REF!,\"\")","v":""},{"$f":"IF(ISTEXT(#REF!),#REF!,\"\")","v":""},{"$f":"IF(ISNUMBER(#REF!),#REF!,\"\")","v":""},{"$f":"IF(ISTEXT(#REF!),#REF!,\"\")","v":""},null,{"$f":"IF(ISTEXT(#REF!),#REF!,\"\")","v":""},{"$f":"IF(ISTEXT(#REF!),#REF!,\"\")","v":""},{"$f":"IF(ISTEXT(#REF!),#REF!,\"\")","v":""},{"$f":"IF(ISTEXT(#REF!),#REF!,\"\")","v":""},{"$f":"IF(ISTEXT(#REF!),#REF!,\"\")","v":""},{"$f":"IF(ISTEXT(#REF!),#REF!,\"\")","v":""},{"$f":"IF(ISTEXT(#REF!),#REF!,\"\")","v":""},null,{"$f":"IF(ISTEXT(#REF!),#REF!,\"\")","v":""},{"$f":"IF(ISTEXT(#REF!),#REF!,\"\")","v":""},{"$f":"IF(ISNUMBER(#REF!),#REF!,\"\")","v":""},{"$f":"IF(ISTEXT(#REF!),#REF!,\"\")","v":""}]
[null,null,{"$f":"IF(ISTEXT(#REF!),#REF!,\"\")","v":""},{"$f":"IF(ISTEXT(#REF!),#REF!,\"\")","v":""},{"$f":"IF(ISTEXT(#REF!),#REF!,\"\")","v":""},{"$f":"IF(ISTEXT(#REF!),#REF!,\"\")","v":""},{"$f":"IF(ISTEXT(#REF!),#REF!,\"\")","v":""},{"$f":"IF(ISTEXT(#REF!),#REF!,\"\")","v":""},{"$f":"IF(ISTEXT(#REF!),#REF!,\"\")","v":""},null,{"$f":"IF(ISTEXT(#REF!),#REF!,\"\")","v":""},{"$f":"IF(ISTEXT(#REF!),#REF!,\"\")","v":""},{"$f":"IF(ISNUMBER(#REF!),#REF!,\"\")","v":""},{"$f":"IF(ISTEXT(#REF!),#REF!,\"\")","v":""},null,{"$f":"IF(ISTEXT(#REF!),#REF!,\"\")","v":""},{"$f":"IF(ISTEXT(#REF!),#REF!,\"\")","v":""},{"$f":"IF(ISTEXT(#REF!),#REF!,\"\")","v":""},{"$f":"IF(ISTEXT(#REF!),#REF!,\"\")","v":""},{"$f":"IF(ISTEXT(#REF!),#REF!,\"\")","v":""},{"$f":"IF(ISTEXT(#REF!),#REF!,\"\")","v":""},{"$f":"IF(ISTEXT(#REF!),#REF!,\"\")","v":""},null,{"$f":"IF(ISTEXT(#REF!),#REF!,\"\")","v":""},{"$f":"IF(ISTEXT(#REF!),#REF!,\"\")","v":""},{"$f":"IF(ISNUMBER(#REF!),#REF!,\"\")","v":""},{"$f":"IF(ISTEXT(#REF!),#REF!,\"\")","v":""},{"$f":"IF(ISTEXT(#REF!),#REF!,\"\")","v":""},{"$f":"IF(ISTEXT(#REF!),#REF!,\"\")","v":""},{"$f":"IF(ISTEXT(#REF!),#REF!,\"\")","v":""},{"$f":"IF(ISTEXT(#REF!),#REF!,\"\")","v":""},{"$f":"IF(ISTEXT(#REF!),#REF!,\"\")","v":""},{"$f":"IF(ISTEXT(#REF!),#REF!,\"\")","v":""},{"$f":"IF(ISTEXT(#REF!),#REF!,\"\")","v":""},null,{"$f":"IF(ISTEXT(#REF!),#REF!,\"\")","v":""},{"$f":"IF(ISTEXT(#REF!),#REF!,\"\")","v":""},{"$f":"IF(ISNUMBER(#REF!),#REF!,\"\")","v":""},{"$f":"IF(ISTEXT(#REF!),#REF!,\"\")","v":""},null,{"$f":"IF(ISTEXT(#REF!),#REF!,\"\")","v":""},{"$f":"IF(ISTEXT(#REF!),#REF!,\"\")","v":""},{"$f":"IF(ISTEXT(#REF!),#REF!,\"\")","v":""},{"$f":"IF(ISTEXT(#REF!),#REF!,\"\")","v":""},{"$f":"IF(ISTEXT(#REF!),#REF!,\"\")","v":""},{"$f":"IF(ISTEXT(#REF!),#REF!,\"\")","v":""},{"$f":"IF(ISTEXT(#REF!),#REF!,\"\")","v":""},null,{"$f":"IF(ISTEXT(#REF!),#REF!,\"\")","v":""},{"$f":"IF(ISTEXT(#REF!),#REF!,\"\")","v":""},{"$f":"IF(ISNUMBER(#REF!),#REF!,\"\")","v":""},{"$f":"IF(ISTEXT(#REF!),#REF!,\"\")","v":""},null,{"$f":"IF(ISTEXT(#REF!),#REF!,\"\")","v":""},{"$f":"IF(ISTEXT(#REF!),#REF!,\"\")","v":""},{"$f":"IF(ISTEXT(#REF!),#REF!,\"\")","v":""},{"$f":"IF(ISTEXT(#REF!),#REF!,\"\")","v":""},{"$f":"IF(ISTEXT(#REF!),#REF!,\"\")","v":""},{"$f":"IF(ISTEXT(#REF!),#REF!,\"\")","v":""},{"$f":"IF(ISTEXT(#REF!),#REF!,\"\")","v":""},null,{"$f":"IF(ISTEXT(#REF!),#REF!,\"\")","v":""},{"$f":"IF(ISTEXT(#REF!),#REF!,\"\")","v":""},{"$f":"IF(ISNUMBER(#REF!),#REF!,\"\")","v":""},{"$f":"IF(ISTEXT(#REF!),#REF!,\"\")","v":""}]
[null,null,{"$f":"IF(ISTEXT(#REF!),#REF!,\"\")","v":""},{"$f":"IF(ISTEXT(#REF!),#REF!,\"\")","v":""},{"$f":"IF(ISTEXT(#REF!),#REF!,\"\")","v":""},{"$f":"IF(ISTEXT(#REF!),#REF!,\"\")","v":""},{"$f":"IF(ISTEXT(#REF!),#REF!,\"\")","v":""},{"$f":"IF(ISTEXT(#REF!),#REF!,\"\")","v":""},{"$f":"IF(ISTEXT(#REF!),#REF!,\"\")","v":""},null,{"$f":"IF(ISTEXT(#REF!),#REF!,\"\")","v":""},{"$f":"IF(ISTEXT(#REF!),#REF!,\"\")","v":""},{"$f":"IF(ISNUMBER(#REF!),#REF!,\"\")","v":""},{"$f":"IF(ISTEXT(#REF!),#REF!,\"\")","v":""},null,{"$f":"IF(ISTEXT(#REF!),#REF!,\"\")","v":""},{"$f":"IF(ISTEXT(#REF!),#REF!,\"\")","v":""},{"$f":"IF(ISTEXT(#REF!),#REF!,\"\")","v":""},{"$f":"IF(ISTEXT(#REF!),#REF!,\"\")","v":""},{"$f":"IF(ISTEXT(#REF!),#REF!,\"\")","v":""},{"$f":"IF(ISTEXT(#REF!),#REF!,\"\")","v":""},{"$f":"IF(ISTEXT(#REF!),#REF!,\"\")","v":""},null,{"$f":"IF(ISTEXT(#REF!),#REF!,\"\")","v":""},{"$f":"IF(ISTEXT(#REF!),#REF!,\"\")","v":""},{"$f":"IF(ISNUMBER(#REF!),#REF!,\"\")","v":""},{"$f":"IF(ISTEXT(#REF!),#REF!,\"\")","v":""},{"$f":"IF(ISTEXT(#REF!),#REF!,\"\")","v":""},{"$f":"IF(ISTEXT(#REF!),#REF!,\"\")","v":""},{"$f":"IF(ISTEXT(#REF!),#REF!,\"\")","v":""},{"$f":"IF(ISTEXT(#REF!),#REF!,\"\")","v":""},{"$f":"IF(ISTEXT(#REF!),#REF!,\"\")","v":""},{"$f":"IF(ISTEXT(#REF!),#REF!,\"\")","v":""},{"$f":"IF(ISTEXT(#REF!),#REF!,\"\")","v":""},null,{"$f":"IF(ISTEXT(#REF!),#REF!,\"\")","v":""},{"$f":"IF(ISTEXT(#REF!),#REF!,\"\")","v":""},{"$f":"IF(ISNUMBER(#REF!),#REF!,\"\")","v":""},{"$f":"IF(ISTEXT(#REF!),#REF!,\"\")","v":""},null,{"$f":"IF(ISTEXT(#REF!),#REF!,\"\")","v":""},{"$f":"IF(ISTEXT(#REF!),#REF!,\"\")","v":""},{"$f":"IF(ISTEXT(#REF!),#REF!,\"\")","v":""},{"$f":"IF(ISTEXT(#REF!),#REF!,\"\")","v":""},{"$f":"IF(ISTEXT(#REF!),#REF!,\"\")","v":""},{"$f":"IF(ISTEXT(#REF!),#REF!,\"\")","v":""},{"$f":"IF(ISTEXT(#REF!),#REF!,\"\")","v":""},null,{"$f":"IF(ISTEXT(#REF!),#REF!,\"\")","v":""},{"$f":"IF(ISTEXT(#REF!),#REF!,\"\")","v":""},{"$f":"IF(ISNUMBER(#REF!),#REF!,\"\")","v":""},{"$f":"IF(ISTEXT(#REF!),#REF!,\"\")","v":""},null,{"$f":"IF(ISTEXT(#REF!),#REF!,\"\")","v":""},{"$f":"IF(ISTEXT(#REF!),#REF!,\"\")","v":""},{"$f":"IF(ISTEXT(#REF!),#REF!,\"\")","v":""},{"$f":"IF(ISTEXT(#REF!),#REF!,\"\")","v":""},{"$f":"IF(ISTEXT(#REF!),#REF!,\"\")","v":""},{"$f":"IF(ISTEXT(#REF!),#REF!,\"\")","v":""},{"$f":"IF(ISTEXT(#REF!),#REF!,\"\")","v":""},null,{"$f":"IF(ISTEXT(#REF!),#REF!,\"\")","v":""},{"$f":"IF(ISTEXT(#REF!),#REF!,\"\")","v":""},{"$f":"IF(ISNUMBER(#REF!),#REF!,\"\")","v":""},{"$f":"IF(ISTEXT(#REF!),#REF!,\"\")","v":""}]
[null,null,{"$f":"IF(ISTEXT(#REF!),#REF!,\"\")","v":""},{"$f":"IF(ISTEXT(#REF!),#REF!,\"\")","v":""},{"$f":"IF(ISTEXT(#REF!),#REF!,\"\")","v":""},{"$f":"IF(ISTEXT(#REF!),#REF!,\"\")","v":""},{"$f":"IF(ISTEXT(#REF!),#REF!,\"\")","v":""},{"$f":"IF(ISTEXT(#REF!),#REF!,\"\")","v":""},{"$f":"IF(ISTEXT(#REF!),#REF!,\"\")","v":""},null,{"$f":"IF(ISTEXT(#REF!),#REF!,\"\")","v":""},{"$f":"IF(ISTEXT(#REF!),#REF!,\"\")","v":""},{"$f":"IF(ISNUMBER(#REF!),#REF!,\"\")","v":""},{"$f":"IF(ISTEXT(#REF!),#REF!,\"\")","v":""},null,{"$f":"IF(ISTEXT(#REF!),#REF!,\"\")","v":""},{"$f":"IF(ISTEXT(#REF!),#REF!,\"\")","v":""},{"$f":"IF(ISTEXT(#REF!),#REF!,\"\")","v":""},{"$f":"IF(ISTEXT(#REF!),#REF!,\"\")","v":""},{"$f":"IF(ISTEXT(#REF!),#REF!,\"\")","v":""},{"$f":"IF(ISTEXT(#REF!),#REF!,\"\")","v":""},{"$f":"IF(ISTEXT(#REF!),#REF!,\"\")","v":""},null,{"$f":"IF(ISTEXT(#REF!),#REF!,\"\")","v":""},{"$f":"IF(ISTEXT(#REF!),#REF!,\"\")","v":""},{"$f":"IF(ISNUMBER(#REF!),#REF!,\"\")","v":""},{"$f":"IF(ISTEXT(#REF!),#REF!,\"\")","v":""},{"$f":"IF(ISTEXT(#REF!),#REF!,\"\")","v":""},{"$f":"IF(ISTEXT(#REF!),#REF!,\"\")","v":""},{"$f":"IF(ISTEXT(#REF!),#REF!,\"\")","v":""},{"$f":"IF(ISTEXT(#REF!),#REF!,\"\")","v":""},{"$f":"IF(ISTEXT(#REF!),#REF!,\"\")","v":""},{"$f":"IF(ISTEXT(#REF!),#REF!,\"\")","v":""},{"$f":"IF(ISTEXT(#REF!),#REF!,\"\")","v":""},null,{"$f":"IF(ISTEXT(#REF!),#REF!,\"\")","v":""},{"$f":"IF(ISTEXT(#REF!),#REF!,\"\")","v":""},{"$f":"IF(ISNUMBER(#REF!),#REF!,\"\")","v":""},{"$f":"IF(ISTEXT(#REF!),#REF!,\"\")","v":""},null,{"$f":"IF(ISTEXT(#REF!),#REF!,\"\")","v":""},{"$f":"IF(ISTEXT(#REF!),#REF!,\"\")","v":""},{"$f":"IF(ISTEXT(#REF!),#REF!,\"\")","v":""},{"$f":"IF(ISTEXT(#REF!),#REF!,\"\")","v":""},{"$f":"IF(ISTEXT(#REF!),#REF!,\"\")","v":""},{"$f":"IF(ISTEXT(#REF!),#REF!,\"\")","v":""},{"$f":"IF(ISTEXT(#REF!),#REF!,\"\")","v":""},null,{"$f":"IF(ISTEXT(#REF!),#REF!,\"\")","v":""},{"$f":"IF(ISTEXT(#REF!),#REF!,\"\")","v":""},{"$f":"IF(ISNUMBER(#REF!),#REF!,\"\")","v":""},{"$f":"IF(ISTEXT(#REF!),#REF!,\"\")","v":""},null,{"$f":"IF(ISTEXT(#REF!),#REF!,\"\")","v":""},{"$f":"IF(ISTEXT(#REF!),#REF!,\"\")","v":""},{"$f":"IF(ISTEXT(#REF!),#REF!,\"\")","v":""},{"$f":"IF(ISTEXT(#REF!),#REF!,\"\")","v":""},{"$f":"IF(ISTEXT(#REF!),#REF!,\"\")","v":""},{"$f":"IF(ISTEXT(#REF!),#REF!,\"\")","v":""},{"$f":"IF(ISTEXT(#REF!),#REF!,\"\")","v":""},null,{"$f":"IF(ISTEXT(#REF!),#REF!,\"\")","v":""},{"$f":"IF(ISTEXT(#REF!),#REF!,\"\")","v":""},{"$f":"IF(ISNUMBER(#REF!),#REF!,\"\")","v":""},{"$f":"IF(ISTEXT(#REF!),#REF!,\"\")","v":""}]
[null,null,{"$f":"IF(ISTEXT(#REF!),#REF!,\"\")","v":""},{"$f":"IF(ISTEXT(#REF!),#REF!,\"\")","v":""},{"$f":"IF(ISTEXT(#REF!),#REF!,\"\")","v":""},{"$f":"IF(ISTEXT(#REF!),#REF!,\"\")","v":""},{"$f":"IF(ISTEXT(#REF!),#REF!,\"\")","v":""},{"$f":"IF(ISTEXT(#REF!),#REF!,\"\")","v":""},{"$f":"IF(ISTEXT(#REF!),#REF!,\"\")","v":""},null,{"$f":"IF(ISTEXT(#REF!),#REF!,\"\")","v":""},{"$f":"IF(ISTEXT(#REF!),#REF!,\"\")","v":""},{"$f":"IF(ISNUMBER(#REF!),#REF!,\"\")","v":""},{"$f":"IF(ISTEXT(#REF!),#REF!,\"\")","v":""},null,{"$f":"IF(ISTEXT(#REF!),#REF!,\"\")","v":""},{"$f":"IF(ISTEXT(#REF!),#REF!,\"\")","v":""},{"$f":"IF(ISTEXT(#REF!),#REF!,\"\")","v":""},{"$f":"IF(ISTEXT(#REF!),#REF!,\"\")","v":""},{"$f":"IF(ISTEXT(#REF!),#REF!,\"\")","v":""},{"$f":"IF(ISTEXT(#REF!),#REF!,\"\")","v":""},{"$f":"IF(ISTEXT(#REF!),#REF!,\"\")","v":""},null,{"$f":"IF(ISTEXT(#REF!),#REF!,\"\")","v":""},{"$f":"IF(ISTEXT(#REF!),#REF!,\"\")","v":""},{"$f":"IF(ISNUMBER(#REF!),#REF!,\"\")","v":""},{"$f":"IF(ISTEXT(#REF!),#REF!,\"\")","v":""},{"$f":"IF(ISTEXT(#REF!),#REF!,\"\")","v":""},{"$f":"IF(ISTEXT(#REF!),#REF!,\"\")","v":""},{"$f":"IF(ISTEXT(#REF!),#REF!,\"\")","v":""},{"$f":"IF(ISTEXT(#REF!),#REF!,\"\")","v":""},{"$f":"IF(ISTEXT(#REF!),#REF!,\"\")","v":""},{"$f":"IF(ISTEXT(#REF!),#REF!,\"\")","v":""},{"$f":"IF(ISTEXT(#REF!),#REF!,\"\")","v":""},null,{"$f":"IF(ISTEXT(#REF!),#REF!,\"\")","v":""},{"$f":"IF(ISTEXT(#REF!),#REF!,\"\")","v":""},{"$f":"IF(ISNUMBER(#REF!),#REF!,\"\")","v":""},{"$f":"IF(ISTEXT(#REF!),#REF!,\"\")","v":""},null,{"$f":"IF(ISTEXT(#REF!),#REF!,\"\")","v":""},{"$f":"IF(ISTEXT(#REF!),#REF!,\"\")","v":""},{"$f":"IF(ISTEXT(#REF!),#REF!,\"\")","v":""},{"$f":"IF(ISTEXT(#REF!),#REF!,\"\")","v":""},{"$f":"IF(ISTEXT(#REF!),#REF!,\"\")","v":""},{"$f":"IF(ISTEXT(#REF!),#REF!,\"\")","v":""},{"$f":"IF(ISTEXT(#REF!),#REF!,\"\")","v":""},null,{"$f":"IF(ISTEXT(#REF!),#REF!,\"\")","v":""},{"$f":"IF(ISTEXT(#REF!),#REF!,\"\")","v":""},{"$f":"IF(ISNUMBER(#REF!),#REF!,\"\")","v":""},{"$f":"IF(ISTEXT(#REF!),#REF!,\"\")","v":""},null,{"$f":"IF(ISTEXT(#REF!),#REF!,\"\")","v":""},{"$f":"IF(ISTEXT(#REF!),#REF!,\"\")","v":""},{"$f":"IF(ISTEXT(#REF!),#REF!,\"\")","v":""},{"$f":"IF(ISTEXT(#REF!),#REF!,\"\")","v":""},{"$f":"IF(ISTEXT(#REF!),#REF!,\"\")","v":""},{"$f":"IF(ISTEXT(#REF!),#REF!,\"\")","v":""},{"$f":"IF(ISTEXT(#REF!),#REF!,\"\")","v":""},null,{"$f":"IF(ISTEXT(#REF!),#REF!,\"\")","v":""},{"$f":"IF(ISTEXT(#REF!),#REF!,\"\")","v":""},{"$f":"IF(ISNUMBER(#REF!),#REF!,\"\")","v":""},{"$f":"IF(ISTEXT(#REF!),#REF!,\"\")","v":""}]
[null,null,{"$f":"IF(ISTEXT(#REF!),#REF!,\"\")","v":""},{"$f":"IF(ISTEXT(#REF!),#REF!,\"\")","v":""},{"$f":"IF(ISTEXT(#REF!),#REF!,\"\")","v":""},{"$f":"IF(ISTEXT(#REF!),#REF!,\"\")","v":""},{"$f":"IF(ISTEXT(#REF!),#REF!,\"\")","v":""},{"$f":"IF(ISTEXT(#REF!),#REF!,\"\")","v":""},{"$f":"IF(ISTEXT(#REF!),#REF!,\"\")","v":""},null,{"$f":"IF(ISTEXT(#REF!),#REF!,\"\")","v":""},{"$f":"IF(ISTEXT(#REF!),#REF!,\"\")","v":""},{"$f":"IF(ISNUMBER(#REF!),#REF!,\"\")","v":""},{"$f":"IF(ISTEXT(#REF!),#REF!,\"\")","v":""},null,{"$f":"IF(ISTEXT(#REF!),#REF!,\"\")","v":""},{"$f":"IF(ISTEXT(#REF!),#REF!,\"\")","v":""},{"$f":"IF(ISTEXT(#REF!),#REF!,\"\")","v":""},{"$f":"IF(ISTEXT(#REF!),#REF!,\"\")","v":""},{"$f":"IF(ISTEXT(#REF!),#REF!,\"\")","v":""},{"$f":"IF(ISTEXT(#REF!),#REF!,\"\")","v":""},{"$f":"IF(ISTEXT(#REF!),#REF!,\"\")","v":""},null,{"$f":"IF(ISTEXT(#REF!),#REF!,\"\")","v":""},{"$f":"IF(ISTEXT(#REF!),#REF!,\"\")","v":""},{"$f":"IF(ISNUMBER(#REF!),#REF!,\"\")","v":""},{"$f":"IF(ISTEXT(#REF!),#REF!,\"\")","v":""},{"$f":"IF(ISTEXT(#REF!),#REF!,\"\")","v":""},{"$f":"IF(ISTEXT(#REF!),#REF!,\"\")","v":""},{"$f":"IF(ISTEXT(#REF!),#REF!,\"\")","v":""},{"$f":"IF(ISTEXT(#REF!),#REF!,\"\")","v":""},{"$f":"IF(ISTEXT(#REF!),#REF!,\"\")","v":""},{"$f":"IF(ISTEXT(#REF!),#REF!,\"\")","v":""},{"$f":"IF(ISTEXT(#REF!),#REF!,\"\")","v":""},null,{"$f":"IF(ISTEXT(#REF!),#REF!,\"\")","v":""},{"$f":"IF(ISTEXT(#REF!),#REF!,\"\")","v":""},{"$f":"IF(ISNUMBER(#REF!),#REF!,\"\")","v":""},{"$f":"IF(ISTEXT(#REF!),#REF!,\"\")","v":""},null,{"$f":"IF(ISTEXT(#REF!),#REF!,\"\")","v":""},{"$f":"IF(ISTEXT(#REF!),#REF!,\"\")","v":""},{"$f":"IF(ISTEXT(#REF!),#REF!,\"\")","v":""},{"$f":"IF(ISTEXT(#REF!),#REF!,\"\")","v":""},{"$f":"IF(ISTEXT(#REF!),#REF!,\"\")","v":""},{"$f":"IF(ISTEXT(#REF!),#REF!,\"\")","v":""},{"$f":"IF(ISTEXT(#REF!),#REF!,\"\")","v":""},null,{"$f":"IF(ISTEXT(#REF!),#REF!,\"\")","v":""},{"$f":"IF(ISTEXT(#REF!),#REF!,\"\")","v":""},{"$f":"IF(ISNUMBER(#REF!),#REF!,\"\")","v":""},{"$f":"IF(ISTEXT(#REF!),#REF!,\"\")","v":""},null,{"$f":"IF(ISTEXT(#REF!),#REF!,\"\")","v":""},{"$f":"IF(ISTEXT(#REF!),#REF!,\"\")","v":""},{"$f":"IF(ISTEXT(#REF!),#REF!,\"\")","v":""},{"$f":"IF(ISTEXT(#REF!),#REF!,\"\")","v":""},{"$f":"IF(ISTEXT(#REF!),#REF!,\"\")","v":""},{"$f":"IF(ISTEXT(#REF!),#REF!,\"\")","v":""},{"$f":"IF(ISTEXT(#REF!),#REF!,\"\")","v":""},null,{"$f":"IF(ISTEXT(#REF!),#REF!,\"\")","v":""},{"$f":"IF(ISTEXT(#REF!),#REF!,\"\")","v":""},{"$f":"IF(ISNUMBER(#REF!),#REF!,\"\")","v":""},{"$f":"IF(ISTEXT(#REF!),#REF!,\"\")","v":""}]
[null,null,{"$f":"IF(ISTEXT(#REF!),#REF!,\"\")","v":""},{"$f":"IF(ISTEXT(#REF!),#REF!,\"\")","v":""},{"$f":"IF(ISTEXT(#REF!),#REF!,\"\")","v":""},{"$f":"IF(ISTEXT(#REF!),#REF!,\"\")","v":""},{"$f":"IF(ISTEXT(#REF!),#REF!,\"\")","v":""},{"$f":"IF(ISTEXT(#REF!),#REF!,\"\")","v":""},{"$f":"IF(ISTEXT(#REF!),#REF!,\"\")","v":""},null,{"$f":"IF(ISTEXT(#REF!),#REF!,\"\")","v":""},{"$f":"IF(ISTEXT(#REF!),#REF!,\"\")","v":""},{"$f":"IF(ISNUMBER(#REF!),#REF!,\"\")","v":""},{"$f":"IF(ISTEXT(#REF!),#REF!,\"\")","v":""},null,{"$f":"IF(ISTEXT(#REF!),#REF!,\"\")","v":""},{"$f":"IF(ISTEXT(#REF!),#REF!,\"\")","v":""},{"$f":"IF(ISTEXT(#REF!),#REF!,\"\")","v":""},{"$f":"IF(ISTEXT(#REF!),#REF!,\"\")","v":""},{"$f":"IF(ISTEXT(#REF!),#REF!,\"\")","v":""},{"$f":"IF(ISTEXT(#REF!),#REF!,\"\")","v":""},{"$f":"IF(ISTEXT(#REF!),#REF!,\"\")","v":""},null,{"$f":"IF(ISTEXT(#REF!),#REF!,\"\")","v":""},{"$f":"IF(ISTEXT(#REF!),#REF!,\"\")","v":""},{"$f":"IF(ISNUMBER(#REF!),#REF!,\"\")","v":""},{"$f":"IF(ISTEXT(#REF!),#REF!,\"\")","v":""},{"$f":"IF(ISTEXT(#REF!),#REF!,\"\")","v":""},{"$f":"IF(ISTEXT(#REF!),#REF!,\"\")","v":""},{"$f":"IF(ISTEXT(#REF!),#REF!,\"\")","v":""},{"$f":"IF(ISTEXT(#REF!),#REF!,\"\")","v":""},{"$f":"IF(ISTEXT(#REF!),#REF!,\"\")","v":""},{"$f":"IF(ISTEXT(#REF!),#REF!,\"\")","v":""},{"$f":"IF(ISTEXT(#REF!),#REF!,\"\")","v":""},null,{"$f":"IF(ISTEXT(#REF!),#REF!,\"\")","v":""},{"$f":"IF(ISTEXT(#REF!),#REF!,\"\")","v":""},{"$f":"IF(ISNUMBER(#REF!),#REF!,\"\")","v":""},{"$f":"IF(ISTEXT(#REF!),#REF!,\"\")","v":""},null,{"$f":"IF(ISTEXT(#REF!),#REF!,\"\")","v":""},{"$f":"IF(ISTEXT(#REF!),#REF!,\"\")","v":""},{"$f":"IF(ISTEXT(#REF!),#REF!,\"\")","v":""},{"$f":"IF(ISTEXT(#REF!),#REF!,\"\")","v":""},{"$f":"IF(ISTEXT(#REF!),#REF!,\"\")","v":""},{"$f":"IF(ISTEXT(#REF!),#REF!,\"\")","v":""},{"$f":"IF(ISTEXT(#REF!),#REF!,\"\")","v":""},null,{"$f":"IF(ISTEXT(#REF!),#REF!,\"\")","v":""},{"$f":"IF(ISTEXT(#REF!),#REF!,\"\")","v":""},{"$f":"IF(ISNUMBER(#REF!),#REF!,\"\")","v":""},{"$f":"IF(ISTEXT(#REF!),#REF!,\"\")","v":""},null,{"$f":"IF(ISTEXT(#REF!),#REF!,\"\")","v":""},{"$f":"IF(ISTEXT(#REF!),#REF!,\"\")","v":""},{"$f":"IF(ISTEXT(#REF!),#REF!,\"\")","v":""},{"$f":"IF(ISTEXT(#REF!),#REF!,\"\")","v":""},{"$f":"IF(ISTEXT(#REF!),#REF!,\"\")","v":""},{"$f":"IF(ISTEXT(#REF!),#REF!,\"\")","v":""},{"$f":"IF(ISTEXT(#REF!),#REF!,\"\")","v":""},null,{"$f":"IF(ISTEXT(#REF!),#REF!,\"\")","v":""},{"$f":"IF(ISTEXT(#REF!),#REF!,\"\")","v":""},{"$f":"IF(ISNUMBER(#REF!),#REF!,\"\")","v":""},{"$f":"IF(ISTEXT(#REF!),#REF!,\"\")","v":""}]
[null,null,{"$f":"IF(ISTEXT(#REF!),#REF!,\"\")","v":""},{"$f":"IF(ISTEXT(#REF!),#REF!,\"\")","v":""},{"$f":"IF(ISTEXT(#REF!),#REF!,\"\")","v":""},{"$f":"IF(ISTEXT(#REF!),#REF!,\"\")","v":""},{"$f":"IF(ISTEXT(#REF!),#REF!,\"\")","v":""},{"$f":"IF(ISTEXT(#REF!),#REF!,\"\")","v":""},{"$f":"IF(ISTEXT(#REF!),#REF!,\"\")","v":""},null,{"$f":"IF(ISTEXT(#REF!),#REF!,\"\")","v":""},{"$f":"IF(ISTEXT(#REF!),#REF!,\"\")","v":""},{"$f":"IF(ISNUMBER(#REF!),#REF!,\"\")","v":""},{"$f":"IF(ISTEXT(#REF!),#REF!,\"\")","v":""},null,{"$f":"IF(ISTEXT(#REF!),#REF!,\"\")","v":""},{"$f":"IF(ISTEXT(#REF!),#REF!,\"\")","v":""},{"$f":"IF(ISTEXT(#REF!),#REF!,\"\")","v":""},{"$f":"IF(ISTEXT(#REF!),#REF!,\"\")","v":""},{"$f":"IF(ISTEXT(#REF!),#REF!,\"\")","v":""},{"$f":"IF(ISTEXT(#REF!),#REF!,\"\")","v":""},{"$f":"IF(ISTEXT(#REF!),#REF!,\"\")","v":""},null,{"$f":"IF(ISTEXT(#REF!),#REF!,\"\")","v":""},{"$f":"IF(ISTEXT(#REF!),#REF!,\"\")","v":""},{"$f":"IF(ISNUMBER(#REF!),#REF!,\"\")","v":""},{"$f":"IF(ISTEXT(#REF!),#REF!,\"\")","v":""},{"$f":"IF(ISTEXT(#REF!),#REF!,\"\")","v":""},{"$f":"IF(ISTEXT(#REF!),#REF!,\"\")","v":""},{"$f":"IF(ISTEXT(#REF!),#REF!,\"\")","v":""},{"$f":"IF(ISTEXT(#REF!),#REF!,\"\")","v":""},{"$f":"IF(ISTEXT(#REF!),#REF!,\"\")","v":""},{"$f":"IF(ISTEXT(#REF!),#REF!,\"\")","v":""},{"$f":"IF(ISTEXT(#REF!),#REF!,\"\")","v":""},null,{"$f":"IF(ISTEXT(#REF!),#REF!,\"\")","v":""},{"$f":"IF(ISTEXT(#REF!),#REF!,\"\")","v":""},{"$f":"IF(ISNUMBER(#REF!),#REF!,\"\")","v":""},{"$f":"IF(ISTEXT(#REF!),#REF!,\"\")","v":""},null,{"$f":"IF(ISTEXT(#REF!),#REF!,\"\")","v":""},{"$f":"IF(ISTEXT(#REF!),#REF!,\"\")","v":""},{"$f":"IF(ISTEXT(#REF!),#REF!,\"\")","v":""},{"$f":"IF(ISTEXT(#REF!),#REF!,\"\")","v":""},{"$f":"IF(ISTEXT(#REF!),#REF!,\"\")","v":""},{"$f":"IF(ISTEXT(#REF!),#REF!,\"\")","v":""},{"$f":"IF(ISTEXT(#REF!),#REF!,\"\")","v":""},null,{"$f":"IF(ISTEXT(#REF!),#REF!,\"\")","v":""},{"$f":"IF(ISTEXT(#REF!),#REF!,\"\")","v":""},{"$f":"IF(ISNUMBER(#REF!),#REF!,\"\")","v":""},{"$f":"IF(ISTEXT(#REF!),#REF!,\"\")","v":""},null,{"$f":"IF(ISTEXT(#REF!),#REF!,\"\")","v":""},{"$f":"IF(ISTEXT(#REF!),#REF!,\"\")","v":""},{"$f":"IF(ISTEXT(#REF!),#REF!,\"\")","v":""},{"$f":"IF(ISTEXT(#REF!),#REF!,\"\")","v":""},{"$f":"IF(ISTEXT(#REF!),#REF!,\"\")","v":""},{"$f":"IF(ISTEXT(#REF!),#REF!,\"\")","v":""},{"$f":"IF(ISTEXT(#REF!),#REF!,\"\")","v":""},null,{"$f":"IF(ISTEXT(#REF!),#REF!,\"\")","v":""},{"$f":"IF(ISTEXT(#REF!),#REF!,\"\")","v":""},{"$f":"IF(ISNUMBER(#REF!),#REF!,\"\")","v":""},{"$f":"IF(ISTEXT(#REF!),#REF!,\"\")","v":""}]
[null,null,{"$f":"IF(ISTEXT(#REF!),#REF!,\"\")","v":""},{"$f":"IF(ISTEXT(#REF!),#REF!,\"\")","v":""},{"$f":"IF(ISTEXT(#REF!),#REF!,\"\")","v":""},{"$f":"IF(ISTEXT(#REF!),#REF!,\"\")","v":""},{"$f":"IF(ISTEXT(#REF!),#REF!,\"\")","v":""},{"$f":"IF(ISTEXT(#REF!),#REF!,\"\")","v":""},{"$f":"IF(ISTEXT(#REF!),#REF!,\"\")","v":""},null,{"$f":"IF(ISTEXT(#REF!),#REF!,\"\")","v":""},{"$f":"IF(ISTEXT(#REF!),#REF!,\"\")","v":""},{"$f":"IF(ISNUMBER(#REF!),#REF!,\"\")","v":""},{"$f":"IF(ISTEXT(#REF!),#REF!,\"\")","v":""},null,{"$f":"IF(ISTEXT(#REF!),#REF!,\"\")","v":""},{"$f":"IF(ISTEXT(#REF!),#REF!,\"\")","v":""},{"$f":"IF(ISTEXT(#REF!),#REF!,\"\")","v":""},{"$f":"IF(ISTEXT(#REF!),#REF!,\"\")","v":""},{"$f":"IF(ISTEXT(#REF!),#REF!,\"\")","v":""},{"$f":"IF(ISTEXT(#REF!),#REF!,\"\")","v":""},{"$f":"IF(ISTEXT(#REF!),#REF!,\"\")","v":""},null,{"$f":"IF(ISTEXT(#REF!),#REF!,\"\")","v":""},{"$f":"IF(ISTEXT(#REF!),#REF!,\"\")","v":""},{"$f":"IF(ISNUMBER(#REF!),#REF!,\"\")","v":""},{"$f":"IF(ISTEXT(#REF!),#REF!,\"\")","v":""},{"$f":"IF(ISTEXT(#REF!),#REF!,\"\")","v":""},{"$f":"IF(ISTEXT(#REF!),#REF!,\"\")","v":""},{"$f":"IF(ISTEXT(#REF!),#REF!,\"\")","v":""},{"$f":"IF(ISTEXT(#REF!),#REF!,\"\")","v":""},{"$f":"IF(ISTEXT(#REF!),#REF!,\"\")","v":""},{"$f":"IF(ISTEXT(#REF!),#REF!,\"\")","v":""},{"$f":"IF(ISTEXT(#REF!),#REF!,\"\")","v":""},null,{"$f":"IF(ISTEXT(#REF!),#REF!,\"\")","v":""},{"$f":"IF(ISTEXT(#REF!),#REF!,\"\")","v":""},{"$f":"IF(ISNUMBER(#REF!),#REF!,\"\")","v":""},{"$f":"IF(ISTEXT(#REF!),#REF!,\"\")","v":""},null,{"$f":"IF(ISTEXT(#REF!),#REF!,\"\")","v":""},{"$f":"IF(ISTEXT(#REF!),#REF!,\"\")","v":""},{"$f":"IF(ISTEXT(#REF!),#REF!,\"\")","v":""},{"$f":"IF(ISTEXT(#REF!),#REF!,\"\")","v":""},{"$f":"IF(ISTEXT(#REF!),#REF!,\"\")","v":""},{"$f":"IF(ISTEXT(#REF!),#REF!,\"\")","v":""},{"$f":"IF(ISTEXT(#REF!),#REF!,\"\")","v":""},null,{"$f":"IF(ISTEXT(#REF!),#REF!,\"\")","v":""},{"$f":"IF(ISTEXT(#REF!),#REF!,\"\")","v":""},{"$f":"IF(ISNUMBER(#REF!),#REF!,\"\")","v":""},{"$f":"IF(ISTEXT(#REF!),#REF!,\"\")","v":""},null,{"$f":"IF(ISTEXT(#REF!),#REF!,\"\")","v":""},{"$f":"IF(ISTEXT(#REF!),#REF!,\"\")","v":""},{"$f":"IF(ISTEXT(#REF!),#REF!,\"\")","v":""},{"$f":"IF(ISTEXT(#REF!),#REF!,\"\")","v":""},{"$f":"IF(ISTEXT(#REF!),#REF!,\"\")","v":""},{"$f":"IF(ISTEXT(#REF!),#REF!,\"\")","v":""},{"$f":"IF(ISTEXT(#REF!),#REF!,\"\")","v":""},null,{"$f":"IF(ISTEXT(#REF!),#REF!,\"\")","v":""},{"$f":"IF(ISTEXT(#REF!),#REF!,\"\")","v":""},{"$f":"IF(ISNUMBER(#REF!),#REF!,\"\")","v":""},{"$f":"IF(ISTEXT(#REF!),#REF!,\"\")","v":""}]
[null,null,{"$f":"IF(ISTEXT(#REF!),#REF!,\"\")","v":""},{"$f":"IF(ISTEXT(#REF!),#REF!,\"\")","v":""},{"$f":"IF(ISTEXT(#REF!),#REF!,\"\")","v":""},{"$f":"IF(ISTEXT(#REF!),#REF!,\"\")","v":""},{"$f":"IF(ISTEXT(#REF!),#REF!,\"\")","v":""},{"$f":"IF(ISTEXT(#REF!),#REF!,\"\")","v":""},{"$f":"IF(ISTEXT(#REF!),#REF!,\"\")","v":""},null,{"$f":"IF(ISTEXT(#REF!),#REF!,\"\")","v":""},{"$f":"IF(ISTEXT(#REF!),#REF!,\"\")","v":""},{"$f":"IF(ISNUMBER(#REF!),#REF!,\"\")","v":""},{"$f":"IF(ISTEXT(#REF!),#REF!,\"\")","v":""},null,{"$f":"IF(ISTEXT(#REF!),#REF!,\"\")","v":""},{"$f":"IF(ISTEXT(#REF!),#REF!,\"\")","v":""},{"$f":"IF(ISTEXT(#REF!),#REF!,\"\")","v":""},{"$f":"IF(ISTEXT(#REF!),#REF!,\"\")","v":""},{"$f":"IF(ISTEXT(#REF!),#REF!,\"\")","v":""},{"$f":"IF(ISTEXT(#REF!),#REF!,\"\")","v":""},{"$f":"IF(ISTEXT(#REF!),#REF!,\"\")","v":""},null,{"$f":"IF(ISTEXT(#REF!),#REF!,\"\")","v":""},{"$f":"IF(ISTEXT(#REF!),#REF!,\"\")","v":""},{"$f":"IF(ISNUMBER(#REF!),#REF!,\"\")","v":""},{"$f":"IF(ISTEXT(#REF!),#REF!,\"\")","v":""},{"$f":"IF(ISTEXT(#REF!),#REF!,\"\")","v":""},{"$f":"IF(ISTEXT(#REF!),#REF!,\"\")","v":""},{"$f":"IF(ISTEXT(#REF!),#REF!,\"\")","v":""},{"$f":"IF(ISTEXT(#REF!),#REF!,\"\")","v":""},{"$f":"IF(ISTEXT(#REF!),#REF!,\"\")","v":""},{"$f":"IF(ISTEXT(#REF!),#REF!,\"\")","v":""},{"$f":"IF(ISTEXT(#REF!),#REF!,\"\")","v":""},null,{"$f":"IF(ISTEXT(#REF!),#REF!,\"\")","v":""},{"$f":"IF(ISTEXT(#REF!),#REF!,\"\")","v":""},{"$f":"IF(ISNUMBER(#REF!),#REF!,\"\")","v":""},{"$f":"IF(ISTEXT(#REF!),#REF!,\"\")","v":""},null,{"$f":"IF(ISTEXT(#REF!),#REF!,\"\")","v":""},{"$f":"IF(ISTEXT(#REF!),#REF!,\"\")","v":""},{"$f":"IF(ISTEXT(#REF!),#REF!,\"\")","v":""},{"$f":"IF(ISTEXT(#REF!),#REF!,\"\")","v":""},{"$f":"IF(ISTEXT(#REF!),#REF!,\"\")","v":""},{"$f":"IF(ISTEXT(#REF!),#REF!,\"\")","v":""},{"$f":"IF(ISTEXT(#REF!),#REF!,\"\")","v":""},null,{"$f":"IF(ISTEXT(#REF!),#REF!,\"\")","v":""},{"$f":"IF(ISTEXT(#REF!),#REF!,\"\")","v":""},{"$f":"IF(ISNUMBER(#REF!),#REF!,\"\")","v":""},{"$f":"IF(ISTEXT(#REF!),#REF!,\"\")","v":""},null,{"$f":"IF(ISTEXT(#REF!),#REF!,\"\")","v":""},{"$f":"IF(ISTEXT(#REF!),#REF!,\"\")","v":""},{"$f":"IF(ISTEXT(#REF!),#REF!,\"\")","v":""},{"$f":"IF(ISTEXT(#REF!),#REF!,\"\")","v":""},{"$f":"IF(ISTEXT(#REF!),#REF!,\"\")","v":""},{"$f":"IF(ISTEXT(#REF!),#REF!,\"\")","v":""},{"$f":"IF(ISTEXT(#REF!),#REF!,\"\")","v":""},null,{"$f":"IF(ISTEXT(#REF!),#REF!,\"\")","v":""},{"$f":"IF(ISTEXT(#REF!),#REF!,\"\")","v":""},{"$f":"IF(ISNUMBER(#REF!),#REF!,\"\")","v":""},{"$f":"IF(ISTEXT(#REF!),#REF!,\"\")","v":""}]
[null,null,{"$f":"IF(ISTEXT(#REF!),#REF!,\"\")","v":""},{"$f":"IF(ISTEXT(#REF!),#REF!,\"\")","v":""},{"$f":"IF(ISTEXT(#REF!),#REF!,\"\")","v":""},{"$f":"IF(ISTEXT(#REF!),#REF!,\"\")","v":""},{"$f":"IF(ISTEXT(#REF!),#REF!,\"\")","v":""},{"$f":"IF(ISTEXT(#REF!),#REF!,\"\")","v":""},{"$f":"IF(ISTEXT(#REF!),#REF!,\"\")","v":""},null,{"$f":"IF(ISTEXT(#REF!),#REF!,\"\")","v":""},{"$f":"IF(ISTEXT(#REF!),#REF!,\"\")","v":""},{"$f":"IF(ISNUMBER(#REF!),#REF!,\"\")","v":""},{"$f":"IF(ISTEXT(#REF!),#REF!,\"\")","v":""},null,{"$f":"IF(ISTEXT(#REF!),#REF!,\"\")","v":""},{"$f":"IF(ISTEXT(#REF!),#REF!,\"\")","v":""},{"$f":"IF(ISTEXT(#REF!),#REF!,\"\")","v":""},{"$f":"IF(ISTEXT(#REF!),#REF!,\"\")","v":""},{"$f":"IF(ISTEXT(#REF!),#REF!,\"\")","v":""},{"$f":"IF(ISTEXT(#REF!),#REF!,\"\")","v":""},{"$f":"IF(ISTEXT(#REF!),#REF!,\"\")","v":""},null,{"$f":"IF(ISTEXT(#REF!),#REF!,\"\")","v":""},{"$f":"IF(ISTEXT(#REF!),#REF!,\"\")","v":""},{"$f":"IF(ISNUMBER(#REF!),#REF!,\"\")","v":""},{"$f":"IF(ISTEXT(#REF!),#REF!,\"\")","v":""},{"$f":"IF(ISTEXT(#REF!),#REF!,\"\")","v":""},{"$f":"IF(ISTEXT(#REF!),#REF!,\"\")","v":""},{"$f":"IF(ISTEXT(#REF!),#REF!,\"\")","v":""},{"$f":"IF(ISTEXT(#REF!),#REF!,\"\")","v":""},{"$f":"IF(ISTEXT(#REF!),#REF!,\"\")","v":""},{"$f":"IF(ISTEXT(#REF!),#REF!,\"\")","v":""},{"$f":"IF(ISTEXT(#REF!),#REF!,\"\")","v":""},null,{"$f":"IF(ISTEXT(#REF!),#REF!,\"\")","v":""},{"$f":"IF(ISTEXT(#REF!),#REF!,\"\")","v":""},{"$f":"IF(ISNUMBER(#REF!),#REF!,\"\")","v":""},{"$f":"IF(ISTEXT(#REF!),#REF!,\"\")","v":""},null,{"$f":"IF(ISTEXT(#REF!),#REF!,\"\")","v":""},{"$f":"IF(ISTEXT(#REF!),#REF!,\"\")","v":""},{"$f":"IF(ISTEXT(#REF!),#REF!,\"\")","v":""},{"$f":"IF(ISTEXT(#REF!),#REF!,\"\")","v":""},{"$f":"IF(ISTEXT(#REF!),#REF!,\"\")","v":""},{"$f":"IF(ISTEXT(#REF!),#REF!,\"\")","v":""},{"$f":"IF(ISTEXT(#REF!),#REF!,\"\")","v":""},null,{"$f":"IF(ISTEXT(#REF!),#REF!,\"\")","v":""},{"$f":"IF(ISTEXT(#REF!),#REF!,\"\")","v":""},{"$f":"IF(ISNUMBER(#REF!),#REF!,\"\")","v":""},{"$f":"IF(ISTEXT(#REF!),#REF!,\"\")","v":""},null,{"$f":"IF(ISTEXT(#REF!),#REF!,\"\")","v":""},{"$f":"IF(ISTEXT(#REF!),#REF!,\"\")","v":""},{"$f":"IF(ISTEXT(#REF!),#REF!,\"\")","v":""},{"$f":"IF(ISTEXT(#REF!),#REF!,\"\")","v":""},{"$f":"IF(ISTEXT(#REF!),#REF!,\"\")","v":""},{"$f":"IF(ISTEXT(#REF!),#REF!,\"\")","v":""},{"$f":"IF(ISTEXT(#REF!),#REF!,\"\")","v":""},null,{"$f":"IF(ISTEXT(#REF!),#REF!,\"\")","v":""},{"$f":"IF(ISTEXT(#REF!),#REF!,\"\")","v":""},{"$f":"IF(ISNUMBER(#REF!),#REF!,\"\")","v":""},{"$f":"IF(ISTEXT(#REF!),#REF!,\"\")","v":""}]
[null,null,{"$f":"IF(ISTEXT(#REF!),#REF!,\"\")","v":""},{"$f":"IF(ISTEXT(#REF!),#REF!,\"\")","v":""},{"$f":"IF(ISTEXT(#REF!),#REF!,\"\")","v":""},{"$f":"IF(ISTEXT(#REF!),#REF!,\"\")","v":""},{"$f":"IF(ISTEXT(#REF!),#REF!,\"\")","v":""},{"$f":"IF(ISTEXT(#REF!),#REF!,\"\")","v":""},{"$f":"IF(ISTEXT(#REF!),#REF!,\"\")","v":""},null,{"$f":"IF(ISTEXT(#REF!),#REF!,\"\")","v":""},{"$f":"IF(ISTEXT(#REF!),#REF!,\"\")","v":""},{"$f":"IF(ISNUMBER(#REF!),#REF!,\"\")","v":""},{"$f":"IF(ISTEXT(#REF!),#REF!,\"\")","v":""},null,{"$f":"IF(ISTEXT(#REF!),#REF!,\"\")","v":""},{"$f":"IF(ISTEXT(#REF!),#REF!,\"\")","v":""},{"$f":"IF(ISTEXT(#REF!),#REF!,\"\")","v":""},{"$f":"IF(ISTEXT(#REF!),#REF!,\"\")","v":""},{"$f":"IF(ISTEXT(#REF!),#REF!,\"\")","v":""},{"$f":"IF(ISTEXT(#REF!),#REF!,\"\")","v":""},{"$f":"IF(ISTEXT(#REF!),#REF!,\"\")","v":""},null,{"$f":"IF(ISTEXT(#REF!),#REF!,\"\")","v":""},{"$f":"IF(ISTEXT(#REF!),#REF!,\"\")","v":""},{"$f":"IF(ISNUMBER(#REF!),#REF!,\"\")","v":""},{"$f":"IF(ISTEXT(#REF!),#REF!,\"\")","v":""},{"$f":"IF(ISTEXT(#REF!),#REF!,\"\")","v":""},{"$f":"IF(ISTEXT(#REF!),#REF!,\"\")","v":""},{"$f":"IF(ISTEXT(#REF!),#REF!,\"\")","v":""},{"$f":"IF(ISTEXT(#REF!),#REF!,\"\")","v":""},{"$f":"IF(ISTEXT(#REF!),#REF!,\"\")","v":""},{"$f":"IF(ISTEXT(#REF!),#REF!,\"\")","v":""},{"$f":"IF(ISTEXT(#REF!),#REF!,\"\")","v":""},null,{"$f":"IF(ISTEXT(#REF!),#REF!,\"\")","v":""},{"$f":"IF(ISTEXT(#REF!),#REF!,\"\")","v":""},{"$f":"IF(ISNUMBER(#REF!),#REF!,\"\")","v":""},{"$f":"IF(ISTEXT(#REF!),#REF!,\"\")","v":""},null,{"$f":"IF(ISTEXT(#REF!),#REF!,\"\")","v":""},{"$f":"IF(ISTEXT(#REF!),#REF!,\"\")","v":""},{"$f":"IF(ISTEXT(#REF!),#REF!,\"\")","v":""},{"$f":"IF(ISTEXT(#REF!),#REF!,\"\")","v":""},{"$f":"IF(ISTEXT(#REF!),#REF!,\"\")","v":""},{"$f":"IF(ISTEXT(#REF!),#REF!,\"\")","v":""},{"$f":"IF(ISTEXT(#REF!),#REF!,\"\")","v":""},null,{"$f":"IF(ISTEXT(#REF!),#REF!,\"\")","v":""},{"$f":"IF(ISTEXT(#REF!),#REF!,\"\")","v":""},{"$f":"IF(ISNUMBER(#REF!),#REF!,\"\")","v":""},{"$f":"IF(ISTEXT(#REF!),#REF!,\"\")","v":""},null,{"$f":"IF(ISTEXT(#REF!),#REF!,\"\")","v":""},{"$f":"IF(ISTEXT(#REF!),#REF!,\"\")","v":""},{"$f":"IF(ISTEXT(#REF!),#REF!,\"\")","v":""},{"$f":"IF(ISTEXT(#REF!),#REF!,\"\")","v":""},{"$f":"IF(ISTEXT(#REF!),#REF!,\"\")","v":""},{"$f":"IF(ISTEXT(#REF!),#REF!,\"\")","v":""},{"$f":"IF(ISTEXT(#REF!),#REF!,\"\")","v":""},null,{"$f":"IF(ISTEXT(#REF!),#REF!,\"\")","v":""},{"$f":"IF(ISTEXT(#REF!),#REF!,\"\")","v":""},{"$f":"IF(ISNUMBER(#REF!),#REF!,\"\")","v":""},{"$f":"IF(ISTEXT(#REF!),#REF!,\"\")","v":""}]
[null,null,{"$f":"IF(ISTEXT(#REF!),#REF!,\"\")","v":""},{"$f":"IF(ISTEXT(#REF!),#REF!,\"\")","v":""},{"$f":"IF(ISTEXT(#REF!),#REF!,\"\")","v":""},{"$f":"IF(ISTEXT(#REF!),#REF!,\"\")","v":""},{"$f":"IF(ISTEXT(#REF!),#REF!,\"\")","v":""},{"$f":"IF(ISTEXT(#REF!),#REF!,\"\")","v":""},{"$f":"IF(ISTEXT(#REF!),#REF!,\"\")","v":""},null,{"$f":"IF(ISTEXT(#REF!),#REF!,\"\")","v":""},{"$f":"IF(ISTEXT(#REF!),#REF!,\"\")","v":""},{"$f":"IF(ISNUMBER(#REF!),#REF!,\"\")","v":""},{"$f":"IF(ISTEXT(#REF!),#REF!,\"\")","v":""},null,{"$f":"IF(ISTEXT(#REF!),#REF!,\"\")","v":""},{"$f":"IF(ISTEXT(#REF!),#REF!,\"\")","v":""},{"$f":"IF(ISTEXT(#REF!),#REF!,\"\")","v":""},{"$f":"IF(ISTEXT(#REF!),#REF!,\"\")","v":""},{"$f":"IF(ISTEXT(#REF!),#REF!,\"\")","v":""},{"$f":"IF(ISTEXT(#REF!),#REF!,\"\")","v":""},{"$f":"IF(ISTEXT(#REF!),#REF!,\"\")","v":""},null,{"$f":"IF(ISTEXT(#REF!),#REF!,\"\")","v":""},{"$f":"IF(ISTEXT(#REF!),#REF!,\"\")","v":""},{"$f":"IF(ISNUMBER(#REF!),#REF!,\"\")","v":""},{"$f":"IF(ISTEXT(#REF!),#REF!,\"\")","v":""},{"$f":"IF(ISTEXT(#REF!),#REF!,\"\")","v":""},{"$f":"IF(ISTEXT(#REF!),#REF!,\"\")","v":""},{"$f":"IF(ISTEXT(#REF!),#REF!,\"\")","v":""},{"$f":"IF(ISTEXT(#REF!),#REF!,\"\")","v":""},{"$f":"IF(ISTEXT(#REF!),#REF!,\"\")","v":""},{"$f":"IF(ISTEXT(#REF!),#REF!,\"\")","v":""},{"$f":"IF(ISTEXT(#REF!),#REF!,\"\")","v":""},null,{"$f":"IF(ISTEXT(#REF!),#REF!,\"\")","v":""},{"$f":"IF(ISTEXT(#REF!),#REF!,\"\")","v":""},{"$f":"IF(ISNUMBER(#REF!),#REF!,\"\")","v":""},{"$f":"IF(ISTEXT(#REF!),#REF!,\"\")","v":""},null,{"$f":"IF(ISTEXT(#REF!),#REF!,\"\")","v":""},{"$f":"IF(ISTEXT(#REF!),#REF!,\"\")","v":""},{"$f":"IF(ISTEXT(#REF!),#REF!,\"\")","v":""},{"$f":"IF(ISTEXT(#REF!),#REF!,\"\")","v":""},{"$f":"IF(ISTEXT(#REF!),#REF!,\"\")","v":""},{"$f":"IF(ISTEXT(#REF!),#REF!,\"\")","v":""},{"$f":"IF(ISTEXT(#REF!),#REF!,\"\")","v":""},null,{"$f":"IF(ISTEXT(#REF!),#REF!,\"\")","v":""},{"$f":"IF(ISTEXT(#REF!),#REF!,\"\")","v":""},{"$f":"IF(ISNUMBER(#REF!),#REF!,\"\")","v":""},{"$f":"IF(ISTEXT(#REF!),#REF!,\"\")","v":""},null,{"$f":"IF(ISTEXT(#REF!),#REF!,\"\")","v":""},{"$f":"IF(ISTEXT(#REF!),#REF!,\"\")","v":""},{"$f":"IF(ISTEXT(#REF!),#REF!,\"\")","v":""},{"$f":"IF(ISTEXT(#REF!),#REF!,\"\")","v":""},{"$f":"IF(ISTEXT(#REF!),#REF!,\"\")","v":""},{"$f":"IF(ISTEXT(#REF!),#REF!,\"\")","v":""},{"$f":"IF(ISTEXT(#REF!),#REF!,\"\")","v":""},null,{"$f":"IF(ISTEXT(#REF!),#REF!,\"\")","v":""},{"$f":"IF(ISTEXT(#REF!),#REF!,\"\")","v":""},{"$f":"IF(ISNUMBER(#REF!),#REF!,\"\")","v":""},{"$f":"IF(ISTEXT(#REF!),#REF!,\"\")","v":""}]
[null,null,{"$f":"IF(ISTEXT(#REF!),#REF!,\"\")","v":""},{"$f":"IF(ISTEXT(#REF!),#REF!,\"\")","v":""},{"$f":"IF(ISTEXT(#REF!),#REF!,\"\")","v":""},{"$f":"IF(ISTEXT(#REF!),#REF!,\"\")","v":""},{"$f":"IF(ISTEXT(#REF!),#REF!,\"\")","v":""},{"$f":"IF(ISTEXT(#REF!),#REF!,\"\")","v":""},{"$f":"IF(ISTEXT(#REF!),#REF!,\"\")","v":""},null,{"$f":"IF(ISTEXT(#REF!),#REF!,\"\")","v":""},{"$f":"IF(ISTEXT(#REF!),#REF!,\"\")","v":""},{"$f":"IF(ISNUMBER(#REF!),#REF!,\"\")","v":""},{"$f":"IF(ISTEXT(#REF!),#REF!,\"\")","v":""},null,{"$f":"IF(ISTEXT(#REF!),#REF!,\"\")","v":""},{"$f":"IF(ISTEXT(#REF!),#REF!,\"\")","v":""},{"$f":"IF(ISTEXT(#REF!),#REF!,\"\")","v":""},{"$f":"IF(ISTEXT(#REF!),#REF!,\"\")","v":""},{"$f":"IF(ISTEXT(#REF!),#REF!,\"\")","v":""},{"$f":"IF(ISTEXT(#REF!),#REF!,\"\")","v":""},{"$f":"IF(ISTEXT(#REF!),#REF!,\"\")","v":""},null,{"$f":"IF(ISTEXT(#REF!),#REF!,\"\")","v":""},{"$f":"IF(ISTEXT(#REF!),#REF!,\"\")","v":""},{"$f":"IF(ISNUMBER(#REF!),#REF!,\"\")","v":""},{"$f":"IF(ISTEXT(#REF!),#REF!,\"\")","v":""},{"$f":"IF(ISTEXT(#REF!),#REF!,\"\")","v":""},{"$f":"IF(ISTEXT(#REF!),#REF!,\"\")","v":""},{"$f":"IF(ISTEXT(#REF!),#REF!,\"\")","v":""},{"$f":"IF(ISTEXT(#REF!),#REF!,\"\")","v":""},{"$f":"IF(ISTEXT(#REF!),#REF!,\"\")","v":""},{"$f":"IF(ISTEXT(#REF!),#REF!,\"\")","v":""},{"$f":"IF(ISTEXT(#REF!),#REF!,\"\")","v":""},null,{"$f":"IF(ISTEXT(#REF!),#REF!,\"\")","v":""},{"$f":"IF(ISTEXT(#REF!),#REF!,\"\")","v":""},{"$f":"IF(ISNUMBER(#REF!),#REF!,\"\")","v":""},{"$f":"IF(ISTEXT(#REF!),#REF!,\"\")","v":""},null,{"$f":"IF(ISTEXT(#REF!),#REF!,\"\")","v":""},{"$f":"IF(ISTEXT(#REF!),#REF!,\"\")","v":""},{"$f":"IF(ISTEXT(#REF!),#REF!,\"\")","v":""},{"$f":"IF(ISTEXT(#REF!),#REF!,\"\")","v":""},{"$f":"IF(ISTEXT(#REF!),#REF!,\"\")","v":""},{"$f":"IF(ISTEXT(#REF!),#REF!,\"\")","v":""},{"$f":"IF(ISTEXT(#REF!),#REF!,\"\")","v":""},null,{"$f":"IF(ISTEXT(#REF!),#REF!,\"\")","v":""},{"$f":"IF(ISTEXT(#REF!),#REF!,\"\")","v":""},{"$f":"IF(ISNUMBER(#REF!),#REF!,\"\")","v":""},{"$f":"IF(ISTEXT(#REF!),#REF!,\"\")","v":""},null,{"$f":"IF(ISTEXT(#REF!),#REF!,\"\")","v":""},{"$f":"IF(ISTEXT(#REF!),#REF!,\"\")","v":""},{"$f":"IF(ISTEXT(#REF!),#REF!,\"\")","v":""},{"$f":"IF(ISTEXT(#REF!),#REF!,\"\")","v":""},{"$f":"IF(ISTEXT(#REF!),#REF!,\"\")","v":""},{"$f":"IF(ISTEXT(#REF!),#REF!,\"\")","v":""},{"$f":"IF(ISTEXT(#REF!),#REF!,\"\")","v":""},null,{"$f":"IF(ISTEXT(#REF!),#REF!,\"\")","v":""},{"$f":"IF(ISTEXT(#REF!),#REF!,\"\")","v":""},{"$f":"IF(ISNUMBER(#REF!),#REF!,\"\")","v":""},{"$f":"IF(ISTEXT(#REF!),#REF!,\"\")","v":""}]
[null,null,{"$f":"IF(ISTEXT(#REF!),#REF!,\"\")","v":""},{"$f":"IF(ISTEXT(#REF!),#REF!,\"\")","v":""},{"$f":"IF(ISTEXT(#REF!),#REF!,\"\")","v":""},{"$f":"IF(ISTEXT(#REF!),#REF!,\"\")","v":""},{"$f":"IF(ISTEXT(#REF!),#REF!,\"\")","v":""},{"$f":"IF(ISTEXT(#REF!),#REF!,\"\")","v":""},{"$f":"IF(ISTEXT(#REF!),#REF!,\"\")","v":""},null,{"$f":"IF(ISTEXT(#REF!),#REF!,\"\")","v":""},{"$f":"IF(ISTEXT(#REF!),#REF!,\"\")","v":""},{"$f":"IF(ISNUMBER(#REF!),#REF!,\"\")","v":""},{"$f":"IF(ISTEXT(#REF!),#REF!,\"\")","v":""},null,{"$f":"IF(ISTEXT(#REF!),#REF!,\"\")","v":""},{"$f":"IF(ISTEXT(#REF!),#REF!,\"\")","v":""},{"$f":"IF(ISTEXT(#REF!),#REF!,\"\")","v":""},{"$f":"IF(ISTEXT(#REF!),#REF!,\"\")","v":""},{"$f":"IF(ISTEXT(#REF!),#REF!,\"\")","v":""},{"$f":"IF(ISTEXT(#REF!),#REF!,\"\")","v":""},{"$f":"IF(ISTEXT(#REF!),#REF!,\"\")","v":""},null,{"$f":"IF(ISTEXT(#REF!),#REF!,\"\")","v":""},{"$f":"IF(ISTEXT(#REF!),#REF!,\"\")","v":""},{"$f":"IF(ISNUMBER(#REF!),#REF!,\"\")","v":""},{"$f":"IF(ISTEXT(#REF!),#REF!,\"\")","v":""},{"$f":"IF(ISTEXT(#REF!),#REF!,\"\")","v":""},{"$f":"IF(ISTEXT(#REF!),#REF!,\"\")","v":""},{"$f":"IF(ISTEXT(#REF!),#REF!,\"\")","v":""},{"$f":"IF(ISTEXT(#REF!),#REF!,\"\")","v":""},{"$f":"IF(ISTEXT(#REF!),#REF!,\"\")","v":""},{"$f":"IF(ISTEXT(#REF!),#REF!,\"\")","v":""},{"$f":"IF(ISTEXT(#REF!),#REF!,\"\")","v":""},null,{"$f":"IF(ISTEXT(#REF!),#REF!,\"\")","v":""},{"$f":"IF(ISTEXT(#REF!),#REF!,\"\")","v":""},{"$f":"IF(ISNUMBER(#REF!),#REF!,\"\")","v":""},{"$f":"IF(ISTEXT(#REF!),#REF!,\"\")","v":""},null,{"$f":"IF(ISTEXT(#REF!),#REF!,\"\")","v":""},{"$f":"IF(ISTEXT(#REF!),#REF!,\"\")","v":""},{"$f":"IF(ISTEXT(#REF!),#REF!,\"\")","v":""},{"$f":"IF(ISTEXT(#REF!),#REF!,\"\")","v":""},{"$f":"IF(ISTEXT(#REF!),#REF!,\"\")","v":""},{"$f":"IF(ISTEXT(#REF!),#REF!,\"\")","v":""},{"$f":"IF(ISTEXT(#REF!),#REF!,\"\")","v":""},null,{"$f":"IF(ISTEXT(#REF!),#REF!,\"\")","v":""},{"$f":"IF(ISTEXT(#REF!),#REF!,\"\")","v":""},{"$f":"IF(ISNUMBER(#REF!),#REF!,\"\")","v":""},{"$f":"IF(ISTEXT(#REF!),#REF!,\"\")","v":""},null,{"$f":"IF(ISTEXT(#REF!),#REF!,\"\")","v":""},{"$f":"IF(ISTEXT(#REF!),#REF!,\"\")","v":""},{"$f":"IF(ISTEXT(#REF!),#REF!,\"\")","v":""},{"$f":"IF(ISTEXT(#REF!),#REF!,\"\")","v":""},{"$f":"IF(ISTEXT(#REF!),#REF!,\"\")","v":""},{"$f":"IF(ISTEXT(#REF!),#REF!,\"\")","v":""},{"$f":"IF(ISTEXT(#REF!),#REF!,\"\")","v":""},null,{"$f":"IF(ISTEXT(#REF!),#REF!,\"\")","v":""},{"$f":"IF(ISTEXT(#REF!),#REF!,\"\")","v":""},{"$f":"IF(ISNUMBER(#REF!),#REF!,\"\")","v":""},{"$f":"IF(ISTEXT(#REF!),#REF!,\"\")","v":""}]
[null,null,{"$f":"IF(ISTEXT(#REF!),#REF!,\"\")","v":""},{"$f":"IF(ISTEXT(#REF!),#REF!,\"\")","v":""},{"$f":"IF(ISTEXT(#REF!),#REF!,\"\")","v":""},{"$f":"IF(ISTEXT(#REF!),#REF!,\"\")","v":""},{"$f":"IF(ISTEXT(#REF!),#REF!,\"\")","v":""},{"$f":"IF(ISTEXT(#REF!),#REF!,\"\")","v":""},{"$f":"IF(ISTEXT(#REF!),#REF!,\"\")","v":""},null,{"$f":"IF(ISTEXT(#REF!),#REF!,\"\")","v":""},{"$f":"IF(ISTEXT(#REF!),#REF!,\"\")","v":""},{"$f":"IF(ISNUMBER(#REF!),#REF!,\"\")","v":""},{"$f":"IF(ISTEXT(#REF!),#REF!,\"\")","v":""},null,{"$f":"IF(ISTEXT(#REF!),#REF!,\"\")","v":""},{"$f":"IF(ISTEXT(#REF!),#REF!,\"\")","v":""},{"$f":"IF(ISTEXT(#REF!),#REF!,\"\")","v":""},{"$f":"IF(ISTEXT(#REF!),#REF!,\"\")","v":""},{"$f":"IF(ISTEXT(#REF!),#REF!,\"\")","v":""},{"$f":"IF(ISTEXT(#REF!),#REF!,\"\")","v":""},{"$f":"IF(ISTEXT(#REF!),#REF!,\"\")","v":""},null,{"$f":"IF(ISTEXT(#REF!),#REF!,\"\")","v":""},{"$f":"IF(ISTEXT(#REF!),#REF!,\"\")","v":""},{"$f":"IF(ISNUMBER(#REF!),#REF!,\"\")","v":""},{"$f":"IF(ISTEXT(#REF!),#REF!,\"\")","v":""},{"$f":"IF(ISTEXT(#REF!),#REF!,\"\")","v":""},{"$f":"IF(ISTEXT(#REF!),#REF!,\"\")","v":""},{"$f":"IF(ISTEXT(#REF!),#REF!,\"\")","v":""},{"$f":"IF(ISTEXT(#REF!),#REF!,\"\")","v":""},{"$f":"IF(ISTEXT(#REF!),#REF!,\"\")","v":""},{"$f":"IF(ISTEXT(#REF!),#REF!,\"\")","v":""},{"$f":"IF(ISTEXT(#REF!),#REF!,\"\")","v":""},null,{"$f":"IF(ISTEXT(#REF!),#REF!,\"\")","v":""},{"$f":"IF(ISTEXT(#REF!),#REF!,\"\")","v":""},{"$f":"IF(ISNUMBER(#REF!),#REF!,\"\")","v":""},{"$f":"IF(ISTEXT(#REF!),#REF!,\"\")","v":""},null,{"$f":"IF(ISTEXT(#REF!),#REF!,\"\")","v":""},{"$f":"IF(ISTEXT(#REF!),#REF!,\"\")","v":""},{"$f":"IF(ISTEXT(#REF!),#REF!,\"\")","v":""},{"$f":"IF(ISTEXT(#REF!),#REF!,\"\")","v":""},{"$f":"IF(ISTEXT(#REF!),#REF!,\"\")","v":""},{"$f":"IF(ISTEXT(#REF!),#REF!,\"\")","v":""},{"$f":"IF(ISTEXT(#REF!),#REF!,\"\")","v":""},null,{"$f":"IF(ISTEXT(#REF!),#REF!,\"\")","v":""},{"$f":"IF(ISTEXT(#REF!),#REF!,\"\")","v":""},{"$f":"IF(ISNUMBER(#REF!),#REF!,\"\")","v":""},{"$f":"IF(ISTEXT(#REF!),#REF!,\"\")","v":""},null,{"$f":"IF(ISTEXT(#REF!),#REF!,\"\")","v":""},{"$f":"IF(ISTEXT(#REF!),#REF!,\"\")","v":""},{"$f":"IF(ISTEXT(#REF!),#REF!,\"\")","v":""},{"$f":"IF(ISTEXT(#REF!),#REF!,\"\")","v":""},{"$f":"IF(ISTEXT(#REF!),#REF!,\"\")","v":""},{"$f":"IF(ISTEXT(#REF!),#REF!,\"\")","v":""},{"$f":"IF(ISTEXT(#REF!),#REF!,\"\")","v":""},null,{"$f":"IF(ISTEXT(#REF!),#REF!,\"\")","v":""},{"$f":"IF(ISTEXT(#REF!),#REF!,\"\")","v":""},{"$f":"IF(ISNUMBER(#REF!),#REF!,\"\")","v":""},{"$f":"IF(ISTEXT(#REF!),#REF!,\"\")","v":""}]
[null,null,{"$f":"IF(ISTEXT(#REF!),#REF!,\"\")","v":""},{"$f":"IF(ISTEXT(#REF!),#REF!,\"\")","v":""},{"$f":"IF(ISTEXT(#REF!),#REF!,\"\")","v":""},{"$f":"IF(ISTEXT(#REF!),#REF!,\"\")","v":""},{"$f":"IF(ISTEXT(#REF!),#REF!,\"\")","v":""},{"$f":"IF(ISTEXT(#REF!),#REF!,\"\")","v":""},{"$f":"IF(ISTEXT(#REF!),#REF!,\"\")","v":""},null,{"$f":"IF(ISTEXT(#REF!),#REF!,\"\")","v":""},{"$f":"IF(ISTEXT(#REF!),#REF!,\"\")","v":""},{"$f":"IF(ISNUMBER(#REF!),#REF!,\"\")","v":""},{"$f":"IF(ISTEXT(#REF!),#REF!,\"\")","v":""},null,{"$f":"IF(ISTEXT(#REF!),#REF!,\"\")","v":""},{"$f":"IF(ISTEXT(#REF!),#REF!,\"\")","v":""},{"$f":"IF(ISTEXT(#REF!),#REF!,\"\")","v":""},{"$f":"IF(ISTEXT(#REF!),#REF!,\"\")","v":""},{"$f":"IF(ISTEXT(#REF!),#REF!,\"\")","v":""},{"$f":"IF(ISTEXT(#REF!),#REF!,\"\")","v":""},{"$f":"IF(ISTEXT(#REF!),#REF!,\"\")","v":""},null,{"$f":"IF(ISTEXT(#REF!),#REF!,\"\")","v":""},{"$f":"IF(ISTEXT(#REF!),#REF!,\"\")","v":""},{"$f":"IF(ISNUMBER(#REF!),#REF!,\"\")","v":""},{"$f":"IF(ISTEXT(#REF!),#REF!,\"\")","v":""},{"$f":"IF(ISTEXT(#REF!),#REF!,\"\")","v":""},{"$f":"IF(ISTEXT(#REF!),#REF!,\"\")","v":""},{"$f":"IF(ISTEXT(#REF!),#REF!,\"\")","v":""},{"$f":"IF(ISTEXT(#REF!),#REF!,\"\")","v":""},{"$f":"IF(ISTEXT(#REF!),#REF!,\"\")","v":""},{"$f":"IF(ISTEXT(#REF!),#REF!,\"\")","v":""},{"$f":"IF(ISTEXT(#REF!),#REF!,\"\")","v":""},null,{"$f":"IF(ISTEXT(#REF!),#REF!,\"\")","v":""},{"$f":"IF(ISTEXT(#REF!),#REF!,\"\")","v":""},{"$f":"IF(ISNUMBER(#REF!),#REF!,\"\")","v":""},{"$f":"IF(ISTEXT(#REF!),#REF!,\"\")","v":""},null,{"$f":"IF(ISTEXT(#REF!),#REF!,\"\")","v":""},{"$f":"IF(ISTEXT(#REF!),#REF!,\"\")","v":""},{"$f":"IF(ISTEXT(#REF!),#REF!,\"\")","v":""},{"$f":"IF(ISTEXT(#REF!),#REF!,\"\")","v":""},{"$f":"IF(ISTEXT(#REF!),#REF!,\"\")","v":""},{"$f":"IF(ISTEXT(#REF!),#REF!,\"\")","v":""},{"$f":"IF(ISTEXT(#REF!),#REF!,\"\")","v":""},null,{"$f":"IF(ISTEXT(#REF!),#REF!,\"\")","v":""},{"$f":"IF(ISTEXT(#REF!),#REF!,\"\")","v":""},{"$f":"IF(ISNUMBER(#REF!),#REF!,\"\")","v":""},{"$f":"IF(ISTEXT(#REF!),#REF!,\"\")","v":""},null,{"$f":"IF(ISTEXT(#REF!),#REF!,\"\")","v":""},{"$f":"IF(ISTEXT(#REF!),#REF!,\"\")","v":""},{"$f":"IF(ISTEXT(#REF!),#REF!,\"\")","v":""},{"$f":"IF(ISTEXT(#REF!),#REF!,\"\")","v":""},{"$f":"IF(ISTEXT(#REF!),#REF!,\"\")","v":""},{"$f":"IF(ISTEXT(#REF!),#REF!,\"\")","v":""},{"$f":"IF(ISTEXT(#REF!),#REF!,\"\")","v":""},null,{"$f":"IF(ISTEXT(#REF!),#REF!,\"\")","v":""},{"$f":"IF(ISTEXT(#REF!),#REF!,\"\")","v":""},{"$f":"IF(ISNUMBER(#REF!),#REF!,\"\")","v":""},{"$f":"IF(ISTEXT(#REF!),#REF!,\"\")","v":""}]
[null,null,{"$f":"IF(ISTEXT(#REF!),#REF!,\"\")","v":""},{"$f":"IF(ISTEXT(#REF!),#REF!,\"\")","v":""},{"$f":"IF(ISTEXT(#REF!),#REF!,\"\")","v":""},{"$f":"IF(ISTEXT(#REF!),#REF!,\"\")","v":""},{"$f":"IF(ISTEXT(#REF!),#REF!,\"\")","v":""},{"$f":"IF(ISTEXT(#REF!),#REF!,\"\")","v":""},{"$f":"IF(ISTEXT(#REF!),#REF!,\"\")","v":""},null,{"$f":"IF(ISTEXT(#REF!),#REF!,\"\")","v":""},{"$f":"IF(ISTEXT(#REF!),#REF!,\"\")","v":""},{"$f":"IF(ISNUMBER(#REF!),#REF!,\"\")","v":""},{"$f":"IF(ISTEXT(#REF!),#REF!,\"\")","v":""},null,{"$f":"IF(ISTEXT(#REF!),#REF!,\"\")","v":""},{"$f":"IF(ISTEXT(#REF!),#REF!,\"\")","v":""},{"$f":"IF(ISTEXT(#REF!),#REF!,\"\")","v":""},{"$f":"IF(ISTEXT(#REF!),#REF!,\"\")","v":""},{"$f":"IF(ISTEXT(#REF!),#REF!,\"\")","v":""},{"$f":"IF(ISTEXT(#REF!),#REF!,\"\")","v":""},{"$f":"IF(ISTEXT(#REF!),#REF!,\"\")","v":""},null,{"$f":"IF(ISTEXT(#REF!),#REF!,\"\")","v":""},{"$f":"IF(ISTEXT(#REF!),#REF!,\"\")","v":""},{"$f":"IF(ISNUMBER(#REF!),#REF!,\"\")","v":""},{"$f":"IF(ISTEXT(#REF!),#REF!,\"\")","v":""},{"$f":"IF(ISTEXT(#REF!),#REF!,\"\")","v":""},{"$f":"IF(ISTEXT(#REF!),#REF!,\"\")","v":""},{"$f":"IF(ISTEXT(#REF!),#REF!,\"\")","v":""},{"$f":"IF(ISTEXT(#REF!),#REF!,\"\")","v":""},{"$f":"IF(ISTEXT(#REF!),#REF!,\"\")","v":""},{"$f":"IF(ISTEXT(#REF!),#REF!,\"\")","v":""},{"$f":"IF(ISTEXT(#REF!),#REF!,\"\")","v":""},null,{"$f":"IF(ISTEXT(#REF!),#REF!,\"\")","v":""},{"$f":"IF(ISTEXT(#REF!),#REF!,\"\")","v":""},{"$f":"IF(ISNUMBER(#REF!),#REF!,\"\")","v":""},{"$f":"IF(ISTEXT(#REF!),#REF!,\"\")","v":""},null,{"$f":"IF(ISTEXT(#REF!),#REF!,\"\")","v":""},{"$f":"IF(ISTEXT(#REF!),#REF!,\"\")","v":""},{"$f":"IF(ISTEXT(#REF!),#REF!,\"\")","v":""},{"$f":"IF(ISTEXT(#REF!),#REF!,\"\")","v":""},{"$f":"IF(ISTEXT(#REF!),#REF!,\"\")","v":""},{"$f":"IF(ISTEXT(#REF!),#REF!,\"\")","v":""},{"$f":"IF(ISTEXT(#REF!),#REF!,\"\")","v":""},null,{"$f":"IF(ISTEXT(#REF!),#REF!,\"\")","v":""},{"$f":"IF(ISTEXT(#REF!),#REF!,\"\")","v":""},{"$f":"IF(ISNUMBER(#REF!),#REF!,\"\")","v":""},{"$f":"IF(ISTEXT(#REF!),#REF!,\"\")","v":""},null,{"$f":"IF(ISTEXT(#REF!),#REF!,\"\")","v":""},{"$f":"IF(ISTEXT(#REF!),#REF!,\"\")","v":""},{"$f":"IF(ISTEXT(#REF!),#REF!,\"\")","v":""},{"$f":"IF(ISTEXT(#REF!),#REF!,\"\")","v":""},{"$f":"IF(ISTEXT(#REF!),#REF!,\"\")","v":""},{"$f":"IF(ISTEXT(#REF!),#REF!,\"\")","v":""},{"$f":"IF(ISTEXT(#REF!),#REF!,\"\")","v":""},null,{"$f":"IF(ISTEXT(#REF!),#REF!,\"\")","v":""},{"$f":"IF(ISTEXT(#REF!),#REF!,\"\")","v":""},{"$f":"IF(ISNUMBER(#REF!),#REF!,\"\")","v":""},{"$f":"IF(ISTEXT(#REF!),#REF!,\"\")","v":""}]
[null,null,{"$f":"IF(ISTEXT(#REF!),#REF!,\"\")","v":""},{"$f":"IF(ISTEXT(#REF!),#REF!,\"\")","v":""},{"$f":"IF(ISTEXT(#REF!),#REF!,\"\")","v":""},{"$f":"IF(ISTEXT(#REF!),#REF!,\"\")","v":""},{"$f":"IF(ISTEXT(#REF!),#REF!,\"\")","v":""},{"$f":"IF(ISTEXT(#REF!),#REF!,\"\")","v":""},{"$f":"IF(ISTEXT(#REF!),#REF!,\"\")","v":""},null,{"$f":"IF(ISTEXT(#REF!),#REF!,\"\")","v":""},{"$f":"IF(ISTEXT(#REF!),#REF!,\"\")","v":""},{"$f":"IF(ISNUMBER(#REF!),#REF!,\"\")","v":""},{"$f":"IF(ISTEXT(#REF!),#REF!,\"\")","v":""},null,{"$f":"IF(ISTEXT(#REF!),#REF!,\"\")","v":""},{"$f":"IF(ISTEXT(#REF!),#REF!,\"\")","v":""},{"$f":"IF(ISTEXT(#REF!),#REF!,\"\")","v":""},{"$f":"IF(ISTEXT(#REF!),#REF!,\"\")","v":""},{"$f":"IF(ISTEXT(#REF!),#REF!,\"\")","v":""},{"$f":"IF(ISTEXT(#REF!),#REF!,\"\")","v":""},{"$f":"IF(ISTEXT(#REF!),#REF!,\"\")","v":""},null,{"$f":"IF(ISTEXT(#REF!),#REF!,\"\")","v":""},{"$f":"IF(ISTEXT(#REF!),#REF!,\"\")","v":""},{"$f":"IF(ISNUMBER(#REF!),#REF!,\"\")","v":""},{"$f":"IF(ISTEXT(#REF!),#REF!,\"\")","v":""},{"$f":"IF(ISTEXT(#REF!),#REF!,\"\")","v":""},{"$f":"IF(ISTEXT(#REF!),#REF!,\"\")","v":""},{"$f":"IF(ISTEXT(#REF!),#REF!,\"\")","v":""},{"$f":"IF(ISTEXT(#REF!),#REF!,\"\")","v":""},{"$f":"IF(ISTEXT(#REF!),#REF!,\"\")","v":""},{"$f":"IF(ISTEXT(#REF!),#REF!,\"\")","v":""},{"$f":"IF(ISTEXT(#REF!),#REF!,\"\")","v":""},null,{"$f":"IF(ISTEXT(#REF!),#REF!,\"\")","v":""},{"$f":"IF(ISTEXT(#REF!),#REF!,\"\")","v":""},{"$f":"IF(ISNUMBER(#REF!),#REF!,\"\")","v":""},{"$f":"IF(ISTEXT(#REF!),#REF!,\"\")","v":""},null,{"$f":"IF(ISTEXT(#REF!),#REF!,\"\")","v":""},{"$f":"IF(ISTEXT(#REF!),#REF!,\"\")","v":""},{"$f":"IF(ISTEXT(#REF!),#REF!,\"\")","v":""},{"$f":"IF(ISTEXT(#REF!),#REF!,\"\")","v":""},{"$f":"IF(ISTEXT(#REF!),#REF!,\"\")","v":""},{"$f":"IF(ISTEXT(#REF!),#REF!,\"\")","v":""},{"$f":"IF(ISTEXT(#REF!),#REF!,\"\")","v":""},null,{"$f":"IF(ISTEXT(#REF!),#REF!,\"\")","v":""},{"$f":"IF(ISTEXT(#REF!),#REF!,\"\")","v":""},{"$f":"IF(ISNUMBER(#REF!),#REF!,\"\")","v":""},{"$f":"IF(ISTEXT(#REF!),#REF!,\"\")","v":""},null,{"$f":"IF(ISTEXT(#REF!),#REF!,\"\")","v":""},{"$f":"IF(ISTEXT(#REF!),#REF!,\"\")","v":""},{"$f":"IF(ISTEXT(#REF!),#REF!,\"\")","v":""},{"$f":"IF(ISTEXT(#REF!),#REF!,\"\")","v":""},{"$f":"IF(ISTEXT(#REF!),#REF!,\"\")","v":""},{"$f":"IF(ISTEXT(#REF!),#REF!,\"\")","v":""},{"$f":"IF(ISTEXT(#REF!),#REF!,\"\")","v":""},null,{"$f":"IF(ISTEXT(#REF!),#REF!,\"\")","v":""},{"$f":"IF(ISTEXT(#REF!),#REF!,\"\")","v":""},{"$f":"IF(ISNUMBER(#REF!),#REF!,\"\")","v":""},{"$f":"IF(ISTEXT(#REF!),#REF!,\"\")","v":""}]
[null,null,{"$f":"IF(ISTEXT(#REF!),#REF!,\"\")","v":""},{"$f":"IF(ISTEXT(#REF!),#REF!,\"\")","v":""},{"$f":"IF(ISTEXT(#REF!),#REF!,\"\")","v":""},{"$f":"IF(ISTEXT(#REF!),#REF!,\"\")","v":""},{"$f":"IF(ISTEXT(#REF!),#REF!,\"\")","v":""},{"$f":"IF(ISTEXT(#REF!),#REF!,\"\")","v":""},{"$f":"IF(ISTEXT(#REF!),#REF!,\"\")","v":""},null,{"$f":"IF(ISTEXT(#REF!),#REF!,\"\")","v":""},{"$f":"IF(ISTEXT(#REF!),#REF!,\"\")","v":""},{"$f":"IF(ISNUMBER(#REF!),#REF!,\"\")","v":""},{"$f":"IF(ISTEXT(#REF!),#REF!,\"\")","v":""},null,{"$f":"IF(ISTEXT(#REF!),#REF!,\"\")","v":""},{"$f":"IF(ISTEXT(#REF!),#REF!,\"\")","v":""},{"$f":"IF(ISTEXT(#REF!),#REF!,\"\")","v":""},{"$f":"IF(ISTEXT(#REF!),#REF!,\"\")","v":""},{"$f":"IF(ISTEXT(#REF!),#REF!,\"\")","v":""},{"$f":"IF(ISTEXT(#REF!),#REF!,\"\")","v":""},{"$f":"IF(ISTEXT(#REF!),#REF!,\"\")","v":""},null,{"$f":"IF(ISTEXT(#REF!),#REF!,\"\")","v":""},{"$f":"IF(ISTEXT(#REF!),#REF!,\"\")","v":""},{"$f":"IF(ISNUMBER(#REF!),#REF!,\"\")","v":""},{"$f":"IF(ISTEXT(#REF!),#REF!,\"\")","v":""},{"$f":"IF(ISTEXT(#REF!),#REF!,\"\")","v":""},{"$f":"IF(ISTEXT(#REF!),#REF!,\"\")","v":""},{"$f":"IF(ISTEXT(#REF!),#REF!,\"\")","v":""},{"$f":"IF(ISTEXT(#REF!),#REF!,\"\")","v":""},{"$f":"IF(ISTEXT(#REF!),#REF!,\"\")","v":""},{"$f":"IF(ISTEXT(#REF!),#REF!,\"\")","v":""},{"$f":"IF(ISTEXT(#REF!),#REF!,\"\")","v":""},null,{"$f":"IF(ISTEXT(#REF!),#REF!,\"\")","v":""},{"$f":"IF(ISTEXT(#REF!),#REF!,\"\")","v":""},{"$f":"IF(ISNUMBER(#REF!),#REF!,\"\")","v":""},{"$f":"IF(ISTEXT(#REF!),#REF!,\"\")","v":""},null,{"$f":"IF(ISTEXT(#REF!),#REF!,\"\")","v":""},{"$f":"IF(ISTEXT(#REF!),#REF!,\"\")","v":""},{"$f":"IF(ISTEXT(#REF!),#REF!,\"\")","v":""},{"$f":"IF(ISTEXT(#REF!),#REF!,\"\")","v":""},{"$f":"IF(ISTEXT(#REF!),#REF!,\"\")","v":""},{"$f":"IF(ISTEXT(#REF!),#REF!,\"\")","v":""},{"$f":"IF(ISTEXT(#REF!),#REF!,\"\")","v":""},null,{"$f":"IF(ISTEXT(#REF!),#REF!,\"\")","v":""},{"$f":"IF(ISTEXT(#REF!),#REF!,\"\")","v":""},{"$f":"IF(ISNUMBER(#REF!),#REF!,\"\")","v":""},{"$f":"IF(ISTEXT(#REF!),#REF!,\"\")","v":""},null,{"$f":"IF(ISTEXT(#REF!),#REF!,\"\")","v":""},{"$f":"IF(ISTEXT(#REF!),#REF!,\"\")","v":""},{"$f":"IF(ISTEXT(#REF!),#REF!,\"\")","v":""},{"$f":"IF(ISTEXT(#REF!),#REF!,\"\")","v":""},{"$f":"IF(ISTEXT(#REF!),#REF!,\"\")","v":""},{"$f":"IF(ISTEXT(#REF!),#REF!,\"\")","v":""},{"$f":"IF(ISTEXT(#REF!),#REF!,\"\")","v":""},null,{"$f":"IF(ISTEXT(#REF!),#REF!,\"\")","v":""},{"$f":"IF(ISTEXT(#REF!),#REF!,\"\")","v":""},{"$f":"IF(ISNUMBER(#REF!),#REF!,\"\")","v":""},{"$f":"IF(ISTEXT(#REF!),#REF!,\"\")","v":""}]
[null,null,{"$f":"IF(ISTEXT(#REF!),#REF!,\"\")","v":""},{"$f":"IF(ISTEXT(#REF!),#REF!,\"\")","v":""},{"$f":"IF(ISTEXT(#REF!),#REF!,\"\")","v":""},{"$f":"IF(ISTEXT(#REF!),#REF!,\"\")","v":""},{"$f":"IF(ISTEXT(#REF!),#REF!,\"\")","v":""},{"$f":"IF(ISTEXT(#REF!),#REF!,\"\")","v":""},{"$f":"IF(ISTEXT(#REF!),#REF!,\"\")","v":""},null,{"$f":"IF(ISTEXT(#REF!),#REF!,\"\")","v":""},{"$f":"IF(ISTEXT(#REF!),#REF!,\"\")","v":""},{"$f":"IF(ISNUMBER(#REF!),#REF!,\"\")","v":""},{"$f":"IF(ISTEXT(#REF!),#REF!,\"\")","v":""},null,{"$f":"IF(ISTEXT(#REF!),#REF!,\"\")","v":""},{"$f":"IF(ISTEXT(#REF!),#REF!,\"\")","v":""},{"$f":"IF(ISTEXT(#REF!),#REF!,\"\")","v":""},{"$f":"IF(ISTEXT(#REF!),#REF!,\"\")","v":""},{"$f":"IF(ISTEXT(#REF!),#REF!,\"\")","v":""},{"$f":"IF(ISTEXT(#REF!),#REF!,\"\")","v":""},{"$f":"IF(ISTEXT(#REF!),#REF!,\"\")","v":""},null,{"$f":"IF(ISTEXT(#REF!),#REF!,\"\")","v":""},{"$f":"IF(ISTEXT(#REF!),#REF!,\"\")","v":""},{"$f":"IF(ISNUMBER(#REF!),#REF!,\"\")","v":""},{"$f":"IF(ISTEXT(#REF!),#REF!,\"\")","v":""},{"$f":"IF(ISTEXT(#REF!),#REF!,\"\")","v":""},{"$f":"IF(ISTEXT(#REF!),#REF!,\"\")","v":""},{"$f":"IF(ISTEXT(#REF!),#REF!,\"\")","v":""},{"$f":"IF(ISTEXT(#REF!),#REF!,\"\")","v":""},{"$f":"IF(ISTEXT(#REF!),#REF!,\"\")","v":""},{"$f":"IF(ISTEXT(#REF!),#REF!,\"\")","v":""},{"$f":"IF(ISTEXT(#REF!),#REF!,\"\")","v":""},null,{"$f":"IF(ISTEXT(#REF!),#REF!,\"\")","v":""},{"$f":"IF(ISTEXT(#REF!),#REF!,\"\")","v":""},{"$f":"IF(ISNUMBER(#REF!),#REF!,\"\")","v":""},{"$f":"IF(ISTEXT(#REF!),#REF!,\"\")","v":""},null,{"$f":"IF(ISTEXT(#REF!),#REF!,\"\")","v":""},{"$f":"IF(ISTEXT(#REF!),#REF!,\"\")","v":""},{"$f":"IF(ISTEXT(#REF!),#REF!,\"\")","v":""},{"$f":"IF(ISTEXT(#REF!),#REF!,\"\")","v":""},{"$f":"IF(ISTEXT(#REF!),#REF!,\"\")","v":""},{"$f":"IF(ISTEXT(#REF!),#REF!,\"\")","v":""},{"$f":"IF(ISTEXT(#REF!),#REF!,\"\")","v":""},null,{"$f":"IF(ISTEXT(#REF!),#REF!,\"\")","v":""},{"$f":"IF(ISTEXT(#REF!),#REF!,\"\")","v":""},{"$f":"IF(ISNUMBER(#REF!),#REF!,\"\")","v":""},{"$f":"IF(ISTEXT(#REF!),#REF!,\"\")","v":""},null,{"$f":"IF(ISTEXT(#REF!),#REF!,\"\")","v":""},{"$f":"IF(ISTEXT(#REF!),#REF!,\"\")","v":""},{"$f":"IF(ISTEXT(#REF!),#REF!,\"\")","v":""},{"$f":"IF(ISTEXT(#REF!),#REF!,\"\")","v":""},{"$f":"IF(ISTEXT(#REF!),#REF!,\"\")","v":""},{"$f":"IF(ISTEXT(#REF!),#REF!,\"\")","v":""},{"$f":"IF(ISTEXT(#REF!),#REF!,\"\")","v":""},null,{"$f":"IF(ISTEXT(#REF!),#REF!,\"\")","v":""},{"$f":"IF(ISTEXT(#REF!),#REF!,\"\")","v":""},{"$f":"IF(ISNUMBER(#REF!),#REF!,\"\")","v":""},{"$f":"IF(ISTEXT(#REF!),#REF!,\"\")","v":""}]
[null,null,{"$f":"IF(ISTEXT(#REF!),#REF!,\"\")","v":""},{"$f":"IF(ISTEXT(#REF!),#REF!,\"\")","v":""},{"$f":"IF(ISTEXT(#REF!),#REF!,\"\")","v":""},{"$f":"IF(ISTEXT(#REF!),#REF!,\"\")","v":""},{"$f":"IF(ISTEXT(#REF!),#REF!,\"\")","v":""},{"$f":"IF(ISTEXT(#REF!),#REF!,\"\")","v":""},{"$f":"IF(ISTEXT(#REF!),#REF!,\"\")","v":""},null,{"$f":"IF(ISTEXT(#REF!),#REF!,\"\")","v":""},{"$f":"IF(ISTEXT(#REF!),#REF!,\"\")","v":""},{"$f":"IF(ISNUMBER(#REF!),#REF!,\"\")","v":""},{"$f":"IF(ISTEXT(#REF!),#REF!,\"\")","v":""},null,{"$f":"IF(ISTEXT(#REF!),#REF!,\"\")","v":""},{"$f":"IF(ISTEXT(#REF!),#REF!,\"\")","v":""},{"$f":"IF(ISTEXT(#REF!),#REF!,\"\")","v":""},{"$f":"IF(ISTEXT(#REF!),#REF!,\"\")","v":""},{"$f":"IF(ISTEXT(#REF!),#REF!,\"\")","v":""},{"$f":"IF(ISTEXT(#REF!),#REF!,\"\")","v":""},{"$f":"IF(ISTEXT(#REF!),#REF!,\"\")","v":""},null,{"$f":"IF(ISTEXT(#REF!),#REF!,\"\")","v":""},{"$f":"IF(ISTEXT(#REF!),#REF!,\"\")","v":""},{"$f":"IF(ISNUMBER(#REF!),#REF!,\"\")","v":""},{"$f":"IF(ISTEXT(#REF!),#REF!,\"\")","v":""},{"$f":"IF(ISTEXT(#REF!),#REF!,\"\")","v":""},{"$f":"IF(ISTEXT(#REF!),#REF!,\"\")","v":""},{"$f":"IF(ISTEXT(#REF!),#REF!,\"\")","v":""},{"$f":"IF(ISTEXT(#REF!),#REF!,\"\")","v":""},{"$f":"IF(ISTEXT(#REF!),#REF!,\"\")","v":""},{"$f":"IF(ISTEXT(#REF!),#REF!,\"\")","v":""},{"$f":"IF(ISTEXT(#REF!),#REF!,\"\")","v":""},null,{"$f":"IF(ISTEXT(#REF!),#REF!,\"\")","v":""},{"$f":"IF(ISTEXT(#REF!),#REF!,\"\")","v":""},{"$f":"IF(ISNUMBER(#REF!),#REF!,\"\")","v":""},{"$f":"IF(ISTEXT(#REF!),#REF!,\"\")","v":""},null,{"$f":"IF(ISTEXT(#REF!),#REF!,\"\")","v":""},{"$f":"IF(ISTEXT(#REF!),#REF!,\"\")","v":""},{"$f":"IF(ISTEXT(#REF!),#REF!,\"\")","v":""},{"$f":"IF(ISTEXT(#REF!),#REF!,\"\")","v":""},{"$f":"IF(ISTEXT(#REF!),#REF!,\"\")","v":""},{"$f":"IF(ISTEXT(#REF!),#REF!,\"\")","v":""},{"$f":"IF(ISTEXT(#REF!),#REF!,\"\")","v":""},null,{"$f":"IF(ISTEXT(#REF!),#REF!,\"\")","v":""},{"$f":"IF(ISTEXT(#REF!),#REF!,\"\")","v":""},{"$f":"IF(ISNUMBER(#REF!),#REF!,\"\")","v":""},{"$f":"IF(ISTEXT(#REF!),#REF!,\"\")","v":""},null,{"$f":"IF(ISTEXT(#REF!),#REF!,\"\")","v":""},{"$f":"IF(ISTEXT(#REF!),#REF!,\"\")","v":""},{"$f":"IF(ISTEXT(#REF!),#REF!,\"\")","v":""},{"$f":"IF(ISTEXT(#REF!),#REF!,\"\")","v":""},{"$f":"IF(ISTEXT(#REF!),#REF!,\"\")","v":""},{"$f":"IF(ISTEXT(#REF!),#REF!,\"\")","v":""},{"$f":"IF(ISTEXT(#REF!),#REF!,\"\")","v":""},null,{"$f":"IF(ISTEXT(#REF!),#REF!,\"\")","v":""},{"$f":"IF(ISTEXT(#REF!),#REF!,\"\")","v":""},{"$f":"IF(ISNUMBER(#REF!),#REF!,\"\")","v":""},{"$f":"IF(ISTEXT(#REF!),#REF!,\"\")","v":""}]
[null,null,{"$f":"IF(ISTEXT(#REF!),#REF!,\"\")","v":""},{"$f":"IF(ISTEXT(#REF!),#REF!,\"\")","v":""},{"$f":"IF(ISTEXT(#REF!),#REF!,\"\")","v":""},{"$f":"IF(ISTEXT(#REF!),#REF!,\"\")","v":""},{"$f":"IF(ISTEXT(#REF!),#REF!,\"\")","v":""},{"$f":"IF(ISTEXT(#REF!),#REF!,\"\")","v":""},{"$f":"IF(ISTEXT(#REF!),#REF!,\"\")","v":""},null,{"$f":"IF(ISTEXT(#REF!),#REF!,\"\")","v":""},{"$f":"IF(ISTEXT(#REF!),#REF!,\"\")","v":""},{"$f":"IF(ISNUMBER(#REF!),#REF!,\"\")","v":""},{"$f":"IF(ISTEXT(#REF!),#REF!,\"\")","v":""},null,{"$f":"IF(ISTEXT(#REF!),#REF!,\"\")","v":""},{"$f":"IF(ISTEXT(#REF!),#REF!,\"\")","v":""},{"$f":"IF(ISTEXT(#REF!),#REF!,\"\")","v":""},{"$f":"IF(ISTEXT(#REF!),#REF!,\"\")","v":""},{"$f":"IF(ISTEXT(#REF!),#REF!,\"\")","v":""},{"$f":"IF(ISTEXT(#REF!),#REF!,\"\")","v":""},{"$f":"IF(ISTEXT(#REF!),#REF!,\"\")","v":""},null,{"$f":"IF(ISTEXT(#REF!),#REF!,\"\")","v":""},{"$f":"IF(ISTEXT(#REF!),#REF!,\"\")","v":""},{"$f":"IF(ISNUMBER(#REF!),#REF!,\"\")","v":""},{"$f":"IF(ISTEXT(#REF!),#REF!,\"\")","v":""},{"$f":"IF(ISTEXT(#REF!),#REF!,\"\")","v":""},{"$f":"IF(ISTEXT(#REF!),#REF!,\"\")","v":""},{"$f":"IF(ISTEXT(#REF!),#REF!,\"\")","v":""},{"$f":"IF(ISTEXT(#REF!),#REF!,\"\")","v":""},{"$f":"IF(ISTEXT(#REF!),#REF!,\"\")","v":""},{"$f":"IF(ISTEXT(#REF!),#REF!,\"\")","v":""},{"$f":"IF(ISTEXT(#REF!),#REF!,\"\")","v":""},null,{"$f":"IF(ISTEXT(#REF!),#REF!,\"\")","v":""},{"$f":"IF(ISTEXT(#REF!),#REF!,\"\")","v":""},{"$f":"IF(ISNUMBER(#REF!),#REF!,\"\")","v":""},{"$f":"IF(ISTEXT(#REF!),#REF!,\"\")","v":""},null,{"$f":"IF(ISTEXT(#REF!),#REF!,\"\")","v":""},{"$f":"IF(ISTEXT(#REF!),#REF!,\"\")","v":""},{"$f":"IF(ISTEXT(#REF!),#REF!,\"\")","v":""},{"$f":"IF(ISTEXT(#REF!),#REF!,\"\")","v":""},{"$f":"IF(ISTEXT(#REF!),#REF!,\"\")","v":""},{"$f":"IF(ISTEXT(#REF!),#REF!,\"\")","v":""},{"$f":"IF(ISTEXT(#REF!),#REF!,\"\")","v":""},null,{"$f":"IF(ISTEXT(#REF!),#REF!,\"\")","v":""},{"$f":"IF(ISTEXT(#REF!),#REF!,\"\")","v":""},{"$f":"IF(ISNUMBER(#REF!),#REF!,\"\")","v":""},{"$f":"IF(ISTEXT(#REF!),#REF!,\"\")","v":""},null,{"$f":"IF(ISTEXT(#REF!),#REF!,\"\")","v":""},{"$f":"IF(ISTEXT(#REF!),#REF!,\"\")","v":""},{"$f":"IF(ISTEXT(#REF!),#REF!,\"\")","v":""},{"$f":"IF(ISTEXT(#REF!),#REF!,\"\")","v":""},{"$f":"IF(ISTEXT(#REF!),#REF!,\"\")","v":""},{"$f":"IF(ISTEXT(#REF!),#REF!,\"\")","v":""},{"$f":"IF(ISTEXT(#REF!),#REF!,\"\")","v":""},null,{"$f":"IF(ISTEXT(#REF!),#REF!,\"\")","v":""},{"$f":"IF(ISTEXT(#REF!),#REF!,\"\")","v":""},{"$f":"IF(ISNUMBER(#REF!),#REF!,\"\")","v":""},{"$f":"IF(ISTEXT(#REF!),#REF!,\"\")","v":""}]
[null,null,{"$f":"IF(ISTEXT(#REF!),#REF!,\"\")","v":""},{"$f":"IF(ISTEXT(#REF!),#REF!,\"\")","v":""},{"$f":"IF(ISTEXT(#REF!),#REF!,\"\")","v":""},{"$f":"IF(ISTEXT(#REF!),#REF!,\"\")","v":""},{"$f":"IF(ISTEXT(#REF!),#REF!,\"\")","v":""},{"$f":"IF(ISTEXT(#REF!),#REF!,\"\")","v":""},{"$f":"IF(ISTEXT(#REF!),#REF!,\"\")","v":""},null,{"$f":"IF(ISTEXT(#REF!),#REF!,\"\")","v":""},{"$f":"IF(ISTEXT(#REF!),#REF!,\"\")","v":""},{"$f":"IF(ISNUMBER(#REF!),#REF!,\"\")","v":""},{"$f":"IF(ISTEXT(#REF!),#REF!,\"\")","v":""},null,{"$f":"IF(ISTEXT(#REF!),#REF!,\"\")","v":""},{"$f":"IF(ISTEXT(#REF!),#REF!,\"\")","v":""},{"$f":"IF(ISTEXT(#REF!),#REF!,\"\")","v":""},{"$f":"IF(ISTEXT(#REF!),#REF!,\"\")","v":""},{"$f":"IF(ISTEXT(#REF!),#REF!,\"\")","v":""},{"$f":"IF(ISTEXT(#REF!),#REF!,\"\")","v":""},{"$f":"IF(ISTEXT(#REF!),#REF!,\"\")","v":""},null,{"$f":"IF(ISTEXT(#REF!),#REF!,\"\")","v":""},{"$f":"IF(ISTEXT(#REF!),#REF!,\"\")","v":""},{"$f":"IF(ISNUMBER(#REF!),#REF!,\"\")","v":""},{"$f":"IF(ISTEXT(#REF!),#REF!,\"\")","v":""},{"$f":"IF(ISTEXT(#REF!),#REF!,\"\")","v":""},{"$f":"IF(ISTEXT(#REF!),#REF!,\"\")","v":""},{"$f":"IF(ISTEXT(#REF!),#REF!,\"\")","v":""},{"$f":"IF(ISTEXT(#REF!),#REF!,\"\")","v":""},{"$f":"IF(ISTEXT(#REF!),#REF!,\"\")","v":""},{"$f":"IF(ISTEXT(#REF!),#REF!,\"\")","v":""},{"$f":"IF(ISTEXT(#REF!),#REF!,\"\")","v":""},null,{"$f":"IF(ISTEXT(#REF!),#REF!,\"\")","v":""},{"$f":"IF(ISTEXT(#REF!),#REF!,\"\")","v":""},{"$f":"IF(ISNUMBER(#REF!),#REF!,\"\")","v":""},{"$f":"IF(ISTEXT(#REF!),#REF!,\"\")","v":""},null,{"$f":"IF(ISTEXT(#REF!),#REF!,\"\")","v":""},{"$f":"IF(ISTEXT(#REF!),#REF!,\"\")","v":""},{"$f":"IF(ISTEXT(#REF!),#REF!,\"\")","v":""},{"$f":"IF(ISTEXT(#REF!),#REF!,\"\")","v":""},{"$f":"IF(ISTEXT(#REF!),#REF!,\"\")","v":""},{"$f":"IF(ISTEXT(#REF!),#REF!,\"\")","v":""},{"$f":"IF(ISTEXT(#REF!),#REF!,\"\")","v":""},null,{"$f":"IF(ISTEXT(#REF!),#REF!,\"\")","v":""},{"$f":"IF(ISTEXT(#REF!),#REF!,\"\")","v":""},{"$f":"IF(ISNUMBER(#REF!),#REF!,\"\")","v":""},{"$f":"IF(ISTEXT(#REF!),#REF!,\"\")","v":""},null,{"$f":"IF(ISTEXT(#REF!),#REF!,\"\")","v":""},{"$f":"IF(ISTEXT(#REF!),#REF!,\"\")","v":""},{"$f":"IF(ISTEXT(#REF!),#REF!,\"\")","v":""},{"$f":"IF(ISTEXT(#REF!),#REF!,\"\")","v":""},{"$f":"IF(ISTEXT(#REF!),#REF!,\"\")","v":""},{"$f":"IF(ISTEXT(#REF!),#REF!,\"\")","v":""},{"$f":"IF(ISTEXT(#REF!),#REF!,\"\")","v":""},null,{"$f":"IF(ISTEXT(#REF!),#REF!,\"\")","v":""},{"$f":"IF(ISTEXT(#REF!),#REF!,\"\")","v":""},{"$f":"IF(ISNUMBER(#REF!),#REF!,\"\")","v":""},{"$f":"IF(ISTEXT(#REF!),#REF!,\"\")","v":""}]
[null,null,{"$f":"IF(ISTEXT(#REF!),#REF!,\"\")","v":""},{"$f":"IF(ISTEXT(#REF!),#REF!,\"\")","v":""},{"$f":"IF(ISTEXT(#REF!),#REF!,\"\")","v":""},{"$f":"IF(ISTEXT(#REF!),#REF!,\"\")","v":""},{"$f":"IF(ISTEXT(#REF!),#REF!,\"\")","v":""},{"$f":"IF(ISTEXT(#REF!),#REF!,\"\")","v":""},{"$f":"IF(ISTEXT(#REF!),#REF!,\"\")","v":""},null,{"$f":"IF(ISTEXT(#REF!),#REF!,\"\")","v":""},{"$f":"IF(ISTEXT(#REF!),#REF!,\"\")","v":""},{"$f":"IF(ISNUMBER(#REF!),#REF!,\"\")","v":""},{"$f":"IF(ISTEXT(#REF!),#REF!,\"\")","v":""},null,{"$f":"IF(ISTEXT(#REF!),#REF!,\"\")","v":""},{"$f":"IF(ISTEXT(#REF!),#REF!,\"\")","v":""},{"$f":"IF(ISTEXT(#REF!),#REF!,\"\")","v":""},{"$f":"IF(ISTEXT(#REF!),#REF!,\"\")","v":""},{"$f":"IF(ISTEXT(#REF!),#REF!,\"\")","v":""},{"$f":"IF(ISTEXT(#REF!),#REF!,\"\")","v":""},{"$f":"IF(ISTEXT(#REF!),#REF!,\"\")","v":""},null,{"$f":"IF(ISTEXT(#REF!),#REF!,\"\")","v":""},{"$f":"IF(ISTEXT(#REF!),#REF!,\"\")","v":""},{"$f":"IF(ISNUMBER(#REF!),#REF!,\"\")","v":""},{"$f":"IF(ISTEXT(#REF!),#REF!,\"\")","v":""},{"$f":"IF(ISTEXT(#REF!),#REF!,\"\")","v":""},{"$f":"IF(ISTEXT(#REF!),#REF!,\"\")","v":""},{"$f":"IF(ISTEXT(#REF!),#REF!,\"\")","v":""},{"$f":"IF(ISTEXT(#REF!),#REF!,\"\")","v":""},{"$f":"IF(ISTEXT(#REF!),#REF!,\"\")","v":""},{"$f":"IF(ISTEXT(#REF!),#REF!,\"\")","v":""},{"$f":"IF(ISTEXT(#REF!),#REF!,\"\")","v":""},null,{"$f":"IF(ISTEXT(#REF!),#REF!,\"\")","v":""},{"$f":"IF(ISTEXT(#REF!),#REF!,\"\")","v":""},{"$f":"IF(ISNUMBER(#REF!),#REF!,\"\")","v":""},{"$f":"IF(ISTEXT(#REF!),#REF!,\"\")","v":""},null,{"$f":"IF(ISTEXT(#REF!),#REF!,\"\")","v":""},{"$f":"IF(ISTEXT(#REF!),#REF!,\"\")","v":""},{"$f":"IF(ISTEXT(#REF!),#REF!,\"\")","v":""},{"$f":"IF(ISTEXT(#REF!),#REF!,\"\")","v":""},{"$f":"IF(ISTEXT(#REF!),#REF!,\"\")","v":""},{"$f":"IF(ISTEXT(#REF!),#REF!,\"\")","v":""},{"$f":"IF(ISTEXT(#REF!),#REF!,\"\")","v":""},null,{"$f":"IF(ISTEXT(#REF!),#REF!,\"\")","v":""},{"$f":"IF(ISTEXT(#REF!),#REF!,\"\")","v":""},{"$f":"IF(ISNUMBER(#REF!),#REF!,\"\")","v":""},{"$f":"IF(ISTEXT(#REF!),#REF!,\"\")","v":""},null,{"$f":"IF(ISTEXT(#REF!),#REF!,\"\")","v":""},{"$f":"IF(ISTEXT(#REF!),#REF!,\"\")","v":""},{"$f":"IF(ISTEXT(#REF!),#REF!,\"\")","v":""},{"$f":"IF(ISTEXT(#REF!),#REF!,\"\")","v":""},{"$f":"IF(ISTEXT(#REF!),#REF!,\"\")","v":""},{"$f":"IF(ISTEXT(#REF!),#REF!,\"\")","v":""},{"$f":"IF(ISTEXT(#REF!),#REF!,\"\")","v":""},null,{"$f":"IF(ISTEXT(#REF!),#REF!,\"\")","v":""},{"$f":"IF(ISTEXT(#REF!),#REF!,\"\")","v":""},{"$f":"IF(ISNUMBER(#REF!),#REF!,\"\")","v":""},{"$f":"IF(ISTEXT(#REF!),#REF!,\"\")","v":""}]
[null,null,{"$f":"IF(ISTEXT(#REF!),#REF!,\"\")","v":""},{"$f":"IF(ISTEXT(#REF!),#REF!,\"\")","v":""},{"$f":"IF(ISTEXT(#REF!),#REF!,\"\")","v":""},{"$f":"IF(ISTEXT(#REF!),#REF!,\"\")","v":""},{"$f":"IF(ISTEXT(#REF!),#REF!,\"\")","v":""},{"$f":"IF(ISTEXT(#REF!),#REF!,\"\")","v":""},{"$f":"IF(ISTEXT(#REF!),#REF!,\"\")","v":""},null,{"$f":"IF(ISTEXT(#REF!),#REF!,\"\")","v":""},{"$f":"IF(ISTEXT(#REF!),#REF!,\"\")","v":""},{"$f":"IF(ISNUMBER(#REF!),#REF!,\"\")","v":""},{"$f":"IF(ISTEXT(#REF!),#REF!,\"\")","v":""},null,{"$f":"IF(ISTEXT(#REF!),#REF!,\"\")","v":""},{"$f":"IF(ISTEXT(#REF!),#REF!,\"\")","v":""},{"$f":"IF(ISTEXT(#REF!),#REF!,\"\")","v":""},{"$f":"IF(ISTEXT(#REF!),#REF!,\"\")","v":""},{"$f":"IF(ISTEXT(#REF!),#REF!,\"\")","v":""},{"$f":"IF(ISTEXT(#REF!),#REF!,\"\")","v":""},{"$f":"IF(ISTEXT(#REF!),#REF!,\"\")","v":""},null,{"$f":"IF(ISTEXT(#REF!),#REF!,\"\")","v":""},{"$f":"IF(ISTEXT(#REF!),#REF!,\"\")","v":""},{"$f":"IF(ISNUMBER(#REF!),#REF!,\"\")","v":""},{"$f":"IF(ISTEXT(#REF!),#REF!,\"\")","v":""},{"$f":"IF(ISTEXT(#REF!),#REF!,\"\")","v":""},{"$f":"IF(ISTEXT(#REF!),#REF!,\"\")","v":""},{"$f":"IF(ISTEXT(#REF!),#REF!,\"\")","v":""},{"$f":"IF(ISTEXT(#REF!),#REF!,\"\")","v":""},{"$f":"IF(ISTEXT(#REF!),#REF!,\"\")","v":""},{"$f":"IF(ISTEXT(#REF!),#REF!,\"\")","v":""},{"$f":"IF(ISTEXT(#REF!),#REF!,\"\")","v":""},null,{"$f":"IF(ISTEXT(#REF!),#REF!,\"\")","v":""},{"$f":"IF(ISTEXT(#REF!),#REF!,\"\")","v":""},{"$f":"IF(ISNUMBER(#REF!),#REF!,\"\")","v":""},{"$f":"IF(ISTEXT(#REF!),#REF!,\"\")","v":""},null,{"$f":"IF(ISTEXT(#REF!),#REF!,\"\")","v":""},{"$f":"IF(ISTEXT(#REF!),#REF!,\"\")","v":""},{"$f":"IF(ISTEXT(#REF!),#REF!,\"\")","v":""},{"$f":"IF(ISTEXT(#REF!),#REF!,\"\")","v":""},{"$f":"IF(ISTEXT(#REF!),#REF!,\"\")","v":""},{"$f":"IF(ISTEXT(#REF!),#REF!,\"\")","v":""},{"$f":"IF(ISTEXT(#REF!),#REF!,\"\")","v":""},null,{"$f":"IF(ISTEXT(#REF!),#REF!,\"\")","v":""},{"$f":"IF(ISTEXT(#REF!),#REF!,\"\")","v":""},{"$f":"IF(ISNUMBER(#REF!),#REF!,\"\")","v":""},{"$f":"IF(ISTEXT(#REF!),#REF!,\"\")","v":""},null,{"$f":"IF(ISTEXT(#REF!),#REF!,\"\")","v":""},{"$f":"IF(ISTEXT(#REF!),#REF!,\"\")","v":""},{"$f":"IF(ISTEXT(#REF!),#REF!,\"\")","v":""},{"$f":"IF(ISTEXT(#REF!),#REF!,\"\")","v":""},{"$f":"IF(ISTEXT(#REF!),#REF!,\"\")","v":""},{"$f":"IF(ISTEXT(#REF!),#REF!,\"\")","v":""},{"$f":"IF(ISTEXT(#REF!),#REF!,\"\")","v":""},null,{"$f":"IF(ISTEXT(#REF!),#REF!,\"\")","v":""},{"$f":"IF(ISTEXT(#REF!),#REF!,\"\")","v":""},{"$f":"IF(ISNUMBER(#REF!),#REF!,\"\")","v":""},{"$f":"IF(ISTEXT(#REF!),#REF!,\"\")","v":""}]
[null,null,{"$f":"IF(ISTEXT(#REF!),#REF!,\"\")","v":""},{"$f":"IF(ISTEXT(#REF!),#REF!,\"\")","v":""},{"$f":"IF(ISTEXT(#REF!),#REF!,\"\")","v":""},{"$f":"IF(ISTEXT(#REF!),#REF!,\"\")","v":""},{"$f":"IF(ISTEXT(#REF!),#REF!,\"\")","v":""},{"$f":"IF(ISTEXT(#REF!),#REF!,\"\")","v":""},{"$f":"IF(ISTEXT(#REF!),#REF!,\"\")","v":""},null,{"$f":"IF(ISTEXT(#REF!),#REF!,\"\")","v":""},{"$f":"IF(ISTEXT(#REF!),#REF!,\"\")","v":""},{"$f":"IF(ISNUMBER(#REF!),#REF!,\"\")","v":""},{"$f":"IF(ISTEXT(#REF!),#REF!,\"\")","v":""},null,{"$f":"IF(ISTEXT(#REF!),#REF!,\"\")","v":""},{"$f":"IF(ISTEXT(#REF!),#REF!,\"\")","v":""},{"$f":"IF(ISTEXT(#REF!),#REF!,\"\")","v":""},{"$f":"IF(ISTEXT(#REF!),#REF!,\"\")","v":""},{"$f":"IF(ISTEXT(#REF!),#REF!,\"\")","v":""},{"$f":"IF(ISTEXT(#REF!),#REF!,\"\")","v":""},{"$f":"IF(ISTEXT(#REF!),#REF!,\"\")","v":""},null,{"$f":"IF(ISTEXT(#REF!),#REF!,\"\")","v":""},{"$f":"IF(ISTEXT(#REF!),#REF!,\"\")","v":""},{"$f":"IF(ISNUMBER(#REF!),#REF!,\"\")","v":""},{"$f":"IF(ISTEXT(#REF!),#REF!,\"\")","v":""},{"$f":"IF(ISTEXT(#REF!),#REF!,\"\")","v":""},{"$f":"IF(ISTEXT(#REF!),#REF!,\"\")","v":""},{"$f":"IF(ISTEXT(#REF!),#REF!,\"\")","v":""},{"$f":"IF(ISTEXT(#REF!),#REF!,\"\")","v":""},{"$f":"IF(ISTEXT(#REF!),#REF!,\"\")","v":""},{"$f":"IF(ISTEXT(#REF!),#REF!,\"\")","v":""},{"$f":"IF(ISTEXT(#REF!),#REF!,\"\")","v":""},null,{"$f":"IF(ISTEXT(#REF!),#REF!,\"\")","v":""},{"$f":"IF(ISTEXT(#REF!),#REF!,\"\")","v":""},{"$f":"IF(ISNUMBER(#REF!),#REF!,\"\")","v":""},{"$f":"IF(ISTEXT(#REF!),#REF!,\"\")","v":""},null,{"$f":"IF(ISTEXT(#REF!),#REF!,\"\")","v":""},{"$f":"IF(ISTEXT(#REF!),#REF!,\"\")","v":""},{"$f":"IF(ISTEXT(#REF!),#REF!,\"\")","v":""},{"$f":"IF(ISTEXT(#REF!),#REF!,\"\")","v":""},{"$f":"IF(ISTEXT(#REF!),#REF!,\"\")","v":""},{"$f":"IF(ISTEXT(#REF!),#REF!,\"\")","v":""},{"$f":"IF(ISTEXT(#REF!),#REF!,\"\")","v":""},null,{"$f":"IF(ISTEXT(#REF!),#REF!,\"\")","v":""},{"$f":"IF(ISTEXT(#REF!),#REF!,\"\")","v":""},{"$f":"IF(ISNUMBER(#REF!),#REF!,\"\")","v":""},{"$f":"IF(ISTEXT(#REF!),#REF!,\"\")","v":""},null,{"$f":"IF(ISTEXT(#REF!),#REF!,\"\")","v":""},{"$f":"IF(ISTEXT(#REF!),#REF!,\"\")","v":""},{"$f":"IF(ISTEXT(#REF!),#REF!,\"\")","v":""},{"$f":"IF(ISTEXT(#REF!),#REF!,\"\")","v":""},{"$f":"IF(ISTEXT(#REF!),#REF!,\"\")","v":""},{"$f":"IF(ISTEXT(#REF!),#REF!,\"\")","v":""},{"$f":"IF(ISTEXT(#REF!),#REF!,\"\")","v":""},null,{"$f":"IF(ISTEXT(#REF!),#REF!,\"\")","v":""},{"$f":"IF(ISTEXT(#REF!),#REF!,\"\")","v":""},{"$f":"IF(ISNUMBER(#REF!),#REF!,\"\")","v":""},{"$f":"IF(ISTEXT(#REF!),#REF!,\"\")","v":""}]
[null,null,{"$f":"IF(ISTEXT(#REF!),#REF!,\"\")","v":""},{"$f":"IF(ISTEXT(#REF!),#REF!,\"\")","v":""},{"$f":"IF(ISTEXT(#REF!),#REF!,\"\")","v":""},{"$f":"IF(ISTEXT(#REF!),#REF!,\"\")","v":""},{"$f":"IF(ISTEXT(#REF!),#REF!,\"\")","v":""},{"$f":"IF(ISTEXT(#REF!),#REF!,\"\")","v":""},{"$f":"IF(ISTEXT(#REF!),#REF!,\"\")","v":""},null,{"$f":"IF(ISTEXT(#REF!),#REF!,\"\")","v":""},{"$f":"IF(ISTEXT(#REF!),#REF!,\"\")","v":""},{"$f":"IF(ISNUMBER(#REF!),#REF!,\"\")","v":""},{"$f":"IF(ISTEXT(#REF!),#REF!,\"\")","v":""},null,{"$f":"IF(ISTEXT(#REF!),#REF!,\"\")","v":""},{"$f":"IF(ISTEXT(#REF!),#REF!,\"\")","v":""},{"$f":"IF(ISTEXT(#REF!),#REF!,\"\")","v":""},{"$f":"IF(ISTEXT(#REF!),#REF!,\"\")","v":""},{"$f":"IF(ISTEXT(#REF!),#REF!,\"\")","v":""},{"$f":"IF(ISTEXT(#REF!),#REF!,\"\")","v":""},{"$f":"IF(ISTEXT(#REF!),#REF!,\"\")","v":""},null,{"$f":"IF(ISTEXT(#REF!),#REF!,\"\")","v":""},{"$f":"IF(ISTEXT(#REF!),#REF!,\"\")","v":""},{"$f":"IF(ISNUMBER(#REF!),#REF!,\"\")","v":""},{"$f":"IF(ISTEXT(#REF!),#REF!,\"\")","v":""},{"$f":"IF(ISTEXT(#REF!),#REF!,\"\")","v":""},{"$f":"IF(ISTEXT(#REF!),#REF!,\"\")","v":""},{"$f":"IF(ISTEXT(#REF!),#REF!,\"\")","v":""},{"$f":"IF(ISTEXT(#REF!),#REF!,\"\")","v":""},{"$f":"IF(ISTEXT(#REF!),#REF!,\"\")","v":""},{"$f":"IF(ISTEXT(#REF!),#REF!,\"\")","v":""},{"$f":"IF(ISTEXT(#REF!),#REF!,\"\")","v":""},null,{"$f":"IF(ISTEXT(#REF!),#REF!,\"\")","v":""},{"$f":"IF(ISTEXT(#REF!),#REF!,\"\")","v":""},{"$f":"IF(ISNUMBER(#REF!),#REF!,\"\")","v":""},{"$f":"IF(ISTEXT(#REF!),#REF!,\"\")","v":""},null,{"$f":"IF(ISTEXT(#REF!),#REF!,\"\")","v":""},{"$f":"IF(ISTEXT(#REF!),#REF!,\"\")","v":""},{"$f":"IF(ISTEXT(#REF!),#REF!,\"\")","v":""},{"$f":"IF(ISTEXT(#REF!),#REF!,\"\")","v":""},{"$f":"IF(ISTEXT(#REF!),#REF!,\"\")","v":""},{"$f":"IF(ISTEXT(#REF!),#REF!,\"\")","v":""},{"$f":"IF(ISTEXT(#REF!),#REF!,\"\")","v":""},null,{"$f":"IF(ISTEXT(#REF!),#REF!,\"\")","v":""},{"$f":"IF(ISTEXT(#REF!),#REF!,\"\")","v":""},{"$f":"IF(ISNUMBER(#REF!),#REF!,\"\")","v":""},{"$f":"IF(ISTEXT(#REF!),#REF!,\"\")","v":""},null,{"$f":"IF(ISTEXT(#REF!),#REF!,\"\")","v":""},{"$f":"IF(ISTEXT(#REF!),#REF!,\"\")","v":""},{"$f":"IF(ISTEXT(#REF!),#REF!,\"\")","v":""},{"$f":"IF(ISTEXT(#REF!),#REF!,\"\")","v":""},{"$f":"IF(ISTEXT(#REF!),#REF!,\"\")","v":""},{"$f":"IF(ISTEXT(#REF!),#REF!,\"\")","v":""},{"$f":"IF(ISTEXT(#REF!),#REF!,\"\")","v":""},null,{"$f":"IF(ISTEXT(#REF!),#REF!,\"\")","v":""},{"$f":"IF(ISTEXT(#REF!),#REF!,\"\")","v":""},{"$f":"IF(ISNUMBER(#REF!),#REF!,\"\")","v":""},{"$f":"IF(ISTEXT(#REF!),#REF!,\"\")","v":""}]
[null,null,{"$f":"IF(ISTEXT(#REF!),#REF!,\"\")","v":""},{"$f":"IF(ISTEXT(#REF!),#REF!,\"\")","v":""},{"$f":"IF(ISTEXT(#REF!),#REF!,\"\")","v":""},{"$f":"IF(ISTEXT(#REF!),#REF!,\"\")","v":""},{"$f":"IF(ISTEXT(#REF!),#REF!,\"\")","v":""},{"$f":"IF(ISTEXT(#REF!),#REF!,\"\")","v":""},{"$f":"IF(ISTEXT(#REF!),#REF!,\"\")","v":""},null,{"$f":"IF(ISTEXT(#REF!),#REF!,\"\")","v":""},{"$f":"IF(ISTEXT(#REF!),#REF!,\"\")","v":""},{"$f":"IF(ISNUMBER(#REF!),#REF!,\"\")","v":""},{"$f":"IF(ISTEXT(#REF!),#REF!,\"\")","v":""},null,{"$f":"IF(ISTEXT(#REF!),#REF!,\"\")","v":""},{"$f":"IF(ISTEXT(#REF!),#REF!,\"\")","v":""},{"$f":"IF(ISTEXT(#REF!),#REF!,\"\")","v":""},{"$f":"IF(ISTEXT(#REF!),#REF!,\"\")","v":""},{"$f":"IF(ISTEXT(#REF!),#REF!,\"\")","v":""},{"$f":"IF(ISTEXT(#REF!),#REF!,\"\")","v":""},{"$f":"IF(ISTEXT(#REF!),#REF!,\"\")","v":""},null,{"$f":"IF(ISTEXT(#REF!),#REF!,\"\")","v":""},{"$f":"IF(ISTEXT(#REF!),#REF!,\"\")","v":""},{"$f":"IF(ISNUMBER(#REF!),#REF!,\"\")","v":""},{"$f":"IF(ISTEXT(#REF!),#REF!,\"\")","v":""},{"$f":"IF(ISTEXT(#REF!),#REF!,\"\")","v":""},{"$f":"IF(ISTEXT(#REF!),#REF!,\"\")","v":""},{"$f":"IF(ISTEXT(#REF!),#REF!,\"\")","v":""},{"$f":"IF(ISTEXT(#REF!),#REF!,\"\")","v":""},{"$f":"IF(ISTEXT(#REF!),#REF!,\"\")","v":""},{"$f":"IF(ISTEXT(#REF!),#REF!,\"\")","v":""},{"$f":"IF(ISTEXT(#REF!),#REF!,\"\")","v":""},null,{"$f":"IF(ISTEXT(#REF!),#REF!,\"\")","v":""},{"$f":"IF(ISTEXT(#REF!),#REF!,\"\")","v":""},{"$f":"IF(ISNUMBER(#REF!),#REF!,\"\")","v":""},{"$f":"IF(ISTEXT(#REF!),#REF!,\"\")","v":""},null,{"$f":"IF(ISTEXT(#REF!),#REF!,\"\")","v":""},{"$f":"IF(ISTEXT(#REF!),#REF!,\"\")","v":""},{"$f":"IF(ISTEXT(#REF!),#REF!,\"\")","v":""},{"$f":"IF(ISTEXT(#REF!),#REF!,\"\")","v":""},{"$f":"IF(ISTEXT(#REF!),#REF!,\"\")","v":""},{"$f":"IF(ISTEXT(#REF!),#REF!,\"\")","v":""},{"$f":"IF(ISTEXT(#REF!),#REF!,\"\")","v":""},null,{"$f":"IF(ISTEXT(#REF!),#REF!,\"\")","v":""},{"$f":"IF(ISTEXT(#REF!),#REF!,\"\")","v":""},{"$f":"IF(ISNUMBER(#REF!),#REF!,\"\")","v":""},{"$f":"IF(ISTEXT(#REF!),#REF!,\"\")","v":""},null,{"$f":"IF(ISTEXT(#REF!),#REF!,\"\")","v":""},{"$f":"IF(ISTEXT(#REF!),#REF!,\"\")","v":""},{"$f":"IF(ISTEXT(#REF!),#REF!,\"\")","v":""},{"$f":"IF(ISTEXT(#REF!),#REF!,\"\")","v":""},{"$f":"IF(ISTEXT(#REF!),#REF!,\"\")","v":""},{"$f":"IF(ISTEXT(#REF!),#REF!,\"\")","v":""},{"$f":"IF(ISTEXT(#REF!),#REF!,\"\")","v":""},null,{"$f":"IF(ISTEXT(#REF!),#REF!,\"\")","v":""},{"$f":"IF(ISTEXT(#REF!),#REF!,\"\")","v":""},{"$f":"IF(ISNUMBER(#REF!),#REF!,\"\")","v":""},{"$f":"IF(ISTEXT(#REF!),#REF!,\"\")","v":""}]
[null,null,{"$f":"IF(ISTEXT(#REF!),#REF!,\"\")","v":""},{"$f":"IF(ISTEXT(#REF!),#REF!,\"\")","v":""},{"$f":"IF(ISTEXT(#REF!),#REF!,\"\")","v":""},{"$f":"IF(ISTEXT(#REF!),#REF!,\"\")","v":""},{"$f":"IF(ISTEXT(#REF!),#REF!,\"\")","v":""},{"$f":"IF(ISTEXT(#REF!),#REF!,\"\")","v":""},{"$f":"IF(ISTEXT(#REF!),#REF!,\"\")","v":""},null,{"$f":"IF(ISTEXT(#REF!),#REF!,\"\")","v":""},{"$f":"IF(ISTEXT(#REF!),#REF!,\"\")","v":""},{"$f":"IF(ISNUMBER(#REF!),#REF!,\"\")","v":""},{"$f":"IF(ISTEXT(#REF!),#REF!,\"\")","v":""},null,{"$f":"IF(ISTEXT(#REF!),#REF!,\"\")","v":""},{"$f":"IF(ISTEXT(#REF!),#REF!,\"\")","v":""},{"$f":"IF(ISTEXT(#REF!),#REF!,\"\")","v":""},{"$f":"IF(ISTEXT(#REF!),#REF!,\"\")","v":""},{"$f":"IF(ISTEXT(#REF!),#REF!,\"\")","v":""},{"$f":"IF(ISTEXT(#REF!),#REF!,\"\")","v":""},{"$f":"IF(ISTEXT(#REF!),#REF!,\"\")","v":""},null,{"$f":"IF(ISTEXT(#REF!),#REF!,\"\")","v":""},{"$f":"IF(ISTEXT(#REF!),#REF!,\"\")","v":""},{"$f":"IF(ISNUMBER(#REF!),#REF!,\"\")","v":""},{"$f":"IF(ISTEXT(#REF!),#REF!,\"\")","v":""},{"$f":"IF(ISTEXT(#REF!),#REF!,\"\")","v":""},{"$f":"IF(ISTEXT(#REF!),#REF!,\"\")","v":""},{"$f":"IF(ISTEXT(#REF!),#REF!,\"\")","v":""},{"$f":"IF(ISTEXT(#REF!),#REF!,\"\")","v":""},{"$f":"IF(ISTEXT(#REF!),#REF!,\"\")","v":""},{"$f":"IF(ISTEXT(#REF!),#REF!,\"\")","v":""},{"$f":"IF(ISTEXT(#REF!),#REF!,\"\")","v":""},null,{"$f":"IF(ISTEXT(#REF!),#REF!,\"\")","v":""},{"$f":"IF(ISTEXT(#REF!),#REF!,\"\")","v":""},{"$f":"IF(ISNUMBER(#REF!),#REF!,\"\")","v":""},{"$f":"IF(ISTEXT(#REF!),#REF!,\"\")","v":""},null,{"$f":"IF(ISTEXT(#REF!),#REF!,\"\")","v":""},{"$f":"IF(ISTEXT(#REF!),#REF!,\"\")","v":""},{"$f":"IF(ISTEXT(#REF!),#REF!,\"\")","v":""},{"$f":"IF(ISTEXT(#REF!),#REF!,\"\")","v":""},{"$f":"IF(ISTEXT(#REF!),#REF!,\"\")","v":""},{"$f":"IF(ISTEXT(#REF!),#REF!,\"\")","v":""},{"$f":"IF(ISTEXT(#REF!),#REF!,\"\")","v":""},null,{"$f":"IF(ISTEXT(#REF!),#REF!,\"\")","v":""},{"$f":"IF(ISTEXT(#REF!),#REF!,\"\")","v":""},{"$f":"IF(ISNUMBER(#REF!),#REF!,\"\")","v":""},{"$f":"IF(ISTEXT(#REF!),#REF!,\"\")","v":""},null,{"$f":"IF(ISTEXT(#REF!),#REF!,\"\")","v":""},{"$f":"IF(ISTEXT(#REF!),#REF!,\"\")","v":""},{"$f":"IF(ISTEXT(#REF!),#REF!,\"\")","v":""},{"$f":"IF(ISTEXT(#REF!),#REF!,\"\")","v":""},{"$f":"IF(ISTEXT(#REF!),#REF!,\"\")","v":""},{"$f":"IF(ISTEXT(#REF!),#REF!,\"\")","v":""},{"$f":"IF(ISTEXT(#REF!),#REF!,\"\")","v":""},null,{"$f":"IF(ISTEXT(#REF!),#REF!,\"\")","v":""},{"$f":"IF(ISTEXT(#REF!),#REF!,\"\")","v":""},{"$f":"IF(ISNUMBER(#REF!),#REF!,\"\")","v":""},{"$f":"IF(ISTEXT(#REF!),#REF!,\"\")","v":""}]
[null,null,{"$f":"IF(ISTEXT(#REF!),#REF!,\"\")","v":""},{"$f":"IF(ISTEXT(#REF!),#REF!,\"\")","v":""},{"$f":"IF(ISTEXT(#REF!),#REF!,\"\")","v":""},{"$f":"IF(ISTEXT(#REF!),#REF!,\"\")","v":""},{"$f":"IF(ISTEXT(#REF!),#REF!,\"\")","v":""},{"$f":"IF(ISTEXT(#REF!),#REF!,\"\")","v":""},{"$f":"IF(ISTEXT(#REF!),#REF!,\"\")","v":""},null,{"$f":"IF(ISTEXT(#REF!),#REF!,\"\")","v":""},{"$f":"IF(ISTEXT(#REF!),#REF!,\"\")","v":""},{"$f":"IF(ISNUMBER(#REF!),#REF!,\"\")","v":""},{"$f":"IF(ISTEXT(#REF!),#REF!,\"\")","v":""},null,{"$f":"IF(ISTEXT(#REF!),#REF!,\"\")","v":""},{"$f":"IF(ISTEXT(#REF!),#REF!,\"\")","v":""},{"$f":"IF(ISTEXT(#REF!),#REF!,\"\")","v":""},{"$f":"IF(ISTEXT(#REF!),#REF!,\"\")","v":""},{"$f":"IF(ISTEXT(#REF!),#REF!,\"\")","v":""},{"$f":"IF(ISTEXT(#REF!),#REF!,\"\")","v":""},{"$f":"IF(ISTEXT(#REF!),#REF!,\"\")","v":""},null,{"$f":"IF(ISTEXT(#REF!),#REF!,\"\")","v":""},{"$f":"IF(ISTEXT(#REF!),#REF!,\"\")","v":""},{"$f":"IF(ISNUMBER(#REF!),#REF!,\"\")","v":""},{"$f":"IF(ISTEXT(#REF!),#REF!,\"\")","v":""},{"$f":"IF(ISTEXT(#REF!),#REF!,\"\")","v":""},{"$f":"IF(ISTEXT(#REF!),#REF!,\"\")","v":""},{"$f":"IF(ISTEXT(#REF!),#REF!,\"\")","v":""},{"$f":"IF(ISTEXT(#REF!),#REF!,\"\")","v":""},{"$f":"IF(ISTEXT(#REF!),#REF!,\"\")","v":""},{"$f":"IF(ISTEXT(#REF!),#REF!,\"\")","v":""},{"$f":"IF(ISTEXT(#REF!),#REF!,\"\")","v":""},null,{"$f":"IF(ISTEXT(#REF!),#REF!,\"\")","v":""},{"$f":"IF(ISTEXT(#REF!),#REF!,\"\")","v":""},{"$f":"IF(ISNUMBER(#REF!),#REF!,\"\")","v":""},{"$f":"IF(ISTEXT(#REF!),#REF!,\"\")","v":""},null,{"$f":"IF(ISTEXT(#REF!),#REF!,\"\")","v":""},{"$f":"IF(ISTEXT(#REF!),#REF!,\"\")","v":""},{"$f":"IF(ISTEXT(#REF!),#REF!,\"\")","v":""},{"$f":"IF(ISTEXT(#REF!),#REF!,\"\")","v":""},{"$f":"IF(ISTEXT(#REF!),#REF!,\"\")","v":""},{"$f":"IF(ISTEXT(#REF!),#REF!,\"\")","v":""},{"$f":"IF(ISTEXT(#REF!),#REF!,\"\")","v":""},null,{"$f":"IF(ISTEXT(#REF!),#REF!,\"\")","v":""},{"$f":"IF(ISTEXT(#REF!),#REF!,\"\")","v":""},{"$f":"IF(ISNUMBER(#REF!),#REF!,\"\")","v":""},{"$f":"IF(ISTEXT(#REF!),#REF!,\"\")","v":""},null,{"$f":"IF(ISTEXT(#REF!),#REF!,\"\")","v":""},{"$f":"IF(ISTEXT(#REF!),#REF!,\"\")","v":""},{"$f":"IF(ISTEXT(#REF!),#REF!,\"\")","v":""},{"$f":"IF(ISTEXT(#REF!),#REF!,\"\")","v":""},{"$f":"IF(ISTEXT(#REF!),#REF!,\"\")","v":""},{"$f":"IF(ISTEXT(#REF!),#REF!,\"\")","v":""},{"$f":"IF(ISTEXT(#REF!),#REF!,\"\")","v":""},null,{"$f":"IF(ISTEXT(#REF!),#REF!,\"\")","v":""},{"$f":"IF(ISTEXT(#REF!),#REF!,\"\")","v":""},{"$f":"IF(ISNUMBER(#REF!),#REF!,\"\")","v":""},{"$f":"IF(ISTEXT(#REF!),#REF!,\"\")","v":""}]
[null,null,{"$f":"IF(ISTEXT(#REF!),#REF!,\"\")","v":""},{"$f":"IF(ISTEXT(#REF!),#REF!,\"\")","v":""},{"$f":"IF(ISTEXT(#REF!),#REF!,\"\")","v":""},{"$f":"IF(ISTEXT(#REF!),#REF!,\"\")","v":""},{"$f":"IF(ISTEXT(#REF!),#REF!,\"\")","v":""},{"$f":"IF(ISTEXT(#REF!),#REF!,\"\")","v":""},{"$f":"IF(ISTEXT(#REF!),#REF!,\"\")","v":""},null,{"$f":"IF(ISTEXT(#REF!),#REF!,\"\")","v":""},{"$f":"IF(ISTEXT(#REF!),#REF!,\"\")","v":""},{"$f":"IF(ISNUMBER(#REF!),#REF!,\"\")","v":""},{"$f":"IF(ISTEXT(#REF!),#REF!,\"\")","v":""},null,{"$f":"IF(ISTEXT(#REF!),#REF!,\"\")","v":""},{"$f":"IF(ISTEXT(#REF!),#REF!,\"\")","v":""},{"$f":"IF(ISTEXT(#REF!),#REF!,\"\")","v":""},{"$f":"IF(ISTEXT(#REF!),#REF!,\"\")","v":""},{"$f":"IF(ISTEXT(#REF!),#REF!,\"\")","v":""},{"$f":"IF(ISTEXT(#REF!),#REF!,\"\")","v":""},{"$f":"IF(ISTEXT(#REF!),#REF!,\"\")","v":""},null,{"$f":"IF(ISTEXT(#REF!),#REF!,\"\")","v":""},{"$f":"IF(ISTEXT(#REF!),#REF!,\"\")","v":""},{"$f":"IF(ISNUMBER(#REF!),#REF!,\"\")","v":""},{"$f":"IF(ISTEXT(#REF!),#REF!,\"\")","v":""},{"$f":"IF(ISTEXT(#REF!),#REF!,\"\")","v":""},{"$f":"IF(ISTEXT(#REF!),#REF!,\"\")","v":""},{"$f":"IF(ISTEXT(#REF!),#REF!,\"\")","v":""},{"$f":"IF(ISTEXT(#REF!),#REF!,\"\")","v":""},{"$f":"IF(ISTEXT(#REF!),#REF!,\"\")","v":""},{"$f":"IF(ISTEXT(#REF!),#REF!,\"\")","v":""},{"$f":"IF(ISTEXT(#REF!),#REF!,\"\")","v":""},null,{"$f":"IF(ISTEXT(#REF!),#REF!,\"\")","v":""},{"$f":"IF(ISTEXT(#REF!),#REF!,\"\")","v":""},{"$f":"IF(ISNUMBER(#REF!),#REF!,\"\")","v":""},{"$f":"IF(ISTEXT(#REF!),#REF!,\"\")","v":""},null,{"$f":"IF(ISTEXT(#REF!),#REF!,\"\")","v":""},{"$f":"IF(ISTEXT(#REF!),#REF!,\"\")","v":""},{"$f":"IF(ISTEXT(#REF!),#REF!,\"\")","v":""},{"$f":"IF(ISTEXT(#REF!),#REF!,\"\")","v":""},{"$f":"IF(ISTEXT(#REF!),#REF!,\"\")","v":""},{"$f":"IF(ISTEXT(#REF!),#REF!,\"\")","v":""},{"$f":"IF(ISTEXT(#REF!),#REF!,\"\")","v":""},null,{"$f":"IF(ISTEXT(#REF!),#REF!,\"\")","v":""},{"$f":"IF(ISTEXT(#REF!),#REF!,\"\")","v":""},{"$f":"IF(ISNUMBER(#REF!),#REF!,\"\")","v":""},{"$f":"IF(ISTEXT(#REF!),#REF!,\"\")","v":""},null,{"$f":"IF(ISTEXT(#REF!),#REF!,\"\")","v":""},{"$f":"IF(ISTEXT(#REF!),#REF!,\"\")","v":""},{"$f":"IF(ISTEXT(#REF!),#REF!,\"\")","v":""},{"$f":"IF(ISTEXT(#REF!),#REF!,\"\")","v":""},{"$f":"IF(ISTEXT(#REF!),#REF!,\"\")","v":""},{"$f":"IF(ISTEXT(#REF!),#REF!,\"\")","v":""},{"$f":"IF(ISTEXT(#REF!),#REF!,\"\")","v":""},null,{"$f":"IF(ISTEXT(#REF!),#REF!,\"\")","v":""},{"$f":"IF(ISTEXT(#REF!),#REF!,\"\")","v":""},{"$f":"IF(ISNUMBER(#REF!),#REF!,\"\")","v":""},{"$f":"IF(ISTEXT(#REF!),#REF!,\"\")","v":""}]
[null,null,{"$f":"IF(ISTEXT(#REF!),#REF!,\"\")","v":""},{"$f":"IF(ISTEXT(#REF!),#REF!,\"\")","v":""},{"$f":"IF(ISTEXT(#REF!),#REF!,\"\")","v":""},{"$f":"IF(ISTEXT(#REF!),#REF!,\"\")","v":""},{"$f":"IF(ISTEXT(#REF!),#REF!,\"\")","v":""},{"$f":"IF(ISTEXT(#REF!),#REF!,\"\")","v":""},{"$f":"IF(ISTEXT(#REF!),#REF!,\"\")","v":""},null,{"$f":"IF(ISTEXT(#REF!),#REF!,\"\")","v":""},{"$f":"IF(ISTEXT(#REF!),#REF!,\"\")","v":""},{"$f":"IF(ISNUMBER(#REF!),#REF!,\"\")","v":""},{"$f":"IF(ISTEXT(#REF!),#REF!,\"\")","v":""},null,{"$f":"IF(ISTEXT(#REF!),#REF!,\"\")","v":""},{"$f":"IF(ISTEXT(#REF!),#REF!,\"\")","v":""},{"$f":"IF(ISTEXT(#REF!),#REF!,\"\")","v":""},{"$f":"IF(ISTEXT(#REF!),#REF!,\"\")","v":""},{"$f":"IF(ISTEXT(#REF!),#REF!,\"\")","v":""},{"$f":"IF(ISTEXT(#REF!),#REF!,\"\")","v":""},{"$f":"IF(ISTEXT(#REF!),#REF!,\"\")","v":""},null,{"$f":"IF(ISTEXT(#REF!),#REF!,\"\")","v":""},{"$f":"IF(ISTEXT(#REF!),#REF!,\"\")","v":""},{"$f":"IF(ISNUMBER(#REF!),#REF!,\"\")","v":""},{"$f":"IF(ISTEXT(#REF!),#REF!,\"\")","v":""},{"$f":"IF(ISTEXT(#REF!),#REF!,\"\")","v":""},{"$f":"IF(ISTEXT(#REF!),#REF!,\"\")","v":""},{"$f":"IF(ISTEXT(#REF!),#REF!,\"\")","v":""},{"$f":"IF(ISTEXT(#REF!),#REF!,\"\")","v":""},{"$f":"IF(ISTEXT(#REF!),#REF!,\"\")","v":""},{"$f":"IF(ISTEXT(#REF!),#REF!,\"\")","v":""},{"$f":"IF(ISTEXT(#REF!),#REF!,\"\")","v":""},null,{"$f":"IF(ISTEXT(#REF!),#REF!,\"\")","v":""},{"$f":"IF(ISTEXT(#REF!),#REF!,\"\")","v":""},{"$f":"IF(ISNUMBER(#REF!),#REF!,\"\")","v":""},{"$f":"IF(ISTEXT(#REF!),#REF!,\"\")","v":""},null,{"$f":"IF(ISTEXT(#REF!),#REF!,\"\")","v":""},{"$f":"IF(ISTEXT(#REF!),#REF!,\"\")","v":""},{"$f":"IF(ISTEXT(#REF!),#REF!,\"\")","v":""},{"$f":"IF(ISTEXT(#REF!),#REF!,\"\")","v":""},{"$f":"IF(ISTEXT(#REF!),#REF!,\"\")","v":""},{"$f":"IF(ISTEXT(#REF!),#REF!,\"\")","v":""},{"$f":"IF(ISTEXT(#REF!),#REF!,\"\")","v":""},null,{"$f":"IF(ISTEXT(#REF!),#REF!,\"\")","v":""},{"$f":"IF(ISTEXT(#REF!),#REF!,\"\")","v":""},{"$f":"IF(ISNUMBER(#REF!),#REF!,\"\")","v":""},{"$f":"IF(ISTEXT(#REF!),#REF!,\"\")","v":""},null,{"$f":"IF(ISTEXT(#REF!),#REF!,\"\")","v":""},{"$f":"IF(ISTEXT(#REF!),#REF!,\"\")","v":""},{"$f":"IF(ISTEXT(#REF!),#REF!,\"\")","v":""},{"$f":"IF(ISTEXT(#REF!),#REF!,\"\")","v":""},{"$f":"IF(ISTEXT(#REF!),#REF!,\"\")","v":""},{"$f":"IF(ISTEXT(#REF!),#REF!,\"\")","v":""},{"$f":"IF(ISTEXT(#REF!),#REF!,\"\")","v":""},null,{"$f":"IF(ISTEXT(#REF!),#REF!,\"\")","v":""},{"$f":"IF(ISTEXT(#REF!),#REF!,\"\")","v":""},{"$f":"IF(ISNUMBER(#REF!),#REF!,\"\")","v":""},{"$f":"IF(ISTEXT(#REF!),#REF!,\"\")","v":""}]
[null,null,{"$f":"IF(ISTEXT(#REF!),#REF!,\"\")","v":""},{"$f":"IF(ISTEXT(#REF!),#REF!,\"\")","v":""},{"$f":"IF(ISTEXT(#REF!),#REF!,\"\")","v":""},{"$f":"IF(ISTEXT(#REF!),#REF!,\"\")","v":""},{"$f":"IF(ISTEXT(#REF!),#REF!,\"\")","v":""},{"$f":"IF(ISTEXT(#REF!),#REF!,\"\")","v":""},{"$f":"IF(ISTEXT(#REF!),#REF!,\"\")","v":""},null,{"$f":"IF(ISTEXT(#REF!),#REF!,\"\")","v":""},{"$f":"IF(ISTEXT(#REF!),#REF!,\"\")","v":""},{"$f":"IF(ISNUMBER(#REF!),#REF!,\"\")","v":""},{"$f":"IF(ISTEXT(#REF!),#REF!,\"\")","v":""},null,{"$f":"IF(ISTEXT(#REF!),#REF!,\"\")","v":""},{"$f":"IF(ISTEXT(#REF!),#REF!,\"\")","v":""},{"$f":"IF(ISTEXT(#REF!),#REF!,\"\")","v":""},{"$f":"IF(ISTEXT(#REF!),#REF!,\"\")","v":""},{"$f":"IF(ISTEXT(#REF!),#REF!,\"\")","v":""},{"$f":"IF(ISTEXT(#REF!),#REF!,\"\")","v":""},{"$f":"IF(ISTEXT(#REF!),#REF!,\"\")","v":""},null,{"$f":"IF(ISTEXT(#REF!),#REF!,\"\")","v":""},{"$f":"IF(ISTEXT(#REF!),#REF!,\"\")","v":""},{"$f":"IF(ISNUMBER(#REF!),#REF!,\"\")","v":""},{"$f":"IF(ISTEXT(#REF!),#REF!,\"\")","v":""},{"$f":"IF(ISTEXT(#REF!),#REF!,\"\")","v":""},{"$f":"IF(ISTEXT(#REF!),#REF!,\"\")","v":""},{"$f":"IF(ISTEXT(#REF!),#REF!,\"\")","v":""},{"$f":"IF(ISTEXT(#REF!),#REF!,\"\")","v":""},{"$f":"IF(ISTEXT(#REF!),#REF!,\"\")","v":""},{"$f":"IF(ISTEXT(#REF!),#REF!,\"\")","v":""},{"$f":"IF(ISTEXT(#REF!),#REF!,\"\")","v":""},null,{"$f":"IF(ISTEXT(#REF!),#REF!,\"\")","v":""},{"$f":"IF(ISTEXT(#REF!),#REF!,\"\")","v":""},{"$f":"IF(ISNUMBER(#REF!),#REF!,\"\")","v":""},{"$f":"IF(ISTEXT(#REF!),#REF!,\"\")","v":""},null,{"$f":"IF(ISTEXT(#REF!),#REF!,\"\")","v":""},{"$f":"IF(ISTEXT(#REF!),#REF!,\"\")","v":""},{"$f":"IF(ISTEXT(#REF!),#REF!,\"\")","v":""},{"$f":"IF(ISTEXT(#REF!),#REF!,\"\")","v":""},{"$f":"IF(ISTEXT(#REF!),#REF!,\"\")","v":""},{"$f":"IF(ISTEXT(#REF!),#REF!,\"\")","v":""},{"$f":"IF(ISTEXT(#REF!),#REF!,\"\")","v":""},null,{"$f":"IF(ISTEXT(#REF!),#REF!,\"\")","v":""},{"$f":"IF(ISTEXT(#REF!),#REF!,\"\")","v":""},{"$f":"IF(ISNUMBER(#REF!),#REF!,\"\")","v":""},{"$f":"IF(ISTEXT(#REF!),#REF!,\"\")","v":""},null,{"$f":"IF(ISTEXT(#REF!),#REF!,\"\")","v":""},{"$f":"IF(ISTEXT(#REF!),#REF!,\"\")","v":""},{"$f":"IF(ISTEXT(#REF!),#REF!,\"\")","v":""},{"$f":"IF(ISTEXT(#REF!),#REF!,\"\")","v":""},{"$f":"IF(ISTEXT(#REF!),#REF!,\"\")","v":""},{"$f":"IF(ISTEXT(#REF!),#REF!,\"\")","v":""},{"$f":"IF(ISTEXT(#REF!),#REF!,\"\")","v":""},null,{"$f":"IF(ISTEXT(#REF!),#REF!,\"\")","v":""},{"$f":"IF(ISTEXT(#REF!),#REF!,\"\")","v":""},{"$f":"IF(ISNUMBER(#REF!),#REF!,\"\")","v":""},{"$f":"IF(ISTEXT(#REF!),#REF!,\"\")","v":""}]
[null,null,{"$f":"IF(ISTEXT(#REF!),#REF!,\"\")","v":""},{"$f":"IF(ISTEXT(#REF!),#REF!,\"\")","v":""},{"$f":"IF(ISTEXT(#REF!),#REF!,\"\")","v":""},{"$f":"IF(ISTEXT(#REF!),#REF!,\"\")","v":""},{"$f":"IF(ISTEXT(#REF!),#REF!,\"\")","v":""},{"$f":"IF(ISTEXT(#REF!),#REF!,\"\")","v":""},{"$f":"IF(ISTEXT(#REF!),#REF!,\"\")","v":""},null,{"$f":"IF(ISTEXT(#REF!),#REF!,\"\")","v":""},{"$f":"IF(ISTEXT(#REF!),#REF!,\"\")","v":""},{"$f":"IF(ISNUMBER(#REF!),#REF!,\"\")","v":""},{"$f":"IF(ISTEXT(#REF!),#REF!,\"\")","v":""},null,{"$f":"IF(ISTEXT(#REF!),#REF!,\"\")","v":""},{"$f":"IF(ISTEXT(#REF!),#REF!,\"\")","v":""},{"$f":"IF(ISTEXT(#REF!),#REF!,\"\")","v":""},{"$f":"IF(ISTEXT(#REF!),#REF!,\"\")","v":""},{"$f":"IF(ISTEXT(#REF!),#REF!,\"\")","v":""},{"$f":"IF(ISTEXT(#REF!),#REF!,\"\")","v":""},{"$f":"IF(ISTEXT(#REF!),#REF!,\"\")","v":""},null,{"$f":"IF(ISTEXT(#REF!),#REF!,\"\")","v":""},{"$f":"IF(ISTEXT(#REF!),#REF!,\"\")","v":""},{"$f":"IF(ISNUMBER(#REF!),#REF!,\"\")","v":""},{"$f":"IF(ISTEXT(#REF!),#REF!,\"\")","v":""},{"$f":"IF(ISTEXT(#REF!),#REF!,\"\")","v":""},{"$f":"IF(ISTEXT(#REF!),#REF!,\"\")","v":""},{"$f":"IF(ISTEXT(#REF!),#REF!,\"\")","v":""},{"$f":"IF(ISTEXT(#REF!),#REF!,\"\")","v":""},{"$f":"IF(ISTEXT(#REF!),#REF!,\"\")","v":""},{"$f":"IF(ISTEXT(#REF!),#REF!,\"\")","v":""},{"$f":"IF(ISTEXT(#REF!),#REF!,\"\")","v":""},null,{"$f":"IF(ISTEXT(#REF!),#REF!,\"\")","v":""},{"$f":"IF(ISTEXT(#REF!),#REF!,\"\")","v":""},{"$f":"IF(ISNUMBER(#REF!),#REF!,\"\")","v":""},{"$f":"IF(ISTEXT(#REF!),#REF!,\"\")","v":""},null,{"$f":"IF(ISTEXT(#REF!),#REF!,\"\")","v":""},{"$f":"IF(ISTEXT(#REF!),#REF!,\"\")","v":""},{"$f":"IF(ISTEXT(#REF!),#REF!,\"\")","v":""},{"$f":"IF(ISTEXT(#REF!),#REF!,\"\")","v":""},{"$f":"IF(ISTEXT(#REF!),#REF!,\"\")","v":""},{"$f":"IF(ISTEXT(#REF!),#REF!,\"\")","v":""},{"$f":"IF(ISTEXT(#REF!),#REF!,\"\")","v":""},null,{"$f":"IF(ISTEXT(#REF!),#REF!,\"\")","v":""},{"$f":"IF(ISTEXT(#REF!),#REF!,\"\")","v":""},{"$f":"IF(ISNUMBER(#REF!),#REF!,\"\")","v":""},{"$f":"IF(ISTEXT(#REF!),#REF!,\"\")","v":""},null,{"$f":"IF(ISTEXT(#REF!),#REF!,\"\")","v":""},{"$f":"IF(ISTEXT(#REF!),#REF!,\"\")","v":""},{"$f":"IF(ISTEXT(#REF!),#REF!,\"\")","v":""},{"$f":"IF(ISTEXT(#REF!),#REF!,\"\")","v":""},{"$f":"IF(ISTEXT(#REF!),#REF!,\"\")","v":""},{"$f":"IF(ISTEXT(#REF!),#REF!,\"\")","v":""},{"$f":"IF(ISTEXT(#REF!),#REF!,\"\")","v":""},null,{"$f":"IF(ISTEXT(#REF!),#REF!,\"\")","v":""},{"$f":"IF(ISTEXT(#REF!),#REF!,\"\")","v":""},{"$f":"IF(ISNUMBER(#REF!),#REF!,\"\")","v":""},{"$f":"IF(ISTEXT(#REF!),#REF!,\"\")","v":""}]
[null,null,{"$f":"IF(ISTEXT(#REF!),#REF!,\"\")","v":""},{"$f":"IF(ISTEXT(#REF!),#REF!,\"\")","v":""},{"$f":"IF(ISTEXT(#REF!),#REF!,\"\")","v":""},{"$f":"IF(ISTEXT(#REF!),#REF!,\"\")","v":""},{"$f":"IF(ISTEXT(#REF!),#REF!,\"\")","v":""},{"$f":"IF(ISTEXT(#REF!),#REF!,\"\")","v":""},{"$f":"IF(ISTEXT(#REF!),#REF!,\"\")","v":""},null,{"$f":"IF(ISTEXT(#REF!),#REF!,\"\")","v":""},{"$f":"IF(ISTEXT(#REF!),#REF!,\"\")","v":""},{"$f":"IF(ISNUMBER(#REF!),#REF!,\"\")","v":""},{"$f":"IF(ISTEXT(#REF!),#REF!,\"\")","v":""},null,{"$f":"IF(ISTEXT(#REF!),#REF!,\"\")","v":""},{"$f":"IF(ISTEXT(#REF!),#REF!,\"\")","v":""},{"$f":"IF(ISTEXT(#REF!),#REF!,\"\")","v":""},{"$f":"IF(ISTEXT(#REF!),#REF!,\"\")","v":""},{"$f":"IF(ISTEXT(#REF!),#REF!,\"\")","v":""},{"$f":"IF(ISTEXT(#REF!),#REF!,\"\")","v":""},{"$f":"IF(ISTEXT(#REF!),#REF!,\"\")","v":""},null,{"$f":"IF(ISTEXT(#REF!),#REF!,\"\")","v":""},{"$f":"IF(ISTEXT(#REF!),#REF!,\"\")","v":""},{"$f":"IF(ISNUMBER(#REF!),#REF!,\"\")","v":""},{"$f":"IF(ISTEXT(#REF!),#REF!,\"\")","v":""},{"$f":"IF(ISTEXT(#REF!),#REF!,\"\")","v":""},{"$f":"IF(ISTEXT(#REF!),#REF!,\"\")","v":""},{"$f":"IF(ISTEXT(#REF!),#REF!,\"\")","v":""},{"$f":"IF(ISTEXT(#REF!),#REF!,\"\")","v":""},{"$f":"IF(ISTEXT(#REF!),#REF!,\"\")","v":""},{"$f":"IF(ISTEXT(#REF!),#REF!,\"\")","v":""},{"$f":"IF(ISTEXT(#REF!),#REF!,\"\")","v":""},null,{"$f":"IF(ISTEXT(#REF!),#REF!,\"\")","v":""},{"$f":"IF(ISTEXT(#REF!),#REF!,\"\")","v":""},{"$f":"IF(ISNUMBER(#REF!),#REF!,\"\")","v":""},{"$f":"IF(ISTEXT(#REF!),#REF!,\"\")","v":""},null,{"$f":"IF(ISTEXT(#REF!),#REF!,\"\")","v":""},{"$f":"IF(ISTEXT(#REF!),#REF!,\"\")","v":""},{"$f":"IF(ISTEXT(#REF!),#REF!,\"\")","v":""},{"$f":"IF(ISTEXT(#REF!),#REF!,\"\")","v":""},{"$f":"IF(ISTEXT(#REF!),#REF!,\"\")","v":""},{"$f":"IF(ISTEXT(#REF!),#REF!,\"\")","v":""},{"$f":"IF(ISTEXT(#REF!),#REF!,\"\")","v":""},null,{"$f":"IF(ISTEXT(#REF!),#REF!,\"\")","v":""},{"$f":"IF(ISTEXT(#REF!),#REF!,\"\")","v":""},{"$f":"IF(ISNUMBER(#REF!),#REF!,\"\")","v":""},{"$f":"IF(ISTEXT(#REF!),#REF!,\"\")","v":""},null,{"$f":"IF(ISTEXT(#REF!),#REF!,\"\")","v":""},{"$f":"IF(ISTEXT(#REF!),#REF!,\"\")","v":""},{"$f":"IF(ISTEXT(#REF!),#REF!,\"\")","v":""},{"$f":"IF(ISTEXT(#REF!),#REF!,\"\")","v":""},{"$f":"IF(ISTEXT(#REF!),#REF!,\"\")","v":""},{"$f":"IF(ISTEXT(#REF!),#REF!,\"\")","v":""},{"$f":"IF(ISTEXT(#REF!),#REF!,\"\")","v":""},null,{"$f":"IF(ISTEXT(#REF!),#REF!,\"\")","v":""},{"$f":"IF(ISTEXT(#REF!),#REF!,\"\")","v":""},{"$f":"IF(ISNUMBER(#REF!),#REF!,\"\")","v":""},{"$f":"IF(ISTEXT(#REF!),#REF!,\"\")","v":""}]
[null,null,{"$f":"IF(ISTEXT(#REF!),#REF!,\"\")","v":""},{"$f":"IF(ISTEXT(#REF!),#REF!,\"\")","v":""},{"$f":"IF(ISTEXT(#REF!),#REF!,\"\")","v":""},{"$f":"IF(ISTEXT(#REF!),#REF!,\"\")","v":""},{"$f":"IF(ISTEXT(#REF!),#REF!,\"\")","v":""},{"$f":"IF(ISTEXT(#REF!),#REF!,\"\")","v":""},{"$f":"IF(ISTEXT(#REF!),#REF!,\"\")","v":""},null,{"$f":"IF(ISTEXT(#REF!),#REF!,\"\")","v":""},{"$f":"IF(ISTEXT(#REF!),#REF!,\"\")","v":""},{"$f":"IF(ISNUMBER(#REF!),#REF!,\"\")","v":""},{"$f":"IF(ISTEXT(#REF!),#REF!,\"\")","v":""},null,{"$f":"IF(ISTEXT(#REF!),#REF!,\"\")","v":""},{"$f":"IF(ISTEXT(#REF!),#REF!,\"\")","v":""},{"$f":"IF(ISTEXT(#REF!),#REF!,\"\")","v":""},{"$f":"IF(ISTEXT(#REF!),#REF!,\"\")","v":""},{"$f":"IF(ISTEXT(#REF!),#REF!,\"\")","v":""},{"$f":"IF(ISTEXT(#REF!),#REF!,\"\")","v":""},{"$f":"IF(ISTEXT(#REF!),#REF!,\"\")","v":""},null,{"$f":"IF(ISTEXT(#REF!),#REF!,\"\")","v":""},{"$f":"IF(ISTEXT(#REF!),#REF!,\"\")","v":""},{"$f":"IF(ISNUMBER(#REF!),#REF!,\"\")","v":""},{"$f":"IF(ISTEXT(#REF!),#REF!,\"\")","v":""},{"$f":"IF(ISTEXT(#REF!),#REF!,\"\")","v":""},{"$f":"IF(ISTEXT(#REF!),#REF!,\"\")","v":""},{"$f":"IF(ISTEXT(#REF!),#REF!,\"\")","v":""},{"$f":"IF(ISTEXT(#REF!),#REF!,\"\")","v":""},{"$f":"IF(ISTEXT(#REF!),#REF!,\"\")","v":""},{"$f":"IF(ISTEXT(#REF!),#REF!,\"\")","v":""},{"$f":"IF(ISTEXT(#REF!),#REF!,\"\")","v":""},null,{"$f":"IF(ISTEXT(#REF!),#REF!,\"\")","v":""},{"$f":"IF(ISTEXT(#REF!),#REF!,\"\")","v":""},{"$f":"IF(ISNUMBER(#REF!),#REF!,\"\")","v":""},{"$f":"IF(ISTEXT(#REF!),#REF!,\"\")","v":""},null,{"$f":"IF(ISTEXT(#REF!),#REF!,\"\")","v":""},{"$f":"IF(ISTEXT(#REF!),#REF!,\"\")","v":""},{"$f":"IF(ISTEXT(#REF!),#REF!,\"\")","v":""},{"$f":"IF(ISTEXT(#REF!),#REF!,\"\")","v":""},{"$f":"IF(ISTEXT(#REF!),#REF!,\"\")","v":""},{"$f":"IF(ISTEXT(#REF!),#REF!,\"\")","v":""},{"$f":"IF(ISTEXT(#REF!),#REF!,\"\")","v":""},null,{"$f":"IF(ISTEXT(#REF!),#REF!,\"\")","v":""},{"$f":"IF(ISTEXT(#REF!),#REF!,\"\")","v":""},{"$f":"IF(ISNUMBER(#REF!),#REF!,\"\")","v":""},{"$f":"IF(ISTEXT(#REF!),#REF!,\"\")","v":""},null,{"$f":"IF(ISTEXT(#REF!),#REF!,\"\")","v":""},{"$f":"IF(ISTEXT(#REF!),#REF!,\"\")","v":""},{"$f":"IF(ISTEXT(#REF!),#REF!,\"\")","v":""},{"$f":"IF(ISTEXT(#REF!),#REF!,\"\")","v":""},{"$f":"IF(ISTEXT(#REF!),#REF!,\"\")","v":""},{"$f":"IF(ISTEXT(#REF!),#REF!,\"\")","v":""},{"$f":"IF(ISTEXT(#REF!),#REF!,\"\")","v":""},null,{"$f":"IF(ISTEXT(#REF!),#REF!,\"\")","v":""},{"$f":"IF(ISTEXT(#REF!),#REF!,\"\")","v":""},{"$f":"IF(ISNUMBER(#REF!),#REF!,\"\")","v":""},{"$f":"IF(ISTEXT(#REF!),#REF!,\"\")","v":""}]
[null,null,{"$f":"IF(ISTEXT(#REF!),#REF!,\"\")","v":""},{"$f":"IF(ISTEXT(#REF!),#REF!,\"\")","v":""},{"$f":"IF(ISTEXT(#REF!),#REF!,\"\")","v":""},{"$f":"IF(ISTEXT(#REF!),#REF!,\"\")","v":""},{"$f":"IF(ISTEXT(#REF!),#REF!,\"\")","v":""},{"$f":"IF(ISTEXT(#REF!),#REF!,\"\")","v":""},{"$f":"IF(ISTEXT(#REF!),#REF!,\"\")","v":""},null,{"$f":"IF(ISTEXT(#REF!),#REF!,\"\")","v":""},{"$f":"IF(ISTEXT(#REF!),#REF!,\"\")","v":""},{"$f":"IF(ISNUMBER(#REF!),#REF!,\"\")","v":""},{"$f":"IF(ISTEXT(#REF!),#REF!,\"\")","v":""},null,{"$f":"IF(ISTEXT(#REF!),#REF!,\"\")","v":""},{"$f":"IF(ISTEXT(#REF!),#REF!,\"\")","v":""},{"$f":"IF(ISTEXT(#REF!),#REF!,\"\")","v":""},{"$f":"IF(ISTEXT(#REF!),#REF!,\"\")","v":""},{"$f":"IF(ISTEXT(#REF!),#REF!,\"\")","v":""},{"$f":"IF(ISTEXT(#REF!),#REF!,\"\")","v":""},{"$f":"IF(ISTEXT(#REF!),#REF!,\"\")","v":""},null,{"$f":"IF(ISTEXT(#REF!),#REF!,\"\")","v":""},{"$f":"IF(ISTEXT(#REF!),#REF!,\"\")","v":""},{"$f":"IF(ISNUMBER(#REF!),#REF!,\"\")","v":""},{"$f":"IF(ISTEXT(#REF!),#REF!,\"\")","v":""},{"$f":"IF(ISTEXT(#REF!),#REF!,\"\")","v":""},{"$f":"IF(ISTEXT(#REF!),#REF!,\"\")","v":""},{"$f":"IF(ISTEXT(#REF!),#REF!,\"\")","v":""},{"$f":"IF(ISTEXT(#REF!),#REF!,\"\")","v":""},{"$f":"IF(ISTEXT(#REF!),#REF!,\"\")","v":""},{"$f":"IF(ISTEXT(#REF!),#REF!,\"\")","v":""},{"$f":"IF(ISTEXT(#REF!),#REF!,\"\")","v":""},null,{"$f":"IF(ISTEXT(#REF!),#REF!,\"\")","v":""},{"$f":"IF(ISTEXT(#REF!),#REF!,\"\")","v":""},{"$f":"IF(ISNUMBER(#REF!),#REF!,\"\")","v":""},{"$f":"IF(ISTEXT(#REF!),#REF!,\"\")","v":""},null,{"$f":"IF(ISTEXT(#REF!),#REF!,\"\")","v":""},{"$f":"IF(ISTEXT(#REF!),#REF!,\"\")","v":""},{"$f":"IF(ISTEXT(#REF!),#REF!,\"\")","v":""},{"$f":"IF(ISTEXT(#REF!),#REF!,\"\")","v":""},{"$f":"IF(ISTEXT(#REF!),#REF!,\"\")","v":""},{"$f":"IF(ISTEXT(#REF!),#REF!,\"\")","v":""},{"$f":"IF(ISTEXT(#REF!),#REF!,\"\")","v":""},null,{"$f":"IF(ISTEXT(#REF!),#REF!,\"\")","v":""},{"$f":"IF(ISTEXT(#REF!),#REF!,\"\")","v":""},{"$f":"IF(ISNUMBER(#REF!),#REF!,\"\")","v":""},{"$f":"IF(ISTEXT(#REF!),#REF!,\"\")","v":""},null,{"$f":"IF(ISTEXT(#REF!),#REF!,\"\")","v":""},{"$f":"IF(ISTEXT(#REF!),#REF!,\"\")","v":""},{"$f":"IF(ISTEXT(#REF!),#REF!,\"\")","v":""},{"$f":"IF(ISTEXT(#REF!),#REF!,\"\")","v":""},{"$f":"IF(ISTEXT(#REF!),#REF!,\"\")","v":""},{"$f":"IF(ISTEXT(#REF!),#REF!,\"\")","v":""},{"$f":"IF(ISTEXT(#REF!),#REF!,\"\")","v":""},null,{"$f":"IF(ISTEXT(#REF!),#REF!,\"\")","v":""},{"$f":"IF(ISTEXT(#REF!),#REF!,\"\")","v":""},{"$f":"IF(ISNUMBER(#REF!),#REF!,\"\")","v":""},{"$f":"IF(ISTEXT(#REF!),#REF!,\"\")","v":""}]
[null,null,{"$f":"IF(ISTEXT(#REF!),#REF!,\"\")","v":""},{"$f":"IF(ISTEXT(#REF!),#REF!,\"\")","v":""},{"$f":"IF(ISTEXT(#REF!),#REF!,\"\")","v":""},{"$f":"IF(ISTEXT(#REF!),#REF!,\"\")","v":""},{"$f":"IF(ISTEXT(#REF!),#REF!,\"\")","v":""},{"$f":"IF(ISTEXT(#REF!),#REF!,\"\")","v":""},{"$f":"IF(ISTEXT(#REF!),#REF!,\"\")","v":""},null,{"$f":"IF(ISTEXT(#REF!),#REF!,\"\")","v":""},{"$f":"IF(ISTEXT(#REF!),#REF!,\"\")","v":""},{"$f":"IF(ISNUMBER(#REF!),#REF!,\"\")","v":""},{"$f":"IF(ISTEXT(#REF!),#REF!,\"\")","v":""},null,{"$f":"IF(ISTEXT(#REF!),#REF!,\"\")","v":""},{"$f":"IF(ISTEXT(#REF!),#REF!,\"\")","v":""},{"$f":"IF(ISTEXT(#REF!),#REF!,\"\")","v":""},{"$f":"IF(ISTEXT(#REF!),#REF!,\"\")","v":""},{"$f":"IF(ISTEXT(#REF!),#REF!,\"\")","v":""},{"$f":"IF(ISTEXT(#REF!),#REF!,\"\")","v":""},{"$f":"IF(ISTEXT(#REF!),#REF!,\"\")","v":""},null,{"$f":"IF(ISTEXT(#REF!),#REF!,\"\")","v":""},{"$f":"IF(ISTEXT(#REF!),#REF!,\"\")","v":""},{"$f":"IF(ISNUMBER(#REF!),#REF!,\"\")","v":""},{"$f":"IF(ISTEXT(#REF!),#REF!,\"\")","v":""},{"$f":"IF(ISTEXT(#REF!),#REF!,\"\")","v":""},{"$f":"IF(ISTEXT(#REF!),#REF!,\"\")","v":""},{"$f":"IF(ISTEXT(#REF!),#REF!,\"\")","v":""},{"$f":"IF(ISTEXT(#REF!),#REF!,\"\")","v":""},{"$f":"IF(ISTEXT(#REF!),#REF!,\"\")","v":""},{"$f":"IF(ISTEXT(#REF!),#REF!,\"\")","v":""},{"$f":"IF(ISTEXT(#REF!),#REF!,\"\")","v":""},null,{"$f":"IF(ISTEXT(#REF!),#REF!,\"\")","v":""},{"$f":"IF(ISTEXT(#REF!),#REF!,\"\")","v":""},{"$f":"IF(ISNUMBER(#REF!),#REF!,\"\")","v":""},{"$f":"IF(ISTEXT(#REF!),#REF!,\"\")","v":""},null,{"$f":"IF(ISTEXT(#REF!),#REF!,\"\")","v":""},{"$f":"IF(ISTEXT(#REF!),#REF!,\"\")","v":""},{"$f":"IF(ISTEXT(#REF!),#REF!,\"\")","v":""},{"$f":"IF(ISTEXT(#REF!),#REF!,\"\")","v":""},{"$f":"IF(ISTEXT(#REF!),#REF!,\"\")","v":""},{"$f":"IF(ISTEXT(#REF!),#REF!,\"\")","v":""},{"$f":"IF(ISTEXT(#REF!),#REF!,\"\")","v":""},null,{"$f":"IF(ISTEXT(#REF!),#REF!,\"\")","v":""},{"$f":"IF(ISTEXT(#REF!),#REF!,\"\")","v":""},{"$f":"IF(ISNUMBER(#REF!),#REF!,\"\")","v":""},{"$f":"IF(ISTEXT(#REF!),#REF!,\"\")","v":""},null,{"$f":"IF(ISTEXT(#REF!),#REF!,\"\")","v":""},{"$f":"IF(ISTEXT(#REF!),#REF!,\"\")","v":""},{"$f":"IF(ISTEXT(#REF!),#REF!,\"\")","v":""},{"$f":"IF(ISTEXT(#REF!),#REF!,\"\")","v":""},{"$f":"IF(ISTEXT(#REF!),#REF!,\"\")","v":""},{"$f":"IF(ISTEXT(#REF!),#REF!,\"\")","v":""},{"$f":"IF(ISTEXT(#REF!),#REF!,\"\")","v":""},null,{"$f":"IF(ISTEXT(#REF!),#REF!,\"\")","v":""},{"$f":"IF(ISTEXT(#REF!),#REF!,\"\")","v":""},{"$f":"IF(ISNUMBER(#REF!),#REF!,\"\")","v":""},{"$f":"IF(ISTEXT(#REF!),#REF!,\"\")","v":""}]
[null,null,{"$f":"IF(ISTEXT(#REF!),#REF!,\"\")","v":""},{"$f":"IF(ISTEXT(#REF!),#REF!,\"\")","v":""},{"$f":"IF(ISTEXT(#REF!),#REF!,\"\")","v":""},{"$f":"IF(ISTEXT(#REF!),#REF!,\"\")","v":""},{"$f":"IF(ISTEXT(#REF!),#REF!,\"\")","v":""},{"$f":"IF(ISTEXT(#REF!),#REF!,\"\")","v":""},{"$f":"IF(ISTEXT(#REF!),#REF!,\"\")","v":""},null,{"$f":"IF(ISTEXT(#REF!),#REF!,\"\")","v":""},{"$f":"IF(ISTEXT(#REF!),#REF!,\"\")","v":""},{"$f":"IF(ISNUMBER(#REF!),#REF!,\"\")","v":""},{"$f":"IF(ISTEXT(#REF!),#REF!,\"\")","v":""},null,{"$f":"IF(ISTEXT(#REF!),#REF!,\"\")","v":""},{"$f":"IF(ISTEXT(#REF!),#REF!,\"\")","v":""},{"$f":"IF(ISTEXT(#REF!),#REF!,\"\")","v":""},{"$f":"IF(ISTEXT(#REF!),#REF!,\"\")","v":""},{"$f":"IF(ISTEXT(#REF!),#REF!,\"\")","v":""},{"$f":"IF(ISTEXT(#REF!),#REF!,\"\")","v":""},{"$f":"IF(ISTEXT(#REF!),#REF!,\"\")","v":""},null,{"$f":"IF(ISTEXT(#REF!),#REF!,\"\")","v":""},{"$f":"IF(ISTEXT(#REF!),#REF!,\"\")","v":""},{"$f":"IF(ISNUMBER(#REF!),#REF!,\"\")","v":""},{"$f":"IF(ISTEXT(#REF!),#REF!,\"\")","v":""},{"$f":"IF(ISTEXT(#REF!),#REF!,\"\")","v":""},{"$f":"IF(ISTEXT(#REF!),#REF!,\"\")","v":""},{"$f":"IF(ISTEXT(#REF!),#REF!,\"\")","v":""},{"$f":"IF(ISTEXT(#REF!),#REF!,\"\")","v":""},{"$f":"IF(ISTEXT(#REF!),#REF!,\"\")","v":""},{"$f":"IF(ISTEXT(#REF!),#REF!,\"\")","v":""},{"$f":"IF(ISTEXT(#REF!),#REF!,\"\")","v":""},null,{"$f":"IF(ISTEXT(#REF!),#REF!,\"\")","v":""},{"$f":"IF(ISTEXT(#REF!),#REF!,\"\")","v":""},{"$f":"IF(ISNUMBER(#REF!),#REF!,\"\")","v":""},{"$f":"IF(ISTEXT(#REF!),#REF!,\"\")","v":""},null,{"$f":"IF(ISTEXT(#REF!),#REF!,\"\")","v":""},{"$f":"IF(ISTEXT(#REF!),#REF!,\"\")","v":""},{"$f":"IF(ISTEXT(#REF!),#REF!,\"\")","v":""},{"$f":"IF(ISTEXT(#REF!),#REF!,\"\")","v":""},{"$f":"IF(ISTEXT(#REF!),#REF!,\"\")","v":""},{"$f":"IF(ISTEXT(#REF!),#REF!,\"\")","v":""},{"$f":"IF(ISTEXT(#REF!),#REF!,\"\")","v":""},null,{"$f":"IF(ISTEXT(#REF!),#REF!,\"\")","v":""},{"$f":"IF(ISTEXT(#REF!),#REF!,\"\")","v":""},{"$f":"IF(ISNUMBER(#REF!),#REF!,\"\")","v":""},{"$f":"IF(ISTEXT(#REF!),#REF!,\"\")","v":""},null,{"$f":"IF(ISTEXT(#REF!),#REF!,\"\")","v":""},{"$f":"IF(ISTEXT(#REF!),#REF!,\"\")","v":""},{"$f":"IF(ISTEXT(#REF!),#REF!,\"\")","v":""},{"$f":"IF(ISTEXT(#REF!),#REF!,\"\")","v":""},{"$f":"IF(ISTEXT(#REF!),#REF!,\"\")","v":""},{"$f":"IF(ISTEXT(#REF!),#REF!,\"\")","v":""},{"$f":"IF(ISTEXT(#REF!),#REF!,\"\")","v":""},null,{"$f":"IF(ISTEXT(#REF!),#REF!,\"\")","v":""},{"$f":"IF(ISTEXT(#REF!),#REF!,\"\")","v":""},{"$f":"IF(ISNUMBER(#REF!),#REF!,\"\")","v":""},{"$f":"IF(ISTEXT(#REF!),#REF!,\"\")","v":""}]
[null,null,{"$f":"IF(ISTEXT(#REF!),#REF!,\"\")","v":""},{"$f":"IF(ISTEXT(#REF!),#REF!,\"\")","v":""},{"$f":"IF(ISTEXT(#REF!),#REF!,\"\")","v":""},{"$f":"IF(ISTEXT(#REF!),#REF!,\"\")","v":""},{"$f":"IF(ISTEXT(#REF!),#REF!,\"\")","v":""},{"$f":"IF(ISTEXT(#REF!),#REF!,\"\")","v":""},{"$f":"IF(ISTEXT(#REF!),#REF!,\"\")","v":""},null,{"$f":"IF(ISTEXT(#REF!),#REF!,\"\")","v":""},{"$f":"IF(ISTEXT(#REF!),#REF!,\"\")","v":""},{"$f":"IF(ISNUMBER(#REF!),#REF!,\"\")","v":""},{"$f":"IF(ISTEXT(#REF!),#REF!,\"\")","v":""},null,{"$f":"IF(ISTEXT(#REF!),#REF!,\"\")","v":""},{"$f":"IF(ISTEXT(#REF!),#REF!,\"\")","v":""},{"$f":"IF(ISTEXT(#REF!),#REF!,\"\")","v":""},{"$f":"IF(ISTEXT(#REF!),#REF!,\"\")","v":""},{"$f":"IF(ISTEXT(#REF!),#REF!,\"\")","v":""},{"$f":"IF(ISTEXT(#REF!),#REF!,\"\")","v":""},{"$f":"IF(ISTEXT(#REF!),#REF!,\"\")","v":""},null,{"$f":"IF(ISTEXT(#REF!),#REF!,\"\")","v":""},{"$f":"IF(ISTEXT(#REF!),#REF!,\"\")","v":""},{"$f":"IF(ISNUMBER(#REF!),#REF!,\"\")","v":""},{"$f":"IF(ISTEXT(#REF!),#REF!,\"\")","v":""},{"$f":"IF(ISTEXT(#REF!),#REF!,\"\")","v":""},{"$f":"IF(ISTEXT(#REF!),#REF!,\"\")","v":""},{"$f":"IF(ISTEXT(#REF!),#REF!,\"\")","v":""},{"$f":"IF(ISTEXT(#REF!),#REF!,\"\")","v":""},{"$f":"IF(ISTEXT(#REF!),#REF!,\"\")","v":""},{"$f":"IF(ISTEXT(#REF!),#REF!,\"\")","v":""},{"$f":"IF(ISTEXT(#REF!),#REF!,\"\")","v":""},null,{"$f":"IF(ISTEXT(#REF!),#REF!,\"\")","v":""},{"$f":"IF(ISTEXT(#REF!),#REF!,\"\")","v":""},{"$f":"IF(ISNUMBER(#REF!),#REF!,\"\")","v":""},{"$f":"IF(ISTEXT(#REF!),#REF!,\"\")","v":""},null,{"$f":"IF(ISTEXT(#REF!),#REF!,\"\")","v":""},{"$f":"IF(ISTEXT(#REF!),#REF!,\"\")","v":""},{"$f":"IF(ISTEXT(#REF!),#REF!,\"\")","v":""},{"$f":"IF(ISTEXT(#REF!),#REF!,\"\")","v":""},{"$f":"IF(ISTEXT(#REF!),#REF!,\"\")","v":""},{"$f":"IF(ISTEXT(#REF!),#REF!,\"\")","v":""},{"$f":"IF(ISTEXT(#REF!),#REF!,\"\")","v":""},null,{"$f":"IF(ISTEXT(#REF!),#REF!,\"\")","v":""},{"$f":"IF(ISTEXT(#REF!),#REF!,\"\")","v":""},{"$f":"IF(ISNUMBER(#REF!),#REF!,\"\")","v":""},{"$f":"IF(ISTEXT(#REF!),#REF!,\"\")","v":""},null,{"$f":"IF(ISTEXT(#REF!),#REF!,\"\")","v":""},{"$f":"IF(ISTEXT(#REF!),#REF!,\"\")","v":""},{"$f":"IF(ISTEXT(#REF!),#REF!,\"\")","v":""},{"$f":"IF(ISTEXT(#REF!),#REF!,\"\")","v":""},{"$f":"IF(ISTEXT(#REF!),#REF!,\"\")","v":""},{"$f":"IF(ISTEXT(#REF!),#REF!,\"\")","v":""},{"$f":"IF(ISTEXT(#REF!),#REF!,\"\")","v":""},null,{"$f":"IF(ISTEXT(#REF!),#REF!,\"\")","v":""},{"$f":"IF(ISTEXT(#REF!),#REF!,\"\")","v":""},{"$f":"IF(ISNUMBER(#REF!),#REF!,\"\")","v":""},{"$f":"IF(ISTEXT(#REF!),#REF!,\"\")","v":""}]
[null,null,{"$f":"IF(ISTEXT(#REF!),#REF!,\"\")","v":""},{"$f":"IF(ISTEXT(#REF!),#REF!,\"\")","v":""},{"$f":"IF(ISTEXT(#REF!),#REF!,\"\")","v":""},{"$f":"IF(ISTEXT(#REF!),#REF!,\"\")","v":""},{"$f":"IF(ISTEXT(#REF!),#REF!,\"\")","v":""},{"$f":"IF(ISTEXT(#REF!),#REF!,\"\")","v":""},{"$f":"IF(ISTEXT(#REF!),#REF!,\"\")","v":""},null,{"$f":"IF(ISTEXT(#REF!),#REF!,\"\")","v":""},{"$f":"IF(ISTEXT(#REF!),#REF!,\"\")","v":""},{"$f":"IF(ISNUMBER(#REF!),#REF!,\"\")","v":""},{"$f":"IF(ISTEXT(#REF!),#REF!,\"\")","v":""},null,{"$f":"IF(ISTEXT(#REF!),#REF!,\"\")","v":""},{"$f":"IF(ISTEXT(#REF!),#REF!,\"\")","v":""},{"$f":"IF(ISTEXT(#REF!),#REF!,\"\")","v":""},{"$f":"IF(ISTEXT(#REF!),#REF!,\"\")","v":""},{"$f":"IF(ISTEXT(#REF!),#REF!,\"\")","v":""},{"$f":"IF(ISTEXT(#REF!),#REF!,\"\")","v":""},{"$f":"IF(ISTEXT(#REF!),#REF!,\"\")","v":""},null,{"$f":"IF(ISTEXT(#REF!),#REF!,\"\")","v":""},{"$f":"IF(ISTEXT(#REF!),#REF!,\"\")","v":""},{"$f":"IF(ISNUMBER(#REF!),#REF!,\"\")","v":""},{"$f":"IF(ISTEXT(#REF!),#REF!,\"\")","v":""},{"$f":"IF(ISTEXT(#REF!),#REF!,\"\")","v":""},{"$f":"IF(ISTEXT(#REF!),#REF!,\"\")","v":""},{"$f":"IF(ISTEXT(#REF!),#REF!,\"\")","v":""},{"$f":"IF(ISTEXT(#REF!),#REF!,\"\")","v":""},{"$f":"IF(ISTEXT(#REF!),#REF!,\"\")","v":""},{"$f":"IF(ISTEXT(#REF!),#REF!,\"\")","v":""},{"$f":"IF(ISTEXT(#REF!),#REF!,\"\")","v":""},null,{"$f":"IF(ISTEXT(#REF!),#REF!,\"\")","v":""},{"$f":"IF(ISTEXT(#REF!),#REF!,\"\")","v":""},{"$f":"IF(ISNUMBER(#REF!),#REF!,\"\")","v":""},{"$f":"IF(ISTEXT(#REF!),#REF!,\"\")","v":""},null,{"$f":"IF(ISTEXT(#REF!),#REF!,\"\")","v":""},{"$f":"IF(ISTEXT(#REF!),#REF!,\"\")","v":""},{"$f":"IF(ISTEXT(#REF!),#REF!,\"\")","v":""},{"$f":"IF(ISTEXT(#REF!),#REF!,\"\")","v":""},{"$f":"IF(ISTEXT(#REF!),#REF!,\"\")","v":""},{"$f":"IF(ISTEXT(#REF!),#REF!,\"\")","v":""},{"$f":"IF(ISTEXT(#REF!),#REF!,\"\")","v":""},null,{"$f":"IF(ISTEXT(#REF!),#REF!,\"\")","v":""},{"$f":"IF(ISTEXT(#REF!),#REF!,\"\")","v":""},{"$f":"IF(ISNUMBER(#REF!),#REF!,\"\")","v":""},{"$f":"IF(ISTEXT(#REF!),#REF!,\"\")","v":""},null,{"$f":"IF(ISTEXT(#REF!),#REF!,\"\")","v":""},{"$f":"IF(ISTEXT(#REF!),#REF!,\"\")","v":""},{"$f":"IF(ISTEXT(#REF!),#REF!,\"\")","v":""},{"$f":"IF(ISTEXT(#REF!),#REF!,\"\")","v":""},{"$f":"IF(ISTEXT(#REF!),#REF!,\"\")","v":""},{"$f":"IF(ISTEXT(#REF!),#REF!,\"\")","v":""},{"$f":"IF(ISTEXT(#REF!),#REF!,\"\")","v":""},null,{"$f":"IF(ISTEXT(#REF!),#REF!,\"\")","v":""},{"$f":"IF(ISTEXT(#REF!),#REF!,\"\")","v":""},{"$f":"IF(ISNUMBER(#REF!),#REF!,\"\")","v":""},{"$f":"IF(ISTEXT(#REF!),#REF!,\"\")","v":""}]
[null,null,{"$f":"IF(ISTEXT(#REF!),#REF!,\"\")","v":""},{"$f":"IF(ISTEXT(#REF!),#REF!,\"\")","v":""},{"$f":"IF(ISTEXT(#REF!),#REF!,\"\")","v":""},{"$f":"IF(ISTEXT(#REF!),#REF!,\"\")","v":""},{"$f":"IF(ISTEXT(#REF!),#REF!,\"\")","v":""},{"$f":"IF(ISTEXT(#REF!),#REF!,\"\")","v":""},{"$f":"IF(ISTEXT(#REF!),#REF!,\"\")","v":""},null,{"$f":"IF(ISTEXT(#REF!),#REF!,\"\")","v":""},{"$f":"IF(ISTEXT(#REF!),#REF!,\"\")","v":""},{"$f":"IF(ISNUMBER(#REF!),#REF!,\"\")","v":""},{"$f":"IF(ISTEXT(#REF!),#REF!,\"\")","v":""},null,{"$f":"IF(ISTEXT(#REF!),#REF!,\"\")","v":""},{"$f":"IF(ISTEXT(#REF!),#REF!,\"\")","v":""},{"$f":"IF(ISTEXT(#REF!),#REF!,\"\")","v":""},{"$f":"IF(ISTEXT(#REF!),#REF!,\"\")","v":""},{"$f":"IF(ISTEXT(#REF!),#REF!,\"\")","v":""},{"$f":"IF(ISTEXT(#REF!),#REF!,\"\")","v":""},{"$f":"IF(ISTEXT(#REF!),#REF!,\"\")","v":""},null,{"$f":"IF(ISTEXT(#REF!),#REF!,\"\")","v":""},{"$f":"IF(ISTEXT(#REF!),#REF!,\"\")","v":""},{"$f":"IF(ISNUMBER(#REF!),#REF!,\"\")","v":""},{"$f":"IF(ISTEXT(#REF!),#REF!,\"\")","v":""},{"$f":"IF(ISTEXT(#REF!),#REF!,\"\")","v":""},{"$f":"IF(ISTEXT(#REF!),#REF!,\"\")","v":""},{"$f":"IF(ISTEXT(#REF!),#REF!,\"\")","v":""},{"$f":"IF(ISTEXT(#REF!),#REF!,\"\")","v":""},{"$f":"IF(ISTEXT(#REF!),#REF!,\"\")","v":""},{"$f":"IF(ISTEXT(#REF!),#REF!,\"\")","v":""},{"$f":"IF(ISTEXT(#REF!),#REF!,\"\")","v":""},null,{"$f":"IF(ISTEXT(#REF!),#REF!,\"\")","v":""},{"$f":"IF(ISTEXT(#REF!),#REF!,\"\")","v":""},{"$f":"IF(ISNUMBER(#REF!),#REF!,\"\")","v":""},{"$f":"IF(ISTEXT(#REF!),#REF!,\"\")","v":""},null,{"$f":"IF(ISTEXT(#REF!),#REF!,\"\")","v":""},{"$f":"IF(ISTEXT(#REF!),#REF!,\"\")","v":""},{"$f":"IF(ISTEXT(#REF!),#REF!,\"\")","v":""},{"$f":"IF(ISTEXT(#REF!),#REF!,\"\")","v":""},{"$f":"IF(ISTEXT(#REF!),#REF!,\"\")","v":""},{"$f":"IF(ISTEXT(#REF!),#REF!,\"\")","v":""},{"$f":"IF(ISTEXT(#REF!),#REF!,\"\")","v":""},null,{"$f":"IF(ISTEXT(#REF!),#REF!,\"\")","v":""},{"$f":"IF(ISTEXT(#REF!),#REF!,\"\")","v":""},{"$f":"IF(ISNUMBER(#REF!),#REF!,\"\")","v":""},{"$f":"IF(ISTEXT(#REF!),#REF!,\"\")","v":""},null,{"$f":"IF(ISTEXT(#REF!),#REF!,\"\")","v":""},{"$f":"IF(ISTEXT(#REF!),#REF!,\"\")","v":""},{"$f":"IF(ISTEXT(#REF!),#REF!,\"\")","v":""},{"$f":"IF(ISTEXT(#REF!),#REF!,\"\")","v":""},{"$f":"IF(ISTEXT(#REF!),#REF!,\"\")","v":""},{"$f":"IF(ISTEXT(#REF!),#REF!,\"\")","v":""},{"$f":"IF(ISTEXT(#REF!),#REF!,\"\")","v":""},null,{"$f":"IF(ISTEXT(#REF!),#REF!,\"\")","v":""},{"$f":"IF(ISTEXT(#REF!),#REF!,\"\")","v":""},{"$f":"IF(ISNUMBER(#REF!),#REF!,\"\")","v":""},{"$f":"IF(ISTEXT(#REF!),#REF!,\"\")","v":""}]
[null,null,{"$f":"IF(ISTEXT(#REF!),#REF!,\"\")","v":""},{"$f":"IF(ISTEXT(#REF!),#REF!,\"\")","v":""},{"$f":"IF(ISTEXT(#REF!),#REF!,\"\")","v":""},{"$f":"IF(ISTEXT(#REF!),#REF!,\"\")","v":""},{"$f":"IF(ISTEXT(#REF!),#REF!,\"\")","v":""},{"$f":"IF(ISTEXT(#REF!),#REF!,\"\")","v":""},{"$f":"IF(ISTEXT(#REF!),#REF!,\"\")","v":""},null,{"$f":"IF(ISTEXT(#REF!),#REF!,\"\")","v":""},{"$f":"IF(ISTEXT(#REF!),#REF!,\"\")","v":""},{"$f":"IF(ISNUMBER(#REF!),#REF!,\"\")","v":""},{"$f":"IF(ISTEXT(#REF!),#REF!,\"\")","v":""},null,{"$f":"IF(ISTEXT(#REF!),#REF!,\"\")","v":""},{"$f":"IF(ISTEXT(#REF!),#REF!,\"\")","v":""},{"$f":"IF(ISTEXT(#REF!),#REF!,\"\")","v":""},{"$f":"IF(ISTEXT(#REF!),#REF!,\"\")","v":""},{"$f":"IF(ISTEXT(#REF!),#REF!,\"\")","v":""},{"$f":"IF(ISTEXT(#REF!),#REF!,\"\")","v":""},{"$f":"IF(ISTEXT(#REF!),#REF!,\"\")","v":""},null,{"$f":"IF(ISTEXT(#REF!),#REF!,\"\")","v":""},{"$f":"IF(ISTEXT(#REF!),#REF!,\"\")","v":""},{"$f":"IF(ISNUMBER(#REF!),#REF!,\"\")","v":""},{"$f":"IF(ISTEXT(#REF!),#REF!,\"\")","v":""},{"$f":"IF(ISTEXT(#REF!),#REF!,\"\")","v":""},{"$f":"IF(ISTEXT(#REF!),#REF!,\"\")","v":""},{"$f":"IF(ISTEXT(#REF!),#REF!,\"\")","v":""},{"$f":"IF(ISTEXT(#REF!),#REF!,\"\")","v":""},{"$f":"IF(ISTEXT(#REF!),#REF!,\"\")","v":""},{"$f":"IF(ISTEXT(#REF!),#REF!,\"\")","v":""},{"$f":"IF(ISTEXT(#REF!),#REF!,\"\")","v":""},null,{"$f":"IF(ISTEXT(#REF!),#REF!,\"\")","v":""},{"$f":"IF(ISTEXT(#REF!),#REF!,\"\")","v":""},{"$f":"IF(ISNUMBER(#REF!),#REF!,\"\")","v":""},{"$f":"IF(ISTEXT(#REF!),#REF!,\"\")","v":""},null,{"$f":"IF(ISTEXT(#REF!),#REF!,\"\")","v":""},{"$f":"IF(ISTEXT(#REF!),#REF!,\"\")","v":""},{"$f":"IF(ISTEXT(#REF!),#REF!,\"\")","v":""},{"$f":"IF(ISTEXT(#REF!),#REF!,\"\")","v":""},{"$f":"IF(ISTEXT(#REF!),#REF!,\"\")","v":""},{"$f":"IF(ISTEXT(#REF!),#REF!,\"\")","v":""},{"$f":"IF(ISTEXT(#REF!),#REF!,\"\")","v":""},null,{"$f":"IF(ISTEXT(#REF!),#REF!,\"\")","v":""},{"$f":"IF(ISTEXT(#REF!),#REF!,\"\")","v":""},{"$f":"IF(ISNUMBER(#REF!),#REF!,\"\")","v":""},{"$f":"IF(ISTEXT(#REF!),#REF!,\"\")","v":""},null,{"$f":"IF(ISTEXT(#REF!),#REF!,\"\")","v":""},{"$f":"IF(ISTEXT(#REF!),#REF!,\"\")","v":""},{"$f":"IF(ISTEXT(#REF!),#REF!,\"\")","v":""},{"$f":"IF(ISTEXT(#REF!),#REF!,\"\")","v":""},{"$f":"IF(ISTEXT(#REF!),#REF!,\"\")","v":""},{"$f":"IF(ISTEXT(#REF!),#REF!,\"\")","v":""},{"$f":"IF(ISTEXT(#REF!),#REF!,\"\")","v":""},null,{"$f":"IF(ISTEXT(#REF!),#REF!,\"\")","v":""},{"$f":"IF(ISTEXT(#REF!),#REF!,\"\")","v":""},{"$f":"IF(ISNUMBER(#REF!),#REF!,\"\")","v":""},{"$f":"IF(ISTEXT(#REF!),#REF!,\"\")","v":""}]
[null,null,{"$f":"IF(ISTEXT(#REF!),#REF!,\"\")","v":""},{"$f":"IF(ISTEXT(#REF!),#REF!,\"\")","v":""},{"$f":"IF(ISTEXT(#REF!),#REF!,\"\")","v":""},{"$f":"IF(ISTEXT(#REF!),#REF!,\"\")","v":""},{"$f":"IF(ISTEXT(#REF!),#REF!,\"\")","v":""},{"$f":"IF(ISTEXT(#REF!),#REF!,\"\")","v":""},{"$f":"IF(ISTEXT(#REF!),#REF!,\"\")","v":""},null,{"$f":"IF(ISTEXT(#REF!),#REF!,\"\")","v":""},{"$f":"IF(ISTEXT(#REF!),#REF!,\"\")","v":""},{"$f":"IF(ISNUMBER(#REF!),#REF!,\"\")","v":""},{"$f":"IF(ISTEXT(#REF!),#REF!,\"\")","v":""},null,{"$f":"IF(ISTEXT(#REF!),#REF!,\"\")","v":""},{"$f":"IF(ISTEXT(#REF!),#REF!,\"\")","v":""},{"$f":"IF(ISTEXT(#REF!),#REF!,\"\")","v":""},{"$f":"IF(ISTEXT(#REF!),#REF!,\"\")","v":""},{"$f":"IF(ISTEXT(#REF!),#REF!,\"\")","v":""},{"$f":"IF(ISTEXT(#REF!),#REF!,\"\")","v":""},{"$f":"IF(ISTEXT(#REF!),#REF!,\"\")","v":""},null,{"$f":"IF(ISTEXT(#REF!),#REF!,\"\")","v":""},{"$f":"IF(ISTEXT(#REF!),#REF!,\"\")","v":""},{"$f":"IF(ISNUMBER(#REF!),#REF!,\"\")","v":""},{"$f":"IF(ISTEXT(#REF!),#REF!,\"\")","v":""},{"$f":"IF(ISTEXT(#REF!),#REF!,\"\")","v":""},{"$f":"IF(ISTEXT(#REF!),#REF!,\"\")","v":""},{"$f":"IF(ISTEXT(#REF!),#REF!,\"\")","v":""},{"$f":"IF(ISTEXT(#REF!),#REF!,\"\")","v":""},{"$f":"IF(ISTEXT(#REF!),#REF!,\"\")","v":""},{"$f":"IF(ISTEXT(#REF!),#REF!,\"\")","v":""},{"$f":"IF(ISTEXT(#REF!),#REF!,\"\")","v":""},null,{"$f":"IF(ISTEXT(#REF!),#REF!,\"\")","v":""},{"$f":"IF(ISTEXT(#REF!),#REF!,\"\")","v":""},{"$f":"IF(ISNUMBER(#REF!),#REF!,\"\")","v":""},{"$f":"IF(ISTEXT(#REF!),#REF!,\"\")","v":""},null,{"$f":"IF(ISTEXT(#REF!),#REF!,\"\")","v":""},{"$f":"IF(ISTEXT(#REF!),#REF!,\"\")","v":""},{"$f":"IF(ISTEXT(#REF!),#REF!,\"\")","v":""},{"$f":"IF(ISTEXT(#REF!),#REF!,\"\")","v":""},{"$f":"IF(ISTEXT(#REF!),#REF!,\"\")","v":""},{"$f":"IF(ISTEXT(#REF!),#REF!,\"\")","v":""},{"$f":"IF(ISTEXT(#REF!),#REF!,\"\")","v":""},null,{"$f":"IF(ISTEXT(#REF!),#REF!,\"\")","v":""},{"$f":"IF(ISTEXT(#REF!),#REF!,\"\")","v":""},{"$f":"IF(ISNUMBER(#REF!),#REF!,\"\")","v":""},{"$f":"IF(ISTEXT(#REF!),#REF!,\"\")","v":""},null,{"$f":"IF(ISTEXT(#REF!),#REF!,\"\")","v":""},{"$f":"IF(ISTEXT(#REF!),#REF!,\"\")","v":""},{"$f":"IF(ISTEXT(#REF!),#REF!,\"\")","v":""},{"$f":"IF(ISTEXT(#REF!),#REF!,\"\")","v":""},{"$f":"IF(ISTEXT(#REF!),#REF!,\"\")","v":""},{"$f":"IF(ISTEXT(#REF!),#REF!,\"\")","v":""},{"$f":"IF(ISTEXT(#REF!),#REF!,\"\")","v":""},null,{"$f":"IF(ISTEXT(#REF!),#REF!,\"\")","v":""},{"$f":"IF(ISTEXT(#REF!),#REF!,\"\")","v":""},{"$f":"IF(ISNUMBER(#REF!),#REF!,\"\")","v":""},{"$f":"IF(ISTEXT(#REF!),#REF!,\"\")","v":""}]
[null,null,{"$f":"IF(ISTEXT(#REF!),#REF!,\"\")","v":""},{"$f":"IF(ISTEXT(#REF!),#REF!,\"\")","v":""},{"$f":"IF(ISTEXT(#REF!),#REF!,\"\")","v":""},{"$f":"IF(ISTEXT(#REF!),#REF!,\"\")","v":""},{"$f":"IF(ISTEXT(#REF!),#REF!,\"\")","v":""},{"$f":"IF(ISTEXT(#REF!),#REF!,\"\")","v":""},{"$f":"IF(ISTEXT(#REF!),#REF!,\"\")","v":""},null,{"$f":"IF(ISTEXT(#REF!),#REF!,\"\")","v":""},{"$f":"IF(ISTEXT(#REF!),#REF!,\"\")","v":""},{"$f":"IF(ISNUMBER(#REF!),#REF!,\"\")","v":""},{"$f":"IF(ISTEXT(#REF!),#REF!,\"\")","v":""},null,{"$f":"IF(ISTEXT(#REF!),#REF!,\"\")","v":""},{"$f":"IF(ISTEXT(#REF!),#REF!,\"\")","v":""},{"$f":"IF(ISTEXT(#REF!),#REF!,\"\")","v":""},{"$f":"IF(ISTEXT(#REF!),#REF!,\"\")","v":""},{"$f":"IF(ISTEXT(#REF!),#REF!,\"\")","v":""},{"$f":"IF(ISTEXT(#REF!),#REF!,\"\")","v":""},{"$f":"IF(ISTEXT(#REF!),#REF!,\"\")","v":""},null,{"$f":"IF(ISTEXT(#REF!),#REF!,\"\")","v":""},{"$f":"IF(ISTEXT(#REF!),#REF!,\"\")","v":""},{"$f":"IF(ISNUMBER(#REF!),#REF!,\"\")","v":""},{"$f":"IF(ISTEXT(#REF!),#REF!,\"\")","v":""},{"$f":"IF(ISTEXT(#REF!),#REF!,\"\")","v":""},{"$f":"IF(ISTEXT(#REF!),#REF!,\"\")","v":""},{"$f":"IF(ISTEXT(#REF!),#REF!,\"\")","v":""},{"$f":"IF(ISTEXT(#REF!),#REF!,\"\")","v":""},{"$f":"IF(ISTEXT(#REF!),#REF!,\"\")","v":""},{"$f":"IF(ISTEXT(#REF!),#REF!,\"\")","v":""},{"$f":"IF(ISTEXT(#REF!),#REF!,\"\")","v":""},null,{"$f":"IF(ISTEXT(#REF!),#REF!,\"\")","v":""},{"$f":"IF(ISTEXT(#REF!),#REF!,\"\")","v":""},{"$f":"IF(ISNUMBER(#REF!),#REF!,\"\")","v":""},{"$f":"IF(ISTEXT(#REF!),#REF!,\"\")","v":""},null,{"$f":"IF(ISTEXT(#REF!),#REF!,\"\")","v":""},{"$f":"IF(ISTEXT(#REF!),#REF!,\"\")","v":""},{"$f":"IF(ISTEXT(#REF!),#REF!,\"\")","v":""},{"$f":"IF(ISTEXT(#REF!),#REF!,\"\")","v":""},{"$f":"IF(ISTEXT(#REF!),#REF!,\"\")","v":""},{"$f":"IF(ISTEXT(#REF!),#REF!,\"\")","v":""},{"$f":"IF(ISTEXT(#REF!),#REF!,\"\")","v":""},null,{"$f":"IF(ISTEXT(#REF!),#REF!,\"\")","v":""},{"$f":"IF(ISTEXT(#REF!),#REF!,\"\")","v":""},{"$f":"IF(ISNUMBER(#REF!),#REF!,\"\")","v":""},{"$f":"IF(ISTEXT(#REF!),#REF!,\"\")","v":""},null,{"$f":"IF(ISTEXT(#REF!),#REF!,\"\")","v":""},{"$f":"IF(ISTEXT(#REF!),#REF!,\"\")","v":""},{"$f":"IF(ISTEXT(#REF!),#REF!,\"\")","v":""},{"$f":"IF(ISTEXT(#REF!),#REF!,\"\")","v":""},{"$f":"IF(ISTEXT(#REF!),#REF!,\"\")","v":""},{"$f":"IF(ISTEXT(#REF!),#REF!,\"\")","v":""},{"$f":"IF(ISTEXT(#REF!),#REF!,\"\")","v":""},null,{"$f":"IF(ISTEXT(#REF!),#REF!,\"\")","v":""},{"$f":"IF(ISTEXT(#REF!),#REF!,\"\")","v":""},{"$f":"IF(ISNUMBER(#REF!),#REF!,\"\")","v":""},{"$f":"IF(ISTEXT(#REF!),#REF!,\"\")","v":""}]
[null,null,{"$f":"IF(ISTEXT(#REF!),#REF!,\"\")","v":""},{"$f":"IF(ISTEXT(#REF!),#REF!,\"\")","v":""},{"$f":"IF(ISTEXT(#REF!),#REF!,\"\")","v":""},null,{"$f":"IF(ISTEXT(#REF!),#REF!,\"\")","v":""},{"$f":"IF(ISTEXT(#REF!),#REF!,\"\")","v":""},{"$f":"IF(ISTEXT(#REF!),#REF!,\"\")","v":""},null,{"$f":"IF(ISTEXT(#REF!),#REF!,\"\")","v":""},{"$f":"IF(ISTEXT(#REF!),#REF!,\"\")","v":""},{"$f":"IF(ISNUMBER(#REF!),#REF!,\"\")","v":""},{"$f":"IF(ISTEXT(#REF!),#REF!,\"\")","v":""},null,{"$f":"IF(ISTEXT(#REF!),#REF!,\"\")","v":""},{"$f":"IF(ISTEXT(#REF!),#REF!,\"\")","v":""},{"$f":"IF(ISTEXT(#REF!),#REF!,\"\")","v":""},{"$f":"IF(ISTEXT(#REF!),#REF!,\"\")","v":""},{"$f":"IF(ISTEXT(#REF!),#REF!,\"\")","v":""},{"$f":"IF(ISTEXT(#REF!),#REF!,\"\")","v":""},{"$f":"IF(ISTEXT(#REF!),#REF!,\"\")","v":""},null,{"$f":"IF(ISTEXT(#REF!),#REF!,\"\")","v":""},{"$f":"IF(ISTEXT(#REF!),#REF!,\"\")","v":""},{"$f":"IF(ISNUMBER(#REF!),#REF!,\"\")","v":""},{"$f":"IF(ISTEXT(#REF!),#REF!,\"\")","v":""},{"$f":"IF(ISTEXT(#REF!),#REF!,\"\")","v":""},{"$f":"IF(ISTEXT(#REF!),#REF!,\"\")","v":""},{"$f":"IF(ISTEXT(#REF!),#REF!,\"\")","v":""},{"$f":"IF(ISTEXT(#REF!),#REF!,\"\")","v":""},{"$f":"IF(ISTEXT(#REF!),#REF!,\"\")","v":""},{"$f":"IF(ISTEXT(#REF!),#REF!,\"\")","v":""},{"$f":"IF(ISTEXT(#REF!),#REF!,\"\")","v":""},null,{"$f":"IF(ISTEXT(#REF!),#REF!,\"\")","v":""},{"$f":"IF(ISTEXT(#REF!),#REF!,\"\")","v":""},{"$f":"IF(ISNUMBER(#REF!),#REF!,\"\")","v":""},{"$f":"IF(ISTEXT(#REF!),#REF!,\"\")","v":""},null,{"$f":"IF(ISTEXT(#REF!),#REF!,\"\")","v":""},{"$f":"IF(ISTEXT(#REF!),#REF!,\"\")","v":""},{"$f":"IF(ISTEXT(#REF!),#REF!,\"\")","v":""},{"$f":"IF(ISTEXT(#REF!),#REF!,\"\")","v":""},{"$f":"IF(ISTEXT(#REF!),#REF!,\"\")","v":""},{"$f":"IF(ISTEXT(#REF!),#REF!,\"\")","v":""},{"$f":"IF(ISTEXT(#REF!),#REF!,\"\")","v":""},null,{"$f":"IF(ISTEXT(#REF!),#REF!,\"\")","v":""},{"$f":"IF(ISTEXT(#REF!),#REF!,\"\")","v":""},{"$f":"IF(ISNUMBER(#REF!),#REF!,\"\")","v":""},{"$f":"IF(ISTEXT(#REF!),#REF!,\"\")","v":""},null,{"$f":"IF(ISTEXT(#REF!),#REF!,\"\")","v":""},{"$f":"IF(ISTEXT(#REF!),#REF!,\"\")","v":""},{"$f":"IF(ISTEXT(#REF!),#REF!,\"\")","v":""},{"$f":"IF(ISTEXT(#REF!),#REF!,\"\")","v":""},{"$f":"IF(ISTEXT(#REF!),#REF!,\"\")","v":""},{"$f":"IF(ISTEXT(#REF!),#REF!,\"\")","v":""},{"$f":"IF(ISTEXT(#REF!),#REF!,\"\")","v":""},null,{"$f":"IF(ISTEXT(#REF!),#REF!,\"\")","v":""},{"$f":"IF(ISTEXT(#REF!),#REF!,\"\")","v":""},{"$f":"IF(ISNUMBER(#REF!),#REF!,\"\")","v":""},{"$f":"IF(ISTEXT(#REF!),#REF!,\"\")","v":""}]
[null,null,{"$f":"IF(ISTEXT(#REF!),#REF!,\"\")","v":""},{"$f":"IF(ISTEXT(#REF!),#REF!,\"\")","v":""},{"$f":"IF(ISTEXT(#REF!),#REF!,\"\")","v":""},null,{"$f":"IF(ISTEXT(#REF!),#REF!,\"\")","v":""},{"$f":"IF(ISTEXT(#REF!),#REF!,\"\")","v":""},{"$f":"IF(ISTEXT(#REF!),#REF!,\"\")","v":""},null,{"$f":"IF(ISTEXT(#REF!),#REF!,\"\")","v":""},{"$f":"IF(ISTEXT(#REF!),#REF!,\"\")","v":""},{"$f":"IF(ISNUMBER(#REF!),#REF!,\"\")","v":""},{"$f":"IF(ISTEXT(#REF!),#REF!,\"\")","v":""},null,{"$f":"IF(ISTEXT(#REF!),#REF!,\"\")","v":""},{"$f":"IF(ISTEXT(#REF!),#REF!,\"\")","v":""},{"$f":"IF(ISTEXT(#REF!),#REF!,\"\")","v":""},{"$f":"IF(ISTEXT(#REF!),#REF!,\"\")","v":""},{"$f":"IF(ISTEXT(#REF!),#REF!,\"\")","v":""},{"$f":"IF(ISTEXT(#REF!),#REF!,\"\")","v":""},{"$f":"IF(ISTEXT(#REF!),#REF!,\"\")","v":""},null,{"$f":"IF(ISTEXT(#REF!),#REF!,\"\")","v":""},{"$f":"IF(ISTEXT(#REF!),#REF!,\"\")","v":""},{"$f":"IF(ISNUMBER(#REF!),#REF!,\"\")","v":""},{"$f":"IF(ISTEXT(#REF!),#REF!,\"\")","v":""},{"$f":"IF(ISTEXT(#REF!),#REF!,\"\")","v":""},{"$f":"IF(ISTEXT(#REF!),#REF!,\"\")","v":""},{"$f":"IF(ISTEXT(#REF!),#REF!,\"\")","v":""},{"$f":"IF(ISTEXT(#REF!),#REF!,\"\")","v":""},{"$f":"IF(ISTEXT(#REF!),#REF!,\"\")","v":""},{"$f":"IF(ISTEXT(#REF!),#REF!,\"\")","v":""},{"$f":"IF(ISTEXT(#REF!),#REF!,\"\")","v":""},null,{"$f":"IF(ISTEXT(#REF!),#REF!,\"\")","v":""},{"$f":"IF(ISTEXT(#REF!),#REF!,\"\")","v":""},{"$f":"IF(ISNUMBER(#REF!),#REF!,\"\")","v":""},{"$f":"IF(ISTEXT(#REF!),#REF!,\"\")","v":""},null,{"$f":"IF(ISTEXT(#REF!),#REF!,\"\")","v":""},{"$f":"IF(ISTEXT(#REF!),#REF!,\"\")","v":""},{"$f":"IF(ISTEXT(#REF!),#REF!,\"\")","v":""},{"$f":"IF(ISTEXT(#REF!),#REF!,\"\")","v":""},{"$f":"IF(ISTEXT(#REF!),#REF!,\"\")","v":""},{"$f":"IF(ISTEXT(#REF!),#REF!,\"\")","v":""},{"$f":"IF(ISTEXT(#REF!),#REF!,\"\")","v":""},null,{"$f":"IF(ISTEXT(#REF!),#REF!,\"\")","v":""},{"$f":"IF(ISTEXT(#REF!),#REF!,\"\")","v":""},{"$f":"IF(ISNUMBER(#REF!),#REF!,\"\")","v":""},{"$f":"IF(ISTEXT(#REF!),#REF!,\"\")","v":""},null,{"$f":"IF(ISTEXT(#REF!),#REF!,\"\")","v":""},{"$f":"IF(ISTEXT(#REF!),#REF!,\"\")","v":""},{"$f":"IF(ISTEXT(#REF!),#REF!,\"\")","v":""},{"$f":"IF(ISTEXT(#REF!),#REF!,\"\")","v":""},{"$f":"IF(ISTEXT(#REF!),#REF!,\"\")","v":""},{"$f":"IF(ISTEXT(#REF!),#REF!,\"\")","v":""},{"$f":"IF(ISTEXT(#REF!),#REF!,\"\")","v":""},null,{"$f":"IF(ISTEXT(#REF!),#REF!,\"\")","v":""},{"$f":"IF(ISTEXT(#REF!),#REF!,\"\")","v":""},{"$f":"IF(ISNUMBER(#REF!),#REF!,\"\")","v":""},{"$f":"IF(ISTEXT(#REF!),#REF!,\"\")","v":""}]
[null,null,{"$f":"IF(ISTEXT(#REF!),#REF!,\"\")","v":""},{"$f":"IF(ISTEXT(#REF!),#REF!,\"\")","v":""},{"$f":"IF(ISTEXT(#REF!),#REF!,\"\")","v":""},null,{"$f":"IF(ISTEXT(#REF!),#REF!,\"\")","v":""},{"$f":"IF(ISTEXT(#REF!),#REF!,\"\")","v":""},{"$f":"IF(ISTEXT(#REF!),#REF!,\"\")","v":""},null,{"$f":"IF(ISTEXT(#REF!),#REF!,\"\")","v":""},{"$f":"IF(ISTEXT(#REF!),#REF!,\"\")","v":""},{"$f":"IF(ISNUMBER(#REF!),#REF!,\"\")","v":""},{"$f":"IF(ISTEXT(#REF!),#REF!,\"\")","v":""},null,{"$f":"IF(ISTEXT(#REF!),#REF!,\"\")","v":""},{"$f":"IF(ISTEXT(#REF!),#REF!,\"\")","v":""},{"$f":"IF(ISTEXT(#REF!),#REF!,\"\")","v":""},{"$f":"IF(ISTEXT(#REF!),#REF!,\"\")","v":""},{"$f":"IF(ISTEXT(#REF!),#REF!,\"\")","v":""},{"$f":"IF(ISTEXT(#REF!),#REF!,\"\")","v":""},{"$f":"IF(ISTEXT(#REF!),#REF!,\"\")","v":""},null,{"$f":"IF(ISTEXT(#REF!),#REF!,\"\")","v":""},{"$f":"IF(ISTEXT(#REF!),#REF!,\"\")","v":""},{"$f":"IF(ISNUMBER(#REF!),#REF!,\"\")","v":""},{"$f":"IF(ISTEXT(#REF!),#REF!,\"\")","v":""},{"$f":"IF(ISTEXT(#REF!),#REF!,\"\")","v":""},{"$f":"IF(ISTEXT(#REF!),#REF!,\"\")","v":""},{"$f":"IF(ISTEXT(#REF!),#REF!,\"\")","v":""},{"$f":"IF(ISTEXT(#REF!),#REF!,\"\")","v":""},{"$f":"IF(ISTEXT(#REF!),#REF!,\"\")","v":""},{"$f":"IF(ISTEXT(#REF!),#REF!,\"\")","v":""},{"$f":"IF(ISTEXT(#REF!),#REF!,\"\")","v":""},null,{"$f":"IF(ISTEXT(#REF!),#REF!,\"\")","v":""},{"$f":"IF(ISTEXT(#REF!),#REF!,\"\")","v":""},{"$f":"IF(ISNUMBER(#REF!),#REF!,\"\")","v":""},{"$f":"IF(ISTEXT(#REF!),#REF!,\"\")","v":""},null,{"$f":"IF(ISTEXT(#REF!),#REF!,\"\")","v":""},{"$f":"IF(ISTEXT(#REF!),#REF!,\"\")","v":""},{"$f":"IF(ISTEXT(#REF!),#REF!,\"\")","v":""},{"$f":"IF(ISTEXT(#REF!),#REF!,\"\")","v":""},{"$f":"IF(ISTEXT(#REF!),#REF!,\"\")","v":""},{"$f":"IF(ISTEXT(#REF!),#REF!,\"\")","v":""},{"$f":"IF(ISTEXT(#REF!),#REF!,\"\")","v":""},null,{"$f":"IF(ISTEXT(#REF!),#REF!,\"\")","v":""},{"$f":"IF(ISTEXT(#REF!),#REF!,\"\")","v":""},{"$f":"IF(ISNUMBER(#REF!),#REF!,\"\")","v":""},{"$f":"IF(ISTEXT(#REF!),#REF!,\"\")","v":""},null,{"$f":"IF(ISTEXT(#REF!),#REF!,\"\")","v":""},{"$f":"IF(ISTEXT(#REF!),#REF!,\"\")","v":""},{"$f":"IF(ISTEXT(#REF!),#REF!,\"\")","v":""},{"$f":"IF(ISTEXT(#REF!),#REF!,\"\")","v":""},{"$f":"IF(ISTEXT(#REF!),#REF!,\"\")","v":""},{"$f":"IF(ISTEXT(#REF!),#REF!,\"\")","v":""},{"$f":"IF(ISTEXT(#REF!),#REF!,\"\")","v":""},null,{"$f":"IF(ISTEXT(#REF!),#REF!,\"\")","v":""},{"$f":"IF(ISTEXT(#REF!),#REF!,\"\")","v":""},{"$f":"IF(ISNUMBER(#REF!),#REF!,\"\")","v":""},{"$f":"IF(ISTEXT(#REF!),#REF!,\"\")","v":""}]
[null,null,{"$f":"IF(ISTEXT(#REF!),#REF!,\"\")","v":""},{"$f":"IF(ISTEXT(#REF!),#REF!,\"\")","v":""},{"$f":"IF(ISTEXT(#REF!),#REF!,\"\")","v":""},null,{"$f":"IF(ISTEXT(#REF!),#REF!,\"\")","v":""},{"$f":"IF(ISTEXT(#REF!),#REF!,\"\")","v":""},{"$f":"IF(ISTEXT(#REF!),#REF!,\"\")","v":""},null,{"$f":"IF(ISTEXT(#REF!),#REF!,\"\")","v":""},{"$f":"IF(ISTEXT(#REF!),#REF!,\"\")","v":""},{"$f":"IF(ISNUMBER(#REF!),#REF!,\"\")","v":""},{"$f":"IF(ISTEXT(#REF!),#REF!,\"\")","v":""},null,{"$f":"IF(ISTEXT(#REF!),#REF!,\"\")","v":""},{"$f":"IF(ISTEXT(#REF!),#REF!,\"\")","v":""},{"$f":"IF(ISTEXT(#REF!),#REF!,\"\")","v":""},{"$f":"IF(ISTEXT(#REF!),#REF!,\"\")","v":""},{"$f":"IF(ISTEXT(#REF!),#REF!,\"\")","v":""},{"$f":"IF(ISTEXT(#REF!),#REF!,\"\")","v":""},{"$f":"IF(ISTEXT(#REF!),#REF!,\"\")","v":""},null,{"$f":"IF(ISTEXT(#REF!),#REF!,\"\")","v":""},{"$f":"IF(ISTEXT(#REF!),#REF!,\"\")","v":""},{"$f":"IF(ISNUMBER(#REF!),#REF!,\"\")","v":""},{"$f":"IF(ISTEXT(#REF!),#REF!,\"\")","v":""},{"$f":"IF(ISTEXT(#REF!),#REF!,\"\")","v":""},{"$f":"IF(ISTEXT(#REF!),#REF!,\"\")","v":""},{"$f":"IF(ISTEXT(#REF!),#REF!,\"\")","v":""},{"$f":"IF(ISTEXT(#REF!),#REF!,\"\")","v":""},{"$f":"IF(ISTEXT(#REF!),#REF!,\"\")","v":""},{"$f":"IF(ISTEXT(#REF!),#REF!,\"\")","v":""},{"$f":"IF(ISTEXT(#REF!),#REF!,\"\")","v":""},null,{"$f":"IF(ISTEXT(#REF!),#REF!,\"\")","v":""},{"$f":"IF(ISTEXT(#REF!),#REF!,\"\")","v":""},{"$f":"IF(ISNUMBER(#REF!),#REF!,\"\")","v":""},{"$f":"IF(ISTEXT(#REF!),#REF!,\"\")","v":""},null,{"$f":"IF(ISTEXT(#REF!),#REF!,\"\")","v":""},{"$f":"IF(ISTEXT(#REF!),#REF!,\"\")","v":""},{"$f":"IF(ISTEXT(#REF!),#REF!,\"\")","v":""},{"$f":"IF(ISTEXT(#REF!),#REF!,\"\")","v":""},{"$f":"IF(ISTEXT(#REF!),#REF!,\"\")","v":""},{"$f":"IF(ISTEXT(#REF!),#REF!,\"\")","v":""},{"$f":"IF(ISTEXT(#REF!),#REF!,\"\")","v":""},null,{"$f":"IF(ISTEXT(#REF!),#REF!,\"\")","v":""},{"$f":"IF(ISTEXT(#REF!),#REF!,\"\")","v":""},{"$f":"IF(ISNUMBER(#REF!),#REF!,\"\")","v":""},{"$f":"IF(ISTEXT(#REF!),#REF!,\"\")","v":""},null,{"$f":"IF(ISTEXT(#REF!),#REF!,\"\")","v":""},{"$f":"IF(ISTEXT(#REF!),#REF!,\"\")","v":""},{"$f":"IF(ISTEXT(#REF!),#REF!,\"\")","v":""},{"$f":"IF(ISTEXT(#REF!),#REF!,\"\")","v":""},{"$f":"IF(ISTEXT(#REF!),#REF!,\"\")","v":""},{"$f":"IF(ISTEXT(#REF!),#REF!,\"\")","v":""},{"$f":"IF(ISTEXT(#REF!),#REF!,\"\")","v":""},null,{"$f":"IF(ISTEXT(#REF!),#REF!,\"\")","v":""},{"$f":"IF(ISTEXT(#REF!),#REF!,\"\")","v":""},{"$f":"IF(ISNUMBER(#REF!),#REF!,\"\")","v":""},{"$f":"IF(ISTEXT(#REF!),#REF!,\"\")","v":""}]
[null,null,{"$f":"IF(ISTEXT(#REF!),#REF!,\"\")","v":""},{"$f":"IF(ISTEXT(#REF!),#REF!,\"\")","v":""},{"$f":"IF(ISTEXT(#REF!),#REF!,\"\")","v":""},{"$f":"IF(ISTEXT(#REF!),#REF!,\"\")","v":""},{"$f":"IF(ISTEXT(#REF!),#REF!,\"\")","v":""},{"$f":"IF(ISTEXT(#REF!),#REF!,\"\")","v":""},{"$f":"IF(ISTEXT(#REF!),#REF!,\"\")","v":""},null,{"$f":"IF(ISTEXT(#REF!),#REF!,\"\")","v":""},{"$f":"IF(ISTEXT(#REF!),#REF!,\"\")","v":""},{"$f":"IF(ISNUMBER(#REF!),#REF!,\"\")","v":""},{"$f":"IF(ISTEXT(#REF!),#REF!,\"\")","v":""},null,{"$f":"IF(ISTEXT(#REF!),#REF!,\"\")","v":""},{"$f":"IF(ISTEXT(#REF!),#REF!,\"\")","v":""},{"$f":"IF(ISTEXT(#REF!),#REF!,\"\")","v":""},{"$f":"IF(ISTEXT(#REF!),#REF!,\"\")","v":""},{"$f":"IF(ISTEXT(#REF!),#REF!,\"\")","v":""},{"$f":"IF(ISTEXT(#REF!),#REF!,\"\")","v":""},{"$f":"IF(ISTEXT(#REF!),#REF!,\"\")","v":""},null,{"$f":"IF(ISTEXT(#REF!),#REF!,\"\")","v":""},{"$f":"IF(ISTEXT(#REF!),#REF!,\"\")","v":""},{"$f":"IF(ISNUMBER(#REF!),#REF!,\"\")","v":""},{"$f":"IF(ISTEXT(#REF!),#REF!,\"\")","v":""},{"$f":"IF(ISTEXT(#REF!),#REF!,\"\")","v":""},{"$f":"IF(ISTEXT(#REF!),#REF!,\"\")","v":""},{"$f":"IF(ISTEXT(#REF!),#REF!,\"\")","v":""},{"$f":"IF(ISTEXT(#REF!),#REF!,\"\")","v":""},{"$f":"IF(ISTEXT(#REF!),#REF!,\"\")","v":""},{"$f":"IF(ISTEXT(#REF!),#REF!,\"\")","v":""},{"$f":"IF(ISTEXT(#REF!),#REF!,\"\")","v":""},null,{"$f":"IF(ISTEXT(#REF!),#REF!,\"\")","v":""},{"$f":"IF(ISTEXT(#REF!),#REF!,\"\")","v":""},{"$f":"IF(ISNUMBER(#REF!),#REF!,\"\")","v":""},{"$f":"IF(ISTEXT(#REF!),#REF!,\"\")","v":""},null,{"$f":"IF(ISTEXT(#REF!),#REF!,\"\")","v":""},{"$f":"IF(ISTEXT(#REF!),#REF!,\"\")","v":""},{"$f":"IF(ISTEXT(#REF!),#REF!,\"\")","v":""},{"$f":"IF(ISTEXT(#REF!),#REF!,\"\")","v":""},{"$f":"IF(ISTEXT(#REF!),#REF!,\"\")","v":""},{"$f":"IF(ISTEXT(#REF!),#REF!,\"\")","v":""},{"$f":"IF(ISTEXT(#REF!),#REF!,\"\")","v":""},null,{"$f":"IF(ISTEXT(#REF!),#REF!,\"\")","v":""},{"$f":"IF(ISTEXT(#REF!),#REF!,\"\")","v":""},{"$f":"IF(ISNUMBER(#REF!),#REF!,\"\")","v":""},{"$f":"IF(ISTEXT(#REF!),#REF!,\"\")","v":""},null,{"$f":"IF(ISTEXT(#REF!),#REF!,\"\")","v":""},{"$f":"IF(ISTEXT(#REF!),#REF!,\"\")","v":""},{"$f":"IF(ISTEXT(#REF!),#REF!,\"\")","v":""},{"$f":"IF(ISTEXT(#REF!),#REF!,\"\")","v":""},{"$f":"IF(ISTEXT(#REF!),#REF!,\"\")","v":""},{"$f":"IF(ISTEXT(#REF!),#REF!,\"\")","v":""},{"$f":"IF(ISTEXT(#REF!),#REF!,\"\")","v":""},null,{"$f":"IF(ISTEXT(#REF!),#REF!,\"\")","v":""},{"$f":"IF(ISTEXT(#REF!),#REF!,\"\")","v":""},{"$f":"IF(ISNUMBER(#REF!),#REF!,\"\")","v":""},{"$f":"IF(ISTEXT(#REF!),#REF!,\"\")","v":""}]
[null,null,{"$f":"IF(ISTEXT(#REF!),#REF!,\"\")","v":""},{"$f":"IF(ISTEXT(#REF!),#REF!,\"\")","v":""},{"$f":"IF(ISTEXT(#REF!),#REF!,\"\")","v":""},{"$f":"IF(ISTEXT(#REF!),#REF!,\"\")","v":""},{"$f":"IF(ISTEXT(#REF!),#REF!,\"\")","v":""},{"$f":"IF(ISTEXT(#REF!),#REF!,\"\")","v":""},{"$f":"IF(ISTEXT(#REF!),#REF!,\"\")","v":""},null,{"$f":"IF(ISTEXT(#REF!),#REF!,\"\")","v":""},{"$f":"IF(ISTEXT(#REF!),#REF!,\"\")","v":""},{"$f":"IF(ISNUMBER(#REF!),#REF!,\"\")","v":""},{"$f":"IF(ISTEXT(#REF!),#REF!,\"\")","v":""},null,{"$f":"IF(ISTEXT(#REF!),#REF!,\"\")","v":""},{"$f":"IF(ISTEXT(#REF!),#REF!,\"\")","v":""},{"$f":"IF(ISTEXT(#REF!),#REF!,\"\")","v":""},{"$f":"IF(ISTEXT(#REF!),#REF!,\"\")","v":""},{"$f":"IF(ISTEXT(#REF!),#REF!,\"\")","v":""},{"$f":"IF(ISTEXT(#REF!),#REF!,\"\")","v":""},{"$f":"IF(ISTEXT(#REF!),#REF!,\"\")","v":""},null,{"$f":"IF(ISTEXT(#REF!),#REF!,\"\")","v":""},{"$f":"IF(ISTEXT(#REF!),#REF!,\"\")","v":""},{"$f":"IF(ISNUMBER(#REF!),#REF!,\"\")","v":""},{"$f":"IF(ISTEXT(#REF!),#REF!,\"\")","v":""},{"$f":"IF(ISTEXT(#REF!),#REF!,\"\")","v":""},{"$f":"IF(ISTEXT(#REF!),#REF!,\"\")","v":""},{"$f":"IF(ISTEXT(#REF!),#REF!,\"\")","v":""},{"$f":"IF(ISTEXT(#REF!),#REF!,\"\")","v":""},{"$f":"IF(ISTEXT(#REF!),#REF!,\"\")","v":""},{"$f":"IF(ISTEXT(#REF!),#REF!,\"\")","v":""},{"$f":"IF(ISTEXT(#REF!),#REF!,\"\")","v":""},null,{"$f":"IF(ISTEXT(#REF!),#REF!,\"\")","v":""},{"$f":"IF(ISTEXT(#REF!),#REF!,\"\")","v":""},{"$f":"IF(ISNUMBER(#REF!),#REF!,\"\")","v":""},{"$f":"IF(ISTEXT(#REF!),#REF!,\"\")","v":""},null,{"$f":"IF(ISTEXT(#REF!),#REF!,\"\")","v":""},{"$f":"IF(ISTEXT(#REF!),#REF!,\"\")","v":""},{"$f":"IF(ISTEXT(#REF!),#REF!,\"\")","v":""},{"$f":"IF(ISTEXT(#REF!),#REF!,\"\")","v":""},{"$f":"IF(ISTEXT(#REF!),#REF!,\"\")","v":""},{"$f":"IF(ISTEXT(#REF!),#REF!,\"\")","v":""},{"$f":"IF(ISTEXT(#REF!),#REF!,\"\")","v":""},null,{"$f":"IF(ISTEXT(#REF!),#REF!,\"\")","v":""},{"$f":"IF(ISTEXT(#REF!),#REF!,\"\")","v":""},{"$f":"IF(ISNUMBER(#REF!),#REF!,\"\")","v":""},{"$f":"IF(ISTEXT(#REF!),#REF!,\"\")","v":""},null,{"$f":"IF(ISTEXT(#REF!),#REF!,\"\")","v":""},{"$f":"IF(ISTEXT(#REF!),#REF!,\"\")","v":""},{"$f":"IF(ISTEXT(#REF!),#REF!,\"\")","v":""},{"$f":"IF(ISTEXT(#REF!),#REF!,\"\")","v":""},{"$f":"IF(ISTEXT(#REF!),#REF!,\"\")","v":""},{"$f":"IF(ISTEXT(#REF!),#REF!,\"\")","v":""},{"$f":"IF(ISTEXT(#REF!),#REF!,\"\")","v":""},null,{"$f":"IF(ISTEXT(#REF!),#REF!,\"\")","v":""},{"$f":"IF(ISTEXT(#REF!),#REF!,\"\")","v":""},{"$f":"IF(ISNUMBER(#REF!),#REF!,\"\")","v":""},{"$f":"IF(ISTEXT(#REF!),#REF!,\"\")","v":""}]
[null,null,{"$f":"IF(ISTEXT(#REF!),#REF!,\"\")","v":""},{"$f":"IF(ISTEXT(#REF!),#REF!,\"\")","v":""},{"$f":"IF(ISTEXT(#REF!),#REF!,\"\")","v":""},{"$f":"IF(ISTEXT(#REF!),#REF!,\"\")","v":""},{"$f":"IF(ISTEXT(#REF!),#REF!,\"\")","v":""},{"$f":"IF(ISTEXT(#REF!),#REF!,\"\")","v":""},{"$f":"IF(ISTEXT(#REF!),#REF!,\"\")","v":""},null,{"$f":"IF(ISTEXT(#REF!),#REF!,\"\")","v":""},{"$f":"IF(ISTEXT(#REF!),#REF!,\"\")","v":""},{"$f":"IF(ISNUMBER(#REF!),#REF!,\"\")","v":""},{"$f":"IF(ISTEXT(#REF!),#REF!,\"\")","v":""},null,{"$f":"IF(ISTEXT(#REF!),#REF!,\"\")","v":""},{"$f":"IF(ISTEXT(#REF!),#REF!,\"\")","v":""},{"$f":"IF(ISTEXT(#REF!),#REF!,\"\")","v":""},{"$f":"IF(ISTEXT(#REF!),#REF!,\"\")","v":""},{"$f":"IF(ISTEXT(#REF!),#REF!,\"\")","v":""},{"$f":"IF(ISTEXT(#REF!),#REF!,\"\")","v":""},{"$f":"IF(ISTEXT(#REF!),#REF!,\"\")","v":""},null,{"$f":"IF(ISTEXT(#REF!),#REF!,\"\")","v":""},{"$f":"IF(ISTEXT(#REF!),#REF!,\"\")","v":""},{"$f":"IF(ISNUMBER(#REF!),#REF!,\"\")","v":""},{"$f":"IF(ISTEXT(#REF!),#REF!,\"\")","v":""},{"$f":"IF(ISTEXT(#REF!),#REF!,\"\")","v":""},{"$f":"IF(ISTEXT(#REF!),#REF!,\"\")","v":""},{"$f":"IF(ISTEXT(#REF!),#REF!,\"\")","v":""},{"$f":"IF(ISTEXT(#REF!),#REF!,\"\")","v":""},{"$f":"IF(ISTEXT(#REF!),#REF!,\"\")","v":""},{"$f":"IF(ISTEXT(#REF!),#REF!,\"\")","v":""},{"$f":"IF(ISTEXT(#REF!),#REF!,\"\")","v":""},null,{"$f":"IF(ISTEXT(#REF!),#REF!,\"\")","v":""},{"$f":"IF(ISTEXT(#REF!),#REF!,\"\")","v":""},{"$f":"IF(ISNUMBER(#REF!),#REF!,\"\")","v":""},{"$f":"IF(ISTEXT(#REF!),#REF!,\"\")","v":""},null,{"$f":"IF(ISTEXT(#REF!),#REF!,\"\")","v":""},{"$f":"IF(ISTEXT(#REF!),#REF!,\"\")","v":""},{"$f":"IF(ISTEXT(#REF!),#REF!,\"\")","v":""},{"$f":"IF(ISTEXT(#REF!),#REF!,\"\")","v":""},{"$f":"IF(ISTEXT(#REF!),#REF!,\"\")","v":""},{"$f":"IF(ISTEXT(#REF!),#REF!,\"\")","v":""},{"$f":"IF(ISTEXT(#REF!),#REF!,\"\")","v":""},null,{"$f":"IF(ISTEXT(#REF!),#REF!,\"\")","v":""},{"$f":"IF(ISTEXT(#REF!),#REF!,\"\")","v":""},{"$f":"IF(ISNUMBER(#REF!),#REF!,\"\")","v":""},{"$f":"IF(ISTEXT(#REF!),#REF!,\"\")","v":""},null,{"$f":"IF(ISTEXT(#REF!),#REF!,\"\")","v":""},{"$f":"IF(ISTEXT(#REF!),#REF!,\"\")","v":""},{"$f":"IF(ISTEXT(#REF!),#REF!,\"\")","v":""},{"$f":"IF(ISTEXT(#REF!),#REF!,\"\")","v":""},{"$f":"IF(ISTEXT(#REF!),#REF!,\"\")","v":""},{"$f":"IF(ISTEXT(#REF!),#REF!,\"\")","v":""},{"$f":"IF(ISTEXT(#REF!),#REF!,\"\")","v":""},null,{"$f":"IF(ISTEXT(#REF!),#REF!,\"\")","v":""},{"$f":"IF(ISTEXT(#REF!),#REF!,\"\")","v":""},{"$f":"IF(ISNUMBER(#REF!),#REF!,\"\")","v":""},{"$f":"IF(ISTEXT(#REF!),#REF!,\"\")","v":""}]
[null,null,{"$f":"IF(ISTEXT(#REF!),#REF!,\"\")","v":""},{"$f":"IF(ISTEXT(#REF!),#REF!,\"\")","v":""},{"$f":"IF(ISTEXT(#REF!),#REF!,\"\")","v":""},{"$f":"IF(ISTEXT(#REF!),#REF!,\"\")","v":""},{"$f":"IF(ISTEXT(#REF!),#REF!,\"\")","v":""},{"$f":"IF(ISTEXT(#REF!),#REF!,\"\")","v":""},{"$f":"IF(ISTEXT(#REF!),#REF!,\"\")","v":""},null,{"$f":"IF(ISTEXT(#REF!),#REF!,\"\")","v":""},{"$f":"IF(ISTEXT(#REF!),#REF!,\"\")","v":""},{"$f":"IF(ISNUMBER(#REF!),#REF!,\"\")","v":""},{"$f":"IF(ISTEXT(#REF!),#REF!,\"\")","v":""},null,{"$f":"IF(ISTEXT(#REF!),#REF!,\"\")","v":""},{"$f":"IF(ISTEXT(#REF!),#REF!,\"\")","v":""},{"$f":"IF(ISTEXT(#REF!),#REF!,\"\")","v":""},{"$f":"IF(ISTEXT(#REF!),#REF!,\"\")","v":""},{"$f":"IF(ISTEXT(#REF!),#REF!,\"\")","v":""},{"$f":"IF(ISTEXT(#REF!),#REF!,\"\")","v":""},{"$f":"IF(ISTEXT(#REF!),#REF!,\"\")","v":""},null,{"$f":"IF(ISTEXT(#REF!),#REF!,\"\")","v":""},{"$f":"IF(ISTEXT(#REF!),#REF!,\"\")","v":""},{"$f":"IF(ISNUMBER(#REF!),#REF!,\"\")","v":""},{"$f":"IF(ISTEXT(#REF!),#REF!,\"\")","v":""},{"$f":"IF(ISTEXT(#REF!),#REF!,\"\")","v":""},{"$f":"IF(ISTEXT(#REF!),#REF!,\"\")","v":""},{"$f":"IF(ISTEXT(#REF!),#REF!,\"\")","v":""},{"$f":"IF(ISTEXT(#REF!),#REF!,\"\")","v":""},{"$f":"IF(ISTEXT(#REF!),#REF!,\"\")","v":""},{"$f":"IF(ISTEXT(#REF!),#REF!,\"\")","v":""},{"$f":"IF(ISTEXT(#REF!),#REF!,\"\")","v":""},null,{"$f":"IF(ISTEXT(#REF!),#REF!,\"\")","v":""},{"$f":"IF(ISTEXT(#REF!),#REF!,\"\")","v":""},{"$f":"IF(ISNUMBER(#REF!),#REF!,\"\")","v":""},{"$f":"IF(ISTEXT(#REF!),#REF!,\"\")","v":""},null,{"$f":"IF(ISTEXT(#REF!),#REF!,\"\")","v":""},{"$f":"IF(ISTEXT(#REF!),#REF!,\"\")","v":""},{"$f":"IF(ISTEXT(#REF!),#REF!,\"\")","v":""},{"$f":"IF(ISTEXT(#REF!),#REF!,\"\")","v":""},{"$f":"IF(ISTEXT(#REF!),#REF!,\"\")","v":""},{"$f":"IF(ISTEXT(#REF!),#REF!,\"\")","v":""},{"$f":"IF(ISTEXT(#REF!),#REF!,\"\")","v":""},null,{"$f":"IF(ISTEXT(#REF!),#REF!,\"\")","v":""},{"$f":"IF(ISTEXT(#REF!),#REF!,\"\")","v":""},{"$f":"IF(ISNUMBER(#REF!),#REF!,\"\")","v":""},{"$f":"IF(ISTEXT(#REF!),#REF!,\"\")","v":""},null,{"$f":"IF(ISTEXT(#REF!),#REF!,\"\")","v":""},{"$f":"IF(ISTEXT(#REF!),#REF!,\"\")","v":""},{"$f":"IF(ISTEXT(#REF!),#REF!,\"\")","v":""},{"$f":"IF(ISTEXT(#REF!),#REF!,\"\")","v":""},{"$f":"IF(ISTEXT(#REF!),#REF!,\"\")","v":""},{"$f":"IF(ISTEXT(#REF!),#REF!,\"\")","v":""},{"$f":"IF(ISTEXT(#REF!),#REF!,\"\")","v":""},null,{"$f":"IF(ISTEXT(#REF!),#REF!,\"\")","v":""},{"$f":"IF(ISTEXT(#REF!),#REF!,\"\")","v":""},{"$f":"IF(ISNUMBER(#REF!),#REF!,\"\")","v":""},{"$f":"IF(ISTEXT(#REF!),#REF!,\"\")","v":""}]
[null,null,{"$f":"IF(ISTEXT(#REF!),#REF!,\"\")","v":""},{"$f":"IF(ISTEXT(#REF!),#REF!,\"\")","v":""},{"$f":"IF(ISTEXT(#REF!),#REF!,\"\")","v":""},{"$f":"IF(ISTEXT(#REF!),#REF!,\"\")","v":""},{"$f":"IF(ISTEXT(#REF!),#REF!,\"\")","v":""},{"$f":"IF(ISTEXT(#REF!),#REF!,\"\")","v":""},{"$f":"IF(ISTEXT(#REF!),#REF!,\"\")","v":""},null,{"$f":"IF(ISTEXT(#REF!),#REF!,\"\")","v":""},{"$f":"IF(ISTEXT(#REF!),#REF!,\"\")","v":""},{"$f":"IF(ISNUMBER(#REF!),#REF!,\"\")","v":""},{"$f":"IF(ISTEXT(#REF!),#REF!,\"\")","v":""},null,{"$f":"IF(ISTEXT(#REF!),#REF!,\"\")","v":""},{"$f":"IF(ISTEXT(#REF!),#REF!,\"\")","v":""},{"$f":"IF(ISTEXT(#REF!),#REF!,\"\")","v":""},{"$f":"IF(ISTEXT(#REF!),#REF!,\"\")","v":""},{"$f":"IF(ISTEXT(#REF!),#REF!,\"\")","v":""},{"$f":"IF(ISTEXT(#REF!),#REF!,\"\")","v":""},{"$f":"IF(ISTEXT(#REF!),#REF!,\"\")","v":""},null,{"$f":"IF(ISTEXT(#REF!),#REF!,\"\")","v":""},{"$f":"IF(ISTEXT(#REF!),#REF!,\"\")","v":""},{"$f":"IF(ISNUMBER(#REF!),#REF!,\"\")","v":""},{"$f":"IF(ISTEXT(#REF!),#REF!,\"\")","v":""},{"$f":"IF(ISTEXT(#REF!),#REF!,\"\")","v":""},{"$f":"IF(ISTEXT(#REF!),#REF!,\"\")","v":""},{"$f":"IF(ISTEXT(#REF!),#REF!,\"\")","v":""},{"$f":"IF(ISTEXT(#REF!),#REF!,\"\")","v":""},{"$f":"IF(ISTEXT(#REF!),#REF!,\"\")","v":""},{"$f":"IF(ISTEXT(#REF!),#REF!,\"\")","v":""},{"$f":"IF(ISTEXT(#REF!),#REF!,\"\")","v":""},null,{"$f":"IF(ISTEXT(#REF!),#REF!,\"\")","v":""},{"$f":"IF(ISTEXT(#REF!),#REF!,\"\")","v":""},{"$f":"IF(ISNUMBER(#REF!),#REF!,\"\")","v":""},{"$f":"IF(ISTEXT(#REF!),#REF!,\"\")","v":""},null,{"$f":"IF(ISTEXT(#REF!),#REF!,\"\")","v":""},{"$f":"IF(ISTEXT(#REF!),#REF!,\"\")","v":""},{"$f":"IF(ISTEXT(#REF!),#REF!,\"\")","v":""},{"$f":"IF(ISTEXT(#REF!),#REF!,\"\")","v":""},{"$f":"IF(ISTEXT(#REF!),#REF!,\"\")","v":""},{"$f":"IF(ISTEXT(#REF!),#REF!,\"\")","v":""},{"$f":"IF(ISTEXT(#REF!),#REF!,\"\")","v":""},null,{"$f":"IF(ISTEXT(#REF!),#REF!,\"\")","v":""},{"$f":"IF(ISTEXT(#REF!),#REF!,\"\")","v":""},{"$f":"IF(ISNUMBER(#REF!),#REF!,\"\")","v":""},{"$f":"IF(ISTEXT(#REF!),#REF!,\"\")","v":""},null,{"$f":"IF(ISTEXT(#REF!),#REF!,\"\")","v":""},{"$f":"IF(ISTEXT(#REF!),#REF!,\"\")","v":""},{"$f":"IF(ISTEXT(#REF!),#REF!,\"\")","v":""},{"$f":"IF(ISTEXT(#REF!),#REF!,\"\")","v":""},{"$f":"IF(ISTEXT(#REF!),#REF!,\"\")","v":""},{"$f":"IF(ISTEXT(#REF!),#REF!,\"\")","v":""},{"$f":"IF(ISTEXT(#REF!),#REF!,\"\")","v":""},null,{"$f":"IF(ISTEXT(#REF!),#REF!,\"\")","v":""},{"$f":"IF(ISTEXT(#REF!),#REF!,\"\")","v":""},{"$f":"IF(ISNUMBER(#REF!),#REF!,\"\")","v":""},{"$f":"IF(ISTEXT(#REF!),#REF!,\"\")","v":""}]
[null,null,{"$f":"IF(ISTEXT(#REF!),#REF!,\"\")","v":""},{"$f":"IF(ISTEXT(#REF!),#REF!,\"\")","v":""},{"$f":"IF(ISTEXT(#REF!),#REF!,\"\")","v":""},{"$f":"IF(ISTEXT(#REF!),#REF!,\"\")","v":""},{"$f":"IF(ISTEXT(#REF!),#REF!,\"\")","v":""},{"$f":"IF(ISTEXT(#REF!),#REF!,\"\")","v":""},{"$f":"IF(ISTEXT(#REF!),#REF!,\"\")","v":""},null,{"$f":"IF(ISTEXT(#REF!),#REF!,\"\")","v":""},{"$f":"IF(ISTEXT(#REF!),#REF!,\"\")","v":""},{"$f":"IF(ISNUMBER(#REF!),#REF!,\"\")","v":""},{"$f":"IF(ISTEXT(#REF!),#REF!,\"\")","v":""},null,{"$f":"IF(ISTEXT(#REF!),#REF!,\"\")","v":""},{"$f":"IF(ISTEXT(#REF!),#REF!,\"\")","v":""},{"$f":"IF(ISTEXT(#REF!),#REF!,\"\")","v":""},{"$f":"IF(ISTEXT(#REF!),#REF!,\"\")","v":""},{"$f":"IF(ISTEXT(#REF!),#REF!,\"\")","v":""},{"$f":"IF(ISTEXT(#REF!),#REF!,\"\")","v":""},{"$f":"IF(ISTEXT(#REF!),#REF!,\"\")","v":""},null,{"$f":"IF(ISTEXT(#REF!),#REF!,\"\")","v":""},{"$f":"IF(ISTEXT(#REF!),#REF!,\"\")","v":""},{"$f":"IF(ISNUMBER(#REF!),#REF!,\"\")","v":""},{"$f":"IF(ISTEXT(#REF!),#REF!,\"\")","v":""},{"$f":"IF(ISTEXT(#REF!),#REF!,\"\")","v":""},{"$f":"IF(ISTEXT(#REF!),#REF!,\"\")","v":""},{"$f":"IF(ISTEXT(#REF!),#REF!,\"\")","v":""},{"$f":"IF(ISTEXT(#REF!),#REF!,\"\")","v":""},{"$f":"IF(ISTEXT(#REF!),#REF!,\"\")","v":""},{"$f":"IF(ISTEXT(#REF!),#REF!,\"\")","v":""},{"$f":"IF(ISTEXT(#REF!),#REF!,\"\")","v":""},null,{"$f":"IF(ISTEXT(#REF!),#REF!,\"\")","v":""},{"$f":"IF(ISTEXT(#REF!),#REF!,\"\")","v":""},{"$f":"IF(ISNUMBER(#REF!),#REF!,\"\")","v":""},{"$f":"IF(ISTEXT(#REF!),#REF!,\"\")","v":""},null,{"$f":"IF(ISTEXT(#REF!),#REF!,\"\")","v":""},{"$f":"IF(ISTEXT(#REF!),#REF!,\"\")","v":""},{"$f":"IF(ISTEXT(#REF!),#REF!,\"\")","v":""},{"$f":"IF(ISTEXT(#REF!),#REF!,\"\")","v":""},{"$f":"IF(ISTEXT(#REF!),#REF!,\"\")","v":""},{"$f":"IF(ISTEXT(#REF!),#REF!,\"\")","v":""},{"$f":"IF(ISTEXT(#REF!),#REF!,\"\")","v":""},null,{"$f":"IF(ISTEXT(#REF!),#REF!,\"\")","v":""},{"$f":"IF(ISTEXT(#REF!),#REF!,\"\")","v":""},{"$f":"IF(ISNUMBER(#REF!),#REF!,\"\")","v":""},{"$f":"IF(ISTEXT(#REF!),#REF!,\"\")","v":""},null,{"$f":"IF(ISTEXT(#REF!),#REF!,\"\")","v":""},{"$f":"IF(ISTEXT(#REF!),#REF!,\"\")","v":""},{"$f":"IF(ISTEXT(#REF!),#REF!,\"\")","v":""},{"$f":"IF(ISTEXT(#REF!),#REF!,\"\")","v":""},{"$f":"IF(ISTEXT(#REF!),#REF!,\"\")","v":""},{"$f":"IF(ISTEXT(#REF!),#REF!,\"\")","v":""},{"$f":"IF(ISTEXT(#REF!),#REF!,\"\")","v":""},null,{"$f":"IF(ISTEXT(#REF!),#REF!,\"\")","v":""},{"$f":"IF(ISTEXT(#REF!),#REF!,\"\")","v":""},{"$f":"IF(ISNUMBER(#REF!),#REF!,\"\")","v":""},{"$f":"IF(ISTEXT(#REF!),#REF!,\"\")","v":""}]
[null,null,{"$f":"IF(ISTEXT(#REF!),#REF!,\"\")","v":""},{"$f":"IF(ISTEXT(#REF!),#REF!,\"\")","v":""},{"$f":"IF(ISTEXT(#REF!),#REF!,\"\")","v":""},{"$f":"IF(ISTEXT(#REF!),#REF!,\"\")","v":""},{"$f":"IF(ISTEXT(#REF!),#REF!,\"\")","v":""},{"$f":"IF(ISTEXT(#REF!),#REF!,\"\")","v":""},{"$f":"IF(ISTEXT(#REF!),#REF!,\"\")","v":""},null,{"$f":"IF(ISTEXT(#REF!),#REF!,\"\")","v":""},{"$f":"IF(ISTEXT(#REF!),#REF!,\"\")","v":""},{"$f":"IF(ISNUMBER(#REF!),#REF!,\"\")","v":""},{"$f":"IF(ISTEXT(#REF!),#REF!,\"\")","v":""},null,{"$f":"IF(ISTEXT(#REF!),#REF!,\"\")","v":""},{"$f":"IF(ISTEXT(#REF!),#REF!,\"\")","v":""},{"$f":"IF(ISTEXT(#REF!),#REF!,\"\")","v":""},{"$f":"IF(ISTEXT(#REF!),#REF!,\"\")","v":""},{"$f":"IF(ISTEXT(#REF!),#REF!,\"\")","v":""},{"$f":"IF(ISTEXT(#REF!),#REF!,\"\")","v":""},{"$f":"IF(ISTEXT(#REF!),#REF!,\"\")","v":""},null,{"$f":"IF(ISTEXT(#REF!),#REF!,\"\")","v":""},{"$f":"IF(ISTEXT(#REF!),#REF!,\"\")","v":""},{"$f":"IF(ISNUMBER(#REF!),#REF!,\"\")","v":""},{"$f":"IF(ISTEXT(#REF!),#REF!,\"\")","v":""},{"$f":"IF(ISTEXT(#REF!),#REF!,\"\")","v":""},{"$f":"IF(ISTEXT(#REF!),#REF!,\"\")","v":""},{"$f":"IF(ISTEXT(#REF!),#REF!,\"\")","v":""},{"$f":"IF(ISTEXT(#REF!),#REF!,\"\")","v":""},{"$f":"IF(ISTEXT(#REF!),#REF!,\"\")","v":""},{"$f":"IF(ISTEXT(#REF!),#REF!,\"\")","v":""},{"$f":"IF(ISTEXT(#REF!),#REF!,\"\")","v":""},null,{"$f":"IF(ISTEXT(#REF!),#REF!,\"\")","v":""},{"$f":"IF(ISTEXT(#REF!),#REF!,\"\")","v":""},{"$f":"IF(ISNUMBER(#REF!),#REF!,\"\")","v":""},{"$f":"IF(ISTEXT(#REF!),#REF!,\"\")","v":""},null,{"$f":"IF(ISTEXT(#REF!),#REF!,\"\")","v":""},{"$f":"IF(ISTEXT(#REF!),#REF!,\"\")","v":""},{"$f":"IF(ISTEXT(#REF!),#REF!,\"\")","v":""},{"$f":"IF(ISTEXT(#REF!),#REF!,\"\")","v":""},{"$f":"IF(ISTEXT(#REF!),#REF!,\"\")","v":""},{"$f":"IF(ISTEXT(#REF!),#REF!,\"\")","v":""},{"$f":"IF(ISTEXT(#REF!),#REF!,\"\")","v":""},null,{"$f":"IF(ISTEXT(#REF!),#REF!,\"\")","v":""},{"$f":"IF(ISTEXT(#REF!),#REF!,\"\")","v":""},{"$f":"IF(ISNUMBER(#REF!),#REF!,\"\")","v":""},{"$f":"IF(ISTEXT(#REF!),#REF!,\"\")","v":""},null,{"$f":"IF(ISTEXT(#REF!),#REF!,\"\")","v":""},{"$f":"IF(ISTEXT(#REF!),#REF!,\"\")","v":""},{"$f":"IF(ISTEXT(#REF!),#REF!,\"\")","v":""},{"$f":"IF(ISTEXT(#REF!),#REF!,\"\")","v":""},{"$f":"IF(ISTEXT(#REF!),#REF!,\"\")","v":""},{"$f":"IF(ISTEXT(#REF!),#REF!,\"\")","v":""},{"$f":"IF(ISTEXT(#REF!),#REF!,\"\")","v":""},null,{"$f":"IF(ISTEXT(#REF!),#REF!,\"\")","v":""},{"$f":"IF(ISTEXT(#REF!),#REF!,\"\")","v":""},{"$f":"IF(ISNUMBER(#REF!),#REF!,\"\")","v":""},{"$f":"IF(ISTEXT(#REF!),#REF!,\"\")","v":""}]
[null,null,{"$f":"IF(ISTEXT(#REF!),#REF!,\"\")","v":""},{"$f":"IF(ISTEXT(#REF!),#REF!,\"\")","v":""},{"$f":"IF(ISTEXT(#REF!),#REF!,\"\")","v":""},{"$f":"IF(ISTEXT(#REF!),#REF!,\"\")","v":""},{"$f":"IF(ISTEXT(#REF!),#REF!,\"\")","v":""},{"$f":"IF(ISTEXT(#REF!),#REF!,\"\")","v":""},{"$f":"IF(ISTEXT(#REF!),#REF!,\"\")","v":""},null,{"$f":"IF(ISTEXT(#REF!),#REF!,\"\")","v":""},{"$f":"IF(ISTEXT(#REF!),#REF!,\"\")","v":""},{"$f":"IF(ISNUMBER(#REF!),#REF!,\"\")","v":""},{"$f":"IF(ISTEXT(#REF!),#REF!,\"\")","v":""},null,{"$f":"IF(ISTEXT(#REF!),#REF!,\"\")","v":""},{"$f":"IF(ISTEXT(#REF!),#REF!,\"\")","v":""},{"$f":"IF(ISTEXT(#REF!),#REF!,\"\")","v":""},{"$f":"IF(ISTEXT(#REF!),#REF!,\"\")","v":""},{"$f":"IF(ISTEXT(#REF!),#REF!,\"\")","v":""},{"$f":"IF(ISTEXT(#REF!),#REF!,\"\")","v":""},{"$f":"IF(ISTEXT(#REF!),#REF!,\"\")","v":""},null,{"$f":"IF(ISTEXT(#REF!),#REF!,\"\")","v":""},{"$f":"IF(ISTEXT(#REF!),#REF!,\"\")","v":""},{"$f":"IF(ISNUMBER(#REF!),#REF!,\"\")","v":""},{"$f":"IF(ISTEXT(#REF!),#REF!,\"\")","v":""},{"$f":"IF(ISTEXT(#REF!),#REF!,\"\")","v":""},{"$f":"IF(ISTEXT(#REF!),#REF!,\"\")","v":""},{"$f":"IF(ISTEXT(#REF!),#REF!,\"\")","v":""},{"$f":"IF(ISTEXT(#REF!),#REF!,\"\")","v":""},{"$f":"IF(ISTEXT(#REF!),#REF!,\"\")","v":""},{"$f":"IF(ISTEXT(#REF!),#REF!,\"\")","v":""},{"$f":"IF(ISTEXT(#REF!),#REF!,\"\")","v":""},null,{"$f":"IF(ISTEXT(#REF!),#REF!,\"\")","v":""},{"$f":"IF(ISTEXT(#REF!),#REF!,\"\")","v":""},{"$f":"IF(ISNUMBER(#REF!),#REF!,\"\")","v":""},{"$f":"IF(ISTEXT(#REF!),#REF!,\"\")","v":""},null,{"$f":"IF(ISTEXT(#REF!),#REF!,\"\")","v":""},{"$f":"IF(ISTEXT(#REF!),#REF!,\"\")","v":""},{"$f":"IF(ISTEXT(#REF!),#REF!,\"\")","v":""},{"$f":"IF(ISTEXT(#REF!),#REF!,\"\")","v":""},{"$f":"IF(ISTEXT(#REF!),#REF!,\"\")","v":""},{"$f":"IF(ISTEXT(#REF!),#REF!,\"\")","v":""},{"$f":"IF(ISTEXT(#REF!),#REF!,\"\")","v":""},null,{"$f":"IF(ISTEXT(#REF!),#REF!,\"\")","v":""},{"$f":"IF(ISTEXT(#REF!),#REF!,\"\")","v":""},{"$f":"IF(ISNUMBER(#REF!),#REF!,\"\")","v":""},{"$f":"IF(ISTEXT(#REF!),#REF!,\"\")","v":""},null,{"$f":"IF(ISTEXT(#REF!),#REF!,\"\")","v":""},{"$f":"IF(ISTEXT(#REF!),#REF!,\"\")","v":""},{"$f":"IF(ISTEXT(#REF!),#REF!,\"\")","v":""},{"$f":"IF(ISTEXT(#REF!),#REF!,\"\")","v":""},{"$f":"IF(ISTEXT(#REF!),#REF!,\"\")","v":""},{"$f":"IF(ISTEXT(#REF!),#REF!,\"\")","v":""},{"$f":"IF(ISTEXT(#REF!),#REF!,\"\")","v":""},null,{"$f":"IF(ISTEXT(#REF!),#REF!,\"\")","v":""},{"$f":"IF(ISTEXT(#REF!),#REF!,\"\")","v":""},{"$f":"IF(ISNUMBER(#REF!),#REF!,\"\")","v":""},{"$f":"IF(ISTEXT(#REF!),#REF!,\"\")","v":""}]
[null,null,{"$f":"IF(ISTEXT(#REF!),#REF!,\"\")","v":""},{"$f":"IF(ISTEXT(#REF!),#REF!,\"\")","v":""},{"$f":"IF(ISTEXT(#REF!),#REF!,\"\")","v":""},{"$f":"IF(ISTEXT(#REF!),#REF!,\"\")","v":""},{"$f":"IF(ISTEXT(#REF!),#REF!,\"\")","v":""},{"$f":"IF(ISTEXT(#REF!),#REF!,\"\")","v":""},{"$f":"IF(ISTEXT(#REF!),#REF!,\"\")","v":""},null,{"$f":"IF(ISTEXT(#REF!),#REF!,\"\")","v":""},{"$f":"IF(ISTEXT(#REF!),#REF!,\"\")","v":""},{"$f":"IF(ISNUMBER(#REF!),#REF!,\"\")","v":""},{"$f":"IF(ISTEXT(#REF!),#REF!,\"\")","v":""},null,{"$f":"IF(ISTEXT(#REF!),#REF!,\"\")","v":""},{"$f":"IF(ISTEXT(#REF!),#REF!,\"\")","v":""},{"$f":"IF(ISTEXT(#REF!),#REF!,\"\")","v":""},{"$f":"IF(ISTEXT(#REF!),#REF!,\"\")","v":""},{"$f":"IF(ISTEXT(#REF!),#REF!,\"\")","v":""},{"$f":"IF(ISTEXT(#REF!),#REF!,\"\")","v":""},{"$f":"IF(ISTEXT(#REF!),#REF!,\"\")","v":""},null,{"$f":"IF(ISTEXT(#REF!),#REF!,\"\")","v":""},{"$f":"IF(ISTEXT(#REF!),#REF!,\"\")","v":""},{"$f":"IF(ISNUMBER(#REF!),#REF!,\"\")","v":""},{"$f":"IF(ISTEXT(#REF!),#REF!,\"\")","v":""},{"$f":"IF(ISTEXT(#REF!),#REF!,\"\")","v":""},{"$f":"IF(ISTEXT(#REF!),#REF!,\"\")","v":""},{"$f":"IF(ISTEXT(#REF!),#REF!,\"\")","v":""},{"$f":"IF(ISTEXT(#REF!),#REF!,\"\")","v":""},{"$f":"IF(ISTEXT(#REF!),#REF!,\"\")","v":""},{"$f":"IF(ISTEXT(#REF!),#REF!,\"\")","v":""},{"$f":"IF(ISTEXT(#REF!),#REF!,\"\")","v":""},null,{"$f":"IF(ISTEXT(#REF!),#REF!,\"\")","v":""},{"$f":"IF(ISTEXT(#REF!),#REF!,\"\")","v":""},{"$f":"IF(ISNUMBER(#REF!),#REF!,\"\")","v":""},{"$f":"IF(ISTEXT(#REF!),#REF!,\"\")","v":""},null,{"$f":"IF(ISTEXT(#REF!),#REF!,\"\")","v":""},{"$f":"IF(ISTEXT(#REF!),#REF!,\"\")","v":""},{"$f":"IF(ISTEXT(#REF!),#REF!,\"\")","v":""},{"$f":"IF(ISTEXT(#REF!),#REF!,\"\")","v":""},{"$f":"IF(ISTEXT(#REF!),#REF!,\"\")","v":""},{"$f":"IF(ISTEXT(#REF!),#REF!,\"\")","v":""},{"$f":"IF(ISTEXT(#REF!),#REF!,\"\")","v":""},null,{"$f":"IF(ISTEXT(#REF!),#REF!,\"\")","v":""},{"$f":"IF(ISTEXT(#REF!),#REF!,\"\")","v":""},{"$f":"IF(ISNUMBER(#REF!),#REF!,\"\")","v":""},{"$f":"IF(ISTEXT(#REF!),#REF!,\"\")","v":""},null,{"$f":"IF(ISTEXT(#REF!),#REF!,\"\")","v":""},{"$f":"IF(ISTEXT(#REF!),#REF!,\"\")","v":""},{"$f":"IF(ISTEXT(#REF!),#REF!,\"\")","v":""},{"$f":"IF(ISTEXT(#REF!),#REF!,\"\")","v":""},{"$f":"IF(ISTEXT(#REF!),#REF!,\"\")","v":""},{"$f":"IF(ISTEXT(#REF!),#REF!,\"\")","v":""},{"$f":"IF(ISTEXT(#REF!),#REF!,\"\")","v":""},null,{"$f":"IF(ISTEXT(#REF!),#REF!,\"\")","v":""},{"$f":"IF(ISTEXT(#REF!),#REF!,\"\")","v":""},{"$f":"IF(ISNUMBER(#REF!),#REF!,\"\")","v":""},{"$f":"IF(ISTEXT(#REF!),#REF!,\"\")","v":""}]
[null,null,{"$f":"IF(ISTEXT(#REF!),#REF!,\"\")","v":""},{"$f":"IF(ISTEXT(#REF!),#REF!,\"\")","v":""},{"$f":"IF(ISTEXT(#REF!),#REF!,\"\")","v":""},{"$f":"IF(ISTEXT(#REF!),#REF!,\"\")","v":""},{"$f":"IF(ISTEXT(#REF!),#REF!,\"\")","v":""},{"$f":"IF(ISTEXT(#REF!),#REF!,\"\")","v":""},{"$f":"IF(ISTEXT(#REF!),#REF!,\"\")","v":""},null,{"$f":"IF(ISTEXT(#REF!),#REF!,\"\")","v":""},{"$f":"IF(ISTEXT(#REF!),#REF!,\"\")","v":""},{"$f":"IF(ISNUMBER(#REF!),#REF!,\"\")","v":""},{"$f":"IF(ISTEXT(#REF!),#REF!,\"\")","v":""},null,{"$f":"IF(ISTEXT(#REF!),#REF!,\"\")","v":""},{"$f":"IF(ISTEXT(#REF!),#REF!,\"\")","v":""},{"$f":"IF(ISTEXT(#REF!),#REF!,\"\")","v":""},{"$f":"IF(ISTEXT(#REF!),#REF!,\"\")","v":""},{"$f":"IF(ISTEXT(#REF!),#REF!,\"\")","v":""},{"$f":"IF(ISTEXT(#REF!),#REF!,\"\")","v":""},{"$f":"IF(ISTEXT(#REF!),#REF!,\"\")","v":""},null,{"$f":"IF(ISTEXT(#REF!),#REF!,\"\")","v":""},{"$f":"IF(ISTEXT(#REF!),#REF!,\"\")","v":""},{"$f":"IF(ISNUMBER(#REF!),#REF!,\"\")","v":""},{"$f":"IF(ISTEXT(#REF!),#REF!,\"\")","v":""},{"$f":"IF(ISTEXT(#REF!),#REF!,\"\")","v":""},{"$f":"IF(ISTEXT(#REF!),#REF!,\"\")","v":""},{"$f":"IF(ISTEXT(#REF!),#REF!,\"\")","v":""},{"$f":"IF(ISTEXT(#REF!),#REF!,\"\")","v":""},{"$f":"IF(ISTEXT(#REF!),#REF!,\"\")","v":""},{"$f":"IF(ISTEXT(#REF!),#REF!,\"\")","v":""},{"$f":"IF(ISTEXT(#REF!),#REF!,\"\")","v":""},null,{"$f":"IF(ISTEXT(#REF!),#REF!,\"\")","v":""},{"$f":"IF(ISTEXT(#REF!),#REF!,\"\")","v":""},{"$f":"IF(ISNUMBER(#REF!),#REF!,\"\")","v":""},{"$f":"IF(ISTEXT(#REF!),#REF!,\"\")","v":""},null,{"$f":"IF(ISTEXT(#REF!),#REF!,\"\")","v":""},{"$f":"IF(ISTEXT(#REF!),#REF!,\"\")","v":""},{"$f":"IF(ISTEXT(#REF!),#REF!,\"\")","v":""},{"$f":"IF(ISTEXT(#REF!),#REF!,\"\")","v":""},{"$f":"IF(ISTEXT(#REF!),#REF!,\"\")","v":""},{"$f":"IF(ISTEXT(#REF!),#REF!,\"\")","v":""},{"$f":"IF(ISTEXT(#REF!),#REF!,\"\")","v":""},null,{"$f":"IF(ISTEXT(#REF!),#REF!,\"\")","v":""},{"$f":"IF(ISTEXT(#REF!),#REF!,\"\")","v":""},{"$f":"IF(ISNUMBER(#REF!),#REF!,\"\")","v":""},{"$f":"IF(ISTEXT(#REF!),#REF!,\"\")","v":""},null,{"$f":"IF(ISTEXT(#REF!),#REF!,\"\")","v":""},{"$f":"IF(ISTEXT(#REF!),#REF!,\"\")","v":""},{"$f":"IF(ISTEXT(#REF!),#REF!,\"\")","v":""},{"$f":"IF(ISTEXT(#REF!),#REF!,\"\")","v":""},{"$f":"IF(ISTEXT(#REF!),#REF!,\"\")","v":""},{"$f":"IF(ISTEXT(#REF!),#REF!,\"\")","v":""},{"$f":"IF(ISTEXT(#REF!),#REF!,\"\")","v":""},null,{"$f":"IF(ISTEXT(#REF!),#REF!,\"\")","v":""},{"$f":"IF(ISTEXT(#REF!),#REF!,\"\")","v":""},{"$f":"IF(ISNUMBER(#REF!),#REF!,\"\")","v":""},{"$f":"IF(ISTEXT(#REF!),#REF!,\"\")","v":""}]
[null,null,{"$f":"IF(ISTEXT(#REF!),#REF!,\"\")","v":""},{"$f":"IF(ISTEXT(#REF!),#REF!,\"\")","v":""},{"$f":"IF(ISTEXT(#REF!),#REF!,\"\")","v":""},{"$f":"IF(ISTEXT(#REF!),#REF!,\"\")","v":""},{"$f":"IF(ISTEXT(#REF!),#REF!,\"\")","v":""},{"$f":"IF(ISTEXT(#REF!),#REF!,\"\")","v":""},{"$f":"IF(ISTEXT(#REF!),#REF!,\"\")","v":""},null,{"$f":"IF(ISTEXT(#REF!),#REF!,\"\")","v":""},{"$f":"IF(ISTEXT(#REF!),#REF!,\"\")","v":""},{"$f":"IF(ISNUMBER(#REF!),#REF!,\"\")","v":""},{"$f":"IF(ISTEXT(#REF!),#REF!,\"\")","v":""},null,{"$f":"IF(ISTEXT(#REF!),#REF!,\"\")","v":""},{"$f":"IF(ISTEXT(#REF!),#REF!,\"\")","v":""},{"$f":"IF(ISTEXT(#REF!),#REF!,\"\")","v":""},{"$f":"IF(ISTEXT(#REF!),#REF!,\"\")","v":""},{"$f":"IF(ISTEXT(#REF!),#REF!,\"\")","v":""},{"$f":"IF(ISTEXT(#REF!),#REF!,\"\")","v":""},{"$f":"IF(ISTEXT(#REF!),#REF!,\"\")","v":""},null,{"$f":"IF(ISTEXT(#REF!),#REF!,\"\")","v":""},{"$f":"IF(ISTEXT(#REF!),#REF!,\"\")","v":""},{"$f":"IF(ISNUMBER(#REF!),#REF!,\"\")","v":""},{"$f":"IF(ISTEXT(#REF!),#REF!,\"\")","v":""},{"$f":"IF(ISTEXT(#REF!),#REF!,\"\")","v":""},{"$f":"IF(ISTEXT(#REF!),#REF!,\"\")","v":""},{"$f":"IF(ISTEXT(#REF!),#REF!,\"\")","v":""},{"$f":"IF(ISTEXT(#REF!),#REF!,\"\")","v":""},{"$f":"IF(ISTEXT(#REF!),#REF!,\"\")","v":""},{"$f":"IF(ISTEXT(#REF!),#REF!,\"\")","v":""},{"$f":"IF(ISTEXT(#REF!),#REF!,\"\")","v":""},null,{"$f":"IF(ISTEXT(#REF!),#REF!,\"\")","v":""},{"$f":"IF(ISTEXT(#REF!),#REF!,\"\")","v":""},{"$f":"IF(ISNUMBER(#REF!),#REF!,\"\")","v":""},{"$f":"IF(ISTEXT(#REF!),#REF!,\"\")","v":""},null,{"$f":"IF(ISTEXT(#REF!),#REF!,\"\")","v":""},{"$f":"IF(ISTEXT(#REF!),#REF!,\"\")","v":""},{"$f":"IF(ISTEXT(#REF!),#REF!,\"\")","v":""},{"$f":"IF(ISTEXT(#REF!),#REF!,\"\")","v":""},{"$f":"IF(ISTEXT(#REF!),#REF!,\"\")","v":""},{"$f":"IF(ISTEXT(#REF!),#REF!,\"\")","v":""},{"$f":"IF(ISTEXT(#REF!),#REF!,\"\")","v":""},null,{"$f":"IF(ISTEXT(#REF!),#REF!,\"\")","v":""},{"$f":"IF(ISTEXT(#REF!),#REF!,\"\")","v":""},{"$f":"IF(ISNUMBER(#REF!),#REF!,\"\")","v":""},{"$f":"IF(ISTEXT(#REF!),#REF!,\"\")","v":""},null,{"$f":"IF(ISTEXT(#REF!),#REF!,\"\")","v":""},{"$f":"IF(ISTEXT(#REF!),#REF!,\"\")","v":""},{"$f":"IF(ISTEXT(#REF!),#REF!,\"\")","v":""},{"$f":"IF(ISTEXT(#REF!),#REF!,\"\")","v":""},{"$f":"IF(ISTEXT(#REF!),#REF!,\"\")","v":""},{"$f":"IF(ISTEXT(#REF!),#REF!,\"\")","v":""},{"$f":"IF(ISTEXT(#REF!),#REF!,\"\")","v":""},null,{"$f":"IF(ISTEXT(#REF!),#REF!,\"\")","v":""},{"$f":"IF(ISTEXT(#REF!),#REF!,\"\")","v":""},{"$f":"IF(ISNUMBER(#REF!),#REF!,\"\")","v":""},{"$f":"IF(ISTEXT(#REF!),#REF!,\"\")","v":""}]
[null,null,{"$f":"IF(ISTEXT(#REF!),#REF!,\"\")","v":""},{"$f":"IF(ISTEXT(#REF!),#REF!,\"\")","v":""},{"$f":"IF(ISTEXT(#REF!),#REF!,\"\")","v":""},{"$f":"IF(ISTEXT(#REF!),#REF!,\"\")","v":""},{"$f":"IF(ISTEXT(#REF!),#REF!,\"\")","v":""},{"$f":"IF(ISTEXT(#REF!),#REF!,\"\")","v":""},{"$f":"IF(ISTEXT(#REF!),#REF!,\"\")","v":""},null,{"$f":"IF(ISTEXT(#REF!),#REF!,\"\")","v":""},{"$f":"IF(ISTEXT(#REF!),#REF!,\"\")","v":""},{"$f":"IF(ISNUMBER(#REF!),#REF!,\"\")","v":""},{"$f":"IF(ISTEXT(#REF!),#REF!,\"\")","v":""},null,{"$f":"IF(ISTEXT(#REF!),#REF!,\"\")","v":""},{"$f":"IF(ISTEXT(#REF!),#REF!,\"\")","v":""},{"$f":"IF(ISTEXT(#REF!),#REF!,\"\")","v":""},{"$f":"IF(ISTEXT(#REF!),#REF!,\"\")","v":""},{"$f":"IF(ISTEXT(#REF!),#REF!,\"\")","v":""},{"$f":"IF(ISTEXT(#REF!),#REF!,\"\")","v":""},{"$f":"IF(ISTEXT(#REF!),#REF!,\"\")","v":""},null,{"$f":"IF(ISTEXT(#REF!),#REF!,\"\")","v":""},{"$f":"IF(ISTEXT(#REF!),#REF!,\"\")","v":""},{"$f":"IF(ISNUMBER(#REF!),#REF!,\"\")","v":""},{"$f":"IF(ISTEXT(#REF!),#REF!,\"\")","v":""},{"$f":"IF(ISTEXT(#REF!),#REF!,\"\")","v":""},{"$f":"IF(ISTEXT(#REF!),#REF!,\"\")","v":""},{"$f":"IF(ISTEXT(#REF!),#REF!,\"\")","v":""},{"$f":"IF(ISTEXT(#REF!),#REF!,\"\")","v":""},{"$f":"IF(ISTEXT(#REF!),#REF!,\"\")","v":""},{"$f":"IF(ISTEXT(#REF!),#REF!,\"\")","v":""},{"$f":"IF(ISTEXT(#REF!),#REF!,\"\")","v":""},null,{"$f":"IF(ISTEXT(#REF!),#REF!,\"\")","v":""},{"$f":"IF(ISTEXT(#REF!),#REF!,\"\")","v":""},{"$f":"IF(ISNUMBER(#REF!),#REF!,\"\")","v":""},{"$f":"IF(ISTEXT(#REF!),#REF!,\"\")","v":""},null,{"$f":"IF(ISTEXT(#REF!),#REF!,\"\")","v":""},{"$f":"IF(ISTEXT(#REF!),#REF!,\"\")","v":""},{"$f":"IF(ISTEXT(#REF!),#REF!,\"\")","v":""},{"$f":"IF(ISTEXT(#REF!),#REF!,\"\")","v":""},{"$f":"IF(ISTEXT(#REF!),#REF!,\"\")","v":""},{"$f":"IF(ISTEXT(#REF!),#REF!,\"\")","v":""},{"$f":"IF(ISTEXT(#REF!),#REF!,\"\")","v":""},null,{"$f":"IF(ISTEXT(#REF!),#REF!,\"\")","v":""},{"$f":"IF(ISTEXT(#REF!),#REF!,\"\")","v":""},{"$f":"IF(ISNUMBER(#REF!),#REF!,\"\")","v":""},{"$f":"IF(ISTEXT(#REF!),#REF!,\"\")","v":""},null,{"$f":"IF(ISTEXT(#REF!),#REF!,\"\")","v":""},{"$f":"IF(ISTEXT(#REF!),#REF!,\"\")","v":""},{"$f":"IF(ISTEXT(#REF!),#REF!,\"\")","v":""},{"$f":"IF(ISTEXT(#REF!),#REF!,\"\")","v":""},{"$f":"IF(ISTEXT(#REF!),#REF!,\"\")","v":""},{"$f":"IF(ISTEXT(#REF!),#REF!,\"\")","v":""},{"$f":"IF(ISTEXT(#REF!),#REF!,\"\")","v":""},null,{"$f":"IF(ISTEXT(#REF!),#REF!,\"\")","v":""},{"$f":"IF(ISTEXT(#REF!),#REF!,\"\")","v":""},{"$f":"IF(ISNUMBER(#REF!),#REF!,\"\")","v":""},{"$f":"IF(ISTEXT(#REF!),#REF!,\"\")","v":""}]
[null,null,{"$f":"IF(ISTEXT(#REF!),#REF!,\"\")","v":""},{"$f":"IF(ISTEXT(#REF!),#REF!,\"\")","v":""},{"$f":"IF(ISTEXT(#REF!),#REF!,\"\")","v":""},{"$f":"IF(ISTEXT(#REF!),#REF!,\"\")","v":""},{"$f":"IF(ISTEXT(#REF!),#REF!,\"\")","v":""},{"$f":"IF(ISTEXT(#REF!),#REF!,\"\")","v":""},{"$f":"IF(ISTEXT(#REF!),#REF!,\"\")","v":""},null,{"$f":"IF(ISTEXT(#REF!),#REF!,\"\")","v":""},{"$f":"IF(ISTEXT(#REF!),#REF!,\"\")","v":""},{"$f":"IF(ISNUMBER(#REF!),#REF!,\"\")","v":""},{"$f":"IF(ISTEXT(#REF!),#REF!,\"\")","v":""},null,{"$f":"IF(ISTEXT(#REF!),#REF!,\"\")","v":""},{"$f":"IF(ISTEXT(#REF!),#REF!,\"\")","v":""},{"$f":"IF(ISTEXT(#REF!),#REF!,\"\")","v":""},{"$f":"IF(ISTEXT(#REF!),#REF!,\"\")","v":""},{"$f":"IF(ISTEXT(#REF!),#REF!,\"\")","v":""},{"$f":"IF(ISTEXT(#REF!),#REF!,\"\")","v":""},{"$f":"IF(ISTEXT(#REF!),#REF!,\"\")","v":""},null,{"$f":"IF(ISTEXT(#REF!),#REF!,\"\")","v":""},{"$f":"IF(ISTEXT(#REF!),#REF!,\"\")","v":""},{"$f":"IF(ISNUMBER(#REF!),#REF!,\"\")","v":""},{"$f":"IF(ISTEXT(#REF!),#REF!,\"\")","v":""},{"$f":"IF(ISTEXT(#REF!),#REF!,\"\")","v":""},{"$f":"IF(ISTEXT(#REF!),#REF!,\"\")","v":""},{"$f":"IF(ISTEXT(#REF!),#REF!,\"\")","v":""},{"$f":"IF(ISTEXT(#REF!),#REF!,\"\")","v":""},{"$f":"IF(ISTEXT(#REF!),#REF!,\"\")","v":""},{"$f":"IF(ISTEXT(#REF!),#REF!,\"\")","v":""},{"$f":"IF(ISTEXT(#REF!),#REF!,\"\")","v":""},null,{"$f":"IF(ISTEXT(#REF!),#REF!,\"\")","v":""},{"$f":"IF(ISTEXT(#REF!),#REF!,\"\")","v":""},{"$f":"IF(ISNUMBER(#REF!),#REF!,\"\")","v":""},{"$f":"IF(ISTEXT(#REF!),#REF!,\"\")","v":""},null,{"$f":"IF(ISTEXT(#REF!),#REF!,\"\")","v":""},{"$f":"IF(ISTEXT(#REF!),#REF!,\"\")","v":""},{"$f":"IF(ISTEXT(#REF!),#REF!,\"\")","v":""},{"$f":"IF(ISTEXT(#REF!),#REF!,\"\")","v":""},{"$f":"IF(ISTEXT(#REF!),#REF!,\"\")","v":""},{"$f":"IF(ISTEXT(#REF!),#REF!,\"\")","v":""},{"$f":"IF(ISTEXT(#REF!),#REF!,\"\")","v":""},null,{"$f":"IF(ISTEXT(#REF!),#REF!,\"\")","v":""},{"$f":"IF(ISTEXT(#REF!),#REF!,\"\")","v":""},{"$f":"IF(ISNUMBER(#REF!),#REF!,\"\")","v":""},{"$f":"IF(ISTEXT(#REF!),#REF!,\"\")","v":""},null,{"$f":"IF(ISTEXT(#REF!),#REF!,\"\")","v":""},{"$f":"IF(ISTEXT(#REF!),#REF!,\"\")","v":""},{"$f":"IF(ISTEXT(#REF!),#REF!,\"\")","v":""},{"$f":"IF(ISTEXT(#REF!),#REF!,\"\")","v":""},{"$f":"IF(ISTEXT(#REF!),#REF!,\"\")","v":""},{"$f":"IF(ISTEXT(#REF!),#REF!,\"\")","v":""},{"$f":"IF(ISTEXT(#REF!),#REF!,\"\")","v":""},null,{"$f":"IF(ISTEXT(#REF!),#REF!,\"\")","v":""},{"$f":"IF(ISTEXT(#REF!),#REF!,\"\")","v":""},{"$f":"IF(ISNUMBER(#REF!),#REF!,\"\")","v":""},{"$f":"IF(ISTEXT(#REF!),#REF!,\"\")","v":""}]
[null,null,{"$f":"IF(ISTEXT(#REF!),#REF!,\"\")","v":""},{"$f":"IF(ISTEXT(#REF!),#REF!,\"\")","v":""},{"$f":"IF(ISTEXT(#REF!),#REF!,\"\")","v":""},{"$f":"IF(ISTEXT(#REF!),#REF!,\"\")","v":""},{"$f":"IF(ISTEXT(#REF!),#REF!,\"\")","v":""},{"$f":"IF(ISTEXT(#REF!),#REF!,\"\")","v":""},{"$f":"IF(ISTEXT(#REF!),#REF!,\"\")","v":""},null,{"$f":"IF(ISTEXT(#REF!),#REF!,\"\")","v":""},{"$f":"IF(ISTEXT(#REF!),#REF!,\"\")","v":""},{"$f":"IF(ISNUMBER(#REF!),#REF!,\"\")","v":""},{"$f":"IF(ISTEXT(#REF!),#REF!,\"\")","v":""},null,{"$f":"IF(ISTEXT(#REF!),#REF!,\"\")","v":""},{"$f":"IF(ISTEXT(#REF!),#REF!,\"\")","v":""},{"$f":"IF(ISTEXT(#REF!),#REF!,\"\")","v":""},{"$f":"IF(ISTEXT(#REF!),#REF!,\"\")","v":""},{"$f":"IF(ISTEXT(#REF!),#REF!,\"\")","v":""},{"$f":"IF(ISTEXT(#REF!),#REF!,\"\")","v":""},{"$f":"IF(ISTEXT(#REF!),#REF!,\"\")","v":""},null,{"$f":"IF(ISTEXT(#REF!),#REF!,\"\")","v":""},{"$f":"IF(ISTEXT(#REF!),#REF!,\"\")","v":""},{"$f":"IF(ISNUMBER(#REF!),#REF!,\"\")","v":""},{"$f":"IF(ISTEXT(#REF!),#REF!,\"\")","v":""},{"$f":"IF(ISTEXT(#REF!),#REF!,\"\")","v":""},{"$f":"IF(ISTEXT(#REF!),#REF!,\"\")","v":""},{"$f":"IF(ISTEXT(#REF!),#REF!,\"\")","v":""},{"$f":"IF(ISTEXT(#REF!),#REF!,\"\")","v":""},{"$f":"IF(ISTEXT(#REF!),#REF!,\"\")","v":""},{"$f":"IF(ISTEXT(#REF!),#REF!,\"\")","v":""},{"$f":"IF(ISTEXT(#REF!),#REF!,\"\")","v":""},null,{"$f":"IF(ISTEXT(#REF!),#REF!,\"\")","v":""},{"$f":"IF(ISTEXT(#REF!),#REF!,\"\")","v":""},{"$f":"IF(ISNUMBER(#REF!),#REF!,\"\")","v":""},{"$f":"IF(ISTEXT(#REF!),#REF!,\"\")","v":""},null,{"$f":"IF(ISTEXT(#REF!),#REF!,\"\")","v":""},{"$f":"IF(ISTEXT(#REF!),#REF!,\"\")","v":""},{"$f":"IF(ISTEXT(#REF!),#REF!,\"\")","v":""},{"$f":"IF(ISTEXT(#REF!),#REF!,\"\")","v":""},{"$f":"IF(ISTEXT(#REF!),#REF!,\"\")","v":""},{"$f":"IF(ISTEXT(#REF!),#REF!,\"\")","v":""},{"$f":"IF(ISTEXT(#REF!),#REF!,\"\")","v":""},null,{"$f":"IF(ISTEXT(#REF!),#REF!,\"\")","v":""},{"$f":"IF(ISTEXT(#REF!),#REF!,\"\")","v":""},{"$f":"IF(ISNUMBER(#REF!),#REF!,\"\")","v":""},{"$f":"IF(ISTEXT(#REF!),#REF!,\"\")","v":""},null,{"$f":"IF(ISTEXT(#REF!),#REF!,\"\")","v":""},{"$f":"IF(ISTEXT(#REF!),#REF!,\"\")","v":""},{"$f":"IF(ISTEXT(#REF!),#REF!,\"\")","v":""},{"$f":"IF(ISTEXT(#REF!),#REF!,\"\")","v":""},{"$f":"IF(ISTEXT(#REF!),#REF!,\"\")","v":""},{"$f":"IF(ISTEXT(#REF!),#REF!,\"\")","v":""},{"$f":"IF(ISTEXT(#REF!),#REF!,\"\")","v":""},null,{"$f":"IF(ISTEXT(#REF!),#REF!,\"\")","v":""},{"$f":"IF(ISTEXT(#REF!),#REF!,\"\")","v":""},{"$f":"IF(ISNUMBER(#REF!),#REF!,\"\")","v":""},{"$f":"IF(ISTEXT(#REF!),#REF!,\"\")","v":""}]
[null,null,{"$f":"IF(ISTEXT(#REF!),#REF!,\"\")","v":""},{"$f":"IF(ISTEXT(#REF!),#REF!,\"\")","v":""},{"$f":"IF(ISTEXT(#REF!),#REF!,\"\")","v":""},{"$f":"IF(ISTEXT(#REF!),#REF!,\"\")","v":""},{"$f":"IF(ISTEXT(#REF!),#REF!,\"\")","v":""},{"$f":"IF(ISTEXT(#REF!),#REF!,\"\")","v":""},{"$f":"IF(ISTEXT(#REF!),#REF!,\"\")","v":""},null,{"$f":"IF(ISTEXT(#REF!),#REF!,\"\")","v":""},{"$f":"IF(ISTEXT(#REF!),#REF!,\"\")","v":""},{"$f":"IF(ISNUMBER(#REF!),#REF!,\"\")","v":""},{"$f":"IF(ISTEXT(#REF!),#REF!,\"\")","v":""},null,{"$f":"IF(ISTEXT(#REF!),#REF!,\"\")","v":""},{"$f":"IF(ISTEXT(#REF!),#REF!,\"\")","v":""},{"$f":"IF(ISTEXT(#REF!),#REF!,\"\")","v":""},{"$f":"IF(ISTEXT(#REF!),#REF!,\"\")","v":""},{"$f":"IF(ISTEXT(#REF!),#REF!,\"\")","v":""},{"$f":"IF(ISTEXT(#REF!),#REF!,\"\")","v":""},{"$f":"IF(ISTEXT(#REF!),#REF!,\"\")","v":""},null,{"$f":"IF(ISTEXT(#REF!),#REF!,\"\")","v":""},{"$f":"IF(ISTEXT(#REF!),#REF!,\"\")","v":""},{"$f":"IF(ISNUMBER(#REF!),#REF!,\"\")","v":""},{"$f":"IF(ISTEXT(#REF!),#REF!,\"\")","v":""},{"$f":"IF(ISTEXT(#REF!),#REF!,\"\")","v":""},{"$f":"IF(ISTEXT(#REF!),#REF!,\"\")","v":""},{"$f":"IF(ISTEXT(#REF!),#REF!,\"\")","v":""},{"$f":"IF(ISTEXT(#REF!),#REF!,\"\")","v":""},{"$f":"IF(ISTEXT(#REF!),#REF!,\"\")","v":""},{"$f":"IF(ISTEXT(#REF!),#REF!,\"\")","v":""},{"$f":"IF(ISTEXT(#REF!),#REF!,\"\")","v":""},null,{"$f":"IF(ISTEXT(#REF!),#REF!,\"\")","v":""},{"$f":"IF(ISTEXT(#REF!),#REF!,\"\")","v":""},{"$f":"IF(ISNUMBER(#REF!),#REF!,\"\")","v":""},{"$f":"IF(ISTEXT(#REF!),#REF!,\"\")","v":""},null,{"$f":"IF(ISTEXT(#REF!),#REF!,\"\")","v":""},{"$f":"IF(ISTEXT(#REF!),#REF!,\"\")","v":""},{"$f":"IF(ISTEXT(#REF!),#REF!,\"\")","v":""},{"$f":"IF(ISTEXT(#REF!),#REF!,\"\")","v":""},{"$f":"IF(ISTEXT(#REF!),#REF!,\"\")","v":""},{"$f":"IF(ISTEXT(#REF!),#REF!,\"\")","v":""},{"$f":"IF(ISTEXT(#REF!),#REF!,\"\")","v":""},null,{"$f":"IF(ISTEXT(#REF!),#REF!,\"\")","v":""},{"$f":"IF(ISTEXT(#REF!),#REF!,\"\")","v":""},{"$f":"IF(ISNUMBER(#REF!),#REF!,\"\")","v":""},{"$f":"IF(ISTEXT(#REF!),#REF!,\"\")","v":""},null,{"$f":"IF(ISTEXT(#REF!),#REF!,\"\")","v":""},{"$f":"IF(ISTEXT(#REF!),#REF!,\"\")","v":""},{"$f":"IF(ISTEXT(#REF!),#REF!,\"\")","v":""},{"$f":"IF(ISTEXT(#REF!),#REF!,\"\")","v":""},{"$f":"IF(ISTEXT(#REF!),#REF!,\"\")","v":""},{"$f":"IF(ISTEXT(#REF!),#REF!,\"\")","v":""},{"$f":"IF(ISTEXT(#REF!),#REF!,\"\")","v":""},null,{"$f":"IF(ISTEXT(#REF!),#REF!,\"\")","v":""},{"$f":"IF(ISTEXT(#REF!),#REF!,\"\")","v":""},{"$f":"IF(ISNUMBER(#REF!),#REF!,\"\")","v":""},{"$f":"IF(ISTEXT(#REF!),#REF!,\"\")","v":""}]
[null,null,{"$f":"IF(ISTEXT(#REF!),#REF!,\"\")","v":""},{"$f":"IF(ISTEXT(#REF!),#REF!,\"\")","v":""},{"$f":"IF(ISTEXT(#REF!),#REF!,\"\")","v":""},{"$f":"IF(ISTEXT(#REF!),#REF!,\"\")","v":""},{"$f":"IF(ISTEXT(#REF!),#REF!,\"\")","v":""},{"$f":"IF(ISTEXT(#REF!),#REF!,\"\")","v":""},{"$f":"IF(ISTEXT(#REF!),#REF!,\"\")","v":""},null,{"$f":"IF(ISTEXT(#REF!),#REF!,\"\")","v":""},{"$f":"IF(ISTEXT(#REF!),#REF!,\"\")","v":""},{"$f":"IF(ISNUMBER(#REF!),#REF!,\"\")","v":""},{"$f":"IF(ISTEXT(#REF!),#REF!,\"\")","v":""},null,{"$f":"IF(ISTEXT(#REF!),#REF!,\"\")","v":""},{"$f":"IF(ISTEXT(#REF!),#REF!,\"\")","v":""},{"$f":"IF(ISTEXT(#REF!),#REF!,\"\")","v":""},{"$f":"IF(ISTEXT(#REF!),#REF!,\"\")","v":""},{"$f":"IF(ISTEXT(#REF!),#REF!,\"\")","v":""},{"$f":"IF(ISTEXT(#REF!),#REF!,\"\")","v":""},{"$f":"IF(ISTEXT(#REF!),#REF!,\"\")","v":""},null,{"$f":"IF(ISTEXT(#REF!),#REF!,\"\")","v":""},{"$f":"IF(ISTEXT(#REF!),#REF!,\"\")","v":""},{"$f":"IF(ISNUMBER(#REF!),#REF!,\"\")","v":""},{"$f":"IF(ISTEXT(#REF!),#REF!,\"\")","v":""},{"$f":"IF(ISTEXT(#REF!),#REF!,\"\")","v":""},{"$f":"IF(ISTEXT(#REF!),#REF!,\"\")","v":""},{"$f":"IF(ISTEXT(#REF!),#REF!,\"\")","v":""},{"$f":"IF(ISTEXT(#REF!),#REF!,\"\")","v":""},{"$f":"IF(ISTEXT(#REF!),#REF!,\"\")","v":""},{"$f":"IF(ISTEXT(#REF!),#REF!,\"\")","v":""},{"$f":"IF(ISTEXT(#REF!),#REF!,\"\")","v":""},null,{"$f":"IF(ISTEXT(#REF!),#REF!,\"\")","v":""},{"$f":"IF(ISTEXT(#REF!),#REF!,\"\")","v":""},{"$f":"IF(ISNUMBER(#REF!),#REF!,\"\")","v":""},{"$f":"IF(ISTEXT(#REF!),#REF!,\"\")","v":""},null,{"$f":"IF(ISTEXT(#REF!),#REF!,\"\")","v":""},{"$f":"IF(ISTEXT(#REF!),#REF!,\"\")","v":""},{"$f":"IF(ISTEXT(#REF!),#REF!,\"\")","v":""},{"$f":"IF(ISTEXT(#REF!),#REF!,\"\")","v":""},{"$f":"IF(ISTEXT(#REF!),#REF!,\"\")","v":""},{"$f":"IF(ISTEXT(#REF!),#REF!,\"\")","v":""},{"$f":"IF(ISTEXT(#REF!),#REF!,\"\")","v":""},null,{"$f":"IF(ISTEXT(#REF!),#REF!,\"\")","v":""},{"$f":"IF(ISTEXT(#REF!),#REF!,\"\")","v":""},{"$f":"IF(ISNUMBER(#REF!),#REF!,\"\")","v":""},{"$f":"IF(ISTEXT(#REF!),#REF!,\"\")","v":""},null,{"$f":"IF(ISTEXT(#REF!),#REF!,\"\")","v":""},{"$f":"IF(ISTEXT(#REF!),#REF!,\"\")","v":""},{"$f":"IF(ISTEXT(#REF!),#REF!,\"\")","v":""},{"$f":"IF(ISTEXT(#REF!),#REF!,\"\")","v":""},{"$f":"IF(ISTEXT(#REF!),#REF!,\"\")","v":""},{"$f":"IF(ISTEXT(#REF!),#REF!,\"\")","v":""},{"$f":"IF(ISTEXT(#REF!),#REF!,\"\")","v":""},null,{"$f":"IF(ISTEXT(#REF!),#REF!,\"\")","v":""},{"$f":"IF(ISTEXT(#REF!),#REF!,\"\")","v":""},{"$f":"IF(ISNUMBER(#REF!),#REF!,\"\")","v":""},{"$f":"IF(ISTEXT(#REF!),#REF!,\"\")","v":""}]
[null,null,{"$f":"IF(ISTEXT(#REF!),#REF!,\"\")","v":""},{"$f":"IF(ISTEXT(#REF!),#REF!,\"\")","v":""},{"$f":"IF(ISTEXT(#REF!),#REF!,\"\")","v":""},{"$f":"IF(ISTEXT(#REF!),#REF!,\"\")","v":""},{"$f":"IF(ISTEXT(#REF!),#REF!,\"\")","v":""},{"$f":"IF(ISTEXT(#REF!),#REF!,\"\")","v":""},{"$f":"IF(ISTEXT(#REF!),#REF!,\"\")","v":""},null,{"$f":"IF(ISTEXT(#REF!),#REF!,\"\")","v":""},{"$f":"IF(ISTEXT(#REF!),#REF!,\"\")","v":""},{"$f":"IF(ISNUMBER(#REF!),#REF!,\"\")","v":""},{"$f":"IF(ISTEXT(#REF!),#REF!,\"\")","v":""},null,{"$f":"IF(ISTEXT(#REF!),#REF!,\"\")","v":""},{"$f":"IF(ISTEXT(#REF!),#REF!,\"\")","v":""},{"$f":"IF(ISTEXT(#REF!),#REF!,\"\")","v":""},{"$f":"IF(ISTEXT(#REF!),#REF!,\"\")","v":""},{"$f":"IF(ISTEXT(#REF!),#REF!,\"\")","v":""},{"$f":"IF(ISTEXT(#REF!),#REF!,\"\")","v":""},{"$f":"IF(ISTEXT(#REF!),#REF!,\"\")","v":""},null,{"$f":"IF(ISTEXT(#REF!),#REF!,\"\")","v":""},{"$f":"IF(ISTEXT(#REF!),#REF!,\"\")","v":""},{"$f":"IF(ISNUMBER(#REF!),#REF!,\"\")","v":""},{"$f":"IF(ISTEXT(#REF!),#REF!,\"\")","v":""},{"$f":"IF(ISTEXT(#REF!),#REF!,\"\")","v":""},{"$f":"IF(ISTEXT(#REF!),#REF!,\"\")","v":""},{"$f":"IF(ISTEXT(#REF!),#REF!,\"\")","v":""},{"$f":"IF(ISTEXT(#REF!),#REF!,\"\")","v":""},{"$f":"IF(ISTEXT(#REF!),#REF!,\"\")","v":""},{"$f":"IF(ISTEXT(#REF!),#REF!,\"\")","v":""},{"$f":"IF(ISTEXT(#REF!),#REF!,\"\")","v":""},null,{"$f":"IF(ISTEXT(#REF!),#REF!,\"\")","v":""},{"$f":"IF(ISTEXT(#REF!),#REF!,\"\")","v":""},{"$f":"IF(ISNUMBER(#REF!),#REF!,\"\")","v":""},{"$f":"IF(ISTEXT(#REF!),#REF!,\"\")","v":""},null,{"$f":"IF(ISTEXT(#REF!),#REF!,\"\")","v":""},{"$f":"IF(ISTEXT(#REF!),#REF!,\"\")","v":""},{"$f":"IF(ISTEXT(#REF!),#REF!,\"\")","v":""},{"$f":"IF(ISTEXT(#REF!),#REF!,\"\")","v":""},{"$f":"IF(ISTEXT(#REF!),#REF!,\"\")","v":""},{"$f":"IF(ISTEXT(#REF!),#REF!,\"\")","v":""},{"$f":"IF(ISTEXT(#REF!),#REF!,\"\")","v":""},null,{"$f":"IF(ISTEXT(#REF!),#REF!,\"\")","v":""},{"$f":"IF(ISTEXT(#REF!),#REF!,\"\")","v":""},{"$f":"IF(ISNUMBER(#REF!),#REF!,\"\")","v":""},{"$f":"IF(ISTEXT(#REF!),#REF!,\"\")","v":""},null,{"$f":"IF(ISTEXT(#REF!),#REF!,\"\")","v":""},{"$f":"IF(ISTEXT(#REF!),#REF!,\"\")","v":""},{"$f":"IF(ISTEXT(#REF!),#REF!,\"\")","v":""},{"$f":"IF(ISTEXT(#REF!),#REF!,\"\")","v":""},{"$f":"IF(ISTEXT(#REF!),#REF!,\"\")","v":""},{"$f":"IF(ISTEXT(#REF!),#REF!,\"\")","v":""},{"$f":"IF(ISTEXT(#REF!),#REF!,\"\")","v":""},null,{"$f":"IF(ISTEXT(#REF!),#REF!,\"\")","v":""},{"$f":"IF(ISTEXT(#REF!),#REF!,\"\")","v":""},{"$f":"IF(ISNUMBER(#REF!),#REF!,\"\")","v":""},{"$f":"IF(ISTEXT(#REF!),#REF!,\"\")","v":""}]
[null,null,{"$f":"IF(ISTEXT(#REF!),#REF!,\"\")","v":""},{"$f":"IF(ISTEXT(#REF!),#REF!,\"\")","v":""},{"$f":"IF(ISTEXT(#REF!),#REF!,\"\")","v":""},{"$f":"IF(ISTEXT(#REF!),#REF!,\"\")","v":""},{"$f":"IF(ISTEXT(#REF!),#REF!,\"\")","v":""},{"$f":"IF(ISTEXT(#REF!),#REF!,\"\")","v":""},{"$f":"IF(ISTEXT(#REF!),#REF!,\"\")","v":""},null,{"$f":"IF(ISTEXT(#REF!),#REF!,\"\")","v":""},{"$f":"IF(ISTEXT(#REF!),#REF!,\"\")","v":""},{"$f":"IF(ISNUMBER(#REF!),#REF!,\"\")","v":""},{"$f":"IF(ISTEXT(#REF!),#REF!,\"\")","v":""},null,{"$f":"IF(ISTEXT(#REF!),#REF!,\"\")","v":""},{"$f":"IF(ISTEXT(#REF!),#REF!,\"\")","v":""},{"$f":"IF(ISTEXT(#REF!),#REF!,\"\")","v":""},{"$f":"IF(ISTEXT(#REF!),#REF!,\"\")","v":""},{"$f":"IF(ISTEXT(#REF!),#REF!,\"\")","v":""},{"$f":"IF(ISTEXT(#REF!),#REF!,\"\")","v":""},{"$f":"IF(ISTEXT(#REF!),#REF!,\"\")","v":""},null,{"$f":"IF(ISTEXT(#REF!),#REF!,\"\")","v":""},{"$f":"IF(ISTEXT(#REF!),#REF!,\"\")","v":""},{"$f":"IF(ISNUMBER(#REF!),#REF!,\"\")","v":""},{"$f":"IF(ISTEXT(#REF!),#REF!,\"\")","v":""},{"$f":"IF(ISTEXT(#REF!),#REF!,\"\")","v":""},{"$f":"IF(ISTEXT(#REF!),#REF!,\"\")","v":""},{"$f":"IF(ISTEXT(#REF!),#REF!,\"\")","v":""},{"$f":"IF(ISTEXT(#REF!),#REF!,\"\")","v":""},{"$f":"IF(ISTEXT(#REF!),#REF!,\"\")","v":""},{"$f":"IF(ISTEXT(#REF!),#REF!,\"\")","v":""},{"$f":"IF(ISTEXT(#REF!),#REF!,\"\")","v":""},null,{"$f":"IF(ISTEXT(#REF!),#REF!,\"\")","v":""},{"$f":"IF(ISTEXT(#REF!),#REF!,\"\")","v":""},{"$f":"IF(ISNUMBER(#REF!),#REF!,\"\")","v":""},{"$f":"IF(ISTEXT(#REF!),#REF!,\"\")","v":""},null,{"$f":"IF(ISTEXT(#REF!),#REF!,\"\")","v":""},{"$f":"IF(ISTEXT(#REF!),#REF!,\"\")","v":""},{"$f":"IF(ISTEXT(#REF!),#REF!,\"\")","v":""},{"$f":"IF(ISTEXT(#REF!),#REF!,\"\")","v":""},{"$f":"IF(ISTEXT(#REF!),#REF!,\"\")","v":""},{"$f":"IF(ISTEXT(#REF!),#REF!,\"\")","v":""},{"$f":"IF(ISTEXT(#REF!),#REF!,\"\")","v":""},null,{"$f":"IF(ISTEXT(#REF!),#REF!,\"\")","v":""},{"$f":"IF(ISTEXT(#REF!),#REF!,\"\")","v":""},{"$f":"IF(ISNUMBER(#REF!),#REF!,\"\")","v":""},{"$f":"IF(ISTEXT(#REF!),#REF!,\"\")","v":""},null,{"$f":"IF(ISTEXT(#REF!),#REF!,\"\")","v":""},{"$f":"IF(ISTEXT(#REF!),#REF!,\"\")","v":""},{"$f":"IF(ISTEXT(#REF!),#REF!,\"\")","v":""},{"$f":"IF(ISTEXT(#REF!),#REF!,\"\")","v":""},{"$f":"IF(ISTEXT(#REF!),#REF!,\"\")","v":""},{"$f":"IF(ISTEXT(#REF!),#REF!,\"\")","v":""},{"$f":"IF(ISTEXT(#REF!),#REF!,\"\")","v":""},null,{"$f":"IF(ISTEXT(#REF!),#REF!,\"\")","v":""},{"$f":"IF(ISTEXT(#REF!),#REF!,\"\")","v":""},{"$f":"IF(ISNUMBER(#REF!),#REF!,\"\")","v":""},{"$f":"IF(ISTEXT(#REF!),#REF!,\"\")","v":""}]
[null,null,{"$f":"IF(ISTEXT(#REF!),#REF!,\"\")","v":""},{"$f":"IF(ISTEXT(#REF!),#REF!,\"\")","v":""},{"$f":"IF(ISTEXT(#REF!),#REF!,\"\")","v":""},{"$f":"IF(ISTEXT(#REF!),#REF!,\"\")","v":""},{"$f":"IF(ISTEXT(#REF!),#REF!,\"\")","v":""},{"$f":"IF(ISTEXT(#REF!),#REF!,\"\")","v":""},{"$f":"IF(ISTEXT(#REF!),#REF!,\"\")","v":""},null,{"$f":"IF(ISTEXT(#REF!),#REF!,\"\")","v":""},{"$f":"IF(ISTEXT(#REF!),#REF!,\"\")","v":""},{"$f":"IF(ISNUMBER(#REF!),#REF!,\"\")","v":""},{"$f":"IF(ISTEXT(#REF!),#REF!,\"\")","v":""},null,{"$f":"IF(ISTEXT(#REF!),#REF!,\"\")","v":""},{"$f":"IF(ISTEXT(#REF!),#REF!,\"\")","v":""},{"$f":"IF(ISTEXT(#REF!),#REF!,\"\")","v":""},{"$f":"IF(ISTEXT(#REF!),#REF!,\"\")","v":""},{"$f":"IF(ISTEXT(#REF!),#REF!,\"\")","v":""},{"$f":"IF(ISTEXT(#REF!),#REF!,\"\")","v":""},{"$f":"IF(ISTEXT(#REF!),#REF!,\"\")","v":""},null,{"$f":"IF(ISTEXT(#REF!),#REF!,\"\")","v":""},{"$f":"IF(ISTEXT(#REF!),#REF!,\"\")","v":""},{"$f":"IF(ISNUMBER(#REF!),#REF!,\"\")","v":""},{"$f":"IF(ISTEXT(#REF!),#REF!,\"\")","v":""},{"$f":"IF(ISTEXT(#REF!),#REF!,\"\")","v":""},{"$f":"IF(ISTEXT(#REF!),#REF!,\"\")","v":""},{"$f":"IF(ISTEXT(#REF!),#REF!,\"\")","v":""},{"$f":"IF(ISTEXT(#REF!),#REF!,\"\")","v":""},{"$f":"IF(ISTEXT(#REF!),#REF!,\"\")","v":""},{"$f":"IF(ISTEXT(#REF!),#REF!,\"\")","v":""},{"$f":"IF(ISTEXT(#REF!),#REF!,\"\")","v":""},null,{"$f":"IF(ISTEXT(#REF!),#REF!,\"\")","v":""},{"$f":"IF(ISTEXT(#REF!),#REF!,\"\")","v":""},{"$f":"IF(ISNUMBER(#REF!),#REF!,\"\")","v":""},{"$f":"IF(ISTEXT(#REF!),#REF!,\"\")","v":""},null,{"$f":"IF(ISTEXT(#REF!),#REF!,\"\")","v":""},{"$f":"IF(ISTEXT(#REF!),#REF!,\"\")","v":""},{"$f":"IF(ISTEXT(#REF!),#REF!,\"\")","v":""},{"$f":"IF(ISTEXT(#REF!),#REF!,\"\")","v":""},{"$f":"IF(ISTEXT(#REF!),#REF!,\"\")","v":""},{"$f":"IF(ISTEXT(#REF!),#REF!,\"\")","v":""},{"$f":"IF(ISTEXT(#REF!),#REF!,\"\")","v":""},null,{"$f":"IF(ISTEXT(#REF!),#REF!,\"\")","v":""},{"$f":"IF(ISTEXT(#REF!),#REF!,\"\")","v":""},{"$f":"IF(ISNUMBER(#REF!),#REF!,\"\")","v":""},{"$f":"IF(ISTEXT(#REF!),#REF!,\"\")","v":""},null,{"$f":"IF(ISTEXT(#REF!),#REF!,\"\")","v":""},{"$f":"IF(ISTEXT(#REF!),#REF!,\"\")","v":""},{"$f":"IF(ISTEXT(#REF!),#REF!,\"\")","v":""},{"$f":"IF(ISTEXT(#REF!),#REF!,\"\")","v":""},{"$f":"IF(ISTEXT(#REF!),#REF!,\"\")","v":""},{"$f":"IF(ISTEXT(#REF!),#REF!,\"\")","v":""},{"$f":"IF(ISTEXT(#REF!),#REF!,\"\")","v":""},null,{"$f":"IF(ISTEXT(#REF!),#REF!,\"\")","v":""},{"$f":"IF(ISTEXT(#REF!),#REF!,\"\")","v":""},{"$f":"IF(ISNUMBER(#REF!),#REF!,\"\")","v":""},{"$f":"IF(ISTEXT(#REF!),#REF!,\"\")","v":""}]
[null,null,{"$f":"IF(ISTEXT(#REF!),#REF!,\"\")","v":""},{"$f":"IF(ISTEXT(#REF!),#REF!,\"\")","v":""},{"$f":"IF(ISTEXT(#REF!),#REF!,\"\")","v":""},{"$f":"IF(ISTEXT(#REF!),#REF!,\"\")","v":""},{"$f":"IF(ISTEXT(#REF!),#REF!,\"\")","v":""},{"$f":"IF(ISTEXT(#REF!),#REF!,\"\")","v":""},{"$f":"IF(ISTEXT(#REF!),#REF!,\"\")","v":""},null,{"$f":"IF(ISTEXT(#REF!),#REF!,\"\")","v":""},{"$f":"IF(ISTEXT(#REF!),#REF!,\"\")","v":""},{"$f":"IF(ISNUMBER(#REF!),#REF!,\"\")","v":""},{"$f":"IF(ISTEXT(#REF!),#REF!,\"\")","v":""},null,{"$f":"IF(ISTEXT(#REF!),#REF!,\"\")","v":""},{"$f":"IF(ISTEXT(#REF!),#REF!,\"\")","v":""},{"$f":"IF(ISTEXT(#REF!),#REF!,\"\")","v":""},{"$f":"IF(ISTEXT(#REF!),#REF!,\"\")","v":""},{"$f":"IF(ISTEXT(#REF!),#REF!,\"\")","v":""},{"$f":"IF(ISTEXT(#REF!),#REF!,\"\")","v":""},{"$f":"IF(ISTEXT(#REF!),#REF!,\"\")","v":""},null,{"$f":"IF(ISTEXT(#REF!),#REF!,\"\")","v":""},{"$f":"IF(ISTEXT(#REF!),#REF!,\"\")","v":""},{"$f":"IF(ISNUMBER(#REF!),#REF!,\"\")","v":""},{"$f":"IF(ISTEXT(#REF!),#REF!,\"\")","v":""},{"$f":"IF(ISTEXT(#REF!),#REF!,\"\")","v":""},{"$f":"IF(ISTEXT(#REF!),#REF!,\"\")","v":""},{"$f":"IF(ISTEXT(#REF!),#REF!,\"\")","v":""},{"$f":"IF(ISTEXT(#REF!),#REF!,\"\")","v":""},{"$f":"IF(ISTEXT(#REF!),#REF!,\"\")","v":""},{"$f":"IF(ISTEXT(#REF!),#REF!,\"\")","v":""},{"$f":"IF(ISTEXT(#REF!),#REF!,\"\")","v":""},null,{"$f":"IF(ISTEXT(#REF!),#REF!,\"\")","v":""},{"$f":"IF(ISTEXT(#REF!),#REF!,\"\")","v":""},{"$f":"IF(ISNUMBER(#REF!),#REF!,\"\")","v":""},{"$f":"IF(ISTEXT(#REF!),#REF!,\"\")","v":""},null,{"$f":"IF(ISTEXT(#REF!),#REF!,\"\")","v":""},{"$f":"IF(ISTEXT(#REF!),#REF!,\"\")","v":""},{"$f":"IF(ISTEXT(#REF!),#REF!,\"\")","v":""},{"$f":"IF(ISTEXT(#REF!),#REF!,\"\")","v":""},{"$f":"IF(ISTEXT(#REF!),#REF!,\"\")","v":""},{"$f":"IF(ISTEXT(#REF!),#REF!,\"\")","v":""},{"$f":"IF(ISTEXT(#REF!),#REF!,\"\")","v":""},null,{"$f":"IF(ISTEXT(#REF!),#REF!,\"\")","v":""},{"$f":"IF(ISTEXT(#REF!),#REF!,\"\")","v":""},{"$f":"IF(ISNUMBER(#REF!),#REF!,\"\")","v":""},{"$f":"IF(ISTEXT(#REF!),#REF!,\"\")","v":""},null,{"$f":"IF(ISTEXT(#REF!),#REF!,\"\")","v":""},{"$f":"IF(ISTEXT(#REF!),#REF!,\"\")","v":""},{"$f":"IF(ISTEXT(#REF!),#REF!,\"\")","v":""},{"$f":"IF(ISTEXT(#REF!),#REF!,\"\")","v":""},{"$f":"IF(ISTEXT(#REF!),#REF!,\"\")","v":""},{"$f":"IF(ISTEXT(#REF!),#REF!,\"\")","v":""},{"$f":"IF(ISTEXT(#REF!),#REF!,\"\")","v":""},null,{"$f":"IF(ISTEXT(#REF!),#REF!,\"\")","v":""},{"$f":"IF(ISTEXT(#REF!),#REF!,\"\")","v":""},{"$f":"IF(ISNUMBER(#REF!),#REF!,\"\")","v":""},{"$f":"IF(ISTEXT(#REF!),#REF!,\"\")","v":""}]
[null,null,{"$f":"IF(ISTEXT(#REF!),#REF!,\"\")","v":""},{"$f":"IF(ISTEXT(#REF!),#REF!,\"\")","v":""},{"$f":"IF(ISTEXT(#REF!),#REF!,\"\")","v":""},{"$f":"IF(ISTEXT(#REF!),#REF!,\"\")","v":""},{"$f":"IF(ISTEXT(#REF!),#REF!,\"\")","v":""},{"$f":"IF(ISTEXT(#REF!),#REF!,\"\")","v":""},{"$f":"IF(ISTEXT(#REF!),#REF!,\"\")","v":""},null,{"$f":"IF(ISTEXT(#REF!),#REF!,\"\")","v":""},{"$f":"IF(ISTEXT(#REF!),#REF!,\"\")","v":""},{"$f":"IF(ISNUMBER(#REF!),#REF!,\"\")","v":""},{"$f":"IF(ISTEXT(#REF!),#REF!,\"\")","v":""},null,{"$f":"IF(ISTEXT(#REF!),#REF!,\"\")","v":""},{"$f":"IF(ISTEXT(#REF!),#REF!,\"\")","v":""},{"$f":"IF(ISTEXT(#REF!),#REF!,\"\")","v":""},{"$f":"IF(ISTEXT(#REF!),#REF!,\"\")","v":""},{"$f":"IF(ISTEXT(#REF!),#REF!,\"\")","v":""},{"$f":"IF(ISTEXT(#REF!),#REF!,\"\")","v":""},{"$f":"IF(ISTEXT(#REF!),#REF!,\"\")","v":""},null,{"$f":"IF(ISTEXT(#REF!),#REF!,\"\")","v":""},{"$f":"IF(ISTEXT(#REF!),#REF!,\"\")","v":""},{"$f":"IF(ISNUMBER(#REF!),#REF!,\"\")","v":""},{"$f":"IF(ISTEXT(#REF!),#REF!,\"\")","v":""},{"$f":"IF(ISTEXT(#REF!),#REF!,\"\")","v":""},{"$f":"IF(ISTEXT(#REF!),#REF!,\"\")","v":""},{"$f":"IF(ISTEXT(#REF!),#REF!,\"\")","v":""},{"$f":"IF(ISTEXT(#REF!),#REF!,\"\")","v":""},{"$f":"IF(ISTEXT(#REF!),#REF!,\"\")","v":""},{"$f":"IF(ISTEXT(#REF!),#REF!,\"\")","v":""},{"$f":"IF(ISTEXT(#REF!),#REF!,\"\")","v":""},null,{"$f":"IF(ISTEXT(#REF!),#REF!,\"\")","v":""},{"$f":"IF(ISTEXT(#REF!),#REF!,\"\")","v":""},{"$f":"IF(ISNUMBER(#REF!),#REF!,\"\")","v":""},{"$f":"IF(ISTEXT(#REF!),#REF!,\"\")","v":""},null,{"$f":"IF(ISTEXT(#REF!),#REF!,\"\")","v":""},{"$f":"IF(ISTEXT(#REF!),#REF!,\"\")","v":""},{"$f":"IF(ISTEXT(#REF!),#REF!,\"\")","v":""},{"$f":"IF(ISTEXT(#REF!),#REF!,\"\")","v":""},{"$f":"IF(ISTEXT(#REF!),#REF!,\"\")","v":""},{"$f":"IF(ISTEXT(#REF!),#REF!,\"\")","v":""},{"$f":"IF(ISTEXT(#REF!),#REF!,\"\")","v":""},null,{"$f":"IF(ISTEXT(#REF!),#REF!,\"\")","v":""},{"$f":"IF(ISTEXT(#REF!),#REF!,\"\")","v":""},{"$f":"IF(ISNUMBER(#REF!),#REF!,\"\")","v":""},{"$f":"IF(ISTEXT(#REF!),#REF!,\"\")","v":""},null,{"$f":"IF(ISTEXT(#REF!),#REF!,\"\")","v":""},{"$f":"IF(ISTEXT(#REF!),#REF!,\"\")","v":""},{"$f":"IF(ISTEXT(#REF!),#REF!,\"\")","v":""},{"$f":"IF(ISTEXT(#REF!),#REF!,\"\")","v":""},{"$f":"IF(ISTEXT(#REF!),#REF!,\"\")","v":""},{"$f":"IF(ISTEXT(#REF!),#REF!,\"\")","v":""},{"$f":"IF(ISTEXT(#REF!),#REF!,\"\")","v":""},null,{"$f":"IF(ISTEXT(#REF!),#REF!,\"\")","v":""},{"$f":"IF(ISTEXT(#REF!),#REF!,\"\")","v":""},{"$f":"IF(ISNUMBER(#REF!),#REF!,\"\")","v":""},{"$f":"IF(ISTEXT(#REF!),#REF!,\"\")","v":""}]
[null,null,{"$f":"IF(ISTEXT(#REF!),#REF!,\"\")","v":""},{"$f":"IF(ISTEXT(#REF!),#REF!,\"\")","v":""},{"$f":"IF(ISTEXT(#REF!),#REF!,\"\")","v":""},{"$f":"IF(ISTEXT(#REF!),#REF!,\"\")","v":""},{"$f":"IF(ISTEXT(#REF!),#REF!,\"\")","v":""},{"$f":"IF(ISTEXT(#REF!),#REF!,\"\")","v":""},{"$f":"IF(ISTEXT(#REF!),#REF!,\"\")","v":""},null,{"$f":"IF(ISTEXT(#REF!),#REF!,\"\")","v":""},{"$f":"IF(ISTEXT(#REF!),#REF!,\"\")","v":""},{"$f":"IF(ISNUMBER(#REF!),#REF!,\"\")","v":""},{"$f":"IF(ISTEXT(#REF!),#REF!,\"\")","v":""},null,{"$f":"IF(ISTEXT(#REF!),#REF!,\"\")","v":""},{"$f":"IF(ISTEXT(#REF!),#REF!,\"\")","v":""},{"$f":"IF(ISTEXT(#REF!),#REF!,\"\")","v":""},{"$f":"IF(ISTEXT(#REF!),#REF!,\"\")","v":""},{"$f":"IF(ISTEXT(#REF!),#REF!,\"\")","v":""},{"$f":"IF(ISTEXT(#REF!),#REF!,\"\")","v":""},{"$f":"IF(ISTEXT(#REF!),#REF!,\"\")","v":""},null,{"$f":"IF(ISTEXT(#REF!),#REF!,\"\")","v":""},{"$f":"IF(ISTEXT(#REF!),#REF!,\"\")","v":""},{"$f":"IF(ISNUMBER(#REF!),#REF!,\"\")","v":""},{"$f":"IF(ISTEXT(#REF!),#REF!,\"\")","v":""},{"$f":"IF(ISTEXT(#REF!),#REF!,\"\")","v":""},{"$f":"IF(ISTEXT(#REF!),#REF!,\"\")","v":""},{"$f":"IF(ISTEXT(#REF!),#REF!,\"\")","v":""},{"$f":"IF(ISTEXT(#REF!),#REF!,\"\")","v":""},{"$f":"IF(ISTEXT(#REF!),#REF!,\"\")","v":""},{"$f":"IF(ISTEXT(#REF!),#REF!,\"\")","v":""},{"$f":"IF(ISTEXT(#REF!),#REF!,\"\")","v":""},null,{"$f":"IF(ISTEXT(#REF!),#REF!,\"\")","v":""},{"$f":"IF(ISTEXT(#REF!),#REF!,\"\")","v":""},{"$f":"IF(ISNUMBER(#REF!),#REF!,\"\")","v":""},{"$f":"IF(ISTEXT(#REF!),#REF!,\"\")","v":""},null,{"$f":"IF(ISTEXT(#REF!),#REF!,\"\")","v":""},{"$f":"IF(ISTEXT(#REF!),#REF!,\"\")","v":""},{"$f":"IF(ISTEXT(#REF!),#REF!,\"\")","v":""},{"$f":"IF(ISTEXT(#REF!),#REF!,\"\")","v":""},{"$f":"IF(ISTEXT(#REF!),#REF!,\"\")","v":""},{"$f":"IF(ISTEXT(#REF!),#REF!,\"\")","v":""},{"$f":"IF(ISTEXT(#REF!),#REF!,\"\")","v":""},null,{"$f":"IF(ISTEXT(#REF!),#REF!,\"\")","v":""},{"$f":"IF(ISTEXT(#REF!),#REF!,\"\")","v":""},{"$f":"IF(ISNUMBER(#REF!),#REF!,\"\")","v":""},{"$f":"IF(ISTEXT(#REF!),#REF!,\"\")","v":""},null,{"$f":"IF(ISTEXT(#REF!),#REF!,\"\")","v":""},{"$f":"IF(ISTEXT(#REF!),#REF!,\"\")","v":""},{"$f":"IF(ISTEXT(#REF!),#REF!,\"\")","v":""},{"$f":"IF(ISTEXT(#REF!),#REF!,\"\")","v":""},{"$f":"IF(ISTEXT(#REF!),#REF!,\"\")","v":""},{"$f":"IF(ISTEXT(#REF!),#REF!,\"\")","v":""},{"$f":"IF(ISTEXT(#REF!),#REF!,\"\")","v":""},null,{"$f":"IF(ISTEXT(#REF!),#REF!,\"\")","v":""},{"$f":"IF(ISTEXT(#REF!),#REF!,\"\")","v":""},{"$f":"IF(ISNUMBER(#REF!),#REF!,\"\")","v":""},{"$f":"IF(ISTEXT(#REF!),#REF!,\"\")","v":""}]
[null,null,{"$f":"IF(ISTEXT(#REF!),#REF!,\"\")","v":""},{"$f":"IF(ISTEXT(#REF!),#REF!,\"\")","v":""},{"$f":"IF(ISTEXT(#REF!),#REF!,\"\")","v":""},{"$f":"IF(ISTEXT(#REF!),#REF!,\"\")","v":""},{"$f":"IF(ISTEXT(#REF!),#REF!,\"\")","v":""},{"$f":"IF(ISTEXT(#REF!),#REF!,\"\")","v":""},{"$f":"IF(ISTEXT(#REF!),#REF!,\"\")","v":""},null,{"$f":"IF(ISTEXT(#REF!),#REF!,\"\")","v":""},{"$f":"IF(ISTEXT(#REF!),#REF!,\"\")","v":""},{"$f":"IF(ISNUMBER(#REF!),#REF!,\"\")","v":""},{"$f":"IF(ISTEXT(#REF!),#REF!,\"\")","v":""},null,{"$f":"IF(ISTEXT(#REF!),#REF!,\"\")","v":""},{"$f":"IF(ISTEXT(#REF!),#REF!,\"\")","v":""},{"$f":"IF(ISTEXT(#REF!),#REF!,\"\")","v":""},{"$f":"IF(ISTEXT(#REF!),#REF!,\"\")","v":""},{"$f":"IF(ISTEXT(#REF!),#REF!,\"\")","v":""},{"$f":"IF(ISTEXT(#REF!),#REF!,\"\")","v":""},{"$f":"IF(ISTEXT(#REF!),#REF!,\"\")","v":""},null,{"$f":"IF(ISTEXT(#REF!),#REF!,\"\")","v":""},{"$f":"IF(ISTEXT(#REF!),#REF!,\"\")","v":""},{"$f":"IF(ISNUMBER(#REF!),#REF!,\"\")","v":""},{"$f":"IF(ISTEXT(#REF!),#REF!,\"\")","v":""},{"$f":"IF(ISTEXT(#REF!),#REF!,\"\")","v":""},{"$f":"IF(ISTEXT(#REF!),#REF!,\"\")","v":""},{"$f":"IF(ISTEXT(#REF!),#REF!,\"\")","v":""},{"$f":"IF(ISTEXT(#REF!),#REF!,\"\")","v":""},{"$f":"IF(ISTEXT(#REF!),#REF!,\"\")","v":""},{"$f":"IF(ISTEXT(#REF!),#REF!,\"\")","v":""},{"$f":"IF(ISTEXT(#REF!),#REF!,\"\")","v":""},null,{"$f":"IF(ISTEXT(#REF!),#REF!,\"\")","v":""},{"$f":"IF(ISTEXT(#REF!),#REF!,\"\")","v":""},{"$f":"IF(ISNUMBER(#REF!),#REF!,\"\")","v":""},{"$f":"IF(ISTEXT(#REF!),#REF!,\"\")","v":""},null,{"$f":"IF(ISTEXT(#REF!),#REF!,\"\")","v":""},{"$f":"IF(ISTEXT(#REF!),#REF!,\"\")","v":""},{"$f":"IF(ISTEXT(#REF!),#REF!,\"\")","v":""},{"$f":"IF(ISTEXT(#REF!),#REF!,\"\")","v":""},{"$f":"IF(ISTEXT(#REF!),#REF!,\"\")","v":""},{"$f":"IF(ISTEXT(#REF!),#REF!,\"\")","v":""},{"$f":"IF(ISTEXT(#REF!),#REF!,\"\")","v":""},null,{"$f":"IF(ISTEXT(#REF!),#REF!,\"\")","v":""},{"$f":"IF(ISTEXT(#REF!),#REF!,\"\")","v":""},{"$f":"IF(ISNUMBER(#REF!),#REF!,\"\")","v":""},{"$f":"IF(ISTEXT(#REF!),#REF!,\"\")","v":""},null,{"$f":"IF(ISTEXT(#REF!),#REF!,\"\")","v":""},{"$f":"IF(ISTEXT(#REF!),#REF!,\"\")","v":""},{"$f":"IF(ISTEXT(#REF!),#REF!,\"\")","v":""},{"$f":"IF(ISTEXT(#REF!),#REF!,\"\")","v":""},{"$f":"IF(ISTEXT(#REF!),#REF!,\"\")","v":""},{"$f":"IF(ISTEXT(#REF!),#REF!,\"\")","v":""},{"$f":"IF(ISTEXT(#REF!),#REF!,\"\")","v":""},null,{"$f":"IF(ISTEXT(#REF!),#REF!,\"\")","v":""},{"$f":"IF(ISTEXT(#REF!),#REF!,\"\")","v":""},{"$f":"IF(ISNUMBER(#REF!),#REF!,\"\")","v":""},{"$f":"IF(ISTEXT(#REF!),#REF!,\"\")","v":""}]
[null,null,{"$f":"IF(ISTEXT(#REF!),#REF!,\"\")","v":""},{"$f":"IF(ISTEXT(#REF!),#REF!,\"\")","v":""},{"$f":"IF(ISTEXT(#REF!),#REF!,\"\")","v":""},{"$f":"IF(ISTEXT(#REF!),#REF!,\"\")","v":""},{"$f":"IF(ISTEXT(#REF!),#REF!,\"\")","v":""},{"$f":"IF(ISTEXT(#REF!),#REF!,\"\")","v":""},{"$f":"IF(ISTEXT(#REF!),#REF!,\"\")","v":""},null,{"$f":"IF(ISTEXT(#REF!),#REF!,\"\")","v":""},{"$f":"IF(ISTEXT(#REF!),#REF!,\"\")","v":""},{"$f":"IF(ISNUMBER(#REF!),#REF!,\"\")","v":""},{"$f":"IF(ISTEXT(#REF!),#REF!,\"\")","v":""},null,{"$f":"IF(ISTEXT(#REF!),#REF!,\"\")","v":""},{"$f":"IF(ISTEXT(#REF!),#REF!,\"\")","v":""},{"$f":"IF(ISTEXT(#REF!),#REF!,\"\")","v":""},{"$f":"IF(ISTEXT(#REF!),#REF!,\"\")","v":""},{"$f":"IF(ISTEXT(#REF!),#REF!,\"\")","v":""},{"$f":"IF(ISTEXT(#REF!),#REF!,\"\")","v":""},{"$f":"IF(ISTEXT(#REF!),#REF!,\"\")","v":""},null,{"$f":"IF(ISTEXT(#REF!),#REF!,\"\")","v":""},{"$f":"IF(ISTEXT(#REF!),#REF!,\"\")","v":""},{"$f":"IF(ISNUMBER(#REF!),#REF!,\"\")","v":""},{"$f":"IF(ISTEXT(#REF!),#REF!,\"\")","v":""},{"$f":"IF(ISTEXT(#REF!),#REF!,\"\")","v":""},{"$f":"IF(ISTEXT(#REF!),#REF!,\"\")","v":""},{"$f":"IF(ISTEXT(#REF!),#REF!,\"\")","v":""},{"$f":"IF(ISTEXT(#REF!),#REF!,\"\")","v":""},{"$f":"IF(ISTEXT(#REF!),#REF!,\"\")","v":""},{"$f":"IF(ISTEXT(#REF!),#REF!,\"\")","v":""},{"$f":"IF(ISTEXT(#REF!),#REF!,\"\")","v":""},null,{"$f":"IF(ISTEXT(#REF!),#REF!,\"\")","v":""},{"$f":"IF(ISTEXT(#REF!),#REF!,\"\")","v":""},{"$f":"IF(ISNUMBER(#REF!),#REF!,\"\")","v":""},{"$f":"IF(ISTEXT(#REF!),#REF!,\"\")","v":""},null,{"$f":"IF(ISTEXT(#REF!),#REF!,\"\")","v":""},{"$f":"IF(ISTEXT(#REF!),#REF!,\"\")","v":""},{"$f":"IF(ISTEXT(#REF!),#REF!,\"\")","v":""},{"$f":"IF(ISTEXT(#REF!),#REF!,\"\")","v":""},{"$f":"IF(ISTEXT(#REF!),#REF!,\"\")","v":""},{"$f":"IF(ISTEXT(#REF!),#REF!,\"\")","v":""},{"$f":"IF(ISTEXT(#REF!),#REF!,\"\")","v":""},null,{"$f":"IF(ISTEXT(#REF!),#REF!,\"\")","v":""},{"$f":"IF(ISTEXT(#REF!),#REF!,\"\")","v":""},{"$f":"IF(ISNUMBER(#REF!),#REF!,\"\")","v":""},{"$f":"IF(ISTEXT(#REF!),#REF!,\"\")","v":""},null,{"$f":"IF(ISTEXT(#REF!),#REF!,\"\")","v":""},{"$f":"IF(ISTEXT(#REF!),#REF!,\"\")","v":""},{"$f":"IF(ISTEXT(#REF!),#REF!,\"\")","v":""},{"$f":"IF(ISTEXT(#REF!),#REF!,\"\")","v":""},{"$f":"IF(ISTEXT(#REF!),#REF!,\"\")","v":""},{"$f":"IF(ISTEXT(#REF!),#REF!,\"\")","v":""},{"$f":"IF(ISTEXT(#REF!),#REF!,\"\")","v":""},null,{"$f":"IF(ISTEXT(#REF!),#REF!,\"\")","v":""},{"$f":"IF(ISTEXT(#REF!),#REF!,\"\")","v":""},{"$f":"IF(ISNUMBER(#REF!),#REF!,\"\")","v":""},{"$f":"IF(ISTEXT(#REF!),#REF!,\"\")","v":""}]
[null,null,{"$f":"IF(ISTEXT(#REF!),#REF!,\"\")","v":""},{"$f":"IF(ISTEXT(#REF!),#REF!,\"\")","v":""},{"$f":"IF(ISTEXT(#REF!),#REF!,\"\")","v":""},{"$f":"IF(ISTEXT(#REF!),#REF!,\"\")","v":""},{"$f":"IF(ISTEXT(#REF!),#REF!,\"\")","v":""},{"$f":"IF(ISTEXT(#REF!),#REF!,\"\")","v":""},{"$f":"IF(ISTEXT(#REF!),#REF!,\"\")","v":""},null,{"$f":"IF(ISTEXT(#REF!),#REF!,\"\")","v":""},{"$f":"IF(ISTEXT(#REF!),#REF!,\"\")","v":""},{"$f":"IF(ISNUMBER(#REF!),#REF!,\"\")","v":""},{"$f":"IF(ISTEXT(#REF!),#REF!,\"\")","v":""},null,{"$f":"IF(ISTEXT(#REF!),#REF!,\"\")","v":""},{"$f":"IF(ISTEXT(#REF!),#REF!,\"\")","v":""},{"$f":"IF(ISTEXT(#REF!),#REF!,\"\")","v":""},{"$f":"IF(ISTEXT(#REF!),#REF!,\"\")","v":""},{"$f":"IF(ISTEXT(#REF!),#REF!,\"\")","v":""},{"$f":"IF(ISTEXT(#REF!),#REF!,\"\")","v":""},{"$f":"IF(ISTEXT(#REF!),#REF!,\"\")","v":""},null,{"$f":"IF(ISTEXT(#REF!),#REF!,\"\")","v":""},{"$f":"IF(ISTEXT(#REF!),#REF!,\"\")","v":""},{"$f":"IF(ISNUMBER(#REF!),#REF!,\"\")","v":""},{"$f":"IF(ISTEXT(#REF!),#REF!,\"\")","v":""},{"$f":"IF(ISTEXT(#REF!),#REF!,\"\")","v":""},{"$f":"IF(ISTEXT(#REF!),#REF!,\"\")","v":""},{"$f":"IF(ISTEXT(#REF!),#REF!,\"\")","v":""},{"$f":"IF(ISTEXT(#REF!),#REF!,\"\")","v":""},{"$f":"IF(ISTEXT(#REF!),#REF!,\"\")","v":""},{"$f":"IF(ISTEXT(#REF!),#REF!,\"\")","v":""},{"$f":"IF(ISTEXT(#REF!),#REF!,\"\")","v":""},null,{"$f":"IF(ISTEXT(#REF!),#REF!,\"\")","v":""},{"$f":"IF(ISTEXT(#REF!),#REF!,\"\")","v":""},{"$f":"IF(ISNUMBER(#REF!),#REF!,\"\")","v":""},{"$f":"IF(ISTEXT(#REF!),#REF!,\"\")","v":""},null,{"$f":"IF(ISTEXT(#REF!),#REF!,\"\")","v":""},{"$f":"IF(ISTEXT(#REF!),#REF!,\"\")","v":""},{"$f":"IF(ISTEXT(#REF!),#REF!,\"\")","v":""},{"$f":"IF(ISTEXT(#REF!),#REF!,\"\")","v":""},{"$f":"IF(ISTEXT(#REF!),#REF!,\"\")","v":""},{"$f":"IF(ISTEXT(#REF!),#REF!,\"\")","v":""},{"$f":"IF(ISTEXT(#REF!),#REF!,\"\")","v":""},null,{"$f":"IF(ISTEXT(#REF!),#REF!,\"\")","v":""},{"$f":"IF(ISTEXT(#REF!),#REF!,\"\")","v":""},{"$f":"IF(ISNUMBER(#REF!),#REF!,\"\")","v":""},{"$f":"IF(ISTEXT(#REF!),#REF!,\"\")","v":""},null,{"$f":"IF(ISTEXT(#REF!),#REF!,\"\")","v":""},{"$f":"IF(ISTEXT(#REF!),#REF!,\"\")","v":""},{"$f":"IF(ISTEXT(#REF!),#REF!,\"\")","v":""},{"$f":"IF(ISTEXT(#REF!),#REF!,\"\")","v":""},{"$f":"IF(ISTEXT(#REF!),#REF!,\"\")","v":""},{"$f":"IF(ISTEXT(#REF!),#REF!,\"\")","v":""},{"$f":"IF(ISTEXT(#REF!),#REF!,\"\")","v":""},null,{"$f":"IF(ISTEXT(#REF!),#REF!,\"\")","v":""},{"$f":"IF(ISTEXT(#REF!),#REF!,\"\")","v":""},{"$f":"IF(ISNUMBER(#REF!),#REF!,\"\")","v":""},{"$f":"IF(ISTEXT(#REF!),#REF!,\"\")","v":""}]
[null,null,{"$f":"IF(ISTEXT(#REF!),#REF!,\"\")","v":""},{"$f":"IF(ISTEXT(#REF!),#REF!,\"\")","v":""},{"$f":"IF(ISTEXT(#REF!),#REF!,\"\")","v":""},{"$f":"IF(ISTEXT(#REF!),#REF!,\"\")","v":""},{"$f":"IF(ISTEXT(#REF!),#REF!,\"\")","v":""},{"$f":"IF(ISTEXT(#REF!),#REF!,\"\")","v":""},{"$f":"IF(ISTEXT(#REF!),#REF!,\"\")","v":""},null,{"$f":"IF(ISTEXT(#REF!),#REF!,\"\")","v":""},{"$f":"IF(ISTEXT(#REF!),#REF!,\"\")","v":""},{"$f":"IF(ISNUMBER(#REF!),#REF!,\"\")","v":""},{"$f":"IF(ISTEXT(#REF!),#REF!,\"\")","v":""},null,{"$f":"IF(ISTEXT(#REF!),#REF!,\"\")","v":""},{"$f":"IF(ISTEXT(#REF!),#REF!,\"\")","v":""},{"$f":"IF(ISTEXT(#REF!),#REF!,\"\")","v":""},{"$f":"IF(ISTEXT(#REF!),#REF!,\"\")","v":""},{"$f":"IF(ISTEXT(#REF!),#REF!,\"\")","v":""},{"$f":"IF(ISTEXT(#REF!),#REF!,\"\")","v":""},{"$f":"IF(ISTEXT(#REF!),#REF!,\"\")","v":""},null,{"$f":"IF(ISTEXT(#REF!),#REF!,\"\")","v":""},{"$f":"IF(ISTEXT(#REF!),#REF!,\"\")","v":""},{"$f":"IF(ISNUMBER(#REF!),#REF!,\"\")","v":""},{"$f":"IF(ISTEXT(#REF!),#REF!,\"\")","v":""},{"$f":"IF(ISTEXT(#REF!),#REF!,\"\")","v":""},{"$f":"IF(ISTEXT(#REF!),#REF!,\"\")","v":""},{"$f":"IF(ISTEXT(#REF!),#REF!,\"\")","v":""},{"$f":"IF(ISTEXT(#REF!),#REF!,\"\")","v":""},{"$f":"IF(ISTEXT(#REF!),#REF!,\"\")","v":""},{"$f":"IF(ISTEXT(#REF!),#REF!,\"\")","v":""},{"$f":"IF(ISTEXT(#REF!),#REF!,\"\")","v":""},null,{"$f":"IF(ISTEXT(#REF!),#REF!,\"\")","v":""},{"$f":"IF(ISTEXT(#REF!),#REF!,\"\")","v":""},{"$f":"IF(ISNUMBER(#REF!),#REF!,\"\")","v":""},{"$f":"IF(ISTEXT(#REF!),#REF!,\"\")","v":""},null,{"$f":"IF(ISTEXT(#REF!),#REF!,\"\")","v":""},{"$f":"IF(ISTEXT(#REF!),#REF!,\"\")","v":""},{"$f":"IF(ISTEXT(#REF!),#REF!,\"\")","v":""},{"$f":"IF(ISTEXT(#REF!),#REF!,\"\")","v":""},{"$f":"IF(ISTEXT(#REF!),#REF!,\"\")","v":""},{"$f":"IF(ISTEXT(#REF!),#REF!,\"\")","v":""},{"$f":"IF(ISTEXT(#REF!),#REF!,\"\")","v":""},null,{"$f":"IF(ISTEXT(#REF!),#REF!,\"\")","v":""},{"$f":"IF(ISTEXT(#REF!),#REF!,\"\")","v":""},{"$f":"IF(ISNUMBER(#REF!),#REF!,\"\")","v":""},{"$f":"IF(ISTEXT(#REF!),#REF!,\"\")","v":""},null,{"$f":"IF(ISTEXT(#REF!),#REF!,\"\")","v":""},{"$f":"IF(ISTEXT(#REF!),#REF!,\"\")","v":""},{"$f":"IF(ISTEXT(#REF!),#REF!,\"\")","v":""},{"$f":"IF(ISTEXT(#REF!),#REF!,\"\")","v":""},{"$f":"IF(ISTEXT(#REF!),#REF!,\"\")","v":""},{"$f":"IF(ISTEXT(#REF!),#REF!,\"\")","v":""},{"$f":"IF(ISTEXT(#REF!),#REF!,\"\")","v":""},null,{"$f":"IF(ISTEXT(#REF!),#REF!,\"\")","v":""},{"$f":"IF(ISTEXT(#REF!),#REF!,\"\")","v":""},{"$f":"IF(ISNUMBER(#REF!),#REF!,\"\")","v":""},{"$f":"IF(ISTEXT(#REF!),#REF!,\"\")","v":""}]
[null,null,{"$f":"IF(ISTEXT(#REF!),#REF!,\"\")","v":""},{"$f":"IF(ISTEXT(#REF!),#REF!,\"\")","v":""},{"$f":"IF(ISTEXT(#REF!),#REF!,\"\")","v":""},{"$f":"IF(ISTEXT(#REF!),#REF!,\"\")","v":""},{"$f":"IF(ISTEXT(#REF!),#REF!,\"\")","v":""},{"$f":"IF(ISTEXT(#REF!),#REF!,\"\")","v":""},{"$f":"IF(ISTEXT(#REF!),#REF!,\"\")","v":""},null,{"$f":"IF(ISTEXT(#REF!),#REF!,\"\")","v":""},{"$f":"IF(ISTEXT(#REF!),#REF!,\"\")","v":""},{"$f":"IF(ISNUMBER(#REF!),#REF!,\"\")","v":""},{"$f":"IF(ISTEXT(#REF!),#REF!,\"\")","v":""},null,{"$f":"IF(ISTEXT(#REF!),#REF!,\"\")","v":""},{"$f":"IF(ISTEXT(#REF!),#REF!,\"\")","v":""},{"$f":"IF(ISTEXT(#REF!),#REF!,\"\")","v":""},{"$f":"IF(ISTEXT(#REF!),#REF!,\"\")","v":""},{"$f":"IF(ISTEXT(#REF!),#REF!,\"\")","v":""},{"$f":"IF(ISTEXT(#REF!),#REF!,\"\")","v":""},{"$f":"IF(ISTEXT(#REF!),#REF!,\"\")","v":""},null,{"$f":"IF(ISTEXT(#REF!),#REF!,\"\")","v":""},{"$f":"IF(ISTEXT(#REF!),#REF!,\"\")","v":""},{"$f":"IF(ISNUMBER(#REF!),#REF!,\"\")","v":""},{"$f":"IF(ISTEXT(#REF!),#REF!,\"\")","v":""},{"$f":"IF(ISTEXT(#REF!),#REF!,\"\")","v":""},{"$f":"IF(ISTEXT(#REF!),#REF!,\"\")","v":""},{"$f":"IF(ISTEXT(#REF!),#REF!,\"\")","v":""},{"$f":"IF(ISTEXT(#REF!),#REF!,\"\")","v":""},{"$f":"IF(ISTEXT(#REF!),#REF!,\"\")","v":""},{"$f":"IF(ISTEXT(#REF!),#REF!,\"\")","v":""},{"$f":"IF(ISTEXT(#REF!),#REF!,\"\")","v":""},null,{"$f":"IF(ISTEXT(#REF!),#REF!,\"\")","v":""},{"$f":"IF(ISTEXT(#REF!),#REF!,\"\")","v":""},{"$f":"IF(ISNUMBER(#REF!),#REF!,\"\")","v":""},{"$f":"IF(ISTEXT(#REF!),#REF!,\"\")","v":""},null,{"$f":"IF(ISTEXT(#REF!),#REF!,\"\")","v":""},{"$f":"IF(ISTEXT(#REF!),#REF!,\"\")","v":""},{"$f":"IF(ISTEXT(#REF!),#REF!,\"\")","v":""},{"$f":"IF(ISTEXT(#REF!),#REF!,\"\")","v":""},{"$f":"IF(ISTEXT(#REF!),#REF!,\"\")","v":""},{"$f":"IF(ISTEXT(#REF!),#REF!,\"\")","v":""},{"$f":"IF(ISTEXT(#REF!),#REF!,\"\")","v":""},null,{"$f":"IF(ISTEXT(#REF!),#REF!,\"\")","v":""},{"$f":"IF(ISTEXT(#REF!),#REF!,\"\")","v":""},{"$f":"IF(ISNUMBER(#REF!),#REF!,\"\")","v":""},{"$f":"IF(ISTEXT(#REF!),#REF!,\"\")","v":""},null,{"$f":"IF(ISTEXT(#REF!),#REF!,\"\")","v":""},{"$f":"IF(ISTEXT(#REF!),#REF!,\"\")","v":""},{"$f":"IF(ISTEXT(#REF!),#REF!,\"\")","v":""},{"$f":"IF(ISTEXT(#REF!),#REF!,\"\")","v":""},{"$f":"IF(ISTEXT(#REF!),#REF!,\"\")","v":""},{"$f":"IF(ISTEXT(#REF!),#REF!,\"\")","v":""},{"$f":"IF(ISTEXT(#REF!),#REF!,\"\")","v":""},null,{"$f":"IF(ISTEXT(#REF!),#REF!,\"\")","v":""},{"$f":"IF(ISTEXT(#REF!),#REF!,\"\")","v":""},{"$f":"IF(ISNUMBER(#REF!),#REF!,\"\")","v":""},{"$f":"IF(ISTEXT(#REF!),#REF!,\"\")","v":""}]
[null,null,{"$f":"IF(ISTEXT(#REF!),#REF!,\"\")","v":""},{"$f":"IF(ISTEXT(#REF!),#REF!,\"\")","v":""},{"$f":"IF(ISTEXT(#REF!),#REF!,\"\")","v":""},{"$f":"IF(ISTEXT(#REF!),#REF!,\"\")","v":""},{"$f":"IF(ISTEXT(#REF!),#REF!,\"\")","v":""},{"$f":"IF(ISTEXT(#REF!),#REF!,\"\")","v":""},{"$f":"IF(ISTEXT(#REF!),#REF!,\"\")","v":""},null,{"$f":"IF(ISTEXT(#REF!),#REF!,\"\")","v":""},{"$f":"IF(ISTEXT(#REF!),#REF!,\"\")","v":""},{"$f":"IF(ISNUMBER(#REF!),#REF!,\"\")","v":""},{"$f":"IF(ISTEXT(#REF!),#REF!,\"\")","v":""},null,{"$f":"IF(ISTEXT(#REF!),#REF!,\"\")","v":""},{"$f":"IF(ISTEXT(#REF!),#REF!,\"\")","v":""},{"$f":"IF(ISTEXT(#REF!),#REF!,\"\")","v":""},{"$f":"IF(ISTEXT(#REF!),#REF!,\"\")","v":""},{"$f":"IF(ISTEXT(#REF!),#REF!,\"\")","v":""},{"$f":"IF(ISTEXT(#REF!),#REF!,\"\")","v":""},{"$f":"IF(ISTEXT(#REF!),#REF!,\"\")","v":""},null,{"$f":"IF(ISTEXT(#REF!),#REF!,\"\")","v":""},{"$f":"IF(ISTEXT(#REF!),#REF!,\"\")","v":""},{"$f":"IF(ISNUMBER(#REF!),#REF!,\"\")","v":""},{"$f":"IF(ISTEXT(#REF!),#REF!,\"\")","v":""},{"$f":"IF(ISTEXT(#REF!),#REF!,\"\")","v":""},{"$f":"IF(ISTEXT(#REF!),#REF!,\"\")","v":""},{"$f":"IF(ISTEXT(#REF!),#REF!,\"\")","v":""},{"$f":"IF(ISTEXT(#REF!),#REF!,\"\")","v":""},{"$f":"IF(ISTEXT(#REF!),#REF!,\"\")","v":""},{"$f":"IF(ISTEXT(#REF!),#REF!,\"\")","v":""},{"$f":"IF(ISTEXT(#REF!),#REF!,\"\")","v":""},null,{"$f":"IF(ISTEXT(#REF!),#REF!,\"\")","v":""},{"$f":"IF(ISTEXT(#REF!),#REF!,\"\")","v":""},{"$f":"IF(ISNUMBER(#REF!),#REF!,\"\")","v":""},{"$f":"IF(ISTEXT(#REF!),#REF!,\"\")","v":""},null,{"$f":"IF(ISTEXT(#REF!),#REF!,\"\")","v":""},{"$f":"IF(ISTEXT(#REF!),#REF!,\"\")","v":""},{"$f":"IF(ISTEXT(#REF!),#REF!,\"\")","v":""},{"$f":"IF(ISTEXT(#REF!),#REF!,\"\")","v":""},{"$f":"IF(ISTEXT(#REF!),#REF!,\"\")","v":""},{"$f":"IF(ISTEXT(#REF!),#REF!,\"\")","v":""},{"$f":"IF(ISTEXT(#REF!),#REF!,\"\")","v":""},null,{"$f":"IF(ISTEXT(#REF!),#REF!,\"\")","v":""},{"$f":"IF(ISTEXT(#REF!),#REF!,\"\")","v":""},{"$f":"IF(ISNUMBER(#REF!),#REF!,\"\")","v":""},{"$f":"IF(ISTEXT(#REF!),#REF!,\"\")","v":""},null,{"$f":"IF(ISTEXT(#REF!),#REF!,\"\")","v":""},{"$f":"IF(ISTEXT(#REF!),#REF!,\"\")","v":""},{"$f":"IF(ISTEXT(#REF!),#REF!,\"\")","v":""},{"$f":"IF(ISTEXT(#REF!),#REF!,\"\")","v":""},{"$f":"IF(ISTEXT(#REF!),#REF!,\"\")","v":""},{"$f":"IF(ISTEXT(#REF!),#REF!,\"\")","v":""},{"$f":"IF(ISTEXT(#REF!),#REF!,\"\")","v":""},null,{"$f":"IF(ISTEXT(#REF!),#REF!,\"\")","v":""},{"$f":"IF(ISTEXT(#REF!),#REF!,\"\")","v":""},{"$f":"IF(ISNUMBER(#REF!),#REF!,\"\")","v":""},{"$f":"IF(ISTEXT(#REF!),#REF!,\"\")","v":""}]
[null,null,{"$f":"IF(ISTEXT(#REF!),#REF!,\"\")","v":""},{"$f":"IF(ISTEXT(#REF!),#REF!,\"\")","v":""},{"$f":"IF(ISTEXT(#REF!),#REF!,\"\")","v":""},{"$f":"IF(ISTEXT(#REF!),#REF!,\"\")","v":""},{"$f":"IF(ISTEXT(#REF!),#REF!,\"\")","v":""},{"$f":"IF(ISTEXT(#REF!),#REF!,\"\")","v":""},{"$f":"IF(ISTEXT(#REF!),#REF!,\"\")","v":""},null,{"$f":"IF(ISTEXT(#REF!),#REF!,\"\")","v":""},{"$f":"IF(ISTEXT(#REF!),#REF!,\"\")","v":""},{"$f":"IF(ISNUMBER(#REF!),#REF!,\"\")","v":""},{"$f":"IF(ISTEXT(#REF!),#REF!,\"\")","v":""},null,{"$f":"IF(ISTEXT(#REF!),#REF!,\"\")","v":""},{"$f":"IF(ISTEXT(#REF!),#REF!,\"\")","v":""},{"$f":"IF(ISTEXT(#REF!),#REF!,\"\")","v":""},{"$f":"IF(ISTEXT(#REF!),#REF!,\"\")","v":""},{"$f":"IF(ISTEXT(#REF!),#REF!,\"\")","v":""},{"$f":"IF(ISTEXT(#REF!),#REF!,\"\")","v":""},{"$f":"IF(ISTEXT(#REF!),#REF!,\"\")","v":""},null,{"$f":"IF(ISTEXT(#REF!),#REF!,\"\")","v":""},{"$f":"IF(ISTEXT(#REF!),#REF!,\"\")","v":""},{"$f":"IF(ISNUMBER(#REF!),#REF!,\"\")","v":""},{"$f":"IF(ISTEXT(#REF!),#REF!,\"\")","v":""},{"$f":"IF(ISTEXT(#REF!),#REF!,\"\")","v":""},{"$f":"IF(ISTEXT(#REF!),#REF!,\"\")","v":""},{"$f":"IF(ISTEXT(#REF!),#REF!,\"\")","v":""},{"$f":"IF(ISTEXT(#REF!),#REF!,\"\")","v":""},{"$f":"IF(ISTEXT(#REF!),#REF!,\"\")","v":""},{"$f":"IF(ISTEXT(#REF!),#REF!,\"\")","v":""},{"$f":"IF(ISTEXT(#REF!),#REF!,\"\")","v":""},null,{"$f":"IF(ISTEXT(#REF!),#REF!,\"\")","v":""},{"$f":"IF(ISTEXT(#REF!),#REF!,\"\")","v":""},{"$f":"IF(ISNUMBER(#REF!),#REF!,\"\")","v":""},{"$f":"IF(ISTEXT(#REF!),#REF!,\"\")","v":""},null,{"$f":"IF(ISTEXT(#REF!),#REF!,\"\")","v":""},{"$f":"IF(ISTEXT(#REF!),#REF!,\"\")","v":""},{"$f":"IF(ISTEXT(#REF!),#REF!,\"\")","v":""},{"$f":"IF(ISTEXT(#REF!),#REF!,\"\")","v":""},{"$f":"IF(ISTEXT(#REF!),#REF!,\"\")","v":""},{"$f":"IF(ISTEXT(#REF!),#REF!,\"\")","v":""},{"$f":"IF(ISTEXT(#REF!),#REF!,\"\")","v":""},null,{"$f":"IF(ISTEXT(#REF!),#REF!,\"\")","v":""},{"$f":"IF(ISTEXT(#REF!),#REF!,\"\")","v":""},{"$f":"IF(ISNUMBER(#REF!),#REF!,\"\")","v":""},{"$f":"IF(ISTEXT(#REF!),#REF!,\"\")","v":""},null,{"$f":"IF(ISTEXT(#REF!),#REF!,\"\")","v":""},{"$f":"IF(ISTEXT(#REF!),#REF!,\"\")","v":""},{"$f":"IF(ISTEXT(#REF!),#REF!,\"\")","v":""},{"$f":"IF(ISTEXT(#REF!),#REF!,\"\")","v":""},{"$f":"IF(ISTEXT(#REF!),#REF!,\"\")","v":""},{"$f":"IF(ISTEXT(#REF!),#REF!,\"\")","v":""},{"$f":"IF(ISTEXT(#REF!),#REF!,\"\")","v":""},null,{"$f":"IF(ISTEXT(#REF!),#REF!,\"\")","v":""},{"$f":"IF(ISTEXT(#REF!),#REF!,\"\")","v":""},{"$f":"IF(ISNUMBER(#REF!),#REF!,\"\")","v":""},{"$f":"IF(ISTEXT(#REF!),#REF!,\"\")","v":""}]
[null,null,{"$f":"IF(ISTEXT(#REF!),#REF!,\"\")","v":""},{"$f":"IF(ISTEXT(#REF!),#REF!,\"\")","v":""},{"$f":"IF(ISTEXT(#REF!),#REF!,\"\")","v":""},{"$f":"IF(ISTEXT(#REF!),#REF!,\"\")","v":""},{"$f":"IF(ISTEXT(#REF!),#REF!,\"\")","v":""},{"$f":"IF(ISTEXT(#REF!),#REF!,\"\")","v":""},{"$f":"IF(ISTEXT(#REF!),#REF!,\"\")","v":""},null,{"$f":"IF(ISTEXT(#REF!),#REF!,\"\")","v":""},{"$f":"IF(ISTEXT(#REF!),#REF!,\"\")","v":""},{"$f":"IF(ISNUMBER(#REF!),#REF!,\"\")","v":""},{"$f":"IF(ISTEXT(#REF!),#REF!,\"\")","v":""},null,{"$f":"IF(ISTEXT(#REF!),#REF!,\"\")","v":""},{"$f":"IF(ISTEXT(#REF!),#REF!,\"\")","v":""},{"$f":"IF(ISTEXT(#REF!),#REF!,\"\")","v":""},{"$f":"IF(ISTEXT(#REF!),#REF!,\"\")","v":""},{"$f":"IF(ISTEXT(#REF!),#REF!,\"\")","v":""},{"$f":"IF(ISTEXT(#REF!),#REF!,\"\")","v":""},{"$f":"IF(ISTEXT(#REF!),#REF!,\"\")","v":""},null,{"$f":"IF(ISTEXT(#REF!),#REF!,\"\")","v":""},{"$f":"IF(ISTEXT(#REF!),#REF!,\"\")","v":""},{"$f":"IF(ISNUMBER(#REF!),#REF!,\"\")","v":""},{"$f":"IF(ISTEXT(#REF!),#REF!,\"\")","v":""},{"$f":"IF(ISTEXT(#REF!),#REF!,\"\")","v":""},{"$f":"IF(ISTEXT(#REF!),#REF!,\"\")","v":""},{"$f":"IF(ISTEXT(#REF!),#REF!,\"\")","v":""},{"$f":"IF(ISTEXT(#REF!),#REF!,\"\")","v":""},{"$f":"IF(ISTEXT(#REF!),#REF!,\"\")","v":""},{"$f":"IF(ISTEXT(#REF!),#REF!,\"\")","v":""},{"$f":"IF(ISTEXT(#REF!),#REF!,\"\")","v":""},null,{"$f":"IF(ISTEXT(#REF!),#REF!,\"\")","v":""},{"$f":"IF(ISTEXT(#REF!),#REF!,\"\")","v":""},{"$f":"IF(ISNUMBER(#REF!),#REF!,\"\")","v":""},{"$f":"IF(ISTEXT(#REF!),#REF!,\"\")","v":""},null,{"$f":"IF(ISTEXT(#REF!),#REF!,\"\")","v":""},{"$f":"IF(ISTEXT(#REF!),#REF!,\"\")","v":""},{"$f":"IF(ISTEXT(#REF!),#REF!,\"\")","v":""},{"$f":"IF(ISTEXT(#REF!),#REF!,\"\")","v":""},{"$f":"IF(ISTEXT(#REF!),#REF!,\"\")","v":""},{"$f":"IF(ISTEXT(#REF!),#REF!,\"\")","v":""},{"$f":"IF(ISTEXT(#REF!),#REF!,\"\")","v":""},null,{"$f":"IF(ISTEXT(#REF!),#REF!,\"\")","v":""},{"$f":"IF(ISTEXT(#REF!),#REF!,\"\")","v":""},{"$f":"IF(ISNUMBER(#REF!),#REF!,\"\")","v":""},{"$f":"IF(ISTEXT(#REF!),#REF!,\"\")","v":""},null,{"$f":"IF(ISTEXT(#REF!),#REF!,\"\")","v":""},{"$f":"IF(ISTEXT(#REF!),#REF!,\"\")","v":""},{"$f":"IF(ISTEXT(#REF!),#REF!,\"\")","v":""},{"$f":"IF(ISTEXT(#REF!),#REF!,\"\")","v":""},{"$f":"IF(ISTEXT(#REF!),#REF!,\"\")","v":""},{"$f":"IF(ISTEXT(#REF!),#REF!,\"\")","v":""},{"$f":"IF(ISTEXT(#REF!),#REF!,\"\")","v":""},null,{"$f":"IF(ISTEXT(#REF!),#REF!,\"\")","v":""},{"$f":"IF(ISTEXT(#REF!),#REF!,\"\")","v":""},{"$f":"IF(ISNUMBER(#REF!),#REF!,\"\")","v":""},{"$f":"IF(ISTEXT(#REF!),#REF!,\"\")","v":""}]
[null,null,{"$f":"IF(ISTEXT(#REF!),#REF!,\"\")","v":""},{"$f":"IF(ISTEXT(#REF!),#REF!,\"\")","v":""},{"$f":"IF(ISTEXT(#REF!),#REF!,\"\")","v":""},{"$f":"IF(ISTEXT(#REF!),#REF!,\"\")","v":""},{"$f":"IF(ISTEXT(#REF!),#REF!,\"\")","v":""},{"$f":"IF(ISTEXT(#REF!),#REF!,\"\")","v":""},{"$f":"IF(ISTEXT(#REF!),#REF!,\"\")","v":""},null,{"$f":"IF(ISTEXT(#REF!),#REF!,\"\")","v":""},{"$f":"IF(ISTEXT(#REF!),#REF!,\"\")","v":""},{"$f":"IF(ISNUMBER(#REF!),#REF!,\"\")","v":""},{"$f":"IF(ISTEXT(#REF!),#REF!,\"\")","v":""},null,{"$f":"IF(ISTEXT(#REF!),#REF!,\"\")","v":""},{"$f":"IF(ISTEXT(#REF!),#REF!,\"\")","v":""},{"$f":"IF(ISTEXT(#REF!),#REF!,\"\")","v":""},{"$f":"IF(ISTEXT(#REF!),#REF!,\"\")","v":""},{"$f":"IF(ISTEXT(#REF!),#REF!,\"\")","v":""},{"$f":"IF(ISTEXT(#REF!),#REF!,\"\")","v":""},{"$f":"IF(ISTEXT(#REF!),#REF!,\"\")","v":""},null,{"$f":"IF(ISTEXT(#REF!),#REF!,\"\")","v":""},{"$f":"IF(ISTEXT(#REF!),#REF!,\"\")","v":""},{"$f":"IF(ISNUMBER(#REF!),#REF!,\"\")","v":""},{"$f":"IF(ISTEXT(#REF!),#REF!,\"\")","v":""},{"$f":"IF(ISTEXT(#REF!),#REF!,\"\")","v":""},{"$f":"IF(ISTEXT(#REF!),#REF!,\"\")","v":""},{"$f":"IF(ISTEXT(#REF!),#REF!,\"\")","v":""},{"$f":"IF(ISTEXT(#REF!),#REF!,\"\")","v":""},{"$f":"IF(ISTEXT(#REF!),#REF!,\"\")","v":""},{"$f":"IF(ISTEXT(#REF!),#REF!,\"\")","v":""},{"$f":"IF(ISTEXT(#REF!),#REF!,\"\")","v":""},null,{"$f":"IF(ISTEXT(#REF!),#REF!,\"\")","v":""},{"$f":"IF(ISTEXT(#REF!),#REF!,\"\")","v":""},{"$f":"IF(ISNUMBER(#REF!),#REF!,\"\")","v":""},{"$f":"IF(ISTEXT(#REF!),#REF!,\"\")","v":""},null,{"$f":"IF(ISTEXT(#REF!),#REF!,\"\")","v":""},{"$f":"IF(ISTEXT(#REF!),#REF!,\"\")","v":""},{"$f":"IF(ISTEXT(#REF!),#REF!,\"\")","v":""},{"$f":"IF(ISTEXT(#REF!),#REF!,\"\")","v":""},{"$f":"IF(ISTEXT(#REF!),#REF!,\"\")","v":""},{"$f":"IF(ISTEXT(#REF!),#REF!,\"\")","v":""},{"$f":"IF(ISTEXT(#REF!),#REF!,\"\")","v":""},null,{"$f":"IF(ISTEXT(#REF!),#REF!,\"\")","v":""},{"$f":"IF(ISTEXT(#REF!),#REF!,\"\")","v":""},{"$f":"IF(ISNUMBER(#REF!),#REF!,\"\")","v":""},{"$f":"IF(ISTEXT(#REF!),#REF!,\"\")","v":""},null,{"$f":"IF(ISTEXT(#REF!),#REF!,\"\")","v":""},{"$f":"IF(ISTEXT(#REF!),#REF!,\"\")","v":""},{"$f":"IF(ISTEXT(#REF!),#REF!,\"\")","v":""},{"$f":"IF(ISTEXT(#REF!),#REF!,\"\")","v":""},{"$f":"IF(ISTEXT(#REF!),#REF!,\"\")","v":""},{"$f":"IF(ISTEXT(#REF!),#REF!,\"\")","v":""},{"$f":"IF(ISTEXT(#REF!),#REF!,\"\")","v":""},null,{"$f":"IF(ISTEXT(#REF!),#REF!,\"\")","v":""},{"$f":"IF(ISTEXT(#REF!),#REF!,\"\")","v":""},{"$f":"IF(ISNUMBER(#REF!),#REF!,\"\")","v":""},{"$f":"IF(ISTEXT(#REF!),#REF!,\"\")","v":""}]
[null,null,{"$f":"IF(ISTEXT(#REF!),#REF!,\"\")","v":""},{"$f":"IF(ISTEXT(#REF!),#REF!,\"\")","v":""},{"$f":"IF(ISTEXT(#REF!),#REF!,\"\")","v":""},{"$f":"IF(ISTEXT(#REF!),#REF!,\"\")","v":""},{"$f":"IF(ISTEXT(#REF!),#REF!,\"\")","v":""},{"$f":"IF(ISTEXT(#REF!),#REF!,\"\")","v":""},{"$f":"IF(ISTEXT(#REF!),#REF!,\"\")","v":""},null,{"$f":"IF(ISTEXT(#REF!),#REF!,\"\")","v":""},{"$f":"IF(ISTEXT(#REF!),#REF!,\"\")","v":""},{"$f":"IF(ISNUMBER(#REF!),#REF!,\"\")","v":""},{"$f":"IF(ISTEXT(#REF!),#REF!,\"\")","v":""},null,{"$f":"IF(ISTEXT(#REF!),#REF!,\"\")","v":""},{"$f":"IF(ISTEXT(#REF!),#REF!,\"\")","v":""},{"$f":"IF(ISTEXT(#REF!),#REF!,\"\")","v":""},{"$f":"IF(ISTEXT(#REF!),#REF!,\"\")","v":""},{"$f":"IF(ISTEXT(#REF!),#REF!,\"\")","v":""},{"$f":"IF(ISTEXT(#REF!),#REF!,\"\")","v":""},{"$f":"IF(ISTEXT(#REF!),#REF!,\"\")","v":""},null,{"$f":"IF(ISTEXT(#REF!),#REF!,\"\")","v":""},{"$f":"IF(ISTEXT(#REF!),#REF!,\"\")","v":""},{"$f":"IF(ISNUMBER(#REF!),#REF!,\"\")","v":""},{"$f":"IF(ISTEXT(#REF!),#REF!,\"\")","v":""},{"$f":"IF(ISTEXT(#REF!),#REF!,\"\")","v":""},{"$f":"IF(ISTEXT(#REF!),#REF!,\"\")","v":""},{"$f":"IF(ISTEXT(#REF!),#REF!,\"\")","v":""},{"$f":"IF(ISTEXT(#REF!),#REF!,\"\")","v":""},{"$f":"IF(ISTEXT(#REF!),#REF!,\"\")","v":""},{"$f":"IF(ISTEXT(#REF!),#REF!,\"\")","v":""},{"$f":"IF(ISTEXT(#REF!),#REF!,\"\")","v":""},null,{"$f":"IF(ISTEXT(#REF!),#REF!,\"\")","v":""},{"$f":"IF(ISTEXT(#REF!),#REF!,\"\")","v":""},{"$f":"IF(ISNUMBER(#REF!),#REF!,\"\")","v":""},{"$f":"IF(ISTEXT(#REF!),#REF!,\"\")","v":""},null,{"$f":"IF(ISTEXT(#REF!),#REF!,\"\")","v":""},{"$f":"IF(ISTEXT(#REF!),#REF!,\"\")","v":""},{"$f":"IF(ISTEXT(#REF!),#REF!,\"\")","v":""},{"$f":"IF(ISTEXT(#REF!),#REF!,\"\")","v":""},{"$f":"IF(ISTEXT(#REF!),#REF!,\"\")","v":""},{"$f":"IF(ISTEXT(#REF!),#REF!,\"\")","v":""},{"$f":"IF(ISTEXT(#REF!),#REF!,\"\")","v":""},null,{"$f":"IF(ISTEXT(#REF!),#REF!,\"\")","v":""},{"$f":"IF(ISTEXT(#REF!),#REF!,\"\")","v":""},{"$f":"IF(ISNUMBER(#REF!),#REF!,\"\")","v":""},{"$f":"IF(ISTEXT(#REF!),#REF!,\"\")","v":""},null,{"$f":"IF(ISTEXT(#REF!),#REF!,\"\")","v":""},{"$f":"IF(ISTEXT(#REF!),#REF!,\"\")","v":""},{"$f":"IF(ISTEXT(#REF!),#REF!,\"\")","v":""},{"$f":"IF(ISTEXT(#REF!),#REF!,\"\")","v":""},{"$f":"IF(ISTEXT(#REF!),#REF!,\"\")","v":""},{"$f":"IF(ISTEXT(#REF!),#REF!,\"\")","v":""},{"$f":"IF(ISTEXT(#REF!),#REF!,\"\")","v":""},null,{"$f":"IF(ISTEXT(#REF!),#REF!,\"\")","v":""},{"$f":"IF(ISTEXT(#REF!),#REF!,\"\")","v":""},{"$f":"IF(ISNUMBER(#REF!),#REF!,\"\")","v":""},{"$f":"IF(ISTEXT(#REF!),#REF!,\"\")","v":""}]
[null,null,{"$f":"IF(ISTEXT(#REF!),#REF!,\"\")","v":""},{"$f":"IF(ISTEXT(#REF!),#REF!,\"\")","v":""},{"$f":"IF(ISTEXT(#REF!),#REF!,\"\")","v":""},{"$f":"IF(ISTEXT(#REF!),#REF!,\"\")","v":""},{"$f":"IF(ISTEXT(#REF!),#REF!,\"\")","v":""},{"$f":"IF(ISTEXT(#REF!),#REF!,\"\")","v":""},{"$f":"IF(ISTEXT(#REF!),#REF!,\"\")","v":""},null,{"$f":"IF(ISTEXT(#REF!),#REF!,\"\")","v":""},{"$f":"IF(ISTEXT(#REF!),#REF!,\"\")","v":""},{"$f":"IF(ISNUMBER(#REF!),#REF!,\"\")","v":""},{"$f":"IF(ISTEXT(#REF!),#REF!,\"\")","v":""},null,{"$f":"IF(ISTEXT(#REF!),#REF!,\"\")","v":""},{"$f":"IF(ISTEXT(#REF!),#REF!,\"\")","v":""},{"$f":"IF(ISTEXT(#REF!),#REF!,\"\")","v":""},{"$f":"IF(ISTEXT(#REF!),#REF!,\"\")","v":""},{"$f":"IF(ISTEXT(#REF!),#REF!,\"\")","v":""},{"$f":"IF(ISTEXT(#REF!),#REF!,\"\")","v":""},{"$f":"IF(ISTEXT(#REF!),#REF!,\"\")","v":""},null,{"$f":"IF(ISTEXT(#REF!),#REF!,\"\")","v":""},{"$f":"IF(ISTEXT(#REF!),#REF!,\"\")","v":""},{"$f":"IF(ISNUMBER(#REF!),#REF!,\"\")","v":""},{"$f":"IF(ISTEXT(#REF!),#REF!,\"\")","v":""},{"$f":"IF(ISTEXT(#REF!),#REF!,\"\")","v":""},{"$f":"IF(ISTEXT(#REF!),#REF!,\"\")","v":""},{"$f":"IF(ISTEXT(#REF!),#REF!,\"\")","v":""},{"$f":"IF(ISTEXT(#REF!),#REF!,\"\")","v":""},{"$f":"IF(ISTEXT(#REF!),#REF!,\"\")","v":""},{"$f":"IF(ISTEXT(#REF!),#REF!,\"\")","v":""},{"$f":"IF(ISTEXT(#REF!),#REF!,\"\")","v":""},null,{"$f":"IF(ISTEXT(#REF!),#REF!,\"\")","v":""},{"$f":"IF(ISTEXT(#REF!),#REF!,\"\")","v":""},{"$f":"IF(ISNUMBER(#REF!),#REF!,\"\")","v":""},{"$f":"IF(ISTEXT(#REF!),#REF!,\"\")","v":""},null,{"$f":"IF(ISTEXT(#REF!),#REF!,\"\")","v":""},{"$f":"IF(ISTEXT(#REF!),#REF!,\"\")","v":""},{"$f":"IF(ISTEXT(#REF!),#REF!,\"\")","v":""},{"$f":"IF(ISTEXT(#REF!),#REF!,\"\")","v":""},{"$f":"IF(ISTEXT(#REF!),#REF!,\"\")","v":""},{"$f":"IF(ISTEXT(#REF!),#REF!,\"\")","v":""},{"$f":"IF(ISTEXT(#REF!),#REF!,\"\")","v":""},null,{"$f":"IF(ISTEXT(#REF!),#REF!,\"\")","v":""},{"$f":"IF(ISTEXT(#REF!),#REF!,\"\")","v":""},{"$f":"IF(ISNUMBER(#REF!),#REF!,\"\")","v":""},{"$f":"IF(ISTEXT(#REF!),#REF!,\"\")","v":""},null,{"$f":"IF(ISTEXT(#REF!),#REF!,\"\")","v":""},{"$f":"IF(ISTEXT(#REF!),#REF!,\"\")","v":""},{"$f":"IF(ISTEXT(#REF!),#REF!,\"\")","v":""},{"$f":"IF(ISTEXT(#REF!),#REF!,\"\")","v":""},{"$f":"IF(ISTEXT(#REF!),#REF!,\"\")","v":""},{"$f":"IF(ISTEXT(#REF!),#REF!,\"\")","v":""},{"$f":"IF(ISTEXT(#REF!),#REF!,\"\")","v":""},null,{"$f":"IF(ISTEXT(#REF!),#REF!,\"\")","v":""},{"$f":"IF(ISTEXT(#REF!),#REF!,\"\")","v":""},{"$f":"IF(ISNUMBER(#REF!),#REF!,\"\")","v":""},{"$f":"IF(ISTEXT(#REF!),#REF!,\"\")","v":""}]
[null,null,{"$f":"IF(ISTEXT(#REF!),#REF!,\"\")","v":""},{"$f":"IF(ISTEXT(#REF!),#REF!,\"\")","v":""},{"$f":"IF(ISTEXT(#REF!),#REF!,\"\")","v":""},{"$f":"IF(ISTEXT(#REF!),#REF!,\"\")","v":""},{"$f":"IF(ISTEXT(#REF!),#REF!,\"\")","v":""},{"$f":"IF(ISTEXT(#REF!),#REF!,\"\")","v":""},{"$f":"IF(ISTEXT(#REF!),#REF!,\"\")","v":""},null,{"$f":"IF(ISTEXT(#REF!),#REF!,\"\")","v":""},{"$f":"IF(ISTEXT(#REF!),#REF!,\"\")","v":""},{"$f":"IF(ISNUMBER(#REF!),#REF!,\"\")","v":""},{"$f":"IF(ISTEXT(#REF!),#REF!,\"\")","v":""},null,{"$f":"IF(ISTEXT(#REF!),#REF!,\"\")","v":""},{"$f":"IF(ISTEXT(#REF!),#REF!,\"\")","v":""},{"$f":"IF(ISTEXT(#REF!),#REF!,\"\")","v":""},{"$f":"IF(ISTEXT(#REF!),#REF!,\"\")","v":""},{"$f":"IF(ISTEXT(#REF!),#REF!,\"\")","v":""},{"$f":"IF(ISTEXT(#REF!),#REF!,\"\")","v":""},{"$f":"IF(ISTEXT(#REF!),#REF!,\"\")","v":""},null,{"$f":"IF(ISTEXT(#REF!),#REF!,\"\")","v":""},{"$f":"IF(ISTEXT(#REF!),#REF!,\"\")","v":""},{"$f":"IF(ISNUMBER(#REF!),#REF!,\"\")","v":""},{"$f":"IF(ISTEXT(#REF!),#REF!,\"\")","v":""},{"$f":"IF(ISTEXT(#REF!),#REF!,\"\")","v":""},{"$f":"IF(ISTEXT(#REF!),#REF!,\"\")","v":""},{"$f":"IF(ISTEXT(#REF!),#REF!,\"\")","v":""},{"$f":"IF(ISTEXT(#REF!),#REF!,\"\")","v":""},{"$f":"IF(ISTEXT(#REF!),#REF!,\"\")","v":""},{"$f":"IF(ISTEXT(#REF!),#REF!,\"\")","v":""},{"$f":"IF(ISTEXT(#REF!),#REF!,\"\")","v":""},null,{"$f":"IF(ISTEXT(#REF!),#REF!,\"\")","v":""},{"$f":"IF(ISTEXT(#REF!),#REF!,\"\")","v":""},{"$f":"IF(ISNUMBER(#REF!),#REF!,\"\")","v":""},{"$f":"IF(ISTEXT(#REF!),#REF!,\"\")","v":""},null,{"$f":"IF(ISTEXT(#REF!),#REF!,\"\")","v":""},{"$f":"IF(ISTEXT(#REF!),#REF!,\"\")","v":""},{"$f":"IF(ISTEXT(#REF!),#REF!,\"\")","v":""},{"$f":"IF(ISTEXT(#REF!),#REF!,\"\")","v":""},{"$f":"IF(ISTEXT(#REF!),#REF!,\"\")","v":""},{"$f":"IF(ISTEXT(#REF!),#REF!,\"\")","v":""},{"$f":"IF(ISTEXT(#REF!),#REF!,\"\")","v":""},null,{"$f":"IF(ISTEXT(#REF!),#REF!,\"\")","v":""},{"$f":"IF(ISTEXT(#REF!),#REF!,\"\")","v":""},{"$f":"IF(ISNUMBER(#REF!),#REF!,\"\")","v":""},{"$f":"IF(ISTEXT(#REF!),#REF!,\"\")","v":""},null,{"$f":"IF(ISTEXT(#REF!),#REF!,\"\")","v":""},{"$f":"IF(ISTEXT(#REF!),#REF!,\"\")","v":""},{"$f":"IF(ISTEXT(#REF!),#REF!,\"\")","v":""},{"$f":"IF(ISTEXT(#REF!),#REF!,\"\")","v":""},{"$f":"IF(ISTEXT(#REF!),#REF!,\"\")","v":""},{"$f":"IF(ISTEXT(#REF!),#REF!,\"\")","v":""},{"$f":"IF(ISTEXT(#REF!),#REF!,\"\")","v":""},null,{"$f":"IF(ISTEXT(#REF!),#REF!,\"\")","v":""},{"$f":"IF(ISTEXT(#REF!),#REF!,\"\")","v":""},{"$f":"IF(ISNUMBER(#REF!),#REF!,\"\")","v":""},{"$f":"IF(ISTEXT(#REF!),#REF!,\"\")","v":""}]
[null,null,{"$f":"IF(ISTEXT(#REF!),#REF!,\"\")","v":""},{"$f":"IF(ISTEXT(#REF!),#REF!,\"\")","v":""},{"$f":"IF(ISTEXT(#REF!),#REF!,\"\")","v":""},{"$f":"IF(ISTEXT(#REF!),#REF!,\"\")","v":""},{"$f":"IF(ISTEXT(#REF!),#REF!,\"\")","v":""},{"$f":"IF(ISTEXT(#REF!),#REF!,\"\")","v":""},{"$f":"IF(ISTEXT(#REF!),#REF!,\"\")","v":""},null,{"$f":"IF(ISTEXT(#REF!),#REF!,\"\")","v":""},{"$f":"IF(ISTEXT(#REF!),#REF!,\"\")","v":""},{"$f":"IF(ISNUMBER(#REF!),#REF!,\"\")","v":""},{"$f":"IF(ISTEXT(#REF!),#REF!,\"\")","v":""},null,{"$f":"IF(ISTEXT(#REF!),#REF!,\"\")","v":""},{"$f":"IF(ISTEXT(#REF!),#REF!,\"\")","v":""},{"$f":"IF(ISTEXT(#REF!),#REF!,\"\")","v":""},{"$f":"IF(ISTEXT(#REF!),#REF!,\"\")","v":""},{"$f":"IF(ISTEXT(#REF!),#REF!,\"\")","v":""},{"$f":"IF(ISTEXT(#REF!),#REF!,\"\")","v":""},{"$f":"IF(ISTEXT(#REF!),#REF!,\"\")","v":""},null,{"$f":"IF(ISTEXT(#REF!),#REF!,\"\")","v":""},{"$f":"IF(ISTEXT(#REF!),#REF!,\"\")","v":""},{"$f":"IF(ISNUMBER(#REF!),#REF!,\"\")","v":""},{"$f":"IF(ISTEXT(#REF!),#REF!,\"\")","v":""},{"$f":"IF(ISTEXT(#REF!),#REF!,\"\")","v":""},{"$f":"IF(ISTEXT(#REF!),#REF!,\"\")","v":""},{"$f":"IF(ISTEXT(#REF!),#REF!,\"\")","v":""},{"$f":"IF(ISTEXT(#REF!),#REF!,\"\")","v":""},{"$f":"IF(ISTEXT(#REF!),#REF!,\"\")","v":""},{"$f":"IF(ISTEXT(#REF!),#REF!,\"\")","v":""},{"$f":"IF(ISTEXT(#REF!),#REF!,\"\")","v":""},null,{"$f":"IF(ISTEXT(#REF!),#REF!,\"\")","v":""},{"$f":"IF(ISTEXT(#REF!),#REF!,\"\")","v":""},{"$f":"IF(ISNUMBER(#REF!),#REF!,\"\")","v":""},{"$f":"IF(ISTEXT(#REF!),#REF!,\"\")","v":""},null,{"$f":"IF(ISTEXT(#REF!),#REF!,\"\")","v":""},{"$f":"IF(ISTEXT(#REF!),#REF!,\"\")","v":""},{"$f":"IF(ISTEXT(#REF!),#REF!,\"\")","v":""},{"$f":"IF(ISTEXT(#REF!),#REF!,\"\")","v":""},{"$f":"IF(ISTEXT(#REF!),#REF!,\"\")","v":""},{"$f":"IF(ISTEXT(#REF!),#REF!,\"\")","v":""},{"$f":"IF(ISTEXT(#REF!),#REF!,\"\")","v":""},null,{"$f":"IF(ISTEXT(#REF!),#REF!,\"\")","v":""},{"$f":"IF(ISTEXT(#REF!),#REF!,\"\")","v":""},{"$f":"IF(ISNUMBER(#REF!),#REF!,\"\")","v":""},{"$f":"IF(ISTEXT(#REF!),#REF!,\"\")","v":""},null,{"$f":"IF(ISTEXT(#REF!),#REF!,\"\")","v":""},{"$f":"IF(ISTEXT(#REF!),#REF!,\"\")","v":""},{"$f":"IF(ISTEXT(#REF!),#REF!,\"\")","v":""},{"$f":"IF(ISTEXT(#REF!),#REF!,\"\")","v":""},{"$f":"IF(ISTEXT(#REF!),#REF!,\"\")","v":""},{"$f":"IF(ISTEXT(#REF!),#REF!,\"\")","v":""},{"$f":"IF(ISTEXT(#REF!),#REF!,\"\")","v":""},null,{"$f":"IF(ISTEXT(#REF!),#REF!,\"\")","v":""},{"$f":"IF(ISTEXT(#REF!),#REF!,\"\")","v":""},{"$f":"IF(ISNUMBER(#REF!),#REF!,\"\")","v":""},{"$f":"IF(ISTEXT(#REF!),#REF!,\"\")","v":""}]
[null,null,{"$f":"IF(ISTEXT(#REF!),#REF!,\"\")","v":""},{"$f":"IF(ISTEXT(#REF!),#REF!,\"\")","v":""},{"$f":"IF(ISTEXT(#REF!),#REF!,\"\")","v":""},{"$f":"IF(ISTEXT(#REF!),#REF!,\"\")","v":""},{"$f":"IF(ISTEXT(#REF!),#REF!,\"\")","v":""},{"$f":"IF(ISTEXT(#REF!),#REF!,\"\")","v":""},{"$f":"IF(ISTEXT(#REF!),#REF!,\"\")","v":""},null,{"$f":"IF(ISTEXT(#REF!),#REF!,\"\")","v":""},{"$f":"IF(ISTEXT(#REF!),#REF!,\"\")","v":""},{"$f":"IF(ISNUMBER(#REF!),#REF!,\"\")","v":""},{"$f":"IF(ISTEXT(#REF!),#REF!,\"\")","v":""},null,{"$f":"IF(ISTEXT(#REF!),#REF!,\"\")","v":""},{"$f":"IF(ISTEXT(#REF!),#REF!,\"\")","v":""},{"$f":"IF(ISTEXT(#REF!),#REF!,\"\")","v":""},{"$f":"IF(ISTEXT(#REF!),#REF!,\"\")","v":""},{"$f":"IF(ISTEXT(#REF!),#REF!,\"\")","v":""},{"$f":"IF(ISTEXT(#REF!),#REF!,\"\")","v":""},{"$f":"IF(ISTEXT(#REF!),#REF!,\"\")","v":""},null,{"$f":"IF(ISTEXT(#REF!),#REF!,\"\")","v":""},{"$f":"IF(ISTEXT(#REF!),#REF!,\"\")","v":""},{"$f":"IF(ISNUMBER(#REF!),#REF!,\"\")","v":""},{"$f":"IF(ISTEXT(#REF!),#REF!,\"\")","v":""},{"$f":"IF(ISTEXT(#REF!),#REF!,\"\")","v":""},{"$f":"IF(ISTEXT(#REF!),#REF!,\"\")","v":""},{"$f":"IF(ISTEXT(#REF!),#REF!,\"\")","v":""},{"$f":"IF(ISTEXT(#REF!),#REF!,\"\")","v":""},{"$f":"IF(ISTEXT(#REF!),#REF!,\"\")","v":""},{"$f":"IF(ISTEXT(#REF!),#REF!,\"\")","v":""},{"$f":"IF(ISTEXT(#REF!),#REF!,\"\")","v":""},null,{"$f":"IF(ISTEXT(#REF!),#REF!,\"\")","v":""},{"$f":"IF(ISTEXT(#REF!),#REF!,\"\")","v":""},{"$f":"IF(ISNUMBER(#REF!),#REF!,\"\")","v":""},{"$f":"IF(ISTEXT(#REF!),#REF!,\"\")","v":""},null,{"$f":"IF(ISTEXT(#REF!),#REF!,\"\")","v":""},{"$f":"IF(ISTEXT(#REF!),#REF!,\"\")","v":""},{"$f":"IF(ISTEXT(#REF!),#REF!,\"\")","v":""},{"$f":"IF(ISTEXT(#REF!),#REF!,\"\")","v":""},{"$f":"IF(ISTEXT(#REF!),#REF!,\"\")","v":""},{"$f":"IF(ISTEXT(#REF!),#REF!,\"\")","v":""},{"$f":"IF(ISTEXT(#REF!),#REF!,\"\")","v":""},null,{"$f":"IF(ISTEXT(#REF!),#REF!,\"\")","v":""},{"$f":"IF(ISTEXT(#REF!),#REF!,\"\")","v":""},{"$f":"IF(ISNUMBER(#REF!),#REF!,\"\")","v":""},{"$f":"IF(ISTEXT(#REF!),#REF!,\"\")","v":""},null,{"$f":"IF(ISTEXT(#REF!),#REF!,\"\")","v":""},{"$f":"IF(ISTEXT(#REF!),#REF!,\"\")","v":""},{"$f":"IF(ISTEXT(#REF!),#REF!,\"\")","v":""},{"$f":"IF(ISTEXT(#REF!),#REF!,\"\")","v":""},{"$f":"IF(ISTEXT(#REF!),#REF!,\"\")","v":""},{"$f":"IF(ISTEXT(#REF!),#REF!,\"\")","v":""},{"$f":"IF(ISTEXT(#REF!),#REF!,\"\")","v":""},null,{"$f":"IF(ISTEXT(#REF!),#REF!,\"\")","v":""},{"$f":"IF(ISTEXT(#REF!),#REF!,\"\")","v":""},{"$f":"IF(ISNUMBER(#REF!),#REF!,\"\")","v":""},{"$f":"IF(ISTEXT(#REF!),#REF!,\"\")","v":""}]
[null,null,{"$f":"IF(ISTEXT(#REF!),#REF!,\"\")","v":""},{"$f":"IF(ISTEXT(#REF!),#REF!,\"\")","v":""},{"$f":"IF(ISTEXT(#REF!),#REF!,\"\")","v":""},{"$f":"IF(ISTEXT(#REF!),#REF!,\"\")","v":""},{"$f":"IF(ISTEXT(#REF!),#REF!,\"\")","v":""},{"$f":"IF(ISTEXT(#REF!),#REF!,\"\")","v":""},{"$f":"IF(ISTEXT(#REF!),#REF!,\"\")","v":""},null,{"$f":"IF(ISTEXT(#REF!),#REF!,\"\")","v":""},{"$f":"IF(ISTEXT(#REF!),#REF!,\"\")","v":""},{"$f":"IF(ISNUMBER(#REF!),#REF!,\"\")","v":""},{"$f":"IF(ISTEXT(#REF!),#REF!,\"\")","v":""},null,{"$f":"IF(ISTEXT(#REF!),#REF!,\"\")","v":""},{"$f":"IF(ISTEXT(#REF!),#REF!,\"\")","v":""},{"$f":"IF(ISTEXT(#REF!),#REF!,\"\")","v":""},{"$f":"IF(ISTEXT(#REF!),#REF!,\"\")","v":""},{"$f":"IF(ISTEXT(#REF!),#REF!,\"\")","v":""},{"$f":"IF(ISTEXT(#REF!),#REF!,\"\")","v":""},{"$f":"IF(ISTEXT(#REF!),#REF!,\"\")","v":""},null,{"$f":"IF(ISTEXT(#REF!),#REF!,\"\")","v":""},{"$f":"IF(ISTEXT(#REF!),#REF!,\"\")","v":""},{"$f":"IF(ISNUMBER(#REF!),#REF!,\"\")","v":""},{"$f":"IF(ISTEXT(#REF!),#REF!,\"\")","v":""},{"$f":"IF(ISTEXT(#REF!),#REF!,\"\")","v":""},{"$f":"IF(ISTEXT(#REF!),#REF!,\"\")","v":""},{"$f":"IF(ISTEXT(#REF!),#REF!,\"\")","v":""},{"$f":"IF(ISTEXT(#REF!),#REF!,\"\")","v":""},{"$f":"IF(ISTEXT(#REF!),#REF!,\"\")","v":""},{"$f":"IF(ISTEXT(#REF!),#REF!,\"\")","v":""},{"$f":"IF(ISTEXT(#REF!),#REF!,\"\")","v":""},null,{"$f":"IF(ISTEXT(#REF!),#REF!,\"\")","v":""},{"$f":"IF(ISTEXT(#REF!),#REF!,\"\")","v":""},{"$f":"IF(ISNUMBER(#REF!),#REF!,\"\")","v":""},{"$f":"IF(ISTEXT(#REF!),#REF!,\"\")","v":""},null,{"$f":"IF(ISTEXT(#REF!),#REF!,\"\")","v":""},{"$f":"IF(ISTEXT(#REF!),#REF!,\"\")","v":""},{"$f":"IF(ISTEXT(#REF!),#REF!,\"\")","v":""},{"$f":"IF(ISTEXT(#REF!),#REF!,\"\")","v":""},{"$f":"IF(ISTEXT(#REF!),#REF!,\"\")","v":""},{"$f":"IF(ISTEXT(#REF!),#REF!,\"\")","v":""},{"$f":"IF(ISTEXT(#REF!),#REF!,\"\")","v":""},null,{"$f":"IF(ISTEXT(#REF!),#REF!,\"\")","v":""},{"$f":"IF(ISTEXT(#REF!),#REF!,\"\")","v":""},{"$f":"IF(ISNUMBER(#REF!),#REF!,\"\")","v":""},{"$f":"IF(ISTEXT(#REF!),#REF!,\"\")","v":""},null,{"$f":"IF(ISTEXT(#REF!),#REF!,\"\")","v":""},{"$f":"IF(ISTEXT(#REF!),#REF!,\"\")","v":""},{"$f":"IF(ISTEXT(#REF!),#REF!,\"\")","v":""},{"$f":"IF(ISTEXT(#REF!),#REF!,\"\")","v":""},{"$f":"IF(ISTEXT(#REF!),#REF!,\"\")","v":""},{"$f":"IF(ISTEXT(#REF!),#REF!,\"\")","v":""},{"$f":"IF(ISTEXT(#REF!),#REF!,\"\")","v":""},null,{"$f":"IF(ISTEXT(#REF!),#REF!,\"\")","v":""},{"$f":"IF(ISTEXT(#REF!),#REF!,\"\")","v":""},{"$f":"IF(ISNUMBER(#REF!),#REF!,\"\")","v":""},{"$f":"IF(ISTEXT(#REF!),#REF!,\"\")","v":""}]
[null,null,{"$f":"IF(ISTEXT(#REF!),#REF!,\"\")","v":""},{"$f":"IF(ISTEXT(#REF!),#REF!,\"\")","v":""},{"$f":"IF(ISTEXT(#REF!),#REF!,\"\")","v":""},{"$f":"IF(ISTEXT(#REF!),#REF!,\"\")","v":""},{"$f":"IF(ISTEXT(#REF!),#REF!,\"\")","v":""},{"$f":"IF(ISTEXT(#REF!),#REF!,\"\")","v":""},{"$f":"IF(ISTEXT(#REF!),#REF!,\"\")","v":""},null,{"$f":"IF(ISTEXT(#REF!),#REF!,\"\")","v":""},{"$f":"IF(ISTEXT(#REF!),#REF!,\"\")","v":""},{"$f":"IF(ISNUMBER(#REF!),#REF!,\"\")","v":""},{"$f":"IF(ISTEXT(#REF!),#REF!,\"\")","v":""},null,{"$f":"IF(ISTEXT(#REF!),#REF!,\"\")","v":""},{"$f":"IF(ISTEXT(#REF!),#REF!,\"\")","v":""},{"$f":"IF(ISTEXT(#REF!),#REF!,\"\")","v":""},{"$f":"IF(ISTEXT(#REF!),#REF!,\"\")","v":""},{"$f":"IF(ISTEXT(#REF!),#REF!,\"\")","v":""},{"$f":"IF(ISTEXT(#REF!),#REF!,\"\")","v":""},{"$f":"IF(ISTEXT(#REF!),#REF!,\"\")","v":""},null,{"$f":"IF(ISTEXT(#REF!),#REF!,\"\")","v":""},{"$f":"IF(ISTEXT(#REF!),#REF!,\"\")","v":""},{"$f":"IF(ISNUMBER(#REF!),#REF!,\"\")","v":""},{"$f":"IF(ISTEXT(#REF!),#REF!,\"\")","v":""},{"$f":"IF(ISTEXT(#REF!),#REF!,\"\")","v":""},{"$f":"IF(ISTEXT(#REF!),#REF!,\"\")","v":""},{"$f":"IF(ISTEXT(#REF!),#REF!,\"\")","v":""},{"$f":"IF(ISTEXT(#REF!),#REF!,\"\")","v":""},{"$f":"IF(ISTEXT(#REF!),#REF!,\"\")","v":""},{"$f":"IF(ISTEXT(#REF!),#REF!,\"\")","v":""},{"$f":"IF(ISTEXT(#REF!),#REF!,\"\")","v":""},null,{"$f":"IF(ISTEXT(#REF!),#REF!,\"\")","v":""},{"$f":"IF(ISTEXT(#REF!),#REF!,\"\")","v":""},{"$f":"IF(ISNUMBER(#REF!),#REF!,\"\")","v":""},{"$f":"IF(ISTEXT(#REF!),#REF!,\"\")","v":""},null,{"$f":"IF(ISTEXT(#REF!),#REF!,\"\")","v":""},{"$f":"IF(ISTEXT(#REF!),#REF!,\"\")","v":""},{"$f":"IF(ISTEXT(#REF!),#REF!,\"\")","v":""},{"$f":"IF(ISTEXT(#REF!),#REF!,\"\")","v":""},{"$f":"IF(ISTEXT(#REF!),#REF!,\"\")","v":""},{"$f":"IF(ISTEXT(#REF!),#REF!,\"\")","v":""},{"$f":"IF(ISTEXT(#REF!),#REF!,\"\")","v":""},null,{"$f":"IF(ISTEXT(#REF!),#REF!,\"\")","v":""},{"$f":"IF(ISTEXT(#REF!),#REF!,\"\")","v":""},{"$f":"IF(ISNUMBER(#REF!),#REF!,\"\")","v":""},{"$f":"IF(ISTEXT(#REF!),#REF!,\"\")","v":""},null,{"$f":"IF(ISTEXT(#REF!),#REF!,\"\")","v":""},{"$f":"IF(ISTEXT(#REF!),#REF!,\"\")","v":""},{"$f":"IF(ISTEXT(#REF!),#REF!,\"\")","v":""},{"$f":"IF(ISTEXT(#REF!),#REF!,\"\")","v":""},{"$f":"IF(ISTEXT(#REF!),#REF!,\"\")","v":""},{"$f":"IF(ISTEXT(#REF!),#REF!,\"\")","v":""},{"$f":"IF(ISTEXT(#REF!),#REF!,\"\")","v":""},null,{"$f":"IF(ISTEXT(#REF!),#REF!,\"\")","v":""},{"$f":"IF(ISTEXT(#REF!),#REF!,\"\")","v":""},{"$f":"IF(ISNUMBER(#REF!),#REF!,\"\")","v":""},{"$f":"IF(ISTEXT(#REF!),#REF!,\"\")","v":""}]
[null,null,{"$f":"IF(ISTEXT(#REF!),#REF!,\"\")","v":""},{"$f":"IF(ISTEXT(#REF!),#REF!,\"\")","v":""},{"$f":"IF(ISTEXT(#REF!),#REF!,\"\")","v":""},{"$f":"IF(ISTEXT(#REF!),#REF!,\"\")","v":""},{"$f":"IF(ISTEXT(#REF!),#REF!,\"\")","v":""},{"$f":"IF(ISTEXT(#REF!),#REF!,\"\")","v":""},{"$f":"IF(ISTEXT(#REF!),#REF!,\"\")","v":""},null,{"$f":"IF(ISTEXT(#REF!),#REF!,\"\")","v":""},{"$f":"IF(ISTEXT(#REF!),#REF!,\"\")","v":""},{"$f":"IF(ISNUMBER(#REF!),#REF!,\"\")","v":""},{"$f":"IF(ISTEXT(#REF!),#REF!,\"\")","v":""},null,{"$f":"IF(ISTEXT(#REF!),#REF!,\"\")","v":""},{"$f":"IF(ISTEXT(#REF!),#REF!,\"\")","v":""},{"$f":"IF(ISTEXT(#REF!),#REF!,\"\")","v":""},{"$f":"IF(ISTEXT(#REF!),#REF!,\"\")","v":""},{"$f":"IF(ISTEXT(#REF!),#REF!,\"\")","v":""},{"$f":"IF(ISTEXT(#REF!),#REF!,\"\")","v":""},{"$f":"IF(ISTEXT(#REF!),#REF!,\"\")","v":""},null,{"$f":"IF(ISTEXT(#REF!),#REF!,\"\")","v":""},{"$f":"IF(ISTEXT(#REF!),#REF!,\"\")","v":""},{"$f":"IF(ISNUMBER(#REF!),#REF!,\"\")","v":""},{"$f":"IF(ISTEXT(#REF!),#REF!,\"\")","v":""},{"$f":"IF(ISTEXT(#REF!),#REF!,\"\")","v":""},{"$f":"IF(ISTEXT(#REF!),#REF!,\"\")","v":""},{"$f":"IF(ISTEXT(#REF!),#REF!,\"\")","v":""},{"$f":"IF(ISTEXT(#REF!),#REF!,\"\")","v":""},{"$f":"IF(ISTEXT(#REF!),#REF!,\"\")","v":""},{"$f":"IF(ISTEXT(#REF!),#REF!,\"\")","v":""},{"$f":"IF(ISTEXT(#REF!),#REF!,\"\")","v":""},null,{"$f":"IF(ISTEXT(#REF!),#REF!,\"\")","v":""},{"$f":"IF(ISTEXT(#REF!),#REF!,\"\")","v":""},{"$f":"IF(ISNUMBER(#REF!),#REF!,\"\")","v":""},{"$f":"IF(ISTEXT(#REF!),#REF!,\"\")","v":""},null,{"$f":"IF(ISTEXT(#REF!),#REF!,\"\")","v":""},{"$f":"IF(ISTEXT(#REF!),#REF!,\"\")","v":""},{"$f":"IF(ISTEXT(#REF!),#REF!,\"\")","v":""},{"$f":"IF(ISTEXT(#REF!),#REF!,\"\")","v":""},{"$f":"IF(ISTEXT(#REF!),#REF!,\"\")","v":""},{"$f":"IF(ISTEXT(#REF!),#REF!,\"\")","v":""},{"$f":"IF(ISTEXT(#REF!),#REF!,\"\")","v":""},null,{"$f":"IF(ISTEXT(#REF!),#REF!,\"\")","v":""},{"$f":"IF(ISTEXT(#REF!),#REF!,\"\")","v":""},{"$f":"IF(ISNUMBER(#REF!),#REF!,\"\")","v":""},{"$f":"IF(ISTEXT(#REF!),#REF!,\"\")","v":""},null,{"$f":"IF(ISTEXT(#REF!),#REF!,\"\")","v":""},{"$f":"IF(ISTEXT(#REF!),#REF!,\"\")","v":""},{"$f":"IF(ISTEXT(#REF!),#REF!,\"\")","v":""},{"$f":"IF(ISTEXT(#REF!),#REF!,\"\")","v":""},{"$f":"IF(ISTEXT(#REF!),#REF!,\"\")","v":""},{"$f":"IF(ISTEXT(#REF!),#REF!,\"\")","v":""},{"$f":"IF(ISTEXT(#REF!),#REF!,\"\")","v":""},null,{"$f":"IF(ISTEXT(#REF!),#REF!,\"\")","v":""},{"$f":"IF(ISTEXT(#REF!),#REF!,\"\")","v":""},{"$f":"IF(ISNUMBER(#REF!),#REF!,\"\")","v":""},{"$f":"IF(ISTEXT(#REF!),#REF!,\"\")","v":""}]
[null,null,{"$f":"IF(ISTEXT(#REF!),#REF!,\"\")","v":""},{"$f":"IF(ISTEXT(#REF!),#REF!,\"\")","v":""},{"$f":"IF(ISTEXT(#REF!),#REF!,\"\")","v":""},{"$f":"IF(ISTEXT(#REF!),#REF!,\"\")","v":""},{"$f":"IF(ISTEXT(#REF!),#REF!,\"\")","v":""},{"$f":"IF(ISTEXT(#REF!),#REF!,\"\")","v":""},{"$f":"IF(ISTEXT(#REF!),#REF!,\"\")","v":""},null,{"$f":"IF(ISTEXT(#REF!),#REF!,\"\")","v":""},{"$f":"IF(ISTEXT(#REF!),#REF!,\"\")","v":""},{"$f":"IF(ISNUMBER(#REF!),#REF!,\"\")","v":""},{"$f":"IF(ISTEXT(#REF!),#REF!,\"\")","v":""},null,{"$f":"IF(ISTEXT(#REF!),#REF!,\"\")","v":""},{"$f":"IF(ISTEXT(#REF!),#REF!,\"\")","v":""},{"$f":"IF(ISTEXT(#REF!),#REF!,\"\")","v":""},{"$f":"IF(ISTEXT(#REF!),#REF!,\"\")","v":""},{"$f":"IF(ISTEXT(#REF!),#REF!,\"\")","v":""},{"$f":"IF(ISTEXT(#REF!),#REF!,\"\")","v":""},{"$f":"IF(ISTEXT(#REF!),#REF!,\"\")","v":""},null,{"$f":"IF(ISTEXT(#REF!),#REF!,\"\")","v":""},{"$f":"IF(ISTEXT(#REF!),#REF!,\"\")","v":""},{"$f":"IF(ISNUMBER(#REF!),#REF!,\"\")","v":""},{"$f":"IF(ISTEXT(#REF!),#REF!,\"\")","v":""},{"$f":"IF(ISTEXT(#REF!),#REF!,\"\")","v":""},{"$f":"IF(ISTEXT(#REF!),#REF!,\"\")","v":""},{"$f":"IF(ISTEXT(#REF!),#REF!,\"\")","v":""},{"$f":"IF(ISTEXT(#REF!),#REF!,\"\")","v":""},{"$f":"IF(ISTEXT(#REF!),#REF!,\"\")","v":""},{"$f":"IF(ISTEXT(#REF!),#REF!,\"\")","v":""},{"$f":"IF(ISTEXT(#REF!),#REF!,\"\")","v":""},null,{"$f":"IF(ISTEXT(#REF!),#REF!,\"\")","v":""},{"$f":"IF(ISTEXT(#REF!),#REF!,\"\")","v":""},{"$f":"IF(ISNUMBER(#REF!),#REF!,\"\")","v":""},{"$f":"IF(ISTEXT(#REF!),#REF!,\"\")","v":""},null,{"$f":"IF(ISTEXT(#REF!),#REF!,\"\")","v":""},{"$f":"IF(ISTEXT(#REF!),#REF!,\"\")","v":""},{"$f":"IF(ISTEXT(#REF!),#REF!,\"\")","v":""},{"$f":"IF(ISTEXT(#REF!),#REF!,\"\")","v":""},{"$f":"IF(ISTEXT(#REF!),#REF!,\"\")","v":""},{"$f":"IF(ISTEXT(#REF!),#REF!,\"\")","v":""},{"$f":"IF(ISTEXT(#REF!),#REF!,\"\")","v":""},null,{"$f":"IF(ISTEXT(#REF!),#REF!,\"\")","v":""},{"$f":"IF(ISTEXT(#REF!),#REF!,\"\")","v":""},{"$f":"IF(ISNUMBER(#REF!),#REF!,\"\")","v":""},{"$f":"IF(ISTEXT(#REF!),#REF!,\"\")","v":""},null,{"$f":"IF(ISTEXT(#REF!),#REF!,\"\")","v":""},{"$f":"IF(ISTEXT(#REF!),#REF!,\"\")","v":""},{"$f":"IF(ISTEXT(#REF!),#REF!,\"\")","v":""},{"$f":"IF(ISTEXT(#REF!),#REF!,\"\")","v":""},{"$f":"IF(ISTEXT(#REF!),#REF!,\"\")","v":""},{"$f":"IF(ISTEXT(#REF!),#REF!,\"\")","v":""},{"$f":"IF(ISTEXT(#REF!),#REF!,\"\")","v":""},null,{"$f":"IF(ISTEXT(#REF!),#REF!,\"\")","v":""},{"$f":"IF(ISTEXT(#REF!),#REF!,\"\")","v":""},{"$f":"IF(ISNUMBER(#REF!),#REF!,\"\")","v":""},{"$f":"IF(ISTEXT(#REF!),#REF!,\"\")","v":""}]
[null,null,{"$f":"IF(ISTEXT(#REF!),#REF!,\"\")","v":""},{"$f":"IF(ISTEXT(#REF!),#REF!,\"\")","v":""},{"$f":"IF(ISTEXT(#REF!),#REF!,\"\")","v":""},{"$f":"IF(ISTEXT(#REF!),#REF!,\"\")","v":""},{"$f":"IF(ISTEXT(#REF!),#REF!,\"\")","v":""},{"$f":"IF(ISTEXT(#REF!),#REF!,\"\")","v":""},{"$f":"IF(ISTEXT(#REF!),#REF!,\"\")","v":""},null,{"$f":"IF(ISTEXT(#REF!),#REF!,\"\")","v":""},{"$f":"IF(ISTEXT(#REF!),#REF!,\"\")","v":""},{"$f":"IF(ISNUMBER(#REF!),#REF!,\"\")","v":""},{"$f":"IF(ISTEXT(#REF!),#REF!,\"\")","v":""},null,{"$f":"IF(ISTEXT(#REF!),#REF!,\"\")","v":""},{"$f":"IF(ISTEXT(#REF!),#REF!,\"\")","v":""},{"$f":"IF(ISTEXT(#REF!),#REF!,\"\")","v":""},{"$f":"IF(ISTEXT(#REF!),#REF!,\"\")","v":""},{"$f":"IF(ISTEXT(#REF!),#REF!,\"\")","v":""},{"$f":"IF(ISTEXT(#REF!),#REF!,\"\")","v":""},{"$f":"IF(ISTEXT(#REF!),#REF!,\"\")","v":""},null,{"$f":"IF(ISTEXT(#REF!),#REF!,\"\")","v":""},{"$f":"IF(ISTEXT(#REF!),#REF!,\"\")","v":""},{"$f":"IF(ISNUMBER(#REF!),#REF!,\"\")","v":""},{"$f":"IF(ISTEXT(#REF!),#REF!,\"\")","v":""},{"$f":"IF(ISTEXT(#REF!),#REF!,\"\")","v":""},{"$f":"IF(ISTEXT(#REF!),#REF!,\"\")","v":""},{"$f":"IF(ISTEXT(#REF!),#REF!,\"\")","v":""},{"$f":"IF(ISTEXT(#REF!),#REF!,\"\")","v":""},{"$f":"IF(ISTEXT(#REF!),#REF!,\"\")","v":""},{"$f":"IF(ISTEXT(#REF!),#REF!,\"\")","v":""},{"$f":"IF(ISTEXT(#REF!),#REF!,\"\")","v":""},null,{"$f":"IF(ISTEXT(#REF!),#REF!,\"\")","v":""},{"$f":"IF(ISTEXT(#REF!),#REF!,\"\")","v":""},{"$f":"IF(ISNUMBER(#REF!),#REF!,\"\")","v":""},{"$f":"IF(ISTEXT(#REF!),#REF!,\"\")","v":""},null,{"$f":"IF(ISTEXT(#REF!),#REF!,\"\")","v":""},{"$f":"IF(ISTEXT(#REF!),#REF!,\"\")","v":""},{"$f":"IF(ISTEXT(#REF!),#REF!,\"\")","v":""},{"$f":"IF(ISTEXT(#REF!),#REF!,\"\")","v":""},{"$f":"IF(ISTEXT(#REF!),#REF!,\"\")","v":""},{"$f":"IF(ISTEXT(#REF!),#REF!,\"\")","v":""},{"$f":"IF(ISTEXT(#REF!),#REF!,\"\")","v":""},null,{"$f":"IF(ISTEXT(#REF!),#REF!,\"\")","v":""},{"$f":"IF(ISTEXT(#REF!),#REF!,\"\")","v":""},{"$f":"IF(ISNUMBER(#REF!),#REF!,\"\")","v":""},{"$f":"IF(ISTEXT(#REF!),#REF!,\"\")","v":""},null,{"$f":"IF(ISTEXT(#REF!),#REF!,\"\")","v":""},{"$f":"IF(ISTEXT(#REF!),#REF!,\"\")","v":""},{"$f":"IF(ISTEXT(#REF!),#REF!,\"\")","v":""},{"$f":"IF(ISTEXT(#REF!),#REF!,\"\")","v":""},{"$f":"IF(ISTEXT(#REF!),#REF!,\"\")","v":""},{"$f":"IF(ISTEXT(#REF!),#REF!,\"\")","v":""},{"$f":"IF(ISTEXT(#REF!),#REF!,\"\")","v":""},null,{"$f":"IF(ISTEXT(#REF!),#REF!,\"\")","v":""},{"$f":"IF(ISTEXT(#REF!),#REF!,\"\")","v":""},{"$f":"IF(ISNUMBER(#REF!),#REF!,\"\")","v":""},{"$f":"IF(ISTEXT(#REF!),#REF!,\"\")","v":""}]
[null,null,{"$f":"IF(ISTEXT(#REF!),#REF!,\"\")","v":""},{"$f":"IF(ISTEXT(#REF!),#REF!,\"\")","v":""},{"$f":"IF(ISTEXT(#REF!),#REF!,\"\")","v":""},{"$f":"IF(ISTEXT(#REF!),#REF!,\"\")","v":""},{"$f":"IF(ISTEXT(#REF!),#REF!,\"\")","v":""},{"$f":"IF(ISTEXT(#REF!),#REF!,\"\")","v":""},{"$f":"IF(ISTEXT(#REF!),#REF!,\"\")","v":""},null,{"$f":"IF(ISTEXT(#REF!),#REF!,\"\")","v":""},{"$f":"IF(ISTEXT(#REF!),#REF!,\"\")","v":""},{"$f":"IF(ISNUMBER(#REF!),#REF!,\"\")","v":""},{"$f":"IF(ISTEXT(#REF!),#REF!,\"\")","v":""},null,{"$f":"IF(ISTEXT(#REF!),#REF!,\"\")","v":""},{"$f":"IF(ISTEXT(#REF!),#REF!,\"\")","v":""},{"$f":"IF(ISTEXT(#REF!),#REF!,\"\")","v":""},{"$f":"IF(ISTEXT(#REF!),#REF!,\"\")","v":""},{"$f":"IF(ISTEXT(#REF!),#REF!,\"\")","v":""},{"$f":"IF(ISTEXT(#REF!),#REF!,\"\")","v":""},{"$f":"IF(ISTEXT(#REF!),#REF!,\"\")","v":""},null,{"$f":"IF(ISTEXT(#REF!),#REF!,\"\")","v":""},{"$f":"IF(ISTEXT(#REF!),#REF!,\"\")","v":""},{"$f":"IF(ISNUMBER(#REF!),#REF!,\"\")","v":""},{"$f":"IF(ISTEXT(#REF!),#REF!,\"\")","v":""},{"$f":"IF(ISTEXT(#REF!),#REF!,\"\")","v":""},{"$f":"IF(ISTEXT(#REF!),#REF!,\"\")","v":""},{"$f":"IF(ISTEXT(#REF!),#REF!,\"\")","v":""},{"$f":"IF(ISTEXT(#REF!),#REF!,\"\")","v":""},{"$f":"IF(ISTEXT(#REF!),#REF!,\"\")","v":""},{"$f":"IF(ISTEXT(#REF!),#REF!,\"\")","v":""},{"$f":"IF(ISTEXT(#REF!),#REF!,\"\")","v":""},null,{"$f":"IF(ISTEXT(#REF!),#REF!,\"\")","v":""},{"$f":"IF(ISTEXT(#REF!),#REF!,\"\")","v":""},{"$f":"IF(ISNUMBER(#REF!),#REF!,\"\")","v":""},{"$f":"IF(ISTEXT(#REF!),#REF!,\"\")","v":""},null,{"$f":"IF(ISTEXT(#REF!),#REF!,\"\")","v":""},{"$f":"IF(ISTEXT(#REF!),#REF!,\"\")","v":""},{"$f":"IF(ISTEXT(#REF!),#REF!,\"\")","v":""},{"$f":"IF(ISTEXT(#REF!),#REF!,\"\")","v":""},{"$f":"IF(ISTEXT(#REF!),#REF!,\"\")","v":""},{"$f":"IF(ISTEXT(#REF!),#REF!,\"\")","v":""},{"$f":"IF(ISTEXT(#REF!),#REF!,\"\")","v":""},null,{"$f":"IF(ISTEXT(#REF!),#REF!,\"\")","v":""},{"$f":"IF(ISTEXT(#REF!),#REF!,\"\")","v":""},{"$f":"IF(ISNUMBER(#REF!),#REF!,\"\")","v":""},{"$f":"IF(ISTEXT(#REF!),#REF!,\"\")","v":""},null,{"$f":"IF(ISTEXT(#REF!),#REF!,\"\")","v":""},{"$f":"IF(ISTEXT(#REF!),#REF!,\"\")","v":""},{"$f":"IF(ISTEXT(#REF!),#REF!,\"\")","v":""},{"$f":"IF(ISTEXT(#REF!),#REF!,\"\")","v":""},{"$f":"IF(ISTEXT(#REF!),#REF!,\"\")","v":""},{"$f":"IF(ISTEXT(#REF!),#REF!,\"\")","v":""},{"$f":"IF(ISTEXT(#REF!),#REF!,\"\")","v":""},null,{"$f":"IF(ISTEXT(#REF!),#REF!,\"\")","v":""},{"$f":"IF(ISTEXT(#REF!),#REF!,\"\")","v":""},{"$f":"IF(ISNUMBER(#REF!),#REF!,\"\")","v":""},{"$f":"IF(ISTEXT(#REF!),#REF!,\"\")","v":""}]
[null,null,{"$f":"IF(ISTEXT(#REF!),#REF!,\"\")","v":""},{"$f":"IF(ISTEXT(#REF!),#REF!,\"\")","v":""},{"$f":"IF(ISTEXT(#REF!),#REF!,\"\")","v":""},{"$f":"IF(ISTEXT(#REF!),#REF!,\"\")","v":""},{"$f":"IF(ISTEXT(#REF!),#REF!,\"\")","v":""},{"$f":"IF(ISTEXT(#REF!),#REF!,\"\")","v":""},{"$f":"IF(ISTEXT(#REF!),#REF!,\"\")","v":""},null,{"$f":"IF(ISTEXT(#REF!),#REF!,\"\")","v":""},{"$f":"IF(ISTEXT(#REF!),#REF!,\"\")","v":""},{"$f":"IF(ISNUMBER(#REF!),#REF!,\"\")","v":""},{"$f":"IF(ISTEXT(#REF!),#REF!,\"\")","v":""},null,{"$f":"IF(ISTEXT(#REF!),#REF!,\"\")","v":""},{"$f":"IF(ISTEXT(#REF!),#REF!,\"\")","v":""},{"$f":"IF(ISTEXT(#REF!),#REF!,\"\")","v":""},{"$f":"IF(ISTEXT(#REF!),#REF!,\"\")","v":""},{"$f":"IF(ISTEXT(#REF!),#REF!,\"\")","v":""},{"$f":"IF(ISTEXT(#REF!),#REF!,\"\")","v":""},{"$f":"IF(ISTEXT(#REF!),#REF!,\"\")","v":""},null,{"$f":"IF(ISTEXT(#REF!),#REF!,\"\")","v":""},{"$f":"IF(ISTEXT(#REF!),#REF!,\"\")","v":""},{"$f":"IF(ISNUMBER(#REF!),#REF!,\"\")","v":""},{"$f":"IF(ISTEXT(#REF!),#REF!,\"\")","v":""},{"$f":"IF(ISTEXT(#REF!),#REF!,\"\")","v":""},{"$f":"IF(ISTEXT(#REF!),#REF!,\"\")","v":""},{"$f":"IF(ISTEXT(#REF!),#REF!,\"\")","v":""},{"$f":"IF(ISTEXT(#REF!),#REF!,\"\")","v":""},{"$f":"IF(ISTEXT(#REF!),#REF!,\"\")","v":""},{"$f":"IF(ISTEXT(#REF!),#REF!,\"\")","v":""},{"$f":"IF(ISTEXT(#REF!),#REF!,\"\")","v":""},null,{"$f":"IF(ISTEXT(#REF!),#REF!,\"\")","v":""},{"$f":"IF(ISTEXT(#REF!),#REF!,\"\")","v":""},{"$f":"IF(ISNUMBER(#REF!),#REF!,\"\")","v":""},{"$f":"IF(ISTEXT(#REF!),#REF!,\"\")","v":""},null,{"$f":"IF(ISTEXT(#REF!),#REF!,\"\")","v":""},{"$f":"IF(ISTEXT(#REF!),#REF!,\"\")","v":""},{"$f":"IF(ISTEXT(#REF!),#REF!,\"\")","v":""},{"$f":"IF(ISTEXT(#REF!),#REF!,\"\")","v":""},{"$f":"IF(ISTEXT(#REF!),#REF!,\"\")","v":""},{"$f":"IF(ISTEXT(#REF!),#REF!,\"\")","v":""},{"$f":"IF(ISTEXT(#REF!),#REF!,\"\")","v":""},null,{"$f":"IF(ISTEXT(#REF!),#REF!,\"\")","v":""},{"$f":"IF(ISTEXT(#REF!),#REF!,\"\")","v":""},{"$f":"IF(ISNUMBER(#REF!),#REF!,\"\")","v":""},{"$f":"IF(ISTEXT(#REF!),#REF!,\"\")","v":""},null,{"$f":"IF(ISTEXT(#REF!),#REF!,\"\")","v":""},{"$f":"IF(ISTEXT(#REF!),#REF!,\"\")","v":""},{"$f":"IF(ISTEXT(#REF!),#REF!,\"\")","v":""},{"$f":"IF(ISTEXT(#REF!),#REF!,\"\")","v":""},{"$f":"IF(ISTEXT(#REF!),#REF!,\"\")","v":""},{"$f":"IF(ISTEXT(#REF!),#REF!,\"\")","v":""},{"$f":"IF(ISTEXT(#REF!),#REF!,\"\")","v":""},null,{"$f":"IF(ISTEXT(#REF!),#REF!,\"\")","v":""},{"$f":"IF(ISTEXT(#REF!),#REF!,\"\")","v":""},{"$f":"IF(ISNUMBER(#REF!),#REF!,\"\")","v":""},{"$f":"IF(ISTEXT(#REF!),#REF!,\"\")","v":""}]
[null,null,{"$f":"IF(ISTEXT(#REF!),#REF!,\"\")","v":""},{"$f":"IF(ISTEXT(#REF!),#REF!,\"\")","v":""},{"$f":"IF(ISTEXT(#REF!),#REF!,\"\")","v":""},{"$f":"IF(ISTEXT(#REF!),#REF!,\"\")","v":""},{"$f":"IF(ISTEXT(#REF!),#REF!,\"\")","v":""},{"$f":"IF(ISTEXT(#REF!),#REF!,\"\")","v":""},{"$f":"IF(ISTEXT(#REF!),#REF!,\"\")","v":""},null,{"$f":"IF(ISTEXT(#REF!),#REF!,\"\")","v":""},{"$f":"IF(ISTEXT(#REF!),#REF!,\"\")","v":""},{"$f":"IF(ISNUMBER(#REF!),#REF!,\"\")","v":""},{"$f":"IF(ISTEXT(#REF!),#REF!,\"\")","v":""},null,{"$f":"IF(ISTEXT(#REF!),#REF!,\"\")","v":""},{"$f":"IF(ISTEXT(#REF!),#REF!,\"\")","v":""},{"$f":"IF(ISTEXT(#REF!),#REF!,\"\")","v":""},{"$f":"IF(ISTEXT(#REF!),#REF!,\"\")","v":""},{"$f":"IF(ISTEXT(#REF!),#REF!,\"\")","v":""},{"$f":"IF(ISTEXT(#REF!),#REF!,\"\")","v":""},{"$f":"IF(ISTEXT(#REF!),#REF!,\"\")","v":""},null,{"$f":"IF(ISTEXT(#REF!),#REF!,\"\")","v":""},{"$f":"IF(ISTEXT(#REF!),#REF!,\"\")","v":""},{"$f":"IF(ISNUMBER(#REF!),#REF!,\"\")","v":""},{"$f":"IF(ISTEXT(#REF!),#REF!,\"\")","v":""},{"$f":"IF(ISTEXT(#REF!),#REF!,\"\")","v":""},{"$f":"IF(ISTEXT(#REF!),#REF!,\"\")","v":""},{"$f":"IF(ISTEXT(#REF!),#REF!,\"\")","v":""},{"$f":"IF(ISTEXT(#REF!),#REF!,\"\")","v":""},{"$f":"IF(ISTEXT(#REF!),#REF!,\"\")","v":""},{"$f":"IF(ISTEXT(#REF!),#REF!,\"\")","v":""},{"$f":"IF(ISTEXT(#REF!),#REF!,\"\")","v":""},null,{"$f":"IF(ISTEXT(#REF!),#REF!,\"\")","v":""},{"$f":"IF(ISTEXT(#REF!),#REF!,\"\")","v":""},{"$f":"IF(ISNUMBER(#REF!),#REF!,\"\")","v":""},{"$f":"IF(ISTEXT(#REF!),#REF!,\"\")","v":""},null,{"$f":"IF(ISTEXT(#REF!),#REF!,\"\")","v":""},{"$f":"IF(ISTEXT(#REF!),#REF!,\"\")","v":""},{"$f":"IF(ISTEXT(#REF!),#REF!,\"\")","v":""},{"$f":"IF(ISTEXT(#REF!),#REF!,\"\")","v":""},{"$f":"IF(ISTEXT(#REF!),#REF!,\"\")","v":""},{"$f":"IF(ISTEXT(#REF!),#REF!,\"\")","v":""},{"$f":"IF(ISTEXT(#REF!),#REF!,\"\")","v":""},null,{"$f":"IF(ISTEXT(#REF!),#REF!,\"\")","v":""},{"$f":"IF(ISTEXT(#REF!),#REF!,\"\")","v":""},{"$f":"IF(ISNUMBER(#REF!),#REF!,\"\")","v":""},{"$f":"IF(ISTEXT(#REF!),#REF!,\"\")","v":""},null,{"$f":"IF(ISTEXT(#REF!),#REF!,\"\")","v":""},{"$f":"IF(ISTEXT(#REF!),#REF!,\"\")","v":""},{"$f":"IF(ISTEXT(#REF!),#REF!,\"\")","v":""},{"$f":"IF(ISTEXT(#REF!),#REF!,\"\")","v":""},{"$f":"IF(ISTEXT(#REF!),#REF!,\"\")","v":""},{"$f":"IF(ISTEXT(#REF!),#REF!,\"\")","v":""},{"$f":"IF(ISTEXT(#REF!),#REF!,\"\")","v":""},null,{"$f":"IF(ISTEXT(#REF!),#REF!,\"\")","v":""},{"$f":"IF(ISTEXT(#REF!),#REF!,\"\")","v":""},{"$f":"IF(ISNUMBER(#REF!),#REF!,\"\")","v":""},{"$f":"IF(ISTEXT(#REF!),#REF!,\"\")","v":""}]
[null,null,{"$f":"IF(ISTEXT(#REF!),#REF!,\"\")","v":""},{"$f":"IF(ISTEXT(#REF!),#REF!,\"\")","v":""},{"$f":"IF(ISTEXT(#REF!),#REF!,\"\")","v":""},{"$f":"IF(ISTEXT(#REF!),#REF!,\"\")","v":""},{"$f":"IF(ISTEXT(#REF!),#REF!,\"\")","v":""},{"$f":"IF(ISTEXT(#REF!),#REF!,\"\")","v":""},{"$f":"IF(ISTEXT(#REF!),#REF!,\"\")","v":""},null,{"$f":"IF(ISTEXT(#REF!),#REF!,\"\")","v":""},{"$f":"IF(ISTEXT(#REF!),#REF!,\"\")","v":""},{"$f":"IF(ISNUMBER(#REF!),#REF!,\"\")","v":""},{"$f":"IF(ISTEXT(#REF!),#REF!,\"\")","v":""},null,{"$f":"IF(ISTEXT(#REF!),#REF!,\"\")","v":""},{"$f":"IF(ISTEXT(#REF!),#REF!,\"\")","v":""},{"$f":"IF(ISTEXT(#REF!),#REF!,\"\")","v":""},{"$f":"IF(ISTEXT(#REF!),#REF!,\"\")","v":""},{"$f":"IF(ISTEXT(#REF!),#REF!,\"\")","v":""},{"$f":"IF(ISTEXT(#REF!),#REF!,\"\")","v":""},{"$f":"IF(ISTEXT(#REF!),#REF!,\"\")","v":""},null,{"$f":"IF(ISTEXT(#REF!),#REF!,\"\")","v":""},{"$f":"IF(ISTEXT(#REF!),#REF!,\"\")","v":""},{"$f":"IF(ISNUMBER(#REF!),#REF!,\"\")","v":""},{"$f":"IF(ISTEXT(#REF!),#REF!,\"\")","v":""},{"$f":"IF(ISTEXT(#REF!),#REF!,\"\")","v":""},{"$f":"IF(ISTEXT(#REF!),#REF!,\"\")","v":""},{"$f":"IF(ISTEXT(#REF!),#REF!,\"\")","v":""},{"$f":"IF(ISTEXT(#REF!),#REF!,\"\")","v":""},{"$f":"IF(ISTEXT(#REF!),#REF!,\"\")","v":""},{"$f":"IF(ISTEXT(#REF!),#REF!,\"\")","v":""},{"$f":"IF(ISTEXT(#REF!),#REF!,\"\")","v":""},null,{"$f":"IF(ISTEXT(#REF!),#REF!,\"\")","v":""},{"$f":"IF(ISTEXT(#REF!),#REF!,\"\")","v":""},{"$f":"IF(ISNUMBER(#REF!),#REF!,\"\")","v":""},{"$f":"IF(ISTEXT(#REF!),#REF!,\"\")","v":""},null,{"$f":"IF(ISTEXT(#REF!),#REF!,\"\")","v":""},{"$f":"IF(ISTEXT(#REF!),#REF!,\"\")","v":""},{"$f":"IF(ISTEXT(#REF!),#REF!,\"\")","v":""},{"$f":"IF(ISTEXT(#REF!),#REF!,\"\")","v":""},{"$f":"IF(ISTEXT(#REF!),#REF!,\"\")","v":""},{"$f":"IF(ISTEXT(#REF!),#REF!,\"\")","v":""},{"$f":"IF(ISTEXT(#REF!),#REF!,\"\")","v":""},null,{"$f":"IF(ISTEXT(#REF!),#REF!,\"\")","v":""},{"$f":"IF(ISTEXT(#REF!),#REF!,\"\")","v":""},{"$f":"IF(ISNUMBER(#REF!),#REF!,\"\")","v":""},{"$f":"IF(ISTEXT(#REF!),#REF!,\"\")","v":""},null,{"$f":"IF(ISTEXT(#REF!),#REF!,\"\")","v":""},{"$f":"IF(ISTEXT(#REF!),#REF!,\"\")","v":""},{"$f":"IF(ISTEXT(#REF!),#REF!,\"\")","v":""},{"$f":"IF(ISTEXT(#REF!),#REF!,\"\")","v":""},{"$f":"IF(ISTEXT(#REF!),#REF!,\"\")","v":""},{"$f":"IF(ISTEXT(#REF!),#REF!,\"\")","v":""},{"$f":"IF(ISTEXT(#REF!),#REF!,\"\")","v":""},null,{"$f":"IF(ISTEXT(#REF!),#REF!,\"\")","v":""},{"$f":"IF(ISTEXT(#REF!),#REF!,\"\")","v":""},{"$f":"IF(ISNUMBER(#REF!),#REF!,\"\")","v":""},{"$f":"IF(ISTEXT(#REF!),#REF!,\"\")","v":""}]
[null,null,{"$f":"IF(ISTEXT(#REF!),#REF!,\"\")","v":""},{"$f":"IF(ISTEXT(#REF!),#REF!,\"\")","v":""},{"$f":"IF(ISTEXT(#REF!),#REF!,\"\")","v":""},{"$f":"IF(ISTEXT(#REF!),#REF!,\"\")","v":""},{"$f":"IF(ISTEXT(#REF!),#REF!,\"\")","v":""},{"$f":"IF(ISTEXT(#REF!),#REF!,\"\")","v":""},{"$f":"IF(ISTEXT(#REF!),#REF!,\"\")","v":""},null,{"$f":"IF(ISTEXT(#REF!),#REF!,\"\")","v":""},{"$f":"IF(ISTEXT(#REF!),#REF!,\"\")","v":""},{"$f":"IF(ISNUMBER(#REF!),#REF!,\"\")","v":""},{"$f":"IF(ISTEXT(#REF!),#REF!,\"\")","v":""},null,{"$f":"IF(ISTEXT(#REF!),#REF!,\"\")","v":""},{"$f":"IF(ISTEXT(#REF!),#REF!,\"\")","v":""},{"$f":"IF(ISTEXT(#REF!),#REF!,\"\")","v":""},{"$f":"IF(ISTEXT(#REF!),#REF!,\"\")","v":""},{"$f":"IF(ISTEXT(#REF!),#REF!,\"\")","v":""},{"$f":"IF(ISTEXT(#REF!),#REF!,\"\")","v":""},{"$f":"IF(ISTEXT(#REF!),#REF!,\"\")","v":""},null,{"$f":"IF(ISTEXT(#REF!),#REF!,\"\")","v":""},{"$f":"IF(ISTEXT(#REF!),#REF!,\"\")","v":""},{"$f":"IF(ISNUMBER(#REF!),#REF!,\"\")","v":""},{"$f":"IF(ISTEXT(#REF!),#REF!,\"\")","v":""},{"$f":"IF(ISTEXT(#REF!),#REF!,\"\")","v":""},{"$f":"IF(ISTEXT(#REF!),#REF!,\"\")","v":""},{"$f":"IF(ISTEXT(#REF!),#REF!,\"\")","v":""},{"$f":"IF(ISTEXT(#REF!),#REF!,\"\")","v":""},{"$f":"IF(ISTEXT(#REF!),#REF!,\"\")","v":""},{"$f":"IF(ISTEXT(#REF!),#REF!,\"\")","v":""},{"$f":"IF(ISTEXT(#REF!),#REF!,\"\")","v":""},null,{"$f":"IF(ISTEXT(#REF!),#REF!,\"\")","v":""},{"$f":"IF(ISTEXT(#REF!),#REF!,\"\")","v":""},{"$f":"IF(ISNUMBER(#REF!),#REF!,\"\")","v":""},{"$f":"IF(ISTEXT(#REF!),#REF!,\"\")","v":""},null,{"$f":"IF(ISTEXT(#REF!),#REF!,\"\")","v":""},{"$f":"IF(ISTEXT(#REF!),#REF!,\"\")","v":""},{"$f":"IF(ISTEXT(#REF!),#REF!,\"\")","v":""},{"$f":"IF(ISTEXT(#REF!),#REF!,\"\")","v":""},{"$f":"IF(ISTEXT(#REF!),#REF!,\"\")","v":""},{"$f":"IF(ISTEXT(#REF!),#REF!,\"\")","v":""},{"$f":"IF(ISTEXT(#REF!),#REF!,\"\")","v":""},null,{"$f":"IF(ISTEXT(#REF!),#REF!,\"\")","v":""},{"$f":"IF(ISTEXT(#REF!),#REF!,\"\")","v":""},{"$f":"IF(ISNUMBER(#REF!),#REF!,\"\")","v":""},{"$f":"IF(ISTEXT(#REF!),#REF!,\"\")","v":""},null,{"$f":"IF(ISTEXT(#REF!),#REF!,\"\")","v":""},{"$f":"IF(ISTEXT(#REF!),#REF!,\"\")","v":""},{"$f":"IF(ISTEXT(#REF!),#REF!,\"\")","v":""},{"$f":"IF(ISTEXT(#REF!),#REF!,\"\")","v":""},{"$f":"IF(ISTEXT(#REF!),#REF!,\"\")","v":""},{"$f":"IF(ISTEXT(#REF!),#REF!,\"\")","v":""},{"$f":"IF(ISTEXT(#REF!),#REF!,\"\")","v":""},null,{"$f":"IF(ISTEXT(#REF!),#REF!,\"\")","v":""},{"$f":"IF(ISTEXT(#REF!),#REF!,\"\")","v":""},{"$f":"IF(ISNUMBER(#REF!),#REF!,\"\")","v":""},{"$f":"IF(ISTEXT(#REF!),#REF!,\"\")","v":""}]
[null,null,{"$f":"IF(ISTEXT(#REF!),#REF!,\"\")","v":""},{"$f":"IF(ISTEXT(#REF!),#REF!,\"\")","v":""},{"$f":"IF(ISTEXT(#REF!),#REF!,\"\")","v":""},{"$f":"IF(ISTEXT(#REF!),#REF!,\"\")","v":""},{"$f":"IF(ISTEXT(#REF!),#REF!,\"\")","v":""},{"$f":"IF(ISTEXT(#REF!),#REF!,\"\")","v":""},{"$f":"IF(ISTEXT(#REF!),#REF!,\"\")","v":""},null,{"$f":"IF(ISTEXT(#REF!),#REF!,\"\")","v":""},{"$f":"IF(ISTEXT(#REF!),#REF!,\"\")","v":""},{"$f":"IF(ISNUMBER(#REF!),#REF!,\"\")","v":""},{"$f":"IF(ISTEXT(#REF!),#REF!,\"\")","v":""},null,{"$f":"IF(ISTEXT(#REF!),#REF!,\"\")","v":""},{"$f":"IF(ISTEXT(#REF!),#REF!,\"\")","v":""},{"$f":"IF(ISTEXT(#REF!),#REF!,\"\")","v":""},{"$f":"IF(ISTEXT(#REF!),#REF!,\"\")","v":""},{"$f":"IF(ISTEXT(#REF!),#REF!,\"\")","v":""},{"$f":"IF(ISTEXT(#REF!),#REF!,\"\")","v":""},{"$f":"IF(ISTEXT(#REF!),#REF!,\"\")","v":""},null,{"$f":"IF(ISTEXT(#REF!),#REF!,\"\")","v":""},{"$f":"IF(ISTEXT(#REF!),#REF!,\"\")","v":""},{"$f":"IF(ISNUMBER(#REF!),#REF!,\"\")","v":""},{"$f":"IF(ISTEXT(#REF!),#REF!,\"\")","v":""},{"$f":"IF(ISTEXT(#REF!),#REF!,\"\")","v":""},{"$f":"IF(ISTEXT(#REF!),#REF!,\"\")","v":""},{"$f":"IF(ISTEXT(#REF!),#REF!,\"\")","v":""},{"$f":"IF(ISTEXT(#REF!),#REF!,\"\")","v":""},{"$f":"IF(ISTEXT(#REF!),#REF!,\"\")","v":""},{"$f":"IF(ISTEXT(#REF!),#REF!,\"\")","v":""},{"$f":"IF(ISTEXT(#REF!),#REF!,\"\")","v":""},null,{"$f":"IF(ISTEXT(#REF!),#REF!,\"\")","v":""},{"$f":"IF(ISTEXT(#REF!),#REF!,\"\")","v":""},{"$f":"IF(ISNUMBER(#REF!),#REF!,\"\")","v":""},{"$f":"IF(ISTEXT(#REF!),#REF!,\"\")","v":""},null,{"$f":"IF(ISTEXT(#REF!),#REF!,\"\")","v":""},{"$f":"IF(ISTEXT(#REF!),#REF!,\"\")","v":""},{"$f":"IF(ISTEXT(#REF!),#REF!,\"\")","v":""},{"$f":"IF(ISTEXT(#REF!),#REF!,\"\")","v":""},{"$f":"IF(ISTEXT(#REF!),#REF!,\"\")","v":""},{"$f":"IF(ISTEXT(#REF!),#REF!,\"\")","v":""},{"$f":"IF(ISTEXT(#REF!),#REF!,\"\")","v":""},null,{"$f":"IF(ISTEXT(#REF!),#REF!,\"\")","v":""},{"$f":"IF(ISTEXT(#REF!),#REF!,\"\")","v":""},{"$f":"IF(ISNUMBER(#REF!),#REF!,\"\")","v":""},{"$f":"IF(ISTEXT(#REF!),#REF!,\"\")","v":""},null,{"$f":"IF(ISTEXT(#REF!),#REF!,\"\")","v":""},{"$f":"IF(ISTEXT(#REF!),#REF!,\"\")","v":""},{"$f":"IF(ISTEXT(#REF!),#REF!,\"\")","v":""},{"$f":"IF(ISTEXT(#REF!),#REF!,\"\")","v":""},{"$f":"IF(ISTEXT(#REF!),#REF!,\"\")","v":""},{"$f":"IF(ISTEXT(#REF!),#REF!,\"\")","v":""},{"$f":"IF(ISTEXT(#REF!),#REF!,\"\")","v":""},null,{"$f":"IF(ISTEXT(#REF!),#REF!,\"\")","v":""},{"$f":"IF(ISTEXT(#REF!),#REF!,\"\")","v":""},{"$f":"IF(ISNUMBER(#REF!),#REF!,\"\")","v":""},{"$f":"IF(ISTEXT(#REF!),#REF!,\"\")","v":""}]
[null,null,{"$f":"IF(ISTEXT(#REF!),#REF!,\"\")","v":""},{"$f":"IF(ISTEXT(#REF!),#REF!,\"\")","v":""},{"$f":"IF(ISTEXT(#REF!),#REF!,\"\")","v":""},{"$f":"IF(ISTEXT(#REF!),#REF!,\"\")","v":""},{"$f":"IF(ISTEXT(#REF!),#REF!,\"\")","v":""},{"$f":"IF(ISTEXT(#REF!),#REF!,\"\")","v":""},{"$f":"IF(ISTEXT(#REF!),#REF!,\"\")","v":""},null,{"$f":"IF(ISTEXT(#REF!),#REF!,\"\")","v":""},{"$f":"IF(ISTEXT(#REF!),#REF!,\"\")","v":""},{"$f":"IF(ISNUMBER(#REF!),#REF!,\"\")","v":""},{"$f":"IF(ISTEXT(#REF!),#REF!,\"\")","v":""},null,{"$f":"IF(ISTEXT(#REF!),#REF!,\"\")","v":""},{"$f":"IF(ISTEXT(#REF!),#REF!,\"\")","v":""},{"$f":"IF(ISTEXT(#REF!),#REF!,\"\")","v":""},{"$f":"IF(ISTEXT(#REF!),#REF!,\"\")","v":""},{"$f":"IF(ISTEXT(#REF!),#REF!,\"\")","v":""},{"$f":"IF(ISTEXT(#REF!),#REF!,\"\")","v":""},{"$f":"IF(ISTEXT(#REF!),#REF!,\"\")","v":""},null,{"$f":"IF(ISTEXT(#REF!),#REF!,\"\")","v":""},{"$f":"IF(ISTEXT(#REF!),#REF!,\"\")","v":""},{"$f":"IF(ISNUMBER(#REF!),#REF!,\"\")","v":""},{"$f":"IF(ISTEXT(#REF!),#REF!,\"\")","v":""},{"$f":"IF(ISTEXT(#REF!),#REF!,\"\")","v":""},{"$f":"IF(ISTEXT(#REF!),#REF!,\"\")","v":""},{"$f":"IF(ISTEXT(#REF!),#REF!,\"\")","v":""},{"$f":"IF(ISTEXT(#REF!),#REF!,\"\")","v":""},{"$f":"IF(ISTEXT(#REF!),#REF!,\"\")","v":""},{"$f":"IF(ISTEXT(#REF!),#REF!,\"\")","v":""},{"$f":"IF(ISTEXT(#REF!),#REF!,\"\")","v":""},null,{"$f":"IF(ISTEXT(#REF!),#REF!,\"\")","v":""},{"$f":"IF(ISTEXT(#REF!),#REF!,\"\")","v":""},{"$f":"IF(ISNUMBER(#REF!),#REF!,\"\")","v":""},{"$f":"IF(ISTEXT(#REF!),#REF!,\"\")","v":""},null,{"$f":"IF(ISTEXT(#REF!),#REF!,\"\")","v":""},{"$f":"IF(ISTEXT(#REF!),#REF!,\"\")","v":""},{"$f":"IF(ISTEXT(#REF!),#REF!,\"\")","v":""},{"$f":"IF(ISTEXT(#REF!),#REF!,\"\")","v":""},{"$f":"IF(ISTEXT(#REF!),#REF!,\"\")","v":""},{"$f":"IF(ISTEXT(#REF!),#REF!,\"\")","v":""},{"$f":"IF(ISTEXT(#REF!),#REF!,\"\")","v":""},null,{"$f":"IF(ISTEXT(#REF!),#REF!,\"\")","v":""},{"$f":"IF(ISTEXT(#REF!),#REF!,\"\")","v":""},{"$f":"IF(ISNUMBER(#REF!),#REF!,\"\")","v":""},{"$f":"IF(ISTEXT(#REF!),#REF!,\"\")","v":""},null,{"$f":"IF(ISTEXT(#REF!),#REF!,\"\")","v":""},{"$f":"IF(ISTEXT(#REF!),#REF!,\"\")","v":""},{"$f":"IF(ISTEXT(#REF!),#REF!,\"\")","v":""},{"$f":"IF(ISTEXT(#REF!),#REF!,\"\")","v":""},{"$f":"IF(ISTEXT(#REF!),#REF!,\"\")","v":""},{"$f":"IF(ISTEXT(#REF!),#REF!,\"\")","v":""},{"$f":"IF(ISTEXT(#REF!),#REF!,\"\")","v":""},null,{"$f":"IF(ISTEXT(#REF!),#REF!,\"\")","v":""},{"$f":"IF(ISTEXT(#REF!),#REF!,\"\")","v":""},{"$f":"IF(ISNUMBER(#REF!),#REF!,\"\")","v":""},{"$f":"IF(ISTEXT(#REF!),#REF!,\"\")","v":""}]
[null,null,{"$f":"IF(ISTEXT(#REF!),#REF!,\"\")","v":""},{"$f":"IF(ISTEXT(#REF!),#REF!,\"\")","v":""},{"$f":"IF(ISTEXT(#REF!),#REF!,\"\")","v":""},{"$f":"IF(ISTEXT(#REF!),#REF!,\"\")","v":""},{"$f":"IF(ISTEXT(#REF!),#REF!,\"\")","v":""},{"$f":"IF(ISTEXT(#REF!),#REF!,\"\")","v":""},{"$f":"IF(ISTEXT(#REF!),#REF!,\"\")","v":""},null,{"$f":"IF(ISTEXT(#REF!),#REF!,\"\")","v":""},{"$f":"IF(ISTEXT(#REF!),#REF!,\"\")","v":""},{"$f":"IF(ISNUMBER(#REF!),#REF!,\"\")","v":""},{"$f":"IF(ISTEXT(#REF!),#REF!,\"\")","v":""},null,{"$f":"IF(ISTEXT(#REF!),#REF!,\"\")","v":""},{"$f":"IF(ISTEXT(#REF!),#REF!,\"\")","v":""},{"$f":"IF(ISTEXT(#REF!),#REF!,\"\")","v":""},{"$f":"IF(ISTEXT(#REF!),#REF!,\"\")","v":""},{"$f":"IF(ISTEXT(#REF!),#REF!,\"\")","v":""},{"$f":"IF(ISTEXT(#REF!),#REF!,\"\")","v":""},{"$f":"IF(ISTEXT(#REF!),#REF!,\"\")","v":""},null,{"$f":"IF(ISTEXT(#REF!),#REF!,\"\")","v":""},{"$f":"IF(ISTEXT(#REF!),#REF!,\"\")","v":""},{"$f":"IF(ISNUMBER(#REF!),#REF!,\"\")","v":""},{"$f":"IF(ISTEXT(#REF!),#REF!,\"\")","v":""},{"$f":"IF(ISTEXT(#REF!),#REF!,\"\")","v":""},{"$f":"IF(ISTEXT(#REF!),#REF!,\"\")","v":""},{"$f":"IF(ISTEXT(#REF!),#REF!,\"\")","v":""},{"$f":"IF(ISTEXT(#REF!),#REF!,\"\")","v":""},{"$f":"IF(ISTEXT(#REF!),#REF!,\"\")","v":""},{"$f":"IF(ISTEXT(#REF!),#REF!,\"\")","v":""},{"$f":"IF(ISTEXT(#REF!),#REF!,\"\")","v":""},null,{"$f":"IF(ISTEXT(#REF!),#REF!,\"\")","v":""},{"$f":"IF(ISTEXT(#REF!),#REF!,\"\")","v":""},{"$f":"IF(ISNUMBER(#REF!),#REF!,\"\")","v":""},{"$f":"IF(ISTEXT(#REF!),#REF!,\"\")","v":""},null,{"$f":"IF(ISTEXT(#REF!),#REF!,\"\")","v":""},{"$f":"IF(ISTEXT(#REF!),#REF!,\"\")","v":""},{"$f":"IF(ISTEXT(#REF!),#REF!,\"\")","v":""},{"$f":"IF(ISTEXT(#REF!),#REF!,\"\")","v":""},{"$f":"IF(ISTEXT(#REF!),#REF!,\"\")","v":""},{"$f":"IF(ISTEXT(#REF!),#REF!,\"\")","v":""},{"$f":"IF(ISTEXT(#REF!),#REF!,\"\")","v":""},null,{"$f":"IF(ISTEXT(#REF!),#REF!,\"\")","v":""},{"$f":"IF(ISTEXT(#REF!),#REF!,\"\")","v":""},{"$f":"IF(ISNUMBER(#REF!),#REF!,\"\")","v":""},{"$f":"IF(ISTEXT(#REF!),#REF!,\"\")","v":""},null,{"$f":"IF(ISTEXT(#REF!),#REF!,\"\")","v":""},{"$f":"IF(ISTEXT(#REF!),#REF!,\"\")","v":""},{"$f":"IF(ISTEXT(#REF!),#REF!,\"\")","v":""},{"$f":"IF(ISTEXT(#REF!),#REF!,\"\")","v":""},{"$f":"IF(ISTEXT(#REF!),#REF!,\"\")","v":""},{"$f":"IF(ISTEXT(#REF!),#REF!,\"\")","v":""},{"$f":"IF(ISTEXT(#REF!),#REF!,\"\")","v":""},null,{"$f":"IF(ISTEXT(#REF!),#REF!,\"\")","v":""},{"$f":"IF(ISTEXT(#REF!),#REF!,\"\")","v":""},{"$f":"IF(ISNUMBER(#REF!),#REF!,\"\")","v":""},{"$f":"IF(ISTEXT(#REF!),#REF!,\"\")","v":""}]
[null,null,{"$f":"IF(ISTEXT(#REF!),#REF!,\"\")","v":""},{"$f":"IF(ISTEXT(#REF!),#REF!,\"\")","v":""},{"$f":"IF(ISTEXT(#REF!),#REF!,\"\")","v":""},{"$f":"IF(ISTEXT(#REF!),#REF!,\"\")","v":""},{"$f":"IF(ISTEXT(#REF!),#REF!,\"\")","v":""},{"$f":"IF(ISTEXT(#REF!),#REF!,\"\")","v":""},{"$f":"IF(ISTEXT(#REF!),#REF!,\"\")","v":""},null,{"$f":"IF(ISTEXT(#REF!),#REF!,\"\")","v":""},{"$f":"IF(ISTEXT(#REF!),#REF!,\"\")","v":""},{"$f":"IF(ISNUMBER(#REF!),#REF!,\"\")","v":""},{"$f":"IF(ISTEXT(#REF!),#REF!,\"\")","v":""},null,{"$f":"IF(ISTEXT(#REF!),#REF!,\"\")","v":""},{"$f":"IF(ISTEXT(#REF!),#REF!,\"\")","v":""},{"$f":"IF(ISTEXT(#REF!),#REF!,\"\")","v":""},{"$f":"IF(ISTEXT(#REF!),#REF!,\"\")","v":""},{"$f":"IF(ISTEXT(#REF!),#REF!,\"\")","v":""},{"$f":"IF(ISTEXT(#REF!),#REF!,\"\")","v":""},{"$f":"IF(ISTEXT(#REF!),#REF!,\"\")","v":""},null,{"$f":"IF(ISTEXT(#REF!),#REF!,\"\")","v":""},{"$f":"IF(ISTEXT(#REF!),#REF!,\"\")","v":""},{"$f":"IF(ISNUMBER(#REF!),#REF!,\"\")","v":""},{"$f":"IF(ISTEXT(#REF!),#REF!,\"\")","v":""},{"$f":"IF(ISTEXT(#REF!),#REF!,\"\")","v":""},{"$f":"IF(ISTEXT(#REF!),#REF!,\"\")","v":""},{"$f":"IF(ISTEXT(#REF!),#REF!,\"\")","v":""},{"$f":"IF(ISTEXT(#REF!),#REF!,\"\")","v":""},{"$f":"IF(ISTEXT(#REF!),#REF!,\"\")","v":""},{"$f":"IF(ISTEXT(#REF!),#REF!,\"\")","v":""},{"$f":"IF(ISTEXT(#REF!),#REF!,\"\")","v":""},null,{"$f":"IF(ISTEXT(#REF!),#REF!,\"\")","v":""},{"$f":"IF(ISTEXT(#REF!),#REF!,\"\")","v":""},{"$f":"IF(ISNUMBER(#REF!),#REF!,\"\")","v":""},{"$f":"IF(ISTEXT(#REF!),#REF!,\"\")","v":""},null,{"$f":"IF(ISTEXT(#REF!),#REF!,\"\")","v":""},{"$f":"IF(ISTEXT(#REF!),#REF!,\"\")","v":""},{"$f":"IF(ISTEXT(#REF!),#REF!,\"\")","v":""},{"$f":"IF(ISTEXT(#REF!),#REF!,\"\")","v":""},{"$f":"IF(ISTEXT(#REF!),#REF!,\"\")","v":""},{"$f":"IF(ISTEXT(#REF!),#REF!,\"\")","v":""},{"$f":"IF(ISTEXT(#REF!),#REF!,\"\")","v":""},null,{"$f":"IF(ISTEXT(#REF!),#REF!,\"\")","v":""},{"$f":"IF(ISTEXT(#REF!),#REF!,\"\")","v":""},{"$f":"IF(ISNUMBER(#REF!),#REF!,\"\")","v":""},{"$f":"IF(ISTEXT(#REF!),#REF!,\"\")","v":""},null,{"$f":"IF(ISTEXT(#REF!),#REF!,\"\")","v":""},{"$f":"IF(ISTEXT(#REF!),#REF!,\"\")","v":""},{"$f":"IF(ISTEXT(#REF!),#REF!,\"\")","v":""},{"$f":"IF(ISTEXT(#REF!),#REF!,\"\")","v":""},{"$f":"IF(ISTEXT(#REF!),#REF!,\"\")","v":""},{"$f":"IF(ISTEXT(#REF!),#REF!,\"\")","v":""},{"$f":"IF(ISTEXT(#REF!),#REF!,\"\")","v":""},null,{"$f":"IF(ISTEXT(#REF!),#REF!,\"\")","v":""},{"$f":"IF(ISTEXT(#REF!),#REF!,\"\")","v":""},{"$f":"IF(ISNUMBER(#REF!),#REF!,\"\")","v":""},{"$f":"IF(ISTEXT(#REF!),#REF!,\"\")","v":""}]
[null,null,{"$f":"IF(ISTEXT(#REF!),#REF!,\"\")","v":""},{"$f":"IF(ISTEXT(#REF!),#REF!,\"\")","v":""},{"$f":"IF(ISTEXT(#REF!),#REF!,\"\")","v":""},{"$f":"IF(ISTEXT(#REF!),#REF!,\"\")","v":""},{"$f":"IF(ISTEXT(#REF!),#REF!,\"\")","v":""},{"$f":"IF(ISTEXT(#REF!),#REF!,\"\")","v":""},{"$f":"IF(ISTEXT(#REF!),#REF!,\"\")","v":""},null,{"$f":"IF(ISTEXT(#REF!),#REF!,\"\")","v":""},{"$f":"IF(ISTEXT(#REF!),#REF!,\"\")","v":""},{"$f":"IF(ISNUMBER(#REF!),#REF!,\"\")","v":""},{"$f":"IF(ISTEXT(#REF!),#REF!,\"\")","v":""},null,{"$f":"IF(ISTEXT(#REF!),#REF!,\"\")","v":""},{"$f":"IF(ISTEXT(#REF!),#REF!,\"\")","v":""},{"$f":"IF(ISTEXT(#REF!),#REF!,\"\")","v":""},{"$f":"IF(ISTEXT(#REF!),#REF!,\"\")","v":""},{"$f":"IF(ISTEXT(#REF!),#REF!,\"\")","v":""},{"$f":"IF(ISTEXT(#REF!),#REF!,\"\")","v":""},{"$f":"IF(ISTEXT(#REF!),#REF!,\"\")","v":""},null,{"$f":"IF(ISTEXT(#REF!),#REF!,\"\")","v":""},{"$f":"IF(ISTEXT(#REF!),#REF!,\"\")","v":""},{"$f":"IF(ISNUMBER(#REF!),#REF!,\"\")","v":""},{"$f":"IF(ISTEXT(#REF!),#REF!,\"\")","v":""},{"$f":"IF(ISTEXT(#REF!),#REF!,\"\")","v":""},{"$f":"IF(ISTEXT(#REF!),#REF!,\"\")","v":""},{"$f":"IF(ISTEXT(#REF!),#REF!,\"\")","v":""},{"$f":"IF(ISTEXT(#REF!),#REF!,\"\")","v":""},{"$f":"IF(ISTEXT(#REF!),#REF!,\"\")","v":""},{"$f":"IF(ISTEXT(#REF!),#REF!,\"\")","v":""},{"$f":"IF(ISTEXT(#REF!),#REF!,\"\")","v":""},null,{"$f":"IF(ISTEXT(#REF!),#REF!,\"\")","v":""},{"$f":"IF(ISTEXT(#REF!),#REF!,\"\")","v":""},{"$f":"IF(ISNUMBER(#REF!),#REF!,\"\")","v":""},{"$f":"IF(ISTEXT(#REF!),#REF!,\"\")","v":""},null,{"$f":"IF(ISTEXT(#REF!),#REF!,\"\")","v":""},{"$f":"IF(ISTEXT(#REF!),#REF!,\"\")","v":""},{"$f":"IF(ISTEXT(#REF!),#REF!,\"\")","v":""},{"$f":"IF(ISTEXT(#REF!),#REF!,\"\")","v":""},{"$f":"IF(ISTEXT(#REF!),#REF!,\"\")","v":""},{"$f":"IF(ISTEXT(#REF!),#REF!,\"\")","v":""},{"$f":"IF(ISTEXT(#REF!),#REF!,\"\")","v":""},null,{"$f":"IF(ISTEXT(#REF!),#REF!,\"\")","v":""},{"$f":"IF(ISTEXT(#REF!),#REF!,\"\")","v":""},{"$f":"IF(ISNUMBER(#REF!),#REF!,\"\")","v":""},{"$f":"IF(ISTEXT(#REF!),#REF!,\"\")","v":""},null,{"$f":"IF(ISTEXT(#REF!),#REF!,\"\")","v":""},{"$f":"IF(ISTEXT(#REF!),#REF!,\"\")","v":""},{"$f":"IF(ISTEXT(#REF!),#REF!,\"\")","v":""},{"$f":"IF(ISTEXT(#REF!),#REF!,\"\")","v":""},{"$f":"IF(ISTEXT(#REF!),#REF!,\"\")","v":""},{"$f":"IF(ISTEXT(#REF!),#REF!,\"\")","v":""},{"$f":"IF(ISTEXT(#REF!),#REF!,\"\")","v":""},null,{"$f":"IF(ISTEXT(#REF!),#REF!,\"\")","v":""},{"$f":"IF(ISTEXT(#REF!),#REF!,\"\")","v":""},{"$f":"IF(ISNUMBER(#REF!),#REF!,\"\")","v":""},{"$f":"IF(ISTEXT(#REF!),#REF!,\"\")","v":""}]
[null,null,{"$f":"IF(ISTEXT(#REF!),#REF!,\"\")","v":""},{"$f":"IF(ISTEXT(#REF!),#REF!,\"\")","v":""},{"$f":"IF(ISTEXT(#REF!),#REF!,\"\")","v":""},{"$f":"IF(ISTEXT(#REF!),#REF!,\"\")","v":""},{"$f":"IF(ISTEXT(#REF!),#REF!,\"\")","v":""},{"$f":"IF(ISTEXT(#REF!),#REF!,\"\")","v":""},{"$f":"IF(ISTEXT(#REF!),#REF!,\"\")","v":""},null,{"$f":"IF(ISTEXT(#REF!),#REF!,\"\")","v":""},{"$f":"IF(ISTEXT(#REF!),#REF!,\"\")","v":""},{"$f":"IF(ISNUMBER(#REF!),#REF!,\"\")","v":""},{"$f":"IF(ISTEXT(#REF!),#REF!,\"\")","v":""},null,{"$f":"IF(ISTEXT(#REF!),#REF!,\"\")","v":""},{"$f":"IF(ISTEXT(#REF!),#REF!,\"\")","v":""},{"$f":"IF(ISTEXT(#REF!),#REF!,\"\")","v":""},{"$f":"IF(ISTEXT(#REF!),#REF!,\"\")","v":""},{"$f":"IF(ISTEXT(#REF!),#REF!,\"\")","v":""},{"$f":"IF(ISTEXT(#REF!),#REF!,\"\")","v":""},{"$f":"IF(ISTEXT(#REF!),#REF!,\"\")","v":""},null,{"$f":"IF(ISTEXT(#REF!),#REF!,\"\")","v":""},{"$f":"IF(ISTEXT(#REF!),#REF!,\"\")","v":""},{"$f":"IF(ISNUMBER(#REF!),#REF!,\"\")","v":""},{"$f":"IF(ISTEXT(#REF!),#REF!,\"\")","v":""},{"$f":"IF(ISTEXT(#REF!),#REF!,\"\")","v":""},{"$f":"IF(ISTEXT(#REF!),#REF!,\"\")","v":""},{"$f":"IF(ISTEXT(#REF!),#REF!,\"\")","v":""},{"$f":"IF(ISTEXT(#REF!),#REF!,\"\")","v":""},{"$f":"IF(ISTEXT(#REF!),#REF!,\"\")","v":""},{"$f":"IF(ISTEXT(#REF!),#REF!,\"\")","v":""},{"$f":"IF(ISTEXT(#REF!),#REF!,\"\")","v":""},null,{"$f":"IF(ISTEXT(#REF!),#REF!,\"\")","v":""},{"$f":"IF(ISTEXT(#REF!),#REF!,\"\")","v":""},{"$f":"IF(ISNUMBER(#REF!),#REF!,\"\")","v":""},{"$f":"IF(ISTEXT(#REF!),#REF!,\"\")","v":""},null,{"$f":"IF(ISTEXT(#REF!),#REF!,\"\")","v":""},{"$f":"IF(ISTEXT(#REF!),#REF!,\"\")","v":""},{"$f":"IF(ISTEXT(#REF!),#REF!,\"\")","v":""},{"$f":"IF(ISTEXT(#REF!),#REF!,\"\")","v":""},{"$f":"IF(ISTEXT(#REF!),#REF!,\"\")","v":""},{"$f":"IF(ISTEXT(#REF!),#REF!,\"\")","v":""},{"$f":"IF(ISTEXT(#REF!),#REF!,\"\")","v":""},null,{"$f":"IF(ISTEXT(#REF!),#REF!,\"\")","v":""},{"$f":"IF(ISTEXT(#REF!),#REF!,\"\")","v":""},{"$f":"IF(ISNUMBER(#REF!),#REF!,\"\")","v":""},{"$f":"IF(ISTEXT(#REF!),#REF!,\"\")","v":""},null,{"$f":"IF(ISTEXT(#REF!),#REF!,\"\")","v":""},{"$f":"IF(ISTEXT(#REF!),#REF!,\"\")","v":""},{"$f":"IF(ISTEXT(#REF!),#REF!,\"\")","v":""},{"$f":"IF(ISTEXT(#REF!),#REF!,\"\")","v":""},{"$f":"IF(ISTEXT(#REF!),#REF!,\"\")","v":""},{"$f":"IF(ISTEXT(#REF!),#REF!,\"\")","v":""},{"$f":"IF(ISTEXT(#REF!),#REF!,\"\")","v":""},null,{"$f":"IF(ISTEXT(#REF!),#REF!,\"\")","v":""},{"$f":"IF(ISTEXT(#REF!),#REF!,\"\")","v":""},{"$f":"IF(ISNUMBER(#REF!),#REF!,\"\")","v":""},{"$f":"IF(ISTEXT(#REF!),#REF!,\"\")","v":""}]
[null,null,{"$f":"IF(ISTEXT(#REF!),#REF!,\"\")","v":""},{"$f":"IF(ISTEXT(#REF!),#REF!,\"\")","v":""},{"$f":"IF(ISTEXT(#REF!),#REF!,\"\")","v":""},{"$f":"IF(ISTEXT(#REF!),#REF!,\"\")","v":""},{"$f":"IF(ISTEXT(#REF!),#REF!,\"\")","v":""},{"$f":"IF(ISTEXT(#REF!),#REF!,\"\")","v":""},{"$f":"IF(ISTEXT(#REF!),#REF!,\"\")","v":""},null,{"$f":"IF(ISTEXT(#REF!),#REF!,\"\")","v":""},{"$f":"IF(ISTEXT(#REF!),#REF!,\"\")","v":""},{"$f":"IF(ISNUMBER(#REF!),#REF!,\"\")","v":""},{"$f":"IF(ISTEXT(#REF!),#REF!,\"\")","v":""},null,{"$f":"IF(ISTEXT(#REF!),#REF!,\"\")","v":""},{"$f":"IF(ISTEXT(#REF!),#REF!,\"\")","v":""},{"$f":"IF(ISTEXT(#REF!),#REF!,\"\")","v":""},{"$f":"IF(ISTEXT(#REF!),#REF!,\"\")","v":""},{"$f":"IF(ISTEXT(#REF!),#REF!,\"\")","v":""},{"$f":"IF(ISTEXT(#REF!),#REF!,\"\")","v":""},{"$f":"IF(ISTEXT(#REF!),#REF!,\"\")","v":""},null,{"$f":"IF(ISTEXT(#REF!),#REF!,\"\")","v":""},{"$f":"IF(ISTEXT(#REF!),#REF!,\"\")","v":""},{"$f":"IF(ISNUMBER(#REF!),#REF!,\"\")","v":""},{"$f":"IF(ISTEXT(#REF!),#REF!,\"\")","v":""},{"$f":"IF(ISTEXT(#REF!),#REF!,\"\")","v":""},{"$f":"IF(ISTEXT(#REF!),#REF!,\"\")","v":""},{"$f":"IF(ISTEXT(#REF!),#REF!,\"\")","v":""},{"$f":"IF(ISTEXT(#REF!),#REF!,\"\")","v":""},{"$f":"IF(ISTEXT(#REF!),#REF!,\"\")","v":""},{"$f":"IF(ISTEXT(#REF!),#REF!,\"\")","v":""},{"$f":"IF(ISTEXT(#REF!),#REF!,\"\")","v":""},null,{"$f":"IF(ISTEXT(#REF!),#REF!,\"\")","v":""},{"$f":"IF(ISTEXT(#REF!),#REF!,\"\")","v":""},{"$f":"IF(ISNUMBER(#REF!),#REF!,\"\")","v":""},{"$f":"IF(ISTEXT(#REF!),#REF!,\"\")","v":""},null,{"$f":"IF(ISTEXT(#REF!),#REF!,\"\")","v":""},{"$f":"IF(ISTEXT(#REF!),#REF!,\"\")","v":""},{"$f":"IF(ISTEXT(#REF!),#REF!,\"\")","v":""},{"$f":"IF(ISTEXT(#REF!),#REF!,\"\")","v":""},{"$f":"IF(ISTEXT(#REF!),#REF!,\"\")","v":""},{"$f":"IF(ISTEXT(#REF!),#REF!,\"\")","v":""},{"$f":"IF(ISTEXT(#REF!),#REF!,\"\")","v":""},null,{"$f":"IF(ISTEXT(#REF!),#REF!,\"\")","v":""},{"$f":"IF(ISTEXT(#REF!),#REF!,\"\")","v":""},{"$f":"IF(ISNUMBER(#REF!),#REF!,\"\")","v":""},{"$f":"IF(ISTEXT(#REF!),#REF!,\"\")","v":""},null,{"$f":"IF(ISTEXT(#REF!),#REF!,\"\")","v":""},{"$f":"IF(ISTEXT(#REF!),#REF!,\"\")","v":""},{"$f":"IF(ISTEXT(#REF!),#REF!,\"\")","v":""},{"$f":"IF(ISTEXT(#REF!),#REF!,\"\")","v":""},{"$f":"IF(ISTEXT(#REF!),#REF!,\"\")","v":""},{"$f":"IF(ISTEXT(#REF!),#REF!,\"\")","v":""},{"$f":"IF(ISTEXT(#REF!),#REF!,\"\")","v":""},null,{"$f":"IF(ISTEXT(#REF!),#REF!,\"\")","v":""},{"$f":"IF(ISTEXT(#REF!),#REF!,\"\")","v":""},{"$f":"IF(ISNUMBER(#REF!),#REF!,\"\")","v":""},{"$f":"IF(ISTEXT(#REF!),#REF!,\"\")","v":""}]
[null,null,{"$f":"IF(ISTEXT(#REF!),#REF!,\"\")","v":""},{"$f":"IF(ISTEXT(#REF!),#REF!,\"\")","v":""},{"$f":"IF(ISTEXT(#REF!),#REF!,\"\")","v":""},{"$f":"IF(ISTEXT(#REF!),#REF!,\"\")","v":""},{"$f":"IF(ISTEXT(#REF!),#REF!,\"\")","v":""},{"$f":"IF(ISTEXT(#REF!),#REF!,\"\")","v":""},{"$f":"IF(ISTEXT(#REF!),#REF!,\"\")","v":""},null,{"$f":"IF(ISTEXT(#REF!),#REF!,\"\")","v":""},{"$f":"IF(ISTEXT(#REF!),#REF!,\"\")","v":""},{"$f":"IF(ISNUMBER(#REF!),#REF!,\"\")","v":""},{"$f":"IF(ISTEXT(#REF!),#REF!,\"\")","v":""},null,{"$f":"IF(ISTEXT(#REF!),#REF!,\"\")","v":""},{"$f":"IF(ISTEXT(#REF!),#REF!,\"\")","v":""},{"$f":"IF(ISTEXT(#REF!),#REF!,\"\")","v":""},{"$f":"IF(ISTEXT(#REF!),#REF!,\"\")","v":""},{"$f":"IF(ISTEXT(#REF!),#REF!,\"\")","v":""},{"$f":"IF(ISTEXT(#REF!),#REF!,\"\")","v":""},{"$f":"IF(ISTEXT(#REF!),#REF!,\"\")","v":""},null,{"$f":"IF(ISTEXT(#REF!),#REF!,\"\")","v":""},{"$f":"IF(ISTEXT(#REF!),#REF!,\"\")","v":""},{"$f":"IF(ISNUMBER(#REF!),#REF!,\"\")","v":""},{"$f":"IF(ISTEXT(#REF!),#REF!,\"\")","v":""},{"$f":"IF(ISTEXT(#REF!),#REF!,\"\")","v":""},{"$f":"IF(ISTEXT(#REF!),#REF!,\"\")","v":""},{"$f":"IF(ISTEXT(#REF!),#REF!,\"\")","v":""},{"$f":"IF(ISTEXT(#REF!),#REF!,\"\")","v":""},{"$f":"IF(ISTEXT(#REF!),#REF!,\"\")","v":""},{"$f":"IF(ISTEXT(#REF!),#REF!,\"\")","v":""},{"$f":"IF(ISTEXT(#REF!),#REF!,\"\")","v":""},null,{"$f":"IF(ISTEXT(#REF!),#REF!,\"\")","v":""},{"$f":"IF(ISTEXT(#REF!),#REF!,\"\")","v":""},{"$f":"IF(ISNUMBER(#REF!),#REF!,\"\")","v":""},{"$f":"IF(ISTEXT(#REF!),#REF!,\"\")","v":""},null,{"$f":"IF(ISTEXT(#REF!),#REF!,\"\")","v":""},{"$f":"IF(ISTEXT(#REF!),#REF!,\"\")","v":""},{"$f":"IF(ISTEXT(#REF!),#REF!,\"\")","v":""},{"$f":"IF(ISTEXT(#REF!),#REF!,\"\")","v":""},{"$f":"IF(ISTEXT(#REF!),#REF!,\"\")","v":""},{"$f":"IF(ISTEXT(#REF!),#REF!,\"\")","v":""},{"$f":"IF(ISTEXT(#REF!),#REF!,\"\")","v":""},null,{"$f":"IF(ISTEXT(#REF!),#REF!,\"\")","v":""},{"$f":"IF(ISTEXT(#REF!),#REF!,\"\")","v":""},{"$f":"IF(ISNUMBER(#REF!),#REF!,\"\")","v":""},{"$f":"IF(ISTEXT(#REF!),#REF!,\"\")","v":""},null,{"$f":"IF(ISTEXT(#REF!),#REF!,\"\")","v":""},{"$f":"IF(ISTEXT(#REF!),#REF!,\"\")","v":""},{"$f":"IF(ISTEXT(#REF!),#REF!,\"\")","v":""},{"$f":"IF(ISTEXT(#REF!),#REF!,\"\")","v":""},{"$f":"IF(ISTEXT(#REF!),#REF!,\"\")","v":""},{"$f":"IF(ISTEXT(#REF!),#REF!,\"\")","v":""},{"$f":"IF(ISTEXT(#REF!),#REF!,\"\")","v":""},null,{"$f":"IF(ISTEXT(#REF!),#REF!,\"\")","v":""},{"$f":"IF(ISTEXT(#REF!),#REF!,\"\")","v":""},{"$f":"IF(ISNUMBER(#REF!),#REF!,\"\")","v":""},{"$f":"IF(ISTEXT(#REF!),#REF!,\"\")","v":""}]
[null,null,{"$f":"IF(ISTEXT(#REF!),#REF!,\"\")","v":""},{"$f":"IF(ISTEXT(#REF!),#REF!,\"\")","v":""},{"$f":"IF(ISTEXT(#REF!),#REF!,\"\")","v":""},{"$f":"IF(ISTEXT(#REF!),#REF!,\"\")","v":""},{"$f":"IF(ISTEXT(#REF!),#REF!,\"\")","v":""},{"$f":"IF(ISTEXT(#REF!),#REF!,\"\")","v":""},{"$f":"IF(ISTEXT(#REF!),#REF!,\"\")","v":""},null,{"$f":"IF(ISTEXT(#REF!),#REF!,\"\")","v":""},{"$f":"IF(ISTEXT(#REF!),#REF!,\"\")","v":""},{"$f":"IF(ISNUMBER(#REF!),#REF!,\"\")","v":""},{"$f":"IF(ISTEXT(#REF!),#REF!,\"\")","v":""},null,{"$f":"IF(ISTEXT(#REF!),#REF!,\"\")","v":""},{"$f":"IF(ISTEXT(#REF!),#REF!,\"\")","v":""},{"$f":"IF(ISTEXT(#REF!),#REF!,\"\")","v":""},{"$f":"IF(ISTEXT(#REF!),#REF!,\"\")","v":""},{"$f":"IF(ISTEXT(#REF!),#REF!,\"\")","v":""},{"$f":"IF(ISTEXT(#REF!),#REF!,\"\")","v":""},{"$f":"IF(ISTEXT(#REF!),#REF!,\"\")","v":""},null,{"$f":"IF(ISTEXT(#REF!),#REF!,\"\")","v":""},{"$f":"IF(ISTEXT(#REF!),#REF!,\"\")","v":""},{"$f":"IF(ISNUMBER(#REF!),#REF!,\"\")","v":""},{"$f":"IF(ISTEXT(#REF!),#REF!,\"\")","v":""},{"$f":"IF(ISTEXT(#REF!),#REF!,\"\")","v":""},{"$f":"IF(ISTEXT(#REF!),#REF!,\"\")","v":""},{"$f":"IF(ISTEXT(#REF!),#REF!,\"\")","v":""},{"$f":"IF(ISTEXT(#REF!),#REF!,\"\")","v":""},{"$f":"IF(ISTEXT(#REF!),#REF!,\"\")","v":""},{"$f":"IF(ISTEXT(#REF!),#REF!,\"\")","v":""},{"$f":"IF(ISTEXT(#REF!),#REF!,\"\")","v":""},null,{"$f":"IF(ISTEXT(#REF!),#REF!,\"\")","v":""},{"$f":"IF(ISTEXT(#REF!),#REF!,\"\")","v":""},{"$f":"IF(ISNUMBER(#REF!),#REF!,\"\")","v":""},{"$f":"IF(ISTEXT(#REF!),#REF!,\"\")","v":""},null,{"$f":"IF(ISTEXT(#REF!),#REF!,\"\")","v":""},{"$f":"IF(ISTEXT(#REF!),#REF!,\"\")","v":""},{"$f":"IF(ISTEXT(#REF!),#REF!,\"\")","v":""},{"$f":"IF(ISTEXT(#REF!),#REF!,\"\")","v":""},{"$f":"IF(ISTEXT(#REF!),#REF!,\"\")","v":""},{"$f":"IF(ISTEXT(#REF!),#REF!,\"\")","v":""},{"$f":"IF(ISTEXT(#REF!),#REF!,\"\")","v":""},null,{"$f":"IF(ISTEXT(#REF!),#REF!,\"\")","v":""},{"$f":"IF(ISTEXT(#REF!),#REF!,\"\")","v":""},{"$f":"IF(ISNUMBER(#REF!),#REF!,\"\")","v":""},{"$f":"IF(ISTEXT(#REF!),#REF!,\"\")","v":""},null,{"$f":"IF(ISTEXT(#REF!),#REF!,\"\")","v":""},{"$f":"IF(ISTEXT(#REF!),#REF!,\"\")","v":""},{"$f":"IF(ISTEXT(#REF!),#REF!,\"\")","v":""},{"$f":"IF(ISTEXT(#REF!),#REF!,\"\")","v":""},{"$f":"IF(ISTEXT(#REF!),#REF!,\"\")","v":""},{"$f":"IF(ISTEXT(#REF!),#REF!,\"\")","v":""},{"$f":"IF(ISTEXT(#REF!),#REF!,\"\")","v":""},null,{"$f":"IF(ISTEXT(#REF!),#REF!,\"\")","v":""},{"$f":"IF(ISTEXT(#REF!),#REF!,\"\")","v":""},{"$f":"IF(ISNUMBER(#REF!),#REF!,\"\")","v":""},{"$f":"IF(ISTEXT(#REF!),#REF!,\"\")","v":""}]
[null,null,{"$f":"IF(ISTEXT(#REF!),#REF!,\"\")","v":""},{"$f":"IF(ISTEXT(#REF!),#REF!,\"\")","v":""},{"$f":"IF(ISTEXT(#REF!),#REF!,\"\")","v":""},{"$f":"IF(ISTEXT(#REF!),#REF!,\"\")","v":""},{"$f":"IF(ISTEXT(#REF!),#REF!,\"\")","v":""},{"$f":"IF(ISTEXT(#REF!),#REF!,\"\")","v":""},{"$f":"IF(ISTEXT(#REF!),#REF!,\"\")","v":""},null,{"$f":"IF(ISTEXT(#REF!),#REF!,\"\")","v":""},{"$f":"IF(ISTEXT(#REF!),#REF!,\"\")","v":""},{"$f":"IF(ISNUMBER(#REF!),#REF!,\"\")","v":""},{"$f":"IF(ISTEXT(#REF!),#REF!,\"\")","v":""},null,{"$f":"IF(ISTEXT(#REF!),#REF!,\"\")","v":""},{"$f":"IF(ISTEXT(#REF!),#REF!,\"\")","v":""},{"$f":"IF(ISTEXT(#REF!),#REF!,\"\")","v":""},{"$f":"IF(ISTEXT(#REF!),#REF!,\"\")","v":""},{"$f":"IF(ISTEXT(#REF!),#REF!,\"\")","v":""},{"$f":"IF(ISTEXT(#REF!),#REF!,\"\")","v":""},{"$f":"IF(ISTEXT(#REF!),#REF!,\"\")","v":""},null,{"$f":"IF(ISTEXT(#REF!),#REF!,\"\")","v":""},{"$f":"IF(ISTEXT(#REF!),#REF!,\"\")","v":""},{"$f":"IF(ISNUMBER(#REF!),#REF!,\"\")","v":""},{"$f":"IF(ISTEXT(#REF!),#REF!,\"\")","v":""},{"$f":"IF(ISTEXT(#REF!),#REF!,\"\")","v":""},{"$f":"IF(ISTEXT(#REF!),#REF!,\"\")","v":""},{"$f":"IF(ISTEXT(#REF!),#REF!,\"\")","v":""},{"$f":"IF(ISTEXT(#REF!),#REF!,\"\")","v":""},{"$f":"IF(ISTEXT(#REF!),#REF!,\"\")","v":""},{"$f":"IF(ISTEXT(#REF!),#REF!,\"\")","v":""},{"$f":"IF(ISTEXT(#REF!),#REF!,\"\")","v":""},null,{"$f":"IF(ISTEXT(#REF!),#REF!,\"\")","v":""},{"$f":"IF(ISTEXT(#REF!),#REF!,\"\")","v":""},{"$f":"IF(ISNUMBER(#REF!),#REF!,\"\")","v":""},{"$f":"IF(ISTEXT(#REF!),#REF!,\"\")","v":""},null,{"$f":"IF(ISTEXT(#REF!),#REF!,\"\")","v":""},{"$f":"IF(ISTEXT(#REF!),#REF!,\"\")","v":""},{"$f":"IF(ISTEXT(#REF!),#REF!,\"\")","v":""},{"$f":"IF(ISTEXT(#REF!),#REF!,\"\")","v":""},{"$f":"IF(ISTEXT(#REF!),#REF!,\"\")","v":""},{"$f":"IF(ISTEXT(#REF!),#REF!,\"\")","v":""},{"$f":"IF(ISTEXT(#REF!),#REF!,\"\")","v":""},null,{"$f":"IF(ISTEXT(#REF!),#REF!,\"\")","v":""},{"$f":"IF(ISTEXT(#REF!),#REF!,\"\")","v":""},{"$f":"IF(ISNUMBER(#REF!),#REF!,\"\")","v":""},{"$f":"IF(ISTEXT(#REF!),#REF!,\"\")","v":""},null,{"$f":"IF(ISTEXT(#REF!),#REF!,\"\")","v":""},{"$f":"IF(ISTEXT(#REF!),#REF!,\"\")","v":""},{"$f":"IF(ISTEXT(#REF!),#REF!,\"\")","v":""},{"$f":"IF(ISTEXT(#REF!),#REF!,\"\")","v":""},{"$f":"IF(ISTEXT(#REF!),#REF!,\"\")","v":""},{"$f":"IF(ISTEXT(#REF!),#REF!,\"\")","v":""},{"$f":"IF(ISTEXT(#REF!),#REF!,\"\")","v":""},null,{"$f":"IF(ISTEXT(#REF!),#REF!,\"\")","v":""},{"$f":"IF(ISTEXT(#REF!),#REF!,\"\")","v":""},{"$f":"IF(ISNUMBER(#REF!),#REF!,\"\")","v":""},{"$f":"IF(ISTEXT(#REF!),#REF!,\"\")","v":""}]
[null,null,{"$f":"IF(ISTEXT(#REF!),#REF!,\"\")","v":""},{"$f":"IF(ISTEXT(#REF!),#REF!,\"\")","v":""},{"$f":"IF(ISTEXT(#REF!),#REF!,\"\")","v":""},{"$f":"IF(ISTEXT(#REF!),#REF!,\"\")","v":""},{"$f":"IF(ISTEXT(#REF!),#REF!,\"\")","v":""},{"$f":"IF(ISTEXT(#REF!),#REF!,\"\")","v":""},{"$f":"IF(ISTEXT(#REF!),#REF!,\"\")","v":""},null,{"$f":"IF(ISTEXT(#REF!),#REF!,\"\")","v":""},{"$f":"IF(ISTEXT(#REF!),#REF!,\"\")","v":""},{"$f":"IF(ISNUMBER(#REF!),#REF!,\"\")","v":""},{"$f":"IF(ISTEXT(#REF!),#REF!,\"\")","v":""},null,{"$f":"IF(ISTEXT(#REF!),#REF!,\"\")","v":""},{"$f":"IF(ISTEXT(#REF!),#REF!,\"\")","v":""},{"$f":"IF(ISTEXT(#REF!),#REF!,\"\")","v":""},{"$f":"IF(ISTEXT(#REF!),#REF!,\"\")","v":""},{"$f":"IF(ISTEXT(#REF!),#REF!,\"\")","v":""},{"$f":"IF(ISTEXT(#REF!),#REF!,\"\")","v":""},{"$f":"IF(ISTEXT(#REF!),#REF!,\"\")","v":""},null,{"$f":"IF(ISTEXT(#REF!),#REF!,\"\")","v":""},{"$f":"IF(ISTEXT(#REF!),#REF!,\"\")","v":""},{"$f":"IF(ISNUMBER(#REF!),#REF!,\"\")","v":""},{"$f":"IF(ISTEXT(#REF!),#REF!,\"\")","v":""},{"$f":"IF(ISTEXT(#REF!),#REF!,\"\")","v":""},{"$f":"IF(ISTEXT(#REF!),#REF!,\"\")","v":""},{"$f":"IF(ISTEXT(#REF!),#REF!,\"\")","v":""},{"$f":"IF(ISTEXT(#REF!),#REF!,\"\")","v":""},{"$f":"IF(ISTEXT(#REF!),#REF!,\"\")","v":""},{"$f":"IF(ISTEXT(#REF!),#REF!,\"\")","v":""},{"$f":"IF(ISTEXT(#REF!),#REF!,\"\")","v":""},null,{"$f":"IF(ISTEXT(#REF!),#REF!,\"\")","v":""},{"$f":"IF(ISTEXT(#REF!),#REF!,\"\")","v":""},{"$f":"IF(ISNUMBER(#REF!),#REF!,\"\")","v":""},{"$f":"IF(ISTEXT(#REF!),#REF!,\"\")","v":""},null,{"$f":"IF(ISTEXT(#REF!),#REF!,\"\")","v":""},{"$f":"IF(ISTEXT(#REF!),#REF!,\"\")","v":""},{"$f":"IF(ISTEXT(#REF!),#REF!,\"\")","v":""},{"$f":"IF(ISTEXT(#REF!),#REF!,\"\")","v":""},{"$f":"IF(ISTEXT(#REF!),#REF!,\"\")","v":""},{"$f":"IF(ISTEXT(#REF!),#REF!,\"\")","v":""},{"$f":"IF(ISTEXT(#REF!),#REF!,\"\")","v":""},null,{"$f":"IF(ISTEXT(#REF!),#REF!,\"\")","v":""},{"$f":"IF(ISTEXT(#REF!),#REF!,\"\")","v":""},{"$f":"IF(ISNUMBER(#REF!),#REF!,\"\")","v":""},{"$f":"IF(ISTEXT(#REF!),#REF!,\"\")","v":""},null,{"$f":"IF(ISTEXT(#REF!),#REF!,\"\")","v":""},{"$f":"IF(ISTEXT(#REF!),#REF!,\"\")","v":""},{"$f":"IF(ISTEXT(#REF!),#REF!,\"\")","v":""},{"$f":"IF(ISTEXT(#REF!),#REF!,\"\")","v":""},{"$f":"IF(ISTEXT(#REF!),#REF!,\"\")","v":""},{"$f":"IF(ISTEXT(#REF!),#REF!,\"\")","v":""},{"$f":"IF(ISTEXT(#REF!),#REF!,\"\")","v":""},null,{"$f":"IF(ISTEXT(#REF!),#REF!,\"\")","v":""},{"$f":"IF(ISTEXT(#REF!),#REF!,\"\")","v":""},{"$f":"IF(ISNUMBER(#REF!),#REF!,\"\")","v":""},{"$f":"IF(ISTEXT(#REF!),#REF!,\"\")","v":""}]
[null,null,{"$f":"IF(ISTEXT(#REF!),#REF!,\"\")","v":""},{"$f":"IF(ISTEXT(#REF!),#REF!,\"\")","v":""},{"$f":"IF(ISTEXT(#REF!),#REF!,\"\")","v":""},{"$f":"IF(ISTEXT(#REF!),#REF!,\"\")","v":""},{"$f":"IF(ISTEXT(#REF!),#REF!,\"\")","v":""},{"$f":"IF(ISTEXT(#REF!),#REF!,\"\")","v":""},{"$f":"IF(ISTEXT(#REF!),#REF!,\"\")","v":""},null,{"$f":"IF(ISTEXT(#REF!),#REF!,\"\")","v":""},{"$f":"IF(ISTEXT(#REF!),#REF!,\"\")","v":""},{"$f":"IF(ISNUMBER(#REF!),#REF!,\"\")","v":""},{"$f":"IF(ISTEXT(#REF!),#REF!,\"\")","v":""},null,{"$f":"IF(ISTEXT(#REF!),#REF!,\"\")","v":""},{"$f":"IF(ISTEXT(#REF!),#REF!,\"\")","v":""},{"$f":"IF(ISTEXT(#REF!),#REF!,\"\")","v":""},{"$f":"IF(ISTEXT(#REF!),#REF!,\"\")","v":""},{"$f":"IF(ISTEXT(#REF!),#REF!,\"\")","v":""},{"$f":"IF(ISTEXT(#REF!),#REF!,\"\")","v":""},{"$f":"IF(ISTEXT(#REF!),#REF!,\"\")","v":""},null,{"$f":"IF(ISTEXT(#REF!),#REF!,\"\")","v":""},{"$f":"IF(ISTEXT(#REF!),#REF!,\"\")","v":""},{"$f":"IF(ISNUMBER(#REF!),#REF!,\"\")","v":""},{"$f":"IF(ISTEXT(#REF!),#REF!,\"\")","v":""},{"$f":"IF(ISTEXT(#REF!),#REF!,\"\")","v":""},{"$f":"IF(ISTEXT(#REF!),#REF!,\"\")","v":""},{"$f":"IF(ISTEXT(#REF!),#REF!,\"\")","v":""},{"$f":"IF(ISTEXT(#REF!),#REF!,\"\")","v":""},{"$f":"IF(ISTEXT(#REF!),#REF!,\"\")","v":""},{"$f":"IF(ISTEXT(#REF!),#REF!,\"\")","v":""},{"$f":"IF(ISTEXT(#REF!),#REF!,\"\")","v":""},null,{"$f":"IF(ISTEXT(#REF!),#REF!,\"\")","v":""},{"$f":"IF(ISTEXT(#REF!),#REF!,\"\")","v":""},{"$f":"IF(ISNUMBER(#REF!),#REF!,\"\")","v":""},{"$f":"IF(ISTEXT(#REF!),#REF!,\"\")","v":""},null,{"$f":"IF(ISTEXT(#REF!),#REF!,\"\")","v":""},{"$f":"IF(ISTEXT(#REF!),#REF!,\"\")","v":""},{"$f":"IF(ISTEXT(#REF!),#REF!,\"\")","v":""},{"$f":"IF(ISTEXT(#REF!),#REF!,\"\")","v":""},{"$f":"IF(ISTEXT(#REF!),#REF!,\"\")","v":""},{"$f":"IF(ISTEXT(#REF!),#REF!,\"\")","v":""},{"$f":"IF(ISTEXT(#REF!),#REF!,\"\")","v":""},null,{"$f":"IF(ISTEXT(#REF!),#REF!,\"\")","v":""},{"$f":"IF(ISTEXT(#REF!),#REF!,\"\")","v":""},{"$f":"IF(ISNUMBER(#REF!),#REF!,\"\")","v":""},{"$f":"IF(ISTEXT(#REF!),#REF!,\"\")","v":""},null,{"$f":"IF(ISTEXT(#REF!),#REF!,\"\")","v":""},{"$f":"IF(ISTEXT(#REF!),#REF!,\"\")","v":""},{"$f":"IF(ISTEXT(#REF!),#REF!,\"\")","v":""},{"$f":"IF(ISTEXT(#REF!),#REF!,\"\")","v":""},{"$f":"IF(ISTEXT(#REF!),#REF!,\"\")","v":""},{"$f":"IF(ISTEXT(#REF!),#REF!,\"\")","v":""},{"$f":"IF(ISTEXT(#REF!),#REF!,\"\")","v":""},null,{"$f":"IF(ISTEXT(#REF!),#REF!,\"\")","v":""},{"$f":"IF(ISTEXT(#REF!),#REF!,\"\")","v":""},{"$f":"IF(ISNUMBER(#REF!),#REF!,\"\")","v":""},{"$f":"IF(ISTEXT(#REF!),#REF!,\"\")","v":""}]
[null,null,{"$f":"IF(ISTEXT(#REF!),#REF!,\"\")","v":""},{"$f":"IF(ISTEXT(#REF!),#REF!,\"\")","v":""},{"$f":"IF(ISTEXT(#REF!),#REF!,\"\")","v":""},{"$f":"IF(ISTEXT(#REF!),#REF!,\"\")","v":""},{"$f":"IF(ISTEXT(#REF!),#REF!,\"\")","v":""},{"$f":"IF(ISTEXT(#REF!),#REF!,\"\")","v":""},{"$f":"IF(ISTEXT(#REF!),#REF!,\"\")","v":""},null,{"$f":"IF(ISTEXT(#REF!),#REF!,\"\")","v":""},{"$f":"IF(ISTEXT(#REF!),#REF!,\"\")","v":""},{"$f":"IF(ISNUMBER(#REF!),#REF!,\"\")","v":""},{"$f":"IF(ISTEXT(#REF!),#REF!,\"\")","v":""},null,{"$f":"IF(ISTEXT(#REF!),#REF!,\"\")","v":""},{"$f":"IF(ISTEXT(#REF!),#REF!,\"\")","v":""},{"$f":"IF(ISTEXT(#REF!),#REF!,\"\")","v":""},{"$f":"IF(ISTEXT(#REF!),#REF!,\"\")","v":""},{"$f":"IF(ISTEXT(#REF!),#REF!,\"\")","v":""},{"$f":"IF(ISTEXT(#REF!),#REF!,\"\")","v":""},{"$f":"IF(ISTEXT(#REF!),#REF!,\"\")","v":""},null,{"$f":"IF(ISTEXT(#REF!),#REF!,\"\")","v":""},{"$f":"IF(ISTEXT(#REF!),#REF!,\"\")","v":""},{"$f":"IF(ISNUMBER(#REF!),#REF!,\"\")","v":""},{"$f":"IF(ISTEXT(#REF!),#REF!,\"\")","v":""},{"$f":"IF(ISTEXT(#REF!),#REF!,\"\")","v":""},{"$f":"IF(ISTEXT(#REF!),#REF!,\"\")","v":""},{"$f":"IF(ISTEXT(#REF!),#REF!,\"\")","v":""},{"$f":"IF(ISTEXT(#REF!),#REF!,\"\")","v":""},{"$f":"IF(ISTEXT(#REF!),#REF!,\"\")","v":""},{"$f":"IF(ISTEXT(#REF!),#REF!,\"\")","v":""},{"$f":"IF(ISTEXT(#REF!),#REF!,\"\")","v":""},null,{"$f":"IF(ISTEXT(#REF!),#REF!,\"\")","v":""},{"$f":"IF(ISTEXT(#REF!),#REF!,\"\")","v":""},{"$f":"IF(ISNUMBER(#REF!),#REF!,\"\")","v":""},{"$f":"IF(ISTEXT(#REF!),#REF!,\"\")","v":""},null,{"$f":"IF(ISTEXT(#REF!),#REF!,\"\")","v":""},{"$f":"IF(ISTEXT(#REF!),#REF!,\"\")","v":""},{"$f":"IF(ISTEXT(#REF!),#REF!,\"\")","v":""},{"$f":"IF(ISTEXT(#REF!),#REF!,\"\")","v":""},{"$f":"IF(ISTEXT(#REF!),#REF!,\"\")","v":""},{"$f":"IF(ISTEXT(#REF!),#REF!,\"\")","v":""},{"$f":"IF(ISTEXT(#REF!),#REF!,\"\")","v":""},null,{"$f":"IF(ISTEXT(#REF!),#REF!,\"\")","v":""},{"$f":"IF(ISTEXT(#REF!),#REF!,\"\")","v":""},{"$f":"IF(ISNUMBER(#REF!),#REF!,\"\")","v":""},{"$f":"IF(ISTEXT(#REF!),#REF!,\"\")","v":""},null,{"$f":"IF(ISTEXT(#REF!),#REF!,\"\")","v":""},{"$f":"IF(ISTEXT(#REF!),#REF!,\"\")","v":""},{"$f":"IF(ISTEXT(#REF!),#REF!,\"\")","v":""},{"$f":"IF(ISTEXT(#REF!),#REF!,\"\")","v":""},{"$f":"IF(ISTEXT(#REF!),#REF!,\"\")","v":""},{"$f":"IF(ISTEXT(#REF!),#REF!,\"\")","v":""},{"$f":"IF(ISTEXT(#REF!),#REF!,\"\")","v":""},null,{"$f":"IF(ISTEXT(#REF!),#REF!,\"\")","v":""},{"$f":"IF(ISTEXT(#REF!),#REF!,\"\")","v":""},{"$f":"IF(ISNUMBER(#REF!),#REF!,\"\")","v":""},{"$f":"IF(ISTEXT(#REF!),#REF!,\"\")","v":""}]
[null,null,{"$f":"IF(ISTEXT(#REF!),#REF!,\"\")","v":""},{"$f":"IF(ISTEXT(#REF!),#REF!,\"\")","v":""},{"$f":"IF(ISTEXT(#REF!),#REF!,\"\")","v":""},{"$f":"IF(ISTEXT(#REF!),#REF!,\"\")","v":""},{"$f":"IF(ISTEXT(#REF!),#REF!,\"\")","v":""},{"$f":"IF(ISTEXT(#REF!),#REF!,\"\")","v":""},{"$f":"IF(ISTEXT(#REF!),#REF!,\"\")","v":""},null,{"$f":"IF(ISTEXT(#REF!),#REF!,\"\")","v":""},{"$f":"IF(ISTEXT(#REF!),#REF!,\"\")","v":""},{"$f":"IF(ISNUMBER(#REF!),#REF!,\"\")","v":""},{"$f":"IF(ISTEXT(#REF!),#REF!,\"\")","v":""},null,{"$f":"IF(ISTEXT(#REF!),#REF!,\"\")","v":""},{"$f":"IF(ISTEXT(#REF!),#REF!,\"\")","v":""},{"$f":"IF(ISTEXT(#REF!),#REF!,\"\")","v":""},{"$f":"IF(ISTEXT(#REF!),#REF!,\"\")","v":""},{"$f":"IF(ISTEXT(#REF!),#REF!,\"\")","v":""},{"$f":"IF(ISTEXT(#REF!),#REF!,\"\")","v":""},{"$f":"IF(ISTEXT(#REF!),#REF!,\"\")","v":""},null,{"$f":"IF(ISTEXT(#REF!),#REF!,\"\")","v":""},{"$f":"IF(ISTEXT(#REF!),#REF!,\"\")","v":""},{"$f":"IF(ISNUMBER(#REF!),#REF!,\"\")","v":""},{"$f":"IF(ISTEXT(#REF!),#REF!,\"\")","v":""},{"$f":"IF(ISTEXT(#REF!),#REF!,\"\")","v":""},{"$f":"IF(ISTEXT(#REF!),#REF!,\"\")","v":""},{"$f":"IF(ISTEXT(#REF!),#REF!,\"\")","v":""},{"$f":"IF(ISTEXT(#REF!),#REF!,\"\")","v":""},{"$f":"IF(ISTEXT(#REF!),#REF!,\"\")","v":""},{"$f":"IF(ISTEXT(#REF!),#REF!,\"\")","v":""},{"$f":"IF(ISTEXT(#REF!),#REF!,\"\")","v":""},null,{"$f":"IF(ISTEXT(#REF!),#REF!,\"\")","v":""},{"$f":"IF(ISTEXT(#REF!),#REF!,\"\")","v":""},{"$f":"IF(ISNUMBER(#REF!),#REF!,\"\")","v":""},{"$f":"IF(ISTEXT(#REF!),#REF!,\"\")","v":""},null,{"$f":"IF(ISTEXT(#REF!),#REF!,\"\")","v":""},{"$f":"IF(ISTEXT(#REF!),#REF!,\"\")","v":""},{"$f":"IF(ISTEXT(#REF!),#REF!,\"\")","v":""},{"$f":"IF(ISTEXT(#REF!),#REF!,\"\")","v":""},{"$f":"IF(ISTEXT(#REF!),#REF!,\"\")","v":""},{"$f":"IF(ISTEXT(#REF!),#REF!,\"\")","v":""},{"$f":"IF(ISTEXT(#REF!),#REF!,\"\")","v":""},null,{"$f":"IF(ISTEXT(#REF!),#REF!,\"\")","v":""},{"$f":"IF(ISTEXT(#REF!),#REF!,\"\")","v":""},{"$f":"IF(ISNUMBER(#REF!),#REF!,\"\")","v":""},{"$f":"IF(ISTEXT(#REF!),#REF!,\"\")","v":""},null,{"$f":"IF(ISTEXT(#REF!),#REF!,\"\")","v":""},{"$f":"IF(ISTEXT(#REF!),#REF!,\"\")","v":""},{"$f":"IF(ISTEXT(#REF!),#REF!,\"\")","v":""},{"$f":"IF(ISTEXT(#REF!),#REF!,\"\")","v":""},{"$f":"IF(ISTEXT(#REF!),#REF!,\"\")","v":""},{"$f":"IF(ISTEXT(#REF!),#REF!,\"\")","v":""},{"$f":"IF(ISTEXT(#REF!),#REF!,\"\")","v":""},null,{"$f":"IF(ISTEXT(#REF!),#REF!,\"\")","v":""},{"$f":"IF(ISTEXT(#REF!),#REF!,\"\")","v":""},{"$f":"IF(ISNUMBER(#REF!),#REF!,\"\")","v":""},{"$f":"IF(ISTEXT(#REF!),#REF!,\"\")","v":""}]
[null,null,{"$f":"IF(ISTEXT(#REF!),#REF!,\"\")","v":""},{"$f":"IF(ISTEXT(#REF!),#REF!,\"\")","v":""},{"$f":"IF(ISTEXT(#REF!),#REF!,\"\")","v":""},{"$f":"IF(ISTEXT(#REF!),#REF!,\"\")","v":""},{"$f":"IF(ISTEXT(#REF!),#REF!,\"\")","v":""},{"$f":"IF(ISTEXT(#REF!),#REF!,\"\")","v":""},{"$f":"IF(ISTEXT(#REF!),#REF!,\"\")","v":""},null,{"$f":"IF(ISTEXT(#REF!),#REF!,\"\")","v":""},{"$f":"IF(ISTEXT(#REF!),#REF!,\"\")","v":""},{"$f":"IF(ISNUMBER(#REF!),#REF!,\"\")","v":""},{"$f":"IF(ISTEXT(#REF!),#REF!,\"\")","v":""},null,{"$f":"IF(ISTEXT(#REF!),#REF!,\"\")","v":""},{"$f":"IF(ISTEXT(#REF!),#REF!,\"\")","v":""},{"$f":"IF(ISTEXT(#REF!),#REF!,\"\")","v":""},{"$f":"IF(ISTEXT(#REF!),#REF!,\"\")","v":""},{"$f":"IF(ISTEXT(#REF!),#REF!,\"\")","v":""},{"$f":"IF(ISTEXT(#REF!),#REF!,\"\")","v":""},{"$f":"IF(ISTEXT(#REF!),#REF!,\"\")","v":""},null,{"$f":"IF(ISTEXT(#REF!),#REF!,\"\")","v":""},{"$f":"IF(ISTEXT(#REF!),#REF!,\"\")","v":""},{"$f":"IF(ISNUMBER(#REF!),#REF!,\"\")","v":""},{"$f":"IF(ISTEXT(#REF!),#REF!,\"\")","v":""},{"$f":"IF(ISTEXT(#REF!),#REF!,\"\")","v":""},{"$f":"IF(ISTEXT(#REF!),#REF!,\"\")","v":""},{"$f":"IF(ISTEXT(#REF!),#REF!,\"\")","v":""},{"$f":"IF(ISTEXT(#REF!),#REF!,\"\")","v":""},{"$f":"IF(ISTEXT(#REF!),#REF!,\"\")","v":""},{"$f":"IF(ISTEXT(#REF!),#REF!,\"\")","v":""},{"$f":"IF(ISTEXT(#REF!),#REF!,\"\")","v":""},null,{"$f":"IF(ISTEXT(#REF!),#REF!,\"\")","v":""},{"$f":"IF(ISTEXT(#REF!),#REF!,\"\")","v":""},{"$f":"IF(ISNUMBER(#REF!),#REF!,\"\")","v":""},{"$f":"IF(ISTEXT(#REF!),#REF!,\"\")","v":""},null,{"$f":"IF(ISTEXT(#REF!),#REF!,\"\")","v":""},{"$f":"IF(ISTEXT(#REF!),#REF!,\"\")","v":""},{"$f":"IF(ISTEXT(#REF!),#REF!,\"\")","v":""},{"$f":"IF(ISTEXT(#REF!),#REF!,\"\")","v":""},{"$f":"IF(ISTEXT(#REF!),#REF!,\"\")","v":""},{"$f":"IF(ISTEXT(#REF!),#REF!,\"\")","v":""},{"$f":"IF(ISTEXT(#REF!),#REF!,\"\")","v":""},null,{"$f":"IF(ISTEXT(#REF!),#REF!,\"\")","v":""},{"$f":"IF(ISTEXT(#REF!),#REF!,\"\")","v":""},{"$f":"IF(ISNUMBER(#REF!),#REF!,\"\")","v":""},{"$f":"IF(ISTEXT(#REF!),#REF!,\"\")","v":""},null,{"$f":"IF(ISTEXT(#REF!),#REF!,\"\")","v":""},{"$f":"IF(ISTEXT(#REF!),#REF!,\"\")","v":""},{"$f":"IF(ISTEXT(#REF!),#REF!,\"\")","v":""},{"$f":"IF(ISTEXT(#REF!),#REF!,\"\")","v":""},{"$f":"IF(ISTEXT(#REF!),#REF!,\"\")","v":""},{"$f":"IF(ISTEXT(#REF!),#REF!,\"\")","v":""},{"$f":"IF(ISTEXT(#REF!),#REF!,\"\")","v":""},null,{"$f":"IF(ISTEXT(#REF!),#REF!,\"\")","v":""},{"$f":"IF(ISTEXT(#REF!),#REF!,\"\")","v":""},{"$f":"IF(ISNUMBER(#REF!),#REF!,\"\")","v":""},{"$f":"IF(ISTEXT(#REF!),#REF!,\"\")","v":""}]
[null,null,{"$f":"IF(ISTEXT(#REF!),#REF!,\"\")","v":""},{"$f":"IF(ISTEXT(#REF!),#REF!,\"\")","v":""},{"$f":"IF(ISTEXT(#REF!),#REF!,\"\")","v":""},{"$f":"IF(ISTEXT(#REF!),#REF!,\"\")","v":""},{"$f":"IF(ISTEXT(#REF!),#REF!,\"\")","v":""},{"$f":"IF(ISTEXT(#REF!),#REF!,\"\")","v":""},{"$f":"IF(ISTEXT(#REF!),#REF!,\"\")","v":""},null,{"$f":"IF(ISTEXT(#REF!),#REF!,\"\")","v":""},{"$f":"IF(ISTEXT(#REF!),#REF!,\"\")","v":""},{"$f":"IF(ISNUMBER(#REF!),#REF!,\"\")","v":""},{"$f":"IF(ISTEXT(#REF!),#REF!,\"\")","v":""},null,{"$f":"IF(ISTEXT(#REF!),#REF!,\"\")","v":""},{"$f":"IF(ISTEXT(#REF!),#REF!,\"\")","v":""},{"$f":"IF(ISTEXT(#REF!),#REF!,\"\")","v":""},{"$f":"IF(ISTEXT(#REF!),#REF!,\"\")","v":""},{"$f":"IF(ISTEXT(#REF!),#REF!,\"\")","v":""},{"$f":"IF(ISTEXT(#REF!),#REF!,\"\")","v":""},{"$f":"IF(ISTEXT(#REF!),#REF!,\"\")","v":""},null,{"$f":"IF(ISTEXT(#REF!),#REF!,\"\")","v":""},{"$f":"IF(ISTEXT(#REF!),#REF!,\"\")","v":""},{"$f":"IF(ISNUMBER(#REF!),#REF!,\"\")","v":""},{"$f":"IF(ISTEXT(#REF!),#REF!,\"\")","v":""},{"$f":"IF(ISTEXT(#REF!),#REF!,\"\")","v":""},{"$f":"IF(ISTEXT(#REF!),#REF!,\"\")","v":""},{"$f":"IF(ISTEXT(#REF!),#REF!,\"\")","v":""},{"$f":"IF(ISTEXT(#REF!),#REF!,\"\")","v":""},{"$f":"IF(ISTEXT(#REF!),#REF!,\"\")","v":""},{"$f":"IF(ISTEXT(#REF!),#REF!,\"\")","v":""},{"$f":"IF(ISTEXT(#REF!),#REF!,\"\")","v":""},null,{"$f":"IF(ISTEXT(#REF!),#REF!,\"\")","v":""},{"$f":"IF(ISTEXT(#REF!),#REF!,\"\")","v":""},{"$f":"IF(ISNUMBER(#REF!),#REF!,\"\")","v":""},{"$f":"IF(ISTEXT(#REF!),#REF!,\"\")","v":""},null,{"$f":"IF(ISTEXT(#REF!),#REF!,\"\")","v":""},{"$f":"IF(ISTEXT(#REF!),#REF!,\"\")","v":""},{"$f":"IF(ISTEXT(#REF!),#REF!,\"\")","v":""},{"$f":"IF(ISTEXT(#REF!),#REF!,\"\")","v":""},{"$f":"IF(ISTEXT(#REF!),#REF!,\"\")","v":""},{"$f":"IF(ISTEXT(#REF!),#REF!,\"\")","v":""},{"$f":"IF(ISTEXT(#REF!),#REF!,\"\")","v":""},null,{"$f":"IF(ISTEXT(#REF!),#REF!,\"\")","v":""},{"$f":"IF(ISTEXT(#REF!),#REF!,\"\")","v":""},{"$f":"IF(ISNUMBER(#REF!),#REF!,\"\")","v":""},{"$f":"IF(ISTEXT(#REF!),#REF!,\"\")","v":""},null,{"$f":"IF(ISTEXT(#REF!),#REF!,\"\")","v":""},{"$f":"IF(ISTEXT(#REF!),#REF!,\"\")","v":""},{"$f":"IF(ISTEXT(#REF!),#REF!,\"\")","v":""},{"$f":"IF(ISTEXT(#REF!),#REF!,\"\")","v":""},{"$f":"IF(ISTEXT(#REF!),#REF!,\"\")","v":""},{"$f":"IF(ISTEXT(#REF!),#REF!,\"\")","v":""},{"$f":"IF(ISTEXT(#REF!),#REF!,\"\")","v":""},null,{"$f":"IF(ISTEXT(#REF!),#REF!,\"\")","v":""},{"$f":"IF(ISTEXT(#REF!),#REF!,\"\")","v":""},{"$f":"IF(ISNUMBER(#REF!),#REF!,\"\")","v":""},{"$f":"IF(ISTEXT(#REF!),#REF!,\"\")","v":""}]
[null,null,{"$f":"IF(ISTEXT(#REF!),#REF!,\"\")","v":""},{"$f":"IF(ISTEXT(#REF!),#REF!,\"\")","v":""},{"$f":"IF(ISTEXT(#REF!),#REF!,\"\")","v":""},{"$f":"IF(ISTEXT(#REF!),#REF!,\"\")","v":""},{"$f":"IF(ISTEXT(#REF!),#REF!,\"\")","v":""},{"$f":"IF(ISTEXT(#REF!),#REF!,\"\")","v":""},{"$f":"IF(ISTEXT(#REF!),#REF!,\"\")","v":""},null,{"$f":"IF(ISTEXT(#REF!),#REF!,\"\")","v":""},{"$f":"IF(ISTEXT(#REF!),#REF!,\"\")","v":""},{"$f":"IF(ISNUMBER(#REF!),#REF!,\"\")","v":""},{"$f":"IF(ISTEXT(#REF!),#REF!,\"\")","v":""},null,{"$f":"IF(ISTEXT(#REF!),#REF!,\"\")","v":""},{"$f":"IF(ISTEXT(#REF!),#REF!,\"\")","v":""},{"$f":"IF(ISTEXT(#REF!),#REF!,\"\")","v":""},{"$f":"IF(ISTEXT(#REF!),#REF!,\"\")","v":""},{"$f":"IF(ISTEXT(#REF!),#REF!,\"\")","v":""},{"$f":"IF(ISTEXT(#REF!),#REF!,\"\")","v":""},{"$f":"IF(ISTEXT(#REF!),#REF!,\"\")","v":""},null,{"$f":"IF(ISTEXT(#REF!),#REF!,\"\")","v":""},{"$f":"IF(ISTEXT(#REF!),#REF!,\"\")","v":""},{"$f":"IF(ISNUMBER(#REF!),#REF!,\"\")","v":""},{"$f":"IF(ISTEXT(#REF!),#REF!,\"\")","v":""},{"$f":"IF(ISTEXT(#REF!),#REF!,\"\")","v":""},{"$f":"IF(ISTEXT(#REF!),#REF!,\"\")","v":""},{"$f":"IF(ISTEXT(#REF!),#REF!,\"\")","v":""},{"$f":"IF(ISTEXT(#REF!),#REF!,\"\")","v":""},{"$f":"IF(ISTEXT(#REF!),#REF!,\"\")","v":""},{"$f":"IF(ISTEXT(#REF!),#REF!,\"\")","v":""},{"$f":"IF(ISTEXT(#REF!),#REF!,\"\")","v":""},null,{"$f":"IF(ISTEXT(#REF!),#REF!,\"\")","v":""},{"$f":"IF(ISTEXT(#REF!),#REF!,\"\")","v":""},{"$f":"IF(ISNUMBER(#REF!),#REF!,\"\")","v":""},{"$f":"IF(ISTEXT(#REF!),#REF!,\"\")","v":""},null,{"$f":"IF(ISTEXT(#REF!),#REF!,\"\")","v":""},{"$f":"IF(ISTEXT(#REF!),#REF!,\"\")","v":""},{"$f":"IF(ISTEXT(#REF!),#REF!,\"\")","v":""},{"$f":"IF(ISTEXT(#REF!),#REF!,\"\")","v":""},{"$f":"IF(ISTEXT(#REF!),#REF!,\"\")","v":""},{"$f":"IF(ISTEXT(#REF!),#REF!,\"\")","v":""},{"$f":"IF(ISTEXT(#REF!),#REF!,\"\")","v":""},null,{"$f":"IF(ISTEXT(#REF!),#REF!,\"\")","v":""},{"$f":"IF(ISTEXT(#REF!),#REF!,\"\")","v":""},{"$f":"IF(ISNUMBER(#REF!),#REF!,\"\")","v":""},{"$f":"IF(ISTEXT(#REF!),#REF!,\"\")","v":""},null,{"$f":"IF(ISTEXT(#REF!),#REF!,\"\")","v":""},{"$f":"IF(ISTEXT(#REF!),#REF!,\"\")","v":""},{"$f":"IF(ISTEXT(#REF!),#REF!,\"\")","v":""},{"$f":"IF(ISTEXT(#REF!),#REF!,\"\")","v":""},{"$f":"IF(ISTEXT(#REF!),#REF!,\"\")","v":""},{"$f":"IF(ISTEXT(#REF!),#REF!,\"\")","v":""},{"$f":"IF(ISTEXT(#REF!),#REF!,\"\")","v":""},null,{"$f":"IF(ISTEXT(#REF!),#REF!,\"\")","v":""},{"$f":"IF(ISTEXT(#REF!),#REF!,\"\")","v":""},{"$f":"IF(ISNUMBER(#REF!),#REF!,\"\")","v":""},{"$f":"IF(ISTEXT(#REF!),#REF!,\"\")","v":""}]
[null,null,{"$f":"IF(ISTEXT(#REF!),#REF!,\"\")","v":""},{"$f":"IF(ISTEXT(#REF!),#REF!,\"\")","v":""},{"$f":"IF(ISTEXT(#REF!),#REF!,\"\")","v":""},{"$f":"IF(ISTEXT(#REF!),#REF!,\"\")","v":""},{"$f":"IF(ISTEXT(#REF!),#REF!,\"\")","v":""},{"$f":"IF(ISTEXT(#REF!),#REF!,\"\")","v":""},{"$f":"IF(ISTEXT(#REF!),#REF!,\"\")","v":""},null,{"$f":"IF(ISTEXT(#REF!),#REF!,\"\")","v":""},{"$f":"IF(ISTEXT(#REF!),#REF!,\"\")","v":""},{"$f":"IF(ISNUMBER(#REF!),#REF!,\"\")","v":""},{"$f":"IF(ISTEXT(#REF!),#REF!,\"\")","v":""},null,{"$f":"IF(ISTEXT(#REF!),#REF!,\"\")","v":""},{"$f":"IF(ISTEXT(#REF!),#REF!,\"\")","v":""},{"$f":"IF(ISTEXT(#REF!),#REF!,\"\")","v":""},{"$f":"IF(ISTEXT(#REF!),#REF!,\"\")","v":""},{"$f":"IF(ISTEXT(#REF!),#REF!,\"\")","v":""},{"$f":"IF(ISTEXT(#REF!),#REF!,\"\")","v":""},{"$f":"IF(ISTEXT(#REF!),#REF!,\"\")","v":""},null,{"$f":"IF(ISTEXT(#REF!),#REF!,\"\")","v":""},{"$f":"IF(ISTEXT(#REF!),#REF!,\"\")","v":""},{"$f":"IF(ISNUMBER(#REF!),#REF!,\"\")","v":""},{"$f":"IF(ISTEXT(#REF!),#REF!,\"\")","v":""},{"$f":"IF(ISTEXT(#REF!),#REF!,\"\")","v":""},{"$f":"IF(ISTEXT(#REF!),#REF!,\"\")","v":""},{"$f":"IF(ISTEXT(#REF!),#REF!,\"\")","v":""},{"$f":"IF(ISTEXT(#REF!),#REF!,\"\")","v":""},{"$f":"IF(ISTEXT(#REF!),#REF!,\"\")","v":""},{"$f":"IF(ISTEXT(#REF!),#REF!,\"\")","v":""},{"$f":"IF(ISTEXT(#REF!),#REF!,\"\")","v":""},null,{"$f":"IF(ISTEXT(#REF!),#REF!,\"\")","v":""},{"$f":"IF(ISTEXT(#REF!),#REF!,\"\")","v":""},{"$f":"IF(ISNUMBER(#REF!),#REF!,\"\")","v":""},{"$f":"IF(ISTEXT(#REF!),#REF!,\"\")","v":""},null,{"$f":"IF(ISTEXT(#REF!),#REF!,\"\")","v":""},{"$f":"IF(ISTEXT(#REF!),#REF!,\"\")","v":""},{"$f":"IF(ISTEXT(#REF!),#REF!,\"\")","v":""},{"$f":"IF(ISTEXT(#REF!),#REF!,\"\")","v":""},{"$f":"IF(ISTEXT(#REF!),#REF!,\"\")","v":""},{"$f":"IF(ISTEXT(#REF!),#REF!,\"\")","v":""},{"$f":"IF(ISTEXT(#REF!),#REF!,\"\")","v":""},null,{"$f":"IF(ISTEXT(#REF!),#REF!,\"\")","v":""},{"$f":"IF(ISTEXT(#REF!),#REF!,\"\")","v":""},{"$f":"IF(ISNUMBER(#REF!),#REF!,\"\")","v":""},{"$f":"IF(ISTEXT(#REF!),#REF!,\"\")","v":""},null,{"$f":"IF(ISTEXT(#REF!),#REF!,\"\")","v":""},{"$f":"IF(ISTEXT(#REF!),#REF!,\"\")","v":""},{"$f":"IF(ISTEXT(#REF!),#REF!,\"\")","v":""},{"$f":"IF(ISTEXT(#REF!),#REF!,\"\")","v":""},{"$f":"IF(ISTEXT(#REF!),#REF!,\"\")","v":""},{"$f":"IF(ISTEXT(#REF!),#REF!,\"\")","v":""},{"$f":"IF(ISTEXT(#REF!),#REF!,\"\")","v":""},null,{"$f":"IF(ISTEXT(#REF!),#REF!,\"\")","v":""},{"$f":"IF(ISTEXT(#REF!),#REF!,\"\")","v":""},{"$f":"IF(ISNUMBER(#REF!),#REF!,\"\")","v":""},{"$f":"IF(ISTEXT(#REF!),#REF!,\"\")","v":""}]
[null,null,{"$f":"IF(ISTEXT(#REF!),#REF!,\"\")","v":""},{"$f":"IF(ISTEXT(#REF!),#REF!,\"\")","v":""},{"$f":"IF(ISTEXT(#REF!),#REF!,\"\")","v":""},{"$f":"IF(ISTEXT(#REF!),#REF!,\"\")","v":""},{"$f":"IF(ISTEXT(#REF!),#REF!,\"\")","v":""},{"$f":"IF(ISTEXT(#REF!),#REF!,\"\")","v":""},{"$f":"IF(ISTEXT(#REF!),#REF!,\"\")","v":""},null,{"$f":"IF(ISTEXT(#REF!),#REF!,\"\")","v":""},{"$f":"IF(ISTEXT(#REF!),#REF!,\"\")","v":""},{"$f":"IF(ISNUMBER(#REF!),#REF!,\"\")","v":""},{"$f":"IF(ISTEXT(#REF!),#REF!,\"\")","v":""},null,{"$f":"IF(ISTEXT(#REF!),#REF!,\"\")","v":""},{"$f":"IF(ISTEXT(#REF!),#REF!,\"\")","v":""},{"$f":"IF(ISTEXT(#REF!),#REF!,\"\")","v":""},{"$f":"IF(ISTEXT(#REF!),#REF!,\"\")","v":""},{"$f":"IF(ISTEXT(#REF!),#REF!,\"\")","v":""},{"$f":"IF(ISTEXT(#REF!),#REF!,\"\")","v":""},{"$f":"IF(ISTEXT(#REF!),#REF!,\"\")","v":""},null,{"$f":"IF(ISTEXT(#REF!),#REF!,\"\")","v":""},{"$f":"IF(ISTEXT(#REF!),#REF!,\"\")","v":""},{"$f":"IF(ISNUMBER(#REF!),#REF!,\"\")","v":""},{"$f":"IF(ISTEXT(#REF!),#REF!,\"\")","v":""},{"$f":"IF(ISTEXT(#REF!),#REF!,\"\")","v":""},{"$f":"IF(ISTEXT(#REF!),#REF!,\"\")","v":""},{"$f":"IF(ISTEXT(#REF!),#REF!,\"\")","v":""},{"$f":"IF(ISTEXT(#REF!),#REF!,\"\")","v":""},{"$f":"IF(ISTEXT(#REF!),#REF!,\"\")","v":""},{"$f":"IF(ISTEXT(#REF!),#REF!,\"\")","v":""},{"$f":"IF(ISTEXT(#REF!),#REF!,\"\")","v":""},null,{"$f":"IF(ISTEXT(#REF!),#REF!,\"\")","v":""},{"$f":"IF(ISTEXT(#REF!),#REF!,\"\")","v":""},{"$f":"IF(ISNUMBER(#REF!),#REF!,\"\")","v":""},{"$f":"IF(ISTEXT(#REF!),#REF!,\"\")","v":""},null,{"$f":"IF(ISTEXT(#REF!),#REF!,\"\")","v":""},{"$f":"IF(ISTEXT(#REF!),#REF!,\"\")","v":""},{"$f":"IF(ISTEXT(#REF!),#REF!,\"\")","v":""},{"$f":"IF(ISTEXT(#REF!),#REF!,\"\")","v":""},{"$f":"IF(ISTEXT(#REF!),#REF!,\"\")","v":""},{"$f":"IF(ISTEXT(#REF!),#REF!,\"\")","v":""},{"$f":"IF(ISTEXT(#REF!),#REF!,\"\")","v":""},null,{"$f":"IF(ISTEXT(#REF!),#REF!,\"\")","v":""},{"$f":"IF(ISTEXT(#REF!),#REF!,\"\")","v":""},{"$f":"IF(ISNUMBER(#REF!),#REF!,\"\")","v":""},{"$f":"IF(ISTEXT(#REF!),#REF!,\"\")","v":""},null,{"$f":"IF(ISTEXT(#REF!),#REF!,\"\")","v":""},{"$f":"IF(ISTEXT(#REF!),#REF!,\"\")","v":""},{"$f":"IF(ISTEXT(#REF!),#REF!,\"\")","v":""},{"$f":"IF(ISTEXT(#REF!),#REF!,\"\")","v":""},{"$f":"IF(ISTEXT(#REF!),#REF!,\"\")","v":""},{"$f":"IF(ISTEXT(#REF!),#REF!,\"\")","v":""},{"$f":"IF(ISTEXT(#REF!),#REF!,\"\")","v":""},null,{"$f":"IF(ISTEXT(#REF!),#REF!,\"\")","v":""},{"$f":"IF(ISTEXT(#REF!),#REF!,\"\")","v":""},{"$f":"IF(ISNUMBER(#REF!),#REF!,\"\")","v":""},{"$f":"IF(ISTEXT(#REF!),#REF!,\"\")","v":""}]
[null,null,{"$f":"IF(ISTEXT(#REF!),#REF!,\"\")","v":""},{"$f":"IF(ISTEXT(#REF!),#REF!,\"\")","v":""},{"$f":"IF(ISTEXT(#REF!),#REF!,\"\")","v":""},{"$f":"IF(ISTEXT(#REF!),#REF!,\"\")","v":""},{"$f":"IF(ISTEXT(#REF!),#REF!,\"\")","v":""},{"$f":"IF(ISTEXT(#REF!),#REF!,\"\")","v":""},{"$f":"IF(ISTEXT(#REF!),#REF!,\"\")","v":""},null,{"$f":"IF(ISTEXT(#REF!),#REF!,\"\")","v":""},{"$f":"IF(ISTEXT(#REF!),#REF!,\"\")","v":""},{"$f":"IF(ISNUMBER(#REF!),#REF!,\"\")","v":""},{"$f":"IF(ISTEXT(#REF!),#REF!,\"\")","v":""},null,{"$f":"IF(ISTEXT(#REF!),#REF!,\"\")","v":""},{"$f":"IF(ISTEXT(#REF!),#REF!,\"\")","v":""},{"$f":"IF(ISTEXT(#REF!),#REF!,\"\")","v":""},{"$f":"IF(ISTEXT(#REF!),#REF!,\"\")","v":""},{"$f":"IF(ISTEXT(#REF!),#REF!,\"\")","v":""},{"$f":"IF(ISTEXT(#REF!),#REF!,\"\")","v":""},{"$f":"IF(ISTEXT(#REF!),#REF!,\"\")","v":""},null,{"$f":"IF(ISTEXT(#REF!),#REF!,\"\")","v":""},{"$f":"IF(ISTEXT(#REF!),#REF!,\"\")","v":""},{"$f":"IF(ISNUMBER(#REF!),#REF!,\"\")","v":""},{"$f":"IF(ISTEXT(#REF!),#REF!,\"\")","v":""},{"$f":"IF(ISTEXT(#REF!),#REF!,\"\")","v":""},{"$f":"IF(ISTEXT(#REF!),#REF!,\"\")","v":""},{"$f":"IF(ISTEXT(#REF!),#REF!,\"\")","v":""},{"$f":"IF(ISTEXT(#REF!),#REF!,\"\")","v":""},{"$f":"IF(ISTEXT(#REF!),#REF!,\"\")","v":""},{"$f":"IF(ISTEXT(#REF!),#REF!,\"\")","v":""},{"$f":"IF(ISTEXT(#REF!),#REF!,\"\")","v":""},null,{"$f":"IF(ISTEXT(#REF!),#REF!,\"\")","v":""},{"$f":"IF(ISTEXT(#REF!),#REF!,\"\")","v":""},{"$f":"IF(ISNUMBER(#REF!),#REF!,\"\")","v":""},{"$f":"IF(ISTEXT(#REF!),#REF!,\"\")","v":""},null,{"$f":"IF(ISTEXT(#REF!),#REF!,\"\")","v":""},{"$f":"IF(ISTEXT(#REF!),#REF!,\"\")","v":""},{"$f":"IF(ISTEXT(#REF!),#REF!,\"\")","v":""},{"$f":"IF(ISTEXT(#REF!),#REF!,\"\")","v":""},{"$f":"IF(ISTEXT(#REF!),#REF!,\"\")","v":""},{"$f":"IF(ISTEXT(#REF!),#REF!,\"\")","v":""},{"$f":"IF(ISTEXT(#REF!),#REF!,\"\")","v":""},null,{"$f":"IF(ISTEXT(#REF!),#REF!,\"\")","v":""},{"$f":"IF(ISTEXT(#REF!),#REF!,\"\")","v":""},{"$f":"IF(ISNUMBER(#REF!),#REF!,\"\")","v":""},{"$f":"IF(ISTEXT(#REF!),#REF!,\"\")","v":""},null,{"$f":"IF(ISTEXT(#REF!),#REF!,\"\")","v":""},{"$f":"IF(ISTEXT(#REF!),#REF!,\"\")","v":""},{"$f":"IF(ISTEXT(#REF!),#REF!,\"\")","v":""},{"$f":"IF(ISTEXT(#REF!),#REF!,\"\")","v":""},{"$f":"IF(ISTEXT(#REF!),#REF!,\"\")","v":""},{"$f":"IF(ISTEXT(#REF!),#REF!,\"\")","v":""},{"$f":"IF(ISTEXT(#REF!),#REF!,\"\")","v":""},null,{"$f":"IF(ISTEXT(#REF!),#REF!,\"\")","v":""},{"$f":"IF(ISTEXT(#REF!),#REF!,\"\")","v":""},{"$f":"IF(ISNUMBER(#REF!),#REF!,\"\")","v":""},{"$f":"IF(ISTEXT(#REF!),#REF!,\"\")","v":""}]
[null,null,{"$f":"IF(ISTEXT(#REF!),#REF!,\"\")","v":""},{"$f":"IF(ISTEXT(#REF!),#REF!,\"\")","v":""},{"$f":"IF(ISTEXT(#REF!),#REF!,\"\")","v":""},{"$f":"IF(ISTEXT(#REF!),#REF!,\"\")","v":""},{"$f":"IF(ISTEXT(#REF!),#REF!,\"\")","v":""},{"$f":"IF(ISTEXT(#REF!),#REF!,\"\")","v":""},{"$f":"IF(ISTEXT(#REF!),#REF!,\"\")","v":""},null,{"$f":"IF(ISTEXT(#REF!),#REF!,\"\")","v":""},{"$f":"IF(ISTEXT(#REF!),#REF!,\"\")","v":""},{"$f":"IF(ISNUMBER(#REF!),#REF!,\"\")","v":""},{"$f":"IF(ISTEXT(#REF!),#REF!,\"\")","v":""},null,{"$f":"IF(ISTEXT(#REF!),#REF!,\"\")","v":""},{"$f":"IF(ISTEXT(#REF!),#REF!,\"\")","v":""},{"$f":"IF(ISTEXT(#REF!),#REF!,\"\")","v":""},{"$f":"IF(ISTEXT(#REF!),#REF!,\"\")","v":""},{"$f":"IF(ISTEXT(#REF!),#REF!,\"\")","v":""},{"$f":"IF(ISTEXT(#REF!),#REF!,\"\")","v":""},{"$f":"IF(ISTEXT(#REF!),#REF!,\"\")","v":""},null,{"$f":"IF(ISTEXT(#REF!),#REF!,\"\")","v":""},{"$f":"IF(ISTEXT(#REF!),#REF!,\"\")","v":""},{"$f":"IF(ISNUMBER(#REF!),#REF!,\"\")","v":""},{"$f":"IF(ISTEXT(#REF!),#REF!,\"\")","v":""},{"$f":"IF(ISTEXT(#REF!),#REF!,\"\")","v":""},{"$f":"IF(ISTEXT(#REF!),#REF!,\"\")","v":""},{"$f":"IF(ISTEXT(#REF!),#REF!,\"\")","v":""},{"$f":"IF(ISTEXT(#REF!),#REF!,\"\")","v":""},{"$f":"IF(ISTEXT(#REF!),#REF!,\"\")","v":""},{"$f":"IF(ISTEXT(#REF!),#REF!,\"\")","v":""},{"$f":"IF(ISTEXT(#REF!),#REF!,\"\")","v":""},null,{"$f":"IF(ISTEXT(#REF!),#REF!,\"\")","v":""},{"$f":"IF(ISTEXT(#REF!),#REF!,\"\")","v":""},{"$f":"IF(ISNUMBER(#REF!),#REF!,\"\")","v":""},{"$f":"IF(ISTEXT(#REF!),#REF!,\"\")","v":""},null,{"$f":"IF(ISTEXT(#REF!),#REF!,\"\")","v":""},{"$f":"IF(ISTEXT(#REF!),#REF!,\"\")","v":""},{"$f":"IF(ISTEXT(#REF!),#REF!,\"\")","v":""},{"$f":"IF(ISTEXT(#REF!),#REF!,\"\")","v":""},{"$f":"IF(ISTEXT(#REF!),#REF!,\"\")","v":""},{"$f":"IF(ISTEXT(#REF!),#REF!,\"\")","v":""},{"$f":"IF(ISTEXT(#REF!),#REF!,\"\")","v":""},null,{"$f":"IF(ISTEXT(#REF!),#REF!,\"\")","v":""},{"$f":"IF(ISTEXT(#REF!),#REF!,\"\")","v":""},{"$f":"IF(ISNUMBER(#REF!),#REF!,\"\")","v":""},{"$f":"IF(ISTEXT(#REF!),#REF!,\"\")","v":""},null,{"$f":"IF(ISTEXT(#REF!),#REF!,\"\")","v":""},{"$f":"IF(ISTEXT(#REF!),#REF!,\"\")","v":""},null,null,{"$f":"IF(ISTEXT(#REF!),#REF!,\"\")","v":""},{"$f":"IF(ISTEXT(#REF!),#REF!,\"\")","v":""},{"$f":"IF(ISTEXT(#REF!),#REF!,\"\")","v":""},null,{"$f":"IF(ISTEXT(#REF!),#REF!,\"\")","v":""},{"$f":"IF(ISTEXT(#REF!),#REF!,\"\")","v":""},{"$f":"IF(ISNUMBER(#REF!),#REF!,\"\")","v":""},{"$f":"IF(ISTEXT(#REF!),#REF!,\"\")","v":""}]
[null,null,{"$f":"IF(ISTEXT(#REF!),#REF!,\"\")","v":""},{"$f":"IF(ISTEXT(#REF!),#REF!,\"\")","v":""},{"$f":"IF(ISTEXT(#REF!),#REF!,\"\")","v":""},{"$f":"IF(ISTEXT(#REF!),#REF!,\"\")","v":""},{"$f":"IF(ISTEXT(#REF!),#REF!,\"\")","v":""},{"$f":"IF(ISTEXT(#REF!),#REF!,\"\")","v":""},{"$f":"IF(ISTEXT(#REF!),#REF!,\"\")","v":""},null,{"$f":"IF(ISTEXT(#REF!),#REF!,\"\")","v":""},{"$f":"IF(ISTEXT(#REF!),#REF!,\"\")","v":""},{"$f":"IF(ISNUMBER(#REF!),#REF!,\"\")","v":""},{"$f":"IF(ISTEXT(#REF!),#REF!,\"\")","v":""},null,{"$f":"IF(ISTEXT(#REF!),#REF!,\"\")","v":""},{"$f":"IF(ISTEXT(#REF!),#REF!,\"\")","v":""},{"$f":"IF(ISTEXT(#REF!),#REF!,\"\")","v":""},{"$f":"IF(ISTEXT(#REF!),#REF!,\"\")","v":""},{"$f":"IF(ISTEXT(#REF!),#REF!,\"\")","v":""},{"$f":"IF(ISTEXT(#REF!),#REF!,\"\")","v":""},{"$f":"IF(ISTEXT(#REF!),#REF!,\"\")","v":""},null,{"$f":"IF(ISTEXT(#REF!),#REF!,\"\")","v":""},{"$f":"IF(ISTEXT(#REF!),#REF!,\"\")","v":""},{"$f":"IF(ISNUMBER(#REF!),#REF!,\"\")","v":""},{"$f":"IF(ISTEXT(#REF!),#REF!,\"\")","v":""},{"$f":"IF(ISTEXT(#REF!),#REF!,\"\")","v":""},{"$f":"IF(ISTEXT(#REF!),#REF!,\"\")","v":""},{"$f":"IF(ISTEXT(#REF!),#REF!,\"\")","v":""},{"$f":"IF(ISTEXT(#REF!),#REF!,\"\")","v":""},{"$f":"IF(ISTEXT(#REF!),#REF!,\"\")","v":""},{"$f":"IF(ISTEXT(#REF!),#REF!,\"\")","v":""},{"$f":"IF(ISTEXT(#REF!),#REF!,\"\")","v":""},null,{"$f":"IF(ISTEXT(#REF!),#REF!,\"\")","v":""},{"$f":"IF(ISTEXT(#REF!),#REF!,\"\")","v":""},{"$f":"IF(ISNUMBER(#REF!),#REF!,\"\")","v":""},{"$f":"IF(ISTEXT(#REF!),#REF!,\"\")","v":""},null,{"$f":"IF(ISTEXT(#REF!),#REF!,\"\")","v":""},{"$f":"IF(ISTEXT(#REF!),#REF!,\"\")","v":""},{"$f":"IF(ISTEXT(#REF!),#REF!,\"\")","v":""},{"$f":"IF(ISTEXT(#REF!),#REF!,\"\")","v":""},{"$f":"IF(ISTEXT(#REF!),#REF!,\"\")","v":""},{"$f":"IF(ISTEXT(#REF!),#REF!,\"\")","v":""},{"$f":"IF(ISTEXT(#REF!),#REF!,\"\")","v":""},null,{"$f":"IF(ISTEXT(#REF!),#REF!,\"\")","v":""},{"$f":"IF(ISTEXT(#REF!),#REF!,\"\")","v":""},{"$f":"IF(ISNUMBER(#REF!),#REF!,\"\")","v":""},{"$f":"IF(ISTEXT(#REF!),#REF!,\"\")","v":""},null,{"$f":"IF(ISTEXT(#REF!),#REF!,\"\")","v":""},{"$f":"IF(ISTEXT(#REF!),#REF!,\"\")","v":""},null,null,{"$f":"IF(ISTEXT(#REF!),#REF!,\"\")","v":""},{"$f":"IF(ISTEXT(#REF!),#REF!,\"\")","v":""},{"$f":"IF(ISTEXT(#REF!),#REF!,\"\")","v":""},null,{"$f":"IF(ISTEXT(#REF!),#REF!,\"\")","v":""},{"$f":"IF(ISTEXT(#REF!),#REF!,\"\")","v":""},{"$f":"IF(ISNUMBER(#REF!),#REF!,\"\")","v":""},{"$f":"IF(ISTEXT(#REF!),#REF!,\"\")","v":""}]
[null,null,{"$f":"IF(ISTEXT(#REF!),#REF!,\"\")","v":""},{"$f":"IF(ISTEXT(#REF!),#REF!,\"\")","v":""},{"$f":"IF(ISTEXT(#REF!),#REF!,\"\")","v":""},{"$f":"IF(ISTEXT(#REF!),#REF!,\"\")","v":""},{"$f":"IF(ISTEXT(#REF!),#REF!,\"\")","v":""},{"$f":"IF(ISTEXT(#REF!),#REF!,\"\")","v":""},{"$f":"IF(ISTEXT(#REF!),#REF!,\"\")","v":""},null,{"$f":"IF(ISTEXT(#REF!),#REF!,\"\")","v":""},{"$f":"IF(ISTEXT(#REF!),#REF!,\"\")","v":""},{"$f":"IF(ISNUMBER(#REF!),#REF!,\"\")","v":""},{"$f":"IF(ISTEXT(#REF!),#REF!,\"\")","v":""},null,{"$f":"IF(ISTEXT(#REF!),#REF!,\"\")","v":""},{"$f":"IF(ISTEXT(#REF!),#REF!,\"\")","v":""},{"$f":"IF(ISTEXT(#REF!),#REF!,\"\")","v":""},{"$f":"IF(ISTEXT(#REF!),#REF!,\"\")","v":""},{"$f":"IF(ISTEXT(#REF!),#REF!,\"\")","v":""},{"$f":"IF(ISTEXT(#REF!),#REF!,\"\")","v":""},{"$f":"IF(ISTEXT(#REF!),#REF!,\"\")","v":""},null,{"$f":"IF(ISTEXT(#REF!),#REF!,\"\")","v":""},{"$f":"IF(ISTEXT(#REF!),#REF!,\"\")","v":""},{"$f":"IF(ISNUMBER(#REF!),#REF!,\"\")","v":""},{"$f":"IF(ISTEXT(#REF!),#REF!,\"\")","v":""},{"$f":"IF(ISTEXT(#REF!),#REF!,\"\")","v":""},{"$f":"IF(ISTEXT(#REF!),#REF!,\"\")","v":""},{"$f":"IF(ISTEXT(#REF!),#REF!,\"\")","v":""},{"$f":"IF(ISTEXT(#REF!),#REF!,\"\")","v":""},{"$f":"IF(ISTEXT(#REF!),#REF!,\"\")","v":""},{"$f":"IF(ISTEXT(#REF!),#REF!,\"\")","v":""},{"$f":"IF(ISTEXT(#REF!),#REF!,\"\")","v":""},null,{"$f":"IF(ISTEXT(#REF!),#REF!,\"\")","v":""},{"$f":"IF(ISTEXT(#REF!),#REF!,\"\")","v":""},{"$f":"IF(ISNUMBER(#REF!),#REF!,\"\")","v":""},{"$f":"IF(ISTEXT(#REF!),#REF!,\"\")","v":""},null,{"$f":"IF(ISTEXT(#REF!),#REF!,\"\")","v":""},{"$f":"IF(ISTEXT(#REF!),#REF!,\"\")","v":""},{"$f":"IF(ISTEXT(#REF!),#REF!,\"\")","v":""},{"$f":"IF(ISTEXT(#REF!),#REF!,\"\")","v":""},{"$f":"IF(ISTEXT(#REF!),#REF!,\"\")","v":""},{"$f":"IF(ISTEXT(#REF!),#REF!,\"\")","v":""},{"$f":"IF(ISTEXT(#REF!),#REF!,\"\")","v":""},null,{"$f":"IF(ISTEXT(#REF!),#REF!,\"\")","v":""},{"$f":"IF(ISTEXT(#REF!),#REF!,\"\")","v":""},{"$f":"IF(ISNUMBER(#REF!),#REF!,\"\")","v":""},{"$f":"IF(ISTEXT(#REF!),#REF!,\"\")","v":""},null,{"$f":"IF(ISTEXT(#REF!),#REF!,\"\")","v":""},{"$f":"IF(ISTEXT(#REF!),#REF!,\"\")","v":""},{"$f":"IF(ISTEXT(#REF!),#REF!,\"\")","v":""},{"$f":"IF(ISTEXT(#REF!),#REF!,\"\")","v":""},null,{"$f":"IF(ISTEXT(#REF!),#REF!,\"\")","v":""},{"$f":"IF(ISTEXT(#REF!),#REF!,\"\")","v":""},null,{"$f":"IF(ISTEXT(#REF!),#REF!,\"\")","v":""},{"$f":"IF(ISTEXT(#REF!),#REF!,\"\")","v":""},{"$f":"IF(ISNUMBER(#REF!),#REF!,\"\")","v":""},{"$f":"IF(ISTEXT(#REF!),#REF!,\"\")","v":""}]
[null,null,{"$f":"IF(ISTEXT(#REF!),#REF!,\"\")","v":""},{"$f":"IF(ISTEXT(#REF!),#REF!,\"\")","v":""},{"$f":"IF(ISTEXT(#REF!),#REF!,\"\")","v":""},{"$f":"IF(ISTEXT(#REF!),#REF!,\"\")","v":""},{"$f":"IF(ISTEXT(#REF!),#REF!,\"\")","v":""},{"$f":"IF(ISTEXT(#REF!),#REF!,\"\")","v":""},{"$f":"IF(ISTEXT(#REF!),#REF!,\"\")","v":""},null,{"$f":"IF(ISTEXT(#REF!),#REF!,\"\")","v":""},{"$f":"IF(ISTEXT(#REF!),#REF!,\"\")","v":""},{"$f":"IF(ISNUMBER(#REF!),#REF!,\"\")","v":""},{"$f":"IF(ISTEXT(#REF!),#REF!,\"\")","v":""},null,{"$f":"IF(ISTEXT(#REF!),#REF!,\"\")","v":""},{"$f":"IF(ISTEXT(#REF!),#REF!,\"\")","v":""},{"$f":"IF(ISTEXT(#REF!),#REF!,\"\")","v":""},{"$f":"IF(ISTEXT(#REF!),#REF!,\"\")","v":""},{"$f":"IF(ISTEXT(#REF!),#REF!,\"\")","v":""},{"$f":"IF(ISTEXT(#REF!),#REF!,\"\")","v":""},{"$f":"IF(ISTEXT(#REF!),#REF!,\"\")","v":""},null,{"$f":"IF(ISTEXT(#REF!),#REF!,\"\")","v":""},{"$f":"IF(ISTEXT(#REF!),#REF!,\"\")","v":""},{"$f":"IF(ISNUMBER(#REF!),#REF!,\"\")","v":""},{"$f":"IF(ISTEXT(#REF!),#REF!,\"\")","v":""},{"$f":"IF(ISTEXT(#REF!),#REF!,\"\")","v":""},{"$f":"IF(ISTEXT(#REF!),#REF!,\"\")","v":""},{"$f":"IF(ISTEXT(#REF!),#REF!,\"\")","v":""},{"$f":"IF(ISTEXT(#REF!),#REF!,\"\")","v":""},{"$f":"IF(ISTEXT(#REF!),#REF!,\"\")","v":""},{"$f":"IF(ISTEXT(#REF!),#REF!,\"\")","v":""},{"$f":"IF(ISTEXT(#REF!),#REF!,\"\")","v":""},null,{"$f":"IF(ISTEXT(#REF!),#REF!,\"\")","v":""},{"$f":"IF(ISTEXT(#REF!),#REF!,\"\")","v":""},{"$f":"IF(ISNUMBER(#REF!),#REF!,\"\")","v":""},{"$f":"IF(ISTEXT(#REF!),#REF!,\"\")","v":""},null,{"$f":"IF(ISTEXT(#REF!),#REF!,\"\")","v":""},{"$f":"IF(ISTEXT(#REF!),#REF!,\"\")","v":""},{"$f":"IF(ISTEXT(#REF!),#REF!,\"\")","v":""},{"$f":"IF(ISTEXT(#REF!),#REF!,\"\")","v":""},{"$f":"IF(ISTEXT(#REF!),#REF!,\"\")","v":""},{"$f":"IF(ISTEXT(#REF!),#REF!,\"\")","v":""},{"$f":"IF(ISTEXT(#REF!),#REF!,\"\")","v":""},null,{"$f":"IF(ISTEXT(#REF!),#REF!,\"\")","v":""},{"$f":"IF(ISTEXT(#REF!),#REF!,\"\")","v":""},{"$f":"IF(ISNUMBER(#REF!),#REF!,\"\")","v":""},{"$f":"IF(ISTEXT(#REF!),#REF!,\"\")","v":""},null,{"$f":"IF(ISTEXT(#REF!),#REF!,\"\")","v":""},{"$f":"IF(ISTEXT(#REF!),#REF!,\"\")","v":""},{"$f":"IF(ISTEXT(#REF!),#REF!,\"\")","v":""},{"$f":"IF(ISTEXT(#REF!),#REF!,\"\")","v":""},null,{"$f":"IF(ISTEXT(#REF!),#REF!,\"\")","v":""},{"$f":"IF(ISTEXT(#REF!),#REF!,\"\")","v":""},null,{"$f":"IF(ISTEXT(#REF!),#REF!,\"\")","v":""},{"$f":"IF(ISTEXT(#REF!),#REF!,\"\")","v":""},{"$f":"IF(ISNUMBER(#REF!),#REF!,\"\")","v":""},{"$f":"IF(ISTEXT(#REF!),#REF!,\"\")","v":""}]
[null,null,{"$f":"IF(ISTEXT(#REF!),#REF!,\"\")","v":""},{"$f":"IF(ISTEXT(#REF!),#REF!,\"\")","v":""},{"$f":"IF(ISTEXT(#REF!),#REF!,\"\")","v":""},{"$f":"IF(ISTEXT(#REF!),#REF!,\"\")","v":""},{"$f":"IF(ISTEXT(#REF!),#REF!,\"\")","v":""},{"$f":"IF(ISTEXT(#REF!),#REF!,\"\")","v":""},{"$f":"IF(ISTEXT(#REF!),#REF!,\"\")","v":""},null,{"$f":"IF(ISTEXT(#REF!),#REF!,\"\")","v":""},{"$f":"IF(ISTEXT(#REF!),#REF!,\"\")","v":""},{"$f":"IF(ISNUMBER(#REF!),#REF!,\"\")","v":""},{"$f":"IF(ISTEXT(#REF!),#REF!,\"\")","v":""},null,{"$f":"IF(ISTEXT(#REF!),#REF!,\"\")","v":""},{"$f":"IF(ISTEXT(#REF!),#REF!,\"\")","v":""},{"$f":"IF(ISTEXT(#REF!),#REF!,\"\")","v":""},{"$f":"IF(ISTEXT(#REF!),#REF!,\"\")","v":""},{"$f":"IF(ISTEXT(#REF!),#REF!,\"\")","v":""},{"$f":"IF(ISTEXT(#REF!),#REF!,\"\")","v":""},{"$f":"IF(ISTEXT(#REF!),#REF!,\"\")","v":""},null,{"$f":"IF(ISTEXT(#REF!),#REF!,\"\")","v":""},{"$f":"IF(ISTEXT(#REF!),#REF!,\"\")","v":""},{"$f":"IF(ISNUMBER(#REF!),#REF!,\"\")","v":""},{"$f":"IF(ISTEXT(#REF!),#REF!,\"\")","v":""},{"$f":"IF(ISTEXT(#REF!),#REF!,\"\")","v":""},{"$f":"IF(ISTEXT(#REF!),#REF!,\"\")","v":""},{"$f":"IF(ISTEXT(#REF!),#REF!,\"\")","v":""},{"$f":"IF(ISTEXT(#REF!),#REF!,\"\")","v":""},{"$f":"IF(ISTEXT(#REF!),#REF!,\"\")","v":""},{"$f":"IF(ISTEXT(#REF!),#REF!,\"\")","v":""},{"$f":"IF(ISTEXT(#REF!),#REF!,\"\")","v":""},null,{"$f":"IF(ISTEXT(#REF!),#REF!,\"\")","v":""},{"$f":"IF(ISTEXT(#REF!),#REF!,\"\")","v":""},{"$f":"IF(ISNUMBER(#REF!),#REF!,\"\")","v":""},{"$f":"IF(ISTEXT(#REF!),#REF!,\"\")","v":""},null,{"$f":"IF(ISTEXT(#REF!),#REF!,\"\")","v":""},{"$f":"IF(ISTEXT(#REF!),#REF!,\"\")","v":""},{"$f":"IF(ISTEXT(#REF!),#REF!,\"\")","v":""},{"$f":"IF(ISTEXT(#REF!),#REF!,\"\")","v":""},{"$f":"IF(ISTEXT(#REF!),#REF!,\"\")","v":""},{"$f":"IF(ISTEXT(#REF!),#REF!,\"\")","v":""},{"$f":"IF(ISTEXT(#REF!),#REF!,\"\")","v":""},null,{"$f":"IF(ISTEXT(#REF!),#REF!,\"\")","v":""},{"$f":"IF(ISTEXT(#REF!),#REF!,\"\")","v":""},{"$f":"IF(ISNUMBER(#REF!),#REF!,\"\")","v":""},{"$f":"IF(ISTEXT(#REF!),#REF!,\"\")","v":""},null,{"$f":"IF(ISTEXT(#REF!),#REF!,\"\")","v":""},{"$f":"IF(ISTEXT(#REF!),#REF!,\"\")","v":""},{"$f":"IF(ISTEXT(#REF!),#REF!,\"\")","v":""},{"$f":"IF(ISTEXT(#REF!),#REF!,\"\")","v":""},null,{"$f":"IF(ISTEXT(#REF!),#REF!,\"\")","v":""},{"$f":"IF(ISTEXT(#REF!),#REF!,\"\")","v":""},null,{"$f":"IF(ISTEXT(#REF!),#REF!,\"\")","v":""},{"$f":"IF(ISTEXT(#REF!),#REF!,\"\")","v":""},{"$f":"IF(ISNUMBER(#REF!),#REF!,\"\")","v":""},{"$f":"IF(ISTEXT(#REF!),#REF!,\"\")","v":""}]
[null,null,{"$f":"IF(ISTEXT(#REF!),#REF!,\"\")","v":""},{"$f":"IF(ISTEXT(#REF!),#REF!,\"\")","v":""},{"$f":"IF(ISTEXT(#REF!),#REF!,\"\")","v":""},{"$f":"IF(ISTEXT(#REF!),#REF!,\"\")","v":""},{"$f":"IF(ISTEXT(#REF!),#REF!,\"\")","v":""},{"$f":"IF(ISTEXT(#REF!),#REF!,\"\")","v":""},{"$f":"IF(ISTEXT(#REF!),#REF!,\"\")","v":""},null,{"$f":"IF(ISTEXT(#REF!),#REF!,\"\")","v":""},{"$f":"IF(ISTEXT(#REF!),#REF!,\"\")","v":""},{"$f":"IF(ISNUMBER(#REF!),#REF!,\"\")","v":""},{"$f":"IF(ISTEXT(#REF!),#REF!,\"\")","v":""},null,{"$f":"IF(ISTEXT(#REF!),#REF!,\"\")","v":""},{"$f":"IF(ISTEXT(#REF!),#REF!,\"\")","v":""},{"$f":"IF(ISTEXT(#REF!),#REF!,\"\")","v":""},{"$f":"IF(ISTEXT(#REF!),#REF!,\"\")","v":""},{"$f":"IF(ISTEXT(#REF!),#REF!,\"\")","v":""},{"$f":"IF(ISTEXT(#REF!),#REF!,\"\")","v":""},{"$f":"IF(ISTEXT(#REF!),#REF!,\"\")","v":""},null,{"$f":"IF(ISTEXT(#REF!),#REF!,\"\")","v":""},{"$f":"IF(ISTEXT(#REF!),#REF!,\"\")","v":""},{"$f":"IF(ISNUMBER(#REF!),#REF!,\"\")","v":""},{"$f":"IF(ISTEXT(#REF!),#REF!,\"\")","v":""},{"$f":"IF(ISTEXT(#REF!),#REF!,\"\")","v":""},{"$f":"IF(ISTEXT(#REF!),#REF!,\"\")","v":""},{"$f":"IF(ISTEXT(#REF!),#REF!,\"\")","v":""},{"$f":"IF(ISTEXT(#REF!),#REF!,\"\")","v":""},{"$f":"IF(ISTEXT(#REF!),#REF!,\"\")","v":""},{"$f":"IF(ISTEXT(#REF!),#REF!,\"\")","v":""},{"$f":"IF(ISTEXT(#REF!),#REF!,\"\")","v":""},null,{"$f":"IF(ISTEXT(#REF!),#REF!,\"\")","v":""},{"$f":"IF(ISTEXT(#REF!),#REF!,\"\")","v":""},{"$f":"IF(ISNUMBER(#REF!),#REF!,\"\")","v":""},{"$f":"IF(ISTEXT(#REF!),#REF!,\"\")","v":""},null,{"$f":"IF(ISTEXT(#REF!),#REF!,\"\")","v":""},{"$f":"IF(ISTEXT(#REF!),#REF!,\"\")","v":""},{"$f":"IF(ISTEXT(#REF!),#REF!,\"\")","v":""},{"$f":"IF(ISTEXT(#REF!),#REF!,\"\")","v":""},{"$f":"IF(ISTEXT(#REF!),#REF!,\"\")","v":""},{"$f":"IF(ISTEXT(#REF!),#REF!,\"\")","v":""},{"$f":"IF(ISTEXT(#REF!),#REF!,\"\")","v":""},null,{"$f":"IF(ISTEXT(#REF!),#REF!,\"\")","v":""},{"$f":"IF(ISTEXT(#REF!),#REF!,\"\")","v":""},{"$f":"IF(ISNUMBER(#REF!),#REF!,\"\")","v":""},{"$f":"IF(ISTEXT(#REF!),#REF!,\"\")","v":""},null,{"$f":"IF(ISTEXT(#REF!),#REF!,\"\")","v":""},{"$f":"IF(ISTEXT(#REF!),#REF!,\"\")","v":""},{"$f":"IF(ISTEXT(#REF!),#REF!,\"\")","v":""},{"$f":"IF(ISTEXT(#REF!),#REF!,\"\")","v":""},null,{"$f":"IF(ISTEXT(#REF!),#REF!,\"\")","v":""},{"$f":"IF(ISTEXT(#REF!),#REF!,\"\")","v":""},null,{"$f":"IF(ISTEXT(#REF!),#REF!,\"\")","v":""},{"$f":"IF(ISTEXT(#REF!),#REF!,\"\")","v":""},{"$f":"IF(ISNUMBER(#REF!),#REF!,\"\")","v":""},{"$f":"IF(ISTEXT(#REF!),#REF!,\"\")","v":""}]
[null,null,{"$f":"IF(ISTEXT(#REF!),#REF!,\"\")","v":""},{"$f":"IF(ISTEXT(#REF!),#REF!,\"\")","v":""},{"$f":"IF(ISTEXT(#REF!),#REF!,\"\")","v":""},{"$f":"IF(ISTEXT(#REF!),#REF!,\"\")","v":""},{"$f":"IF(ISTEXT(#REF!),#REF!,\"\")","v":""},{"$f":"IF(ISTEXT(#REF!),#REF!,\"\")","v":""},{"$f":"IF(ISTEXT(#REF!),#REF!,\"\")","v":""},null,{"$f":"IF(ISTEXT(#REF!),#REF!,\"\")","v":""},{"$f":"IF(ISTEXT(#REF!),#REF!,\"\")","v":""},{"$f":"IF(ISNUMBER(#REF!),#REF!,\"\")","v":""},{"$f":"IF(ISTEXT(#REF!),#REF!,\"\")","v":""},null,{"$f":"IF(ISTEXT(#REF!),#REF!,\"\")","v":""},{"$f":"IF(ISTEXT(#REF!),#REF!,\"\")","v":""},{"$f":"IF(ISTEXT(#REF!),#REF!,\"\")","v":""},{"$f":"IF(ISTEXT(#REF!),#REF!,\"\")","v":""},{"$f":"IF(ISTEXT(#REF!),#REF!,\"\")","v":""},{"$f":"IF(ISTEXT(#REF!),#REF!,\"\")","v":""},{"$f":"IF(ISTEXT(#REF!),#REF!,\"\")","v":""},null,{"$f":"IF(ISTEXT(#REF!),#REF!,\"\")","v":""},{"$f":"IF(ISTEXT(#REF!),#REF!,\"\")","v":""},{"$f":"IF(ISNUMBER(#REF!),#REF!,\"\")","v":""},{"$f":"IF(ISTEXT(#REF!),#REF!,\"\")","v":""},{"$f":"IF(ISTEXT(#REF!),#REF!,\"\")","v":""},{"$f":"IF(ISTEXT(#REF!),#REF!,\"\")","v":""},{"$f":"IF(ISTEXT(#REF!),#REF!,\"\")","v":""},{"$f":"IF(ISTEXT(#REF!),#REF!,\"\")","v":""},{"$f":"IF(ISTEXT(#REF!),#REF!,\"\")","v":""},{"$f":"IF(ISTEXT(#REF!),#REF!,\"\")","v":""},{"$f":"IF(ISTEXT(#REF!),#REF!,\"\")","v":""},null,{"$f":"IF(ISTEXT(#REF!),#REF!,\"\")","v":""},{"$f":"IF(ISTEXT(#REF!),#REF!,\"\")","v":""},{"$f":"IF(ISNUMBER(#REF!),#REF!,\"\")","v":""},{"$f":"IF(ISTEXT(#REF!),#REF!,\"\")","v":""},null,{"$f":"IF(ISTEXT(#REF!),#REF!,\"\")","v":""},{"$f":"IF(ISTEXT(#REF!),#REF!,\"\")","v":""},{"$f":"IF(ISTEXT(#REF!),#REF!,\"\")","v":""},{"$f":"IF(ISTEXT(#REF!),#REF!,\"\")","v":""},{"$f":"IF(ISTEXT(#REF!),#REF!,\"\")","v":""},{"$f":"IF(ISTEXT(#REF!),#REF!,\"\")","v":""},{"$f":"IF(ISTEXT(#REF!),#REF!,\"\")","v":""},null,{"$f":"IF(ISTEXT(#REF!),#REF!,\"\")","v":""},{"$f":"IF(ISTEXT(#REF!),#REF!,\"\")","v":""},{"$f":"IF(ISNUMBER(#REF!),#REF!,\"\")","v":""},{"$f":"IF(ISTEXT(#REF!),#REF!,\"\")","v":""},null,{"$f":"IF(ISTEXT(#REF!),#REF!,\"\")","v":""},{"$f":"IF(ISTEXT(#REF!),#REF!,\"\")","v":""},{"$f":"IF(ISTEXT(#REF!),#REF!,\"\")","v":""},{"$f":"IF(ISTEXT(#REF!),#REF!,\"\")","v":""},null,{"$f":"IF(ISTEXT(#REF!),#REF!,\"\")","v":""},{"$f":"IF(ISTEXT(#REF!),#REF!,\"\")","v":""},null,{"$f":"IF(ISTEXT(#REF!),#REF!,\"\")","v":""},{"$f":"IF(ISTEXT(#REF!),#REF!,\"\")","v":""},{"$f":"IF(ISNUMBER(#REF!),#REF!,\"\")","v":""},{"$f":"IF(ISTEXT(#REF!),#REF!,\"\")","v":""}]
[null,null,null,null,null,{"$f":"IF(ISTEXT(#REF!),#REF!,\"\")","v":""},null,null,null,null,null,null,{"$f":"IF(ISNUMBER(#REF!),#REF!,\"\")","v":""},null,null,null,null,null,{"$f":"IF(ISTEXT(#REF!),#REF!,\"\")","v":""},null,null,null,null,null,null,{"$f":"IF(ISNUMBER(#REF!),#REF!,\"\")","v":""},null,null,null,null,null,null,null,null,null,null,null,{"$f":"IF(ISNUMBER(#REF!),#REF!,\"\")","v":""},null,null,null,null,null,{"$f":"IF(ISTEXT(#REF!),#REF!,\"\")","v":""},null,null,null,null,null,null,{"$f":"IF(ISNUMBER(#REF!),#REF!,\"\")","v":""},null,null,null,null,null,null,null,null,null,null,null,null,{"$f":"IF(ISNUMBER(#REF!),#REF!,\"\")","v":""}]
[null,null,null,null,null,{"$f":"IF(ISTEXT(#REF!),#REF!,\"\")","v":""},null,null,null,null,null,null,{"$f":"IF(ISNUMBER(#REF!),#REF!,\"\")","v":""},null,null,null,null,null,{"$f":"IF(ISTEXT(#REF!),#REF!,\"\")","v":""},null,null,null,null,null,null,{"$f":"IF(ISNUMBER(#REF!),#REF!,\"\")","v":""},null,null,null,null,null,null,null,null,null,null,null,{"$f":"IF(ISNUMBER(#REF!),#REF!,\"\")","v":""},null,null,null,null,null,{"$f":"IF(ISTEXT(#REF!),#REF!,\"\")","v":""},null,null,null,null,null,null,{"$f":"IF(ISNUMBER(#REF!),#REF!,\"\")","v":""},null,null,null,null,null,null,null,null,null,null,null,null,{"$f":"IF(ISNUMBER(#REF!),#REF!,\"\")","v":""}]
[null,null,null,null,null,{"$f":"IF(ISTEXT(#REF!),#REF!,\"\")","v":""},null,null,null,null,null,null,{"$f":"IF(ISNUMBER(#REF!),#REF!,\"\")","v":""},null,null,null,null,null,{"$f":"IF(ISTEXT(#REF!),#REF!,\"\")","v":""},null,null,null,null,null,null,{"$f":"IF(ISNUMBER(#REF!),#REF!,\"\")","v":""},null,null,null,null,null,null,null,null,null,null,null,{"$f":"IF(ISNUMBER(#REF!),#REF!,\"\")","v":""},null,null,null,null,null,{"$f":"IF(ISTEXT(#REF!),#REF!,\"\")","v":""},null,null,null,null,null,null,{"$f":"IF(ISNUMBER(#REF!),#REF!,\"\")","v":""},null,null,null,null,null,null,null,null,null,null,null,null,{"$f":"IF(ISNUMBER(#REF!),#REF!,\"\")","v":""}]
[null,null,null,null,null,{"$f":"IF(ISTEXT(#REF!),#REF!,\"\")","v":""},null,null,null,null,null,null,{"$f":"IF(ISNUMBER(#REF!),#REF!,\"\")","v":""},null,null,null,null,null,{"$f":"IF(ISTEXT(#REF!),#REF!,\"\")","v":""},null,null,null,null,null,null,{"$f":"IF(ISNUMBER(#REF!),#REF!,\"\")","v":""},null,null,null,null,null,null,null,null,null,null,null,{"$f":"IF(ISNUMBER(#REF!),#REF!,\"\")","v":""},null,null,null,null,null,null,null,null,null,null,null,null,{"$f":"IF(ISNUMBER(#REF!),#REF!,\"\")","v":""},null,null,null,null,null,null,null,null,null,null,null,null,{"$f":"IF(ISNUMBER(#REF!),#REF!,\"\")","v":""}]
[null,null,null,null,null,{"$f":"IF(ISTEXT(#REF!),#REF!,\"\")","v":""},null,null,null,null,null,null,{"$f":"IF(ISNUMBER(#REF!),#REF!,\"\")","v":""},null,null,null,null,null,{"$f":"IF(ISTEXT(#REF!),#REF!,\"\")","v":""},null,null,null,null,null,null,{"$f":"IF(ISNUMBER(#REF!),#REF!,\"\")","v":""},null,null,null,null,null,null,null,null,null,null,null,{"$f":"IF(ISNUMBER(#REF!),#REF!,\"\")","v":""},null,null,null,null,null,null,null,null,null,null,null,null,{"$f":"IF(ISNUMBER(#REF!),#REF!,\"\")","v":""},null,null,null,null,null,null,null,null,null,null,null,null,{"$f":"IF(ISNUMBER(#REF!),#REF!,\"\")","v":""}]
[null,null,null,null,null,{"$f":"IF(ISTEXT(#REF!),#REF!,\"\")","v":""},null,null,null,null,null,null,{"$f":"IF(ISNUMBER(#REF!),#REF!,\"\")","v":""},null,null,null,null,null,{"$f":"IF(ISTEXT(#REF!),#REF!,\"\")","v":""},null,null,null,null,null,null,{"$f":"IF(ISNUMBER(#REF!),#REF!,\"\")","v":""},null,null,null,null,null,null,null,null,null,null,null,{"$f":"IF(ISNUMBER(#REF!),#REF!,\"\")","v":""},null,null,null,null,null,null,null,null,null,null,null,null,{"$f":"IF(ISNUMBER(#REF!),#REF!,\"\")","v":""},null,null,null,null,null,null,null,null,null,null,null,null,{"$f":"IF(ISNUMBER(#REF!),#REF!,\"\")","v":""}]
[null,null,null,null,null,{"$f":"IF(ISTEXT(#REF!),#REF!,\"\")","v":""},null,null,null,null,null,null,{"$f":"IF(ISNUMBER(#REF!),#REF!,\"\")","v":""},null,null,null,null,null,{"$f":"IF(ISTEXT(#REF!),#REF!,\"\")","v":""},null,null,null,null,null,null,{"$f":"IF(ISNUMBER(#REF!),#REF!,\"\")","v":""},null,null,null,null,null,null,null,null,null,null,null,{"$f":"IF(ISNUMBER(#REF!),#REF!,\"\")","v":""},null,null,null,null,null,null,null,null,null,null,null,null,{"$f":"IF(ISNUMBER(#REF!),#REF!,\"\")","v":""},null,null,null,null,null,null,null,null,null,null,null,null,{"$f":"IF(ISNUMBER(#REF!),#REF!,\"\")","v":""}]
[null,null,null,null,null,{"$f":"IF(ISTEXT(#REF!),#REF!,\"\")","v":""},null,null,null,null,null,null,{"$f":"IF(ISNUMBER(#REF!),#REF!,\"\")","v":""},null,null,null,null,null,{"$f":"IF(ISTEXT(#REF!),#REF!,\"\")","v":""},null,null,null,null,null,null,{"$f":"IF(ISNUMBER(#REF!),#REF!,\"\")","v":""},null,null,null,null,null,null,null,null,null,null,null,{"$f":"IF(ISNUMBER(#REF!),#REF!,\"\")","v":""},null,null,null,null,null,null,null,null,null,null,null,null,{"$f":"IF(ISNUMBER(#REF!),#REF!,\"\")","v":""},null,null,null,null,null,null,null,null,null,null,null,null,{"$f":"IF(ISNUMBER(#REF!),#REF!,\"\")","v":""}]
[null,null,null,null,null,{"$f":"IF(ISTEXT(#REF!),#REF!,\"\")","v":""},null,null,null,null,null,null,{"$f":"IF(ISNUMBER(#REF!),#REF!,\"\")","v":""},null,null,null,null,null,{"$f":"IF(ISTEXT(#REF!),#REF!,\"\")","v":""},null,null,null,null,null,null,{"$f":"IF(ISNUMBER(#REF!),#REF!,\"\")","v":""},null,null,null,null,null,null,null,null,null,null,null,{"$f":"IF(ISNUMBER(#REF!),#REF!,\"\")","v":""},null,null,null,null,null,null,null,null,null,null,null,null,{"$f":"IF(ISNUMBER(#REF!),#REF!,\"\")","v":""},null,null,null,null,null,null,null,null,null,null,null,null,{"$f":"IF(ISNUMBER(#REF!),#REF!,\"\")","v":""}]
[null,null,null,null,null,null,null,null,null,null,null,null,{"$f":"IF(ISNUMBER(#REF!),#REF!,\"\")","v":""},null,null,null,null,null,{"$f":"IF(ISTEXT(#REF!),#REF!,\"\")","v":""},null,null,null,null,null,null,{"$f":"IF(ISNUMBER(#REF!),#REF!,\"\")","v":""},null,null,null,null,null,null,null,null,null,null,null,{"$f":"IF(ISNUMBER(#REF!),#REF!,\"\")","v":""},null,null,null,null,null,null,null,null,null,null,null,null,{"$f":"IF(ISNUMBER(#REF!),#REF!,\"\")","v":""},null,null,null,null,null,null,null,null,null,null,null,null,{"$f":"IF(ISNUMBER(#REF!),#REF!,\"\")","v":""}]
[null,null,null,null,null,null,null,null,null,null,null,null,{"$f":"IF(ISNUMBER(#REF!),#REF!,\"\")","v":""},null,null,null,null,null,{"$f":"IF(ISTEXT(#REF!),#REF!,\"\")","v":""},null,null,null,null,null,null,{"$f":"IF(ISNUMBER(#REF!),#REF!,\"\")","v":""},null,null,null,null,null,null,null,null,null,null,null,{"$f":"IF(ISNUMBER(#REF!),#REF!,\"\")","v":""},null,null,null,null,null,null,null,null,null,null,null,null,{"$f":"IF(ISNUMBER(#REF!),#REF!,\"\")","v":""},null,null,null,null,null,null,null,null,null,null,null,null,{"$f":"IF(ISNUMBER(#REF!),#REF!,\"\")","v":""}]
[null,null,null,null,null,null,null,null,null,null,null,null,{"$f":"IF(ISNUMBER(#REF!),#REF!,\"\")","v":""},null,null,null,null,null,{"$f":"IF(ISTEXT(#REF!),#REF!,\"\")","v":""},null,null,null,null,null,null,{"$f":"IF(ISNUMBER(#REF!),#REF!,\"\")","v":""},null,null,null,null,null,null,null,null,null,null,null,{"$f":"IF(ISNUMBER(#REF!),#REF!,\"\")","v":""},null,null,null,null,null,null,null,null,null,null,null,null,{"$f":"IF(ISNUMBER(#REF!),#REF!,\"\")","v":""},null,null,null,null,null,null,null,null,null,null,null,null,{"$f":"IF(ISNUMBER(#REF!),#REF!,\"\")","v":""}]
[null,null,null,null,null,null,null,null,null,null,null,null,{"$f":"IF(ISNUMBER(#REF!),#REF!,\"\")","v":""},null,null,null,null,null,{"$f":"IF(ISTEXT(#REF!),#REF!,\"\")","v":""},null,null,null,null,null,null,{"$f":"IF(ISNUMBER(#REF!),#REF!,\"\")","v":""},null,null,null,null,null,null,null,null,null,null,null,{"$f":"IF(ISNUMBER(#REF!),#REF!,\"\")","v":""},null,null,null,null,null,null,null,null,null,null,null,null,{"$f":"IF(ISNUMBER(#REF!),#REF!,\"\")","v":""},null,null,null,null,null,null,null,null,null,null,null,null,{"$f":"IF(ISNUMBER(#REF!),#REF!,\"\")","v":""}]
[null,null,null,null,null,null,null,null,null,null,null,null,{"$f":"IF(ISNUMBER(#REF!),#REF!,\"\")","v":""},null,null,null,null,null,{"$f":"IF(ISTEXT(#REF!),#REF!,\"\")","v":""},null,null,null,null,null,null,{"$f":"IF(ISNUMBER(#REF!),#REF!,\"\")","v":""},null,null,null,null,null,null,null,null,null,null,null,{"$f":"IF(ISNUMBER(#REF!),#REF!,\"\")","v":""},null,null,null,null,null,null,null,null,null,null,null,null,{"$f":"IF(ISNUMBER(#REF!),#REF!,\"\")","v":""},null,null,null,null,null,null,null,null,null,null,null,null,{"$f":"IF(ISNUMBER(#REF!),#REF!,\"\")","v":""}]
[null,null,null,null,null,null,null,null,null,null,null,null,{"$f":"IF(ISNUMBER(#REF!),#REF!,\"\")","v":""},null,null,null,null,null,{"$f":"IF(ISTEXT(#REF!),#REF!,\"\")","v":""},null,null,null,null,null,null,{"$f":"IF(ISNUMBER(#REF!),#REF!,\"\")","v":""},null,null,null,null,null,null,null,null,null,null,null,{"$f":"IF(ISNUMBER(#REF!),#REF!,\"\")","v":""},null,null,null,null,null,null,null,null,null,null,null,null,{"$f":"IF(ISNUMBER(#REF!),#REF!,\"\")","v":""},null,null,null,null,null,null,null,null,null,null,null,null,{"$f":"IF(ISNUMBER(#REF!),#REF!,\"\")","v":""}]
[null,null,null,null,null,null,null,null,null,null,null,null,{"$f":"IF(ISNUMBER(#REF!),#REF!,\"\")","v":""},null,null,null,null,null,{"$f":"IF(ISTEXT(#REF!),#REF!,\"\")","v":""},null,null,null,null,null,null,{"$f":"IF(ISNUMBER(#REF!),#REF!,\"\")","v":""},null,null,null,null,null,null,null,null,null,null,null,{"$f":"IF(ISNUMBER(#REF!),#REF!,\"\")","v":""},null,null,null,null,null,null,null,null,null,null,null,null,{"$f":"IF(ISNUMBER(#REF!),#REF!,\"\")","v":""},null,null,null,null,null,null,null,null,null,null,null,null,{"$f":"IF(ISNUMBER(#REF!),#REF!,\"\")","v":""}]
[null,null,null,null,null,null,null,null,null,null,null,null,{"$f":"IF(ISNUMBER(#REF!),#REF!,\"\")","v":""},null,null,null,null,null,{"$f":"IF(ISTEXT(#REF!),#REF!,\"\")","v":""},null,null,null,null,null,null,{"$f":"IF(ISNUMBER(#REF!),#REF!,\"\")","v":""},null,null,null,null,null,null,null,null,null,null,null,{"$f":"IF(ISNUMBER(#REF!),#REF!,\"\")","v":""},null,null,null,null,null,null,null,null,null,null,null,null,{"$f":"IF(ISNUMBER(#REF!),#REF!,\"\")","v":""},null,null,null,null,null,null,null,null,null,null,null,null,{"$f":"IF(ISNUMBER(#REF!),#REF!,\"\")","v":""}]
[null,null,null,null,null,null,null,null,null,null,null,null,{"$f":"IF(ISNUMBER(#REF!),#REF!,\"\")","v":""},null,null,null,null,null,{"$f":"IF(ISTEXT(#REF!),#REF!,\"\")","v":""},null,null,null,null,null,null,{"$f":"IF(ISNUMBER(#REF!),#REF!,\"\")","v":""},null,null,null,null,null,null,null,null,null,null,null,{"$f":"IF(ISNUMBER(#REF!),#REF!,\"\")","v":""},null,null,null,null,null,null,null,null,null,null,null,null,{"$f":"IF(ISNUMBER(#REF!),#REF!,\"\")","v":""},null,null,null,null,null,null,null,null,null,null,null,null,{"$f":"IF(ISNUMBER(#REF!),#REF!,\"\")","v":""}]
[null,null,null,null,null,null,null,null,null,null,null,null,{"$f":"IF(ISNUMBER(#REF!),#REF!,\"\")","v":""},null,null,null,null,null,{"$f":"IF(ISTEXT(#REF!),#REF!,\"\")","v":""},null,null,null,null,null,null,{"$f":"IF(ISNUMBER(#REF!),#REF!,\"\")","v":""},null,null,null,null,null,null,null,null,null,null,null,{"$f":"IF(ISNUMBER(#REF!),#REF!,\"\")","v":""},null,null,null,null,null,null,null,null,null,null,null,null,{"$f":"IF(ISNUMBER(#REF!),#REF!,\"\")","v":""},null,null,null,null,null,null,null,null,null,null,null,null,{"$f":"IF(ISNUMBER(#REF!),#REF!,\"\")","v":""}]
[null,null,null,null,null,null,null,null,null,null,null,null,{"$f":"IF(ISNUMBER(#REF!),#REF!,\"\")","v":""},null,null,null,null,null,{"$f":"IF(ISTEXT(#REF!),#REF!,\"\")","v":""},null,null,null,null,null,null,{"$f":"IF(ISNUMBER(#REF!),#REF!,\"\")","v":""},null,null,null,null,null,null,null,null,null,null,null,{"$f":"IF(ISNUMBER(#REF!),#REF!,\"\")","v":""},null,null,null,null,null,null,null,null,null,null,null,null,{"$f":"IF(ISNUMBER(#REF!),#REF!,\"\")","v":""},null,null,null,null,null,null,null,null,null,null,null,null,{"$f":"IF(ISNUMBER(#REF!),#REF!,\"\")","v":""}]
[null,null,null,null,null,null,null,null,null,null,null,null,{"$f":"IF(ISNUMBER(#REF!),#REF!,\"\")","v":""},null,null,null,null,null,{"$f":"IF(ISTEXT(#REF!),#REF!,\"\")","v":""},null,null,null,null,null,null,{"$f":"IF(ISNUMBER(#REF!),#REF!,\"\")","v":""},null,null,null,null,null,null,null,null,null,null,null,{"$f":"IF(ISNUMBER(#REF!),#REF!,\"\")","v":""},null,null,null,null,null,null,null,null,null,null,null,null,{"$f":"IF(ISNUMBER(#REF!),#REF!,\"\")","v":""},null,null,null,null,null,null,null,null,null,null,null,null,{"$f":"IF(ISNUMBER(#REF!),#REF!,\"\")","v":""}]
[null,null,null,null,null,null,null,null,null,null,null,null,{"$f":"IF(ISNUMBER(#REF!),#REF!,\"\")","v":""},null,null,null,null,null,{"$f":"IF(ISTEXT(#REF!),#REF!,\"\")","v":""},null,null,null,null,null,null,{"$f":"IF(ISNUMBER(#REF!),#REF!,\"\")","v":""},null,null,null,null,null,null,null,null,null,null,null,{"$f":"IF(ISNUMBER(#REF!),#REF!,\"\")","v":""},null,null,null,null,null,null,null,null,null,null,null,null,{"$f":"IF(ISNUMBER(#REF!),#REF!,\"\")","v":""},null,null,null,null,null,null,null,null,null,null,null,null,{"$f":"IF(ISNUMBER(#REF!),#REF!,\"\")","v":""}]
[null,null,null,null,null,null,null,null,null,null,null,null,{"$f":"IF(ISNUMBER(#REF!),#REF!,\"\")","v":""},null,null,null,null,null,{"$f":"IF(ISTEXT(#REF!),#REF!,\"\")","v":""},null,null,null,null,null,null,{"$f":"IF(ISNUMBER(#REF!),#REF!,\"\")","v":""},null,null,null,null,null,null,null,null,null,null,null,{"$f":"IF(ISNUMBER(#REF!),#REF!,\"\")","v":""},null,null,null,null,null,null,null,null,null,null,null,null,{"$f":"IF(ISNUMBER(#REF!),#REF!,\"\")","v":""},null,null,null,null,null,null,null,null,null,null,null,null,{"$f":"IF(ISNUMBER(#REF!),#REF!,\"\")","v":""}]
[null,null,null,null,null,null,null,null,null,null,null,null,{"$f":"IF(ISNUMBER(#REF!),#REF!,\"\")","v":""},null,null,null,null,null,{"$f":"IF(ISTEXT(#REF!),#REF!,\"\")","v":""},null,null,null,null,null,null,{"$f":"IF(ISNUMBER(#REF!),#REF!,\"\")","v":""},null,null,null,null,null,null,null,null,null,null,null,{"$f":"IF(ISNUMBER(#REF!),#REF!,\"\")","v":""},null,null,null,null,null,null,null,null,null,null,null,null,{"$f":"IF(ISNUMBER(#REF!),#REF!,\"\")","v":""},null,null,null,null,null,null,null,null,null,null,null,null,{"$f":"IF(ISNUMBER(#REF!),#REF!,\"\")","v":""}]
[null,null,null,null,null,null,null,null,null,null,null,null,{"$f":"IF(ISNUMBER(#REF!),#REF!,\"\")","v":""},null,null,null,null,null,{"$f":"IF(ISTEXT(#REF!),#REF!,\"\")","v":""},null,null,null,null,null,null,{"$f":"IF(ISNUMBER(#REF!),#REF!,\"\")","v":""},null,null,null,null,null,null,null,null,null,null,null,{"$f":"IF(ISNUMBER(#REF!),#REF!,\"\")","v":""},null,null,null,null,null,null,null,null,null,null,null,null,{"$f":"IF(ISNUMBER(#REF!),#REF!,\"\")","v":""},null,null,null,null,null,null,null,null,null,null,null,null,{"$f":"IF(ISNUMBER(#REF!),#REF!,\"\")","v":""}]
[null,null,null,null,null,null,null,null,null,null,null,null,{"$f":"IF(ISNUMBER(#REF!),#REF!,\"\")","v":""},null,null,null,null,null,{"$f":"IF(ISTEXT(#REF!),#REF!,\"\")","v":""},null,null,null,null,null,null,{"$f":"IF(ISNUMBER(#REF!),#REF!,\"\")","v":""},null,null,null,null,null,null,null,null,null,null,null,{"$f":"IF(ISNUMBER(#REF!),#REF!,\"\")","v":""},null,null,null,null,null,null,null,null,null,null,null,null,{"$f":"IF(ISNUMBER(#REF!),#REF!,\"\")","v":""},null,null,null,null,null,null,null,null,null,null,null,null,{"$f":"IF(ISNUMBER(#REF!),#REF!,\"\")","v":""}]
[null,null,null,null,null,null,null,null,null,null,null,null,{"$f":"IF(ISNUMBER(#REF!),#REF!,\"\")","v":""},null,null,null,null,null,{"$f":"IF(ISTEXT(#REF!),#REF!,\"\")","v":""},null,null,null,null,null,null,{"$f":"IF(ISNUMBER(#REF!),#REF!,\"\")","v":""},null,null,null,null,null,null,null,null,null,null,null,{"$f":"IF(ISNUMBER(#REF!),#REF!,\"\")","v":""},null,null,null,null,null,null,null,null,null,null,null,null,{"$f":"IF(ISNUMBER(#REF!),#REF!,\"\")","v":""},null,null,null,null,null,null,null,null,null,null,null,null,{"$f":"IF(ISNUMBER(#REF!),#REF!,\"\")","v":""}]
[null,null,null,null,null,null,null,null,null,null,null,null,{"$f":"IF(ISNUMBER(#REF!),#REF!,\"\")","v":""},null,null,null,null,null,{"$f":"IF(ISTEXT(#REF!),#REF!,\"\")","v":""},null,null,null,null,null,null,{"$f":"IF(ISNUMBER(#REF!),#REF!,\"\")","v":""},null,null,null,null,null,null,null,null,null,null,null,{"$f":"IF(ISNUMBER(#REF!),#REF!,\"\")","v":""},null,null,null,null,null,null,null,null,null,null,null,null,{"$f":"IF(ISNUMBER(#REF!),#REF!,\"\")","v":""},null,null,null,null,null,null,null,null,null,null,null,null,{"$f":"IF(ISNUMBER(#REF!),#REF!,\"\")","v":""}]
[null,null,null,null,null,null,null,null,null,null,null,null,{"$f":"IF(ISNUMBER(#REF!),#REF!,\"\")","v":""},null,null,null,null,null,null,null,null,null,null,null,null,{"$f":"IF(ISNUMBER(#REF!),#REF!,\"\")","v":""},null,null,null,null,null,null,null,null,null,null,null,{"$f":"IF(ISNUMBER(#REF!),#REF!,\"\")","v":""},null,null,null,null,null,null,null,null,null,null,null,null,{"$f":"IF(ISNUMBER(#REF!),#REF!,\"\")","v":""},null,null,null,null,null,null,null,null,null,null,null,null,{"$f":"IF(ISNUMBER(#REF!),#REF!,\"\")","v":""}]
[null,null,null,null,null,null,null,null,null,null,null,null,{"$f":"IF(ISNUMBER(#REF!),#REF!,\"\")","v":""},null,null,null,null,null,null,null,null,null,null,null,null,{"$f":"IF(ISNUMBER(#REF!),#REF!,\"\")","v":""},null,null,null,null,null,null,null,null,null,null,null,{"$f":"IF(ISNUMBER(#REF!),#REF!,\"\")","v":""},null,null,null,null,null,null,null,null,null,null,null,null,{"$f":"IF(ISNUMBER(#REF!),#REF!,\"\")","v":""},null,null,null,null,null,null,null,null,null,null,null,null,{"$f":"IF(ISNUMBER(#REF!),#REF!,\"\")","v":""}]
[null,null,null,null,null,null,null,null,null,null,null,null,{"$f":"IF(ISNUMBER(#REF!),#REF!,\"\")","v":""},null,null,null,null,null,null,null,null,null,null,null,null,{"$f":"IF(ISNUMBER(#REF!),#REF!,\"\")","v":""},null,null,null,null,null,null,null,null,null,null,null,{"$f":"IF(ISNUMBER(#REF!),#REF!,\"\")","v":""},null,null,null,null,null,null,null,null,null,null,null,null,{"$f":"IF(ISNUMBER(#REF!),#REF!,\"\")","v":""},null,null,null,null,null,null,null,null,null,null,null,null,{"$f":"IF(ISNUMBER(#REF!),#REF!,\"\")","v":""}]
[null,null,null,null,null,null,null,null,null,null,null,null,{"$f":"IF(ISNUMBER(#REF!),#REF!,\"\")","v":""},null,null,null,null,null,null,null,null,null,null,null,null,{"$f":"IF(ISNUMBER(#REF!),#REF!,\"\")","v":""},null,null,null,null,null,null,null,null,null,null,null,{"$f":"IF(ISNUMBER(#REF!),#REF!,\"\")","v":""},null,null,null,null,null,null,null,null,null,null,null,null,{"$f":"IF(ISNUMBER(#REF!),#REF!,\"\")","v":""},null,null,null,null,null,null,null,null,null,null,null,null,{"$f":"IF(ISNUMBER(#REF!),#REF!,\"\")","v":""}]
[null,null,null,null,null,null,null,null,null,null,null,null,{"$f":"IF(ISNUMBER(#REF!),#REF!,\"\")","v":""},null,null,null,null,null,null,null,null,null,null,null,null,{"$f":"IF(ISNUMBER(#REF!),#REF!,\"\")","v":""},null,null,null,null,null,null,null,null,null,null,null,{"$f":"IF(ISNUMBER(#REF!),#REF!,\"\")","v":""},null,null,null,null,null,null,null,null,null,null,null,null,{"$f":"IF(ISNUMBER(#REF!),#REF!,\"\")","v":""},null,null,null,null,null,null,null,null,null,null,null,null,{"$f":"IF(ISNUMBER(#REF!),#REF!,\"\")","v":""}]
[null,null,null,null,null,null,null,null,null,null,null,null,{"$f":"IF(ISNUMBER(#REF!),#REF!,\"\")","v":""},null,null,null,null,null,null,null,null,null,null,null,null,{"$f":"IF(ISNUMBER(#REF!),#REF!,\"\")","v":""},null,null,null,null,null,null,null,null,null,null,null,{"$f":"IF(ISNUMBER(#REF!),#REF!,\"\")","v":""},null,null,null,null,null,null,null,null,null,null,null,null,{"$f":"IF(ISNUMBER(#REF!),#REF!,\"\")","v":""},null,null,null,null,null,null,null,null,null,null,null,null,{"$f":"IF(ISNUMBER(#REF!),#REF!,\"\")","v":""}]
[null,null,null,null,null,null,null,null,null,null,null,null,{"$f":"IF(ISNUMBER(#REF!),#REF!,\"\")","v":""},null,null,null,null,null,null,null,null,null,null,null,null,{"$f":"IF(ISNUMBER(#REF!),#REF!,\"\")","v":""},null,null,null,null,null,null,null,null,null,null,null,{"$f":"IF(ISNUMBER(#REF!),#REF!,\"\")","v":""},null,null,null,null,null,null,null,null,null,null,null,null,{"$f":"IF(ISNUMBER(#REF!),#REF!,\"\")","v":""},null,null,null,null,null,null,null,null,null,null,null,null,{"$f":"IF(ISNUMBER(#REF!),#REF!,\"\")","v":""}]
[null,null,null,null,null,null,null,null,null,null,null,null,{"$f":"IF(ISNUMBER(#REF!),#REF!,\"\")","v":""},null,null,null,null,null,null,null,null,null,null,null,null,{"$f":"IF(ISNUMBER(#REF!),#REF!,\"\")","v":""},null,null,null,null,null,null,null,null,null,null,null,{"$f":"IF(ISNUMBER(#REF!),#REF!,\"\")","v":""},null,null,null,null,null,null,null,null,null,null,null,null,{"$f":"IF(ISNUMBER(#REF!),#REF!,\"\")","v":""},null,null,null,null,null,null,null,null,null,null,null,null,{"$f":"IF(ISNUMBER(#REF!),#REF!,\"\")","v":""}]
[null,null,null,null,null,null,null,null,null,null,null,null,{"$f":"IF(ISNUMBER(#REF!),#REF!,\"\")","v":""},null,null,null,null,null,null,null,null,null,null,null,null,{"$f":"IF(ISNUMBER(#REF!),#REF!,\"\")","v":""},null,null,null,null,null,null,null,null,null,null,null,{"$f":"IF(ISNUMBER(#REF!),#REF!,\"\")","v":""},null,null,null,null,null,null,null,null,null,null,null,null,{"$f":"IF(ISNUMBER(#REF!),#REF!,\"\")","v":""},null,null,null,null,null,null,null,null,null,null,null,null,{"$f":"IF(ISNUMBER(#REF!),#REF!,\"\")","v":""}]
[null,null,null,null,null,null,null,null,null,null,null,null,{"$f":"IF(ISNUMBER(#REF!),#REF!,\"\")","v":""},null,null,null,null,null,null,null,null,null,null,null,null,{"$f":"IF(ISNUMBER(#REF!),#REF!,\"\")","v":""},null,null,null,null,null,null,null,null,null,null,null,{"$f":"IF(ISNUMBER(#REF!),#REF!,\"\")","v":""},null,null,null,null,null,null,null,null,null,null,null,null,{"$f":"IF(ISNUMBER(#REF!),#REF!,\"\")","v":""},null,null,null,null,null,null,null,null,null,null,null,null,{"$f":"IF(ISNUMBER(#REF!),#REF!,\"\")","v":""}]
[null,null,null,null,null,null,null,null,null,null,null,null,{"$f":"IF(ISNUMBER(#REF!),#REF!,\"\")","v":""},null,null,null,null,null,null,null,null,null,null,null,null,{"$f":"IF(ISNUMBER(#REF!),#REF!,\"\")","v":""},null,null,null,null,null,null,null,null,null,null,null,{"$f":"IF(ISNUMBER(#REF!),#REF!,\"\")","v":""},null,null,null,null,null,null,null,null,null,null,null,null,{"$f":"IF(ISNUMBER(#REF!),#REF!,\"\")","v":""},null,null,null,null,null,null,null,null,null,null,null,null,{"$f":"IF(ISNUMBER(#REF!),#REF!,\"\")","v":""}]
[null,null,null,null,null,null,null,null,null,null,null,null,{"$f":"IF(ISNUMBER(#REF!),#REF!,\"\")","v":""},null,null,null,null,null,null,null,null,null,null,null,null,{"$f":"IF(ISNUMBER(#REF!),#REF!,\"\")","v":""},null,null,null,null,null,null,null,null,null,null,null,{"$f":"IF(ISNUMBER(#REF!),#REF!,\"\")","v":""},null,null,null,null,null,null,null,null,null,null,null,null,{"$f":"IF(ISNUMBER(#REF!),#REF!,\"\")","v":""},null,null,null,null,null,null,null,null,null,null,null,null,{"$f":"IF(ISNUMBER(#REF!),#REF!,\"\")","v":""}]
[null,null,null,null,null,null,null,null,null,null,null,null,{"$f":"IF(ISNUMBER(#REF!),#REF!,\"\")","v":""},null,null,null,null,null,null,null,null,null,null,null,null,{"$f":"IF(ISNUMBER(#REF!),#REF!,\"\")","v":""},null,null,null,null,null,null,null,null,null,null,null,{"$f":"IF(ISNUMBER(#REF!),#REF!,\"\")","v":""},null,null,null,null,null,null,null,null,null,null,null,null,{"$f":"IF(ISNUMBER(#REF!),#REF!,\"\")","v":""},null,null,null,null,null,null,null,null,null,null,null,null,{"$f":"IF(ISNUMBER(#REF!),#REF!,\"\")","v":""}]
[null,null,null,null,null,null,null,null,null,null,null,null,{"$f":"IF(ISNUMBER(#REF!),#REF!,\"\")","v":""},null,null,null,null,null,null,null,null,null,null,null,null,{"$f":"IF(ISNUMBER(#REF!),#REF!,\"\")","v":""},null,null,null,null,null,null,null,null,null,null,null,{"$f":"IF(ISNUMBER(#REF!),#REF!,\"\")","v":""},null,null,null,null,null,null,null,null,null,null,null,null,{"$f":"IF(ISNUMBER(#REF!),#REF!,\"\")","v":""},null,null,null,null,null,null,null,null,null,null,null,null,{"$f":"IF(ISNUMBER(#REF!),#REF!,\"\")","v":""}]
[null,null,null,null,null,null,null,null,null,null,null,null,{"$f":"IF(ISNUMBER(#REF!),#REF!,\"\")","v":""},null,null,null,null,null,null,null,null,null,null,null,null,{"$f":"IF(ISNUMBER(#REF!),#REF!,\"\")","v":""},null,null,null,null,null,null,null,null,null,null,null,{"$f":"IF(ISNUMBER(#REF!),#REF!,\"\")","v":""},null,null,null,null,null,null,null,null,null,null,null,null,{"$f":"IF(ISNUMBER(#REF!),#REF!,\"\")","v":""},null,null,null,null,null,null,null,null,null,null,null,null,{"$f":"IF(ISNUMBER(#REF!),#REF!,\"\")","v":""}]
[null,null,null,null,null,null,null,null,null,null,null,null,{"$f":"IF(ISNUMBER(#REF!),#REF!,\"\")","v":""},null,null,null,null,null,null,null,null,null,null,null,null,{"$f":"IF(ISNUMBER(#REF!),#REF!,\"\")","v":""},null,null,null,null,null,null,null,null,null,null,null,{"$f":"IF(ISNUMBER(#REF!),#REF!,\"\")","v":""},null,null,null,null,null,null,null,null,null,null,null,null,{"$f":"IF(ISNUMBER(#REF!),#REF!,\"\")","v":""},null,null,null,null,null,null,null,null,null,null,null,null,{"$f":"IF(ISNUMBER(#REF!),#REF!,\"\")","v":""}]
[null,null,null,null,null,null,null,null,null,null,null,null,{"$f":"IF(ISNUMBER(#REF!),#REF!,\"\")","v":""},null,null,null,null,null,null,null,null,null,null,null,null,{"$f":"IF(ISNUMBER(#REF!),#REF!,\"\")","v":""},null,null,null,null,null,null,null,null,null,null,null,{"$f":"IF(ISNUMBER(#REF!),#REF!,\"\")","v":""},null,null,null,null,null,null,null,null,null,null,null,null,{"$f":"IF(ISNUMBER(#REF!),#REF!,\"\")","v":""},null,null,null,null,null,null,null,null,null,null,null,null,{"$f":"IF(ISNUMBER(#REF!),#REF!,\"\")","v":""}]
[null,null,null,null,null,null,null,null,null,null,null,null,{"$f":"IF(ISNUMBER(#REF!),#REF!,\"\")","v":""},null,null,null,null,null,null,null,null,null,null,null,null,{"$f":"IF(ISNUMBER(#REF!),#REF!,\"\")","v":""},null,null,null,null,null,null,null,null,null,null,null,{"$f":"IF(ISNUMBER(#REF!),#REF!,\"\")","v":""},null,null,null,null,null,null,null,null,null,null,null,null,{"$f":"IF(ISNUMBER(#REF!),#REF!,\"\")","v":""},null,null,null,null,null,null,null,null,null,null,null,null,{"$f":"IF(ISNUMBER(#REF!),#REF!,\"\")","v":""}]
[null,null,null,null,null,null,null,null,null,null,null,null,{"$f":"IF(ISNUMBER(#REF!),#REF!,\"\")","v":""},null,null,null,null,null,null,null,null,null,null,null,null,{"$f":"IF(ISNUMBER(#REF!),#REF!,\"\")","v":""},null,null,null,null,null,null,null,null,null,null,null,{"$f":"IF(ISNUMBER(#REF!),#REF!,\"\")","v":""},null,null,null,null,null,null,null,null,null,null,null,null,{"$f":"IF(ISNUMBER(#REF!),#REF!,\"\")","v":""},null,null,null,null,null,null,null,null,null,null,null,null,{"$f":"IF(ISNUMBER(#REF!),#REF!,\"\")","v":""}]
[null,null,null,null,null,null,null,null,null,null,null,null,{"$f":"IF(ISNUMBER(#REF!),#REF!,\"\")","v":""},null,null,null,null,null,null,null,null,null,null,null,null,{"$f":"IF(ISNUMBER(#REF!),#REF!,\"\")","v":""},null,null,null,null,null,null,null,null,null,null,null,{"$f":"IF(ISNUMBER(#REF!),#REF!,\"\")","v":""},null,null,null,null,null,null,null,null,null,null,null,null,{"$f":"IF(ISNUMBER(#REF!),#REF!,\"\")","v":""},null,null,null,null,null,null,null,null,null,null,null,null,{"$f":"IF(ISNUMBER(#REF!),#REF!,\"\")","v":""}]
[null,null,null,null,null,null,null,null,null,null,null,null,{"$f":"IF(ISNUMBER(#REF!),#REF!,\"\")","v":""},null,null,null,null,null,null,null,null,null,null,null,null,{"$f":"IF(ISNUMBER(#REF!),#REF!,\"\")","v":""},null,null,null,null,null,null,null,null,null,null,null,{"$f":"IF(ISNUMBER(#REF!),#REF!,\"\")","v":""},null,null,null,null,null,null,null,null,null,null,null,null,{"$f":"IF(ISNUMBER(#REF!),#REF!,\"\")","v":""},null,null,null,null,null,null,null,null,null,null,null,null,{"$f":"IF(ISNUMBER(#REF!),#REF!,\"\")","v":""}]
[null,null,null,null,null,null,null,null,null,null,null,null,{"$f":"IF(ISNUMBER(#REF!),#REF!,\"\")","v":""},null,null,null,null,null,null,null,null,null,null,null,null,{"$f":"IF(ISNUMBER(#REF!),#REF!,\"\")","v":""},null,null,null,null,null,null,null,null,null,null,null,{"$f":"IF(ISNUMBER(#REF!),#REF!,\"\")","v":""},null,null,null,null,null,null,null,null,null,null,null,null,{"$f":"IF(ISNUMBER(#REF!),#REF!,\"\")","v":""},null,null,null,null,null,null,null,null,null,null,null,null,{"$f":"IF(ISNUMBER(#REF!),#REF!,\"\")","v":""}]
[null,null,null,null,null,null,null,null,null,null,null,null,{"$f":"IF(ISNUMBER(#REF!),#REF!,\"\")","v":""},null,null,null,null,null,null,null,null,null,null,null,null,{"$f":"IF(ISNUMBER(#REF!),#REF!,\"\")","v":""},null,null,null,null,null,null,null,null,null,null,null,{"$f":"IF(ISNUMBER(#REF!),#REF!,\"\")","v":""},null,null,null,null,null,null,null,null,null,null,null,null,{"$f":"IF(ISNUMBER(#REF!),#REF!,\"\")","v":""},null,null,null,null,null,null,null,null,null,null,null,null,{"$f":"IF(ISNUMBER(#REF!),#REF!,\"\")","v":""}]
[null,null,null,null,null,null,null,null,null,null,null,null,{"$f":"IF(ISNUMBER(#REF!),#REF!,\"\")","v":""},null,null,null,null,null,null,null,null,null,null,null,null,{"$f":"IF(ISNUMBER(#REF!),#REF!,\"\")","v":""},null,null,null,null,null,null,null,null,null,null,null,{"$f":"IF(ISNUMBER(#REF!),#REF!,\"\")","v":""},null,null,null,null,null,null,null,null,null,null,null,null,{"$f":"IF(ISNUMBER(#REF!),#REF!,\"\")","v":""},null,null,null,null,null,null,null,null,null,null,null,null,{"$f":"IF(ISNUMBER(#REF!),#REF!,\"\")","v":""}]
[null,null,null,null,null,null,null,null,null,null,null,null,{"$f":"IF(ISNUMBER(#REF!),#REF!,\"\")","v":""},null,null,null,null,null,null,null,null,null,null,null,null,{"$f":"IF(ISNUMBER(#REF!),#REF!,\"\")","v":""},null,null,null,null,null,null,null,null,null,null,null,{"$f":"IF(ISNUMBER(#REF!),#REF!,\"\")","v":""},null,null,null,null,null,null,null,null,null,null,null,null,{"$f":"IF(ISNUMBER(#REF!),#REF!,\"\")","v":""},null,null,null,null,null,null,null,null,null,null,null,null,{"$f":"IF(ISNUMBER(#REF!),#REF!,\"\")","v":""}]
[null,null,null,null,null,null,null,null,null,null,null,null,{"$f":"IF(ISNUMBER(#REF!),#REF!,\"\")","v":""},null,null,null,null,null,null,null,null,null,null,null,null,{"$f":"IF(ISNUMBER(#REF!),#REF!,\"\")","v":""},null,null,null,null,null,null,null,null,null,null,null,{"$f":"IF(ISNUMBER(#REF!),#REF!,\"\")","v":""},null,null,null,null,null,null,null,null,null,null,null,null,{"$f":"IF(ISNUMBER(#REF!),#REF!,\"\")","v":""},null,null,null,null,null,null,null,null,null,null,null,null,{"$f":"IF(ISNUMBER(#REF!),#REF!,\"\")","v":""}]
[null,null,null,null,null,null,null,null,null,null,null,null,{"$f":"IF(ISNUMBER(#REF!),#REF!,\"\")","v":""},null,null,null,null,null,null,null,null,null,null,null,null,{"$f":"IF(ISNUMBER(#REF!),#REF!,\"\")","v":""},null,null,null,null,null,null,null,null,null,null,null,{"$f":"IF(ISNUMBER(#REF!),#REF!,\"\")","v":""},null,null,null,null,null,null,null,null,null,null,null,null,{"$f":"IF(ISNUMBER(#REF!),#REF!,\"\")","v":""},null,null,null,null,null,null,null,null,null,null,null,null,{"$f":"IF(ISNUMBER(#REF!),#REF!,\"\")","v":""}]
[null,null,null,null,null,null,null,null,null,null,null,null,{"$f":"IF(ISNUMBER(#REF!),#REF!,\"\")","v":""},null,null,null,null,null,null,null,null,null,null,null,null,{"$f":"IF(ISNUMBER(#REF!),#REF!,\"\")","v":""},null,null,null,null,null,null,null,null,null,null,null,{"$f":"IF(ISNUMBER(#REF!),#REF!,\"\")","v":""},null,null,null,null,null,null,null,null,null,null,null,null,{"$f":"IF(ISNUMBER(#REF!),#REF!,\"\")","v":""},null,null,null,null,null,null,null,null,null,null,null,null,{"$f":"IF(ISNUMBER(#REF!),#REF!,\"\")","v":""}]
[null,null,null,null,null,null,null,null,null,null,null,null,{"$f":"IF(ISNUMBER(#REF!),#REF!,\"\")","v":""},null,null,null,null,null,null,null,null,null,null,null,null,{"$f":"IF(ISNUMBER(#REF!),#REF!,\"\")","v":""},null,null,null,null,null,null,null,null,null,null,null,{"$f":"IF(ISNUMBER(#REF!),#REF!,\"\")","v":""},null,null,null,null,null,null,null,null,null,null,null,null,{"$f":"IF(ISNUMBER(#REF!),#REF!,\"\")","v":""},null,null,null,null,null,null,null,null,null,null,null,null,{"$f":"IF(ISNUMBER(#REF!),#REF!,\"\")","v":""}]
[null,null,null,null,null,null,null,null,null,null,null,null,{"$f":"IF(ISNUMBER(#REF!),#REF!,\"\")","v":""},null,null,null,null,null,null,null,null,null,null,null,null,{"$f":"IF(ISNUMBER(#REF!),#REF!,\"\")","v":""},null,null,null,null,null,null,null,null,null,null,null,{"$f":"IF(ISNUMBER(#REF!),#REF!,\"\")","v":""},null,null,null,null,null,null,null,null,null,null,null,null,{"$f":"IF(ISNUMBER(#REF!),#REF!,\"\")","v":""},null,null,null,null,null,null,null,null,null,null,null,null,{"$f":"IF(ISNUMBER(#REF!),#REF!,\"\")","v":""}]
[null,null,null,null,null,null,null,null,null,null,null,null,{"$f":"IF(ISNUMBER(#REF!),#REF!,\"\")","v":""},null,null,null,null,null,null,null,null,null,null,null,null,{"$f":"IF(ISNUMBER(#REF!),#REF!,\"\")","v":""},null,null,null,null,null,null,null,null,null,null,null,{"$f":"IF(ISNUMBER(#REF!),#REF!,\"\")","v":""},null,null,null,null,null,null,null,null,null,null,null,null,{"$f":"IF(ISNUMBER(#REF!),#REF!,\"\")","v":""},null,null,null,null,null,null,null,null,null,null,null,null,{"$f":"IF(ISNUMBER(#REF!),#REF!,\"\")","v":""}]
[null,null,null,null,null,null,null,null,null,null,null,null,{"$f":"IF(ISNUMBER(#REF!),#REF!,\"\")","v":""},null,null,null,null,null,null,null,null,null,null,null,null,{"$f":"IF(ISNUMBER(#REF!),#REF!,\"\")","v":""},null,null,null,null,null,null,null,null,null,null,null,{"$f":"IF(ISNUMBER(#REF!),#REF!,\"\")","v":""},null,null,null,null,null,null,null,null,null,null,null,null,{"$f":"IF(ISNUMBER(#REF!),#REF!,\"\")","v":""},null,null,null,null,null,null,null,null,null,null,null,null,{"$f":"IF(ISNUMBER(#REF!),#REF!,\"\")","v":""}]
[null,null,null,null,null,null,null,null,null,null,null,null,{"$f":"IF(ISNUMBER(#REF!),#REF!,\"\")","v":""},null,null,null,null,null,null,null,null,null,null,null,null,{"$f":"IF(ISNUMBER(#REF!),#REF!,\"\")","v":""},null,null,null,null,null,null,null,null,null,null,null,{"$f":"IF(ISNUMBER(#REF!),#REF!,\"\")","v":""},null,null,null,null,null,null,null,null,null,null,null,null,{"$f":"IF(ISNUMBER(#REF!),#REF!,\"\")","v":""},null,null,null,null,null,null,null,null,null,null,null,null,{"$f":"IF(ISNUMBER(#REF!),#REF!,\"\")","v":""}]
[null,null,null,null,null,null,null,null,null,null,null,null,{"$f":"IF(ISNUMBER(#REF!),#REF!,\"\")","v":""},null,null,null,null,null,null,null,null,null,null,null,null,{"$f":"IF(ISNUMBER(#REF!),#REF!,\"\")","v":""},null,null,null,null,null,null,null,null,null,null,null,{"$f":"IF(ISNUMBER(#REF!),#REF!,\"\")","v":""},null,null,null,null,null,null,null,null,null,null,null,null,{"$f":"IF(ISNUMBER(#REF!),#REF!,\"\")","v":""},null,null,null,null,null,null,null,null,null,null,null,null,{"$f":"IF(ISNUMBER(#REF!),#REF!,\"\")","v":""}]
[null,null,null,null,null,null,null,null,null,null,null,null,{"$f":"IF(ISNUMBER(#REF!),#REF!,\"\")","v":""},null,null,null,null,null,null,null,null,null,null,null,null,{"$f":"IF(ISNUMBER(#REF!),#REF!,\"\")","v":""},null,null,null,null,null,null,null,null,null,null,null,{"$f":"IF(ISNUMBER(#REF!),#REF!,\"\")","v":""},null,null,null,null,null,null,null,null,null,null,null,null,{"$f":"IF(ISNUMBER(#REF!),#REF!,\"\")","v":""},null,null,null,null,null,null,null,null,null,null,null,null,{"$f":"IF(ISNUMBER(#REF!),#REF!,\"\")","v":""}]
[null,null,null,null,null,null,null,null,null,null,null,null,{"$f":"IF(ISNUMBER(#REF!),#REF!,\"\")","v":""},null,null,null,null,null,null,null,null,null,null,null,null,{"$f":"IF(ISNUMBER(#REF!),#REF!,\"\")","v":""},null,null,null,null,null,null,null,null,null,null,null,{"$f":"IF(ISNUMBER(#REF!),#REF!,\"\")","v":""},null,null,null,null,null,null,null,null,null,null,null,null,{"$f":"IF(ISNUMBER(#REF!),#REF!,\"\")","v":""},null,null,null,null,null,null,null,null,null,null,null,null,{"$f":"IF(ISNUMBER(#REF!),#REF!,\"\")","v":""}]
[null,null,null,null,null,null,null,null,null,null,null,null,{"$f":"IF(ISNUMBER(#REF!),#REF!,\"\")","v":""},null,null,null,null,null,null,null,null,null,null,null,null,{"$f":"IF(ISNUMBER(#REF!),#REF!,\"\")","v":""},null,null,null,null,null,null,null,null,null,null,null,{"$f":"IF(ISNUMBER(#REF!),#REF!,\"\")","v":""},null,null,null,null,null,null,null,null,null,null,null,null,{"$f":"IF(ISNUMBER(#REF!),#REF!,\"\")","v":""},null,null,null,null,null,null,null,null,null,null,null,null,{"$f":"IF(ISNUMBER(#REF!),#REF!,\"\")","v":""}]
[null,null,null,null,null,null,null,null,null,null,null,null,{"$f":"IF(ISNUMBER(#REF!),#REF!,\"\")","v":""},null,null,null,null,null,null,null,null,null,null,null,null,{"$f":"IF(ISNUMBER(#REF!),#REF!,\"\")","v":""},null,null,null,null,null,null,null,null,null,null,null,{"$f":"IF(ISNUMBER(#REF!),#REF!,\"\")","v":""},null,null,null,null,null,null,null,null,null,null,null,null,{"$f":"IF(ISNUMBER(#REF!),#REF!,\"\")","v":""},null,null,null,null,null,null,null,null,null,null,null,null,{"$f":"IF(ISNUMBER(#REF!),#REF!,\"\")","v":""}]
[null,null,null,null,null,null,null,null,null,null,null,null,{"$f":"IF(ISNUMBER(#REF!),#REF!,\"\")","v":""},null,null,null,null,null,null,null,null,null,null,null,null,{"$f":"IF(ISNUMBER(#REF!),#REF!,\"\")","v":""},null,null,null,null,null,null,null,null,null,null,null,{"$f":"IF(ISNUMBER(#REF!),#REF!,\"\")","v":""},null,null,null,null,null,null,null,null,null,null,null,null,{"$f":"IF(ISNUMBER(#REF!),#REF!,\"\")","v":""},null,null,null,null,null,null,null,null,null,null,null,null,{"$f":"IF(ISNUMBER(#REF!),#REF!,\"\")","v":""}]
[null,null,null,null,null,null,null,null,null,null,null,null,{"$f":"IF(ISNUMBER(#REF!),#REF!,\"\")","v":""},null,null,null,null,null,null,null,null,null,null,null,null,{"$f":"IF(ISNUMBER(#REF!),#REF!,\"\")","v":""},null,null,null,null,null,null,null,null,null,null,null,{"$f":"IF(ISNUMBER(#REF!),#REF!,\"\")","v":""},null,null,null,null,null,null,null,null,null,null,null,null,{"$f":"IF(ISNUMBER(#REF!),#REF!,\"\")","v":""},null,null,null,null,null,null,null,null,null,null,null,null,{"$f":"IF(ISNUMBER(#REF!),#REF!,\"\")","v":""}]
[null,null,null,null,null,null,null,null,null,null,null,null,{"$f":"IF(ISNUMBER(#REF!),#REF!,\"\")","v":""},null,null,null,null,null,null,null,null,null,null,null,null,{"$f":"IF(ISNUMBER(#REF!),#REF!,\"\")","v":""},null,null,null,null,null,null,null,null,null,null,null,{"$f":"IF(ISNUMBER(#REF!),#REF!,\"\")","v":""},null,null,null,null,null,null,null,null,null,null,null,null,{"$f":"IF(ISNUMBER(#REF!),#REF!,\"\")","v":""},null,null,null,null,null,null,null,null,null,null,null,null,{"$f":"IF(ISNUMBER(#REF!),#REF!,\"\")","v":""}]
[null,null,null,null,null,null,null,null,null,null,null,null,{"$f":"IF(ISNUMBER(#REF!),#REF!,\"\")","v":""},null,null,null,null,null,null,null,null,null,null,null,null,{"$f":"IF(ISNUMBER(#REF!),#REF!,\"\")","v":""},null,null,null,null,null,null,null,null,null,null,null,{"$f":"IF(ISNUMBER(#REF!),#REF!,\"\")","v":""},null,null,null,null,null,null,null,null,null,null,null,null,{"$f":"IF(ISNUMBER(#REF!),#REF!,\"\")","v":""},null,null,null,null,null,null,null,null,null,null,null,null,{"$f":"IF(ISNUMBER(#REF!),#REF!,\"\")","v":""}]
[null,null,null,null,null,null,null,null,null,null,null,null,{"$f":"IF(ISNUMBER(#REF!),#REF!,\"\")","v":""},null,null,null,null,null,null,null,null,null,null,null,null,{"$f":"IF(ISNUMBER(#REF!),#REF!,\"\")","v":""},null,null,null,null,null,null,null,null,null,null,null,{"$f":"IF(ISNUMBER(#REF!),#REF!,\"\")","v":""},null,null,null,null,null,null,null,null,null,null,null,null,{"$f":"IF(ISNUMBER(#REF!),#REF!,\"\")","v":""},null,null,null,null,null,null,null,null,null,null,null,null,{"$f":"IF(ISNUMBER(#REF!),#REF!,\"\")","v":""}]
[null,null,null,null,null,null,null,null,null,null,null,null,{"$f":"IF(ISNUMBER(#REF!),#REF!,\"\")","v":""},null,null,null,null,null,null,null,null,null,null,null,null,{"$f":"IF(ISNUMBER(#REF!),#REF!,\"\")","v":""},null,null,null,null,null,null,null,null,null,null,null,{"$f":"IF(ISNUMBER(#REF!),#REF!,\"\")","v":""},null,null,null,null,null,null,null,null,null,null,null,null,{"$f":"IF(ISNUMBER(#REF!),#REF!,\"\")","v":""},null,null,null,null,null,null,null,null,null,null,null,null,{"$f":"IF(ISNUMBER(#REF!),#REF!,\"\")","v":""}]
[null,null,null,null,null,null,null,null,null,null,null,null,{"$f":"IF(ISNUMBER(#REF!),#REF!,\"\")","v":""},null,null,null,null,null,null,null,null,null,null,null,null,{"$f":"IF(ISNUMBER(#REF!),#REF!,\"\")","v":""},null,null,null,null,null,null,null,null,null,null,null,{"$f":"IF(ISNUMBER(#REF!),#REF!,\"\")","v":""},null,null,null,null,null,null,null,null,null,null,null,null,{"$f":"IF(ISNUMBER(#REF!),#REF!,\"\")","v":""},null,null,null,null,null,null,null,null,null,null,null,null,{"$f":"IF(ISNUMBER(#REF!),#REF!,\"\")","v":""}]
[null,null,null,null,null,null,null,null,null,null,null,null,{"$f":"IF(ISNUMBER(#REF!),#REF!,\"\")","v":""},null,null,null,null,null,null,null,null,null,null,null,null,{"$f":"IF(ISNUMBER(#REF!),#REF!,\"\")","v":""},null,null,null,null,null,null,null,null,null,null,null,{"$f":"IF(ISNUMBER(#REF!),#REF!,\"\")","v":""},null,null,null,null,null,null,null,null,null,null,null,null,{"$f":"IF(ISNUMBER(#REF!),#REF!,\"\")","v":""},null,null,null,null,null,null,null,null,null,null,null,null,{"$f":"IF(ISNUMBER(#REF!),#REF!,\"\")","v":""}]
[null,null,null,null,null,null,null,null,null,null,null,null,{"$f":"IF(ISNUMBER(#REF!),#REF!,\"\")","v":""},null,null,null,null,null,null,null,null,null,null,null,null,{"$f":"IF(ISNUMBER(#REF!),#REF!,\"\")","v":""},null,null,null,null,null,null,null,null,null,null,null,{"$f":"IF(ISNUMBER(#REF!),#REF!,\"\")","v":""},null,null,null,null,null,null,null,null,null,null,null,null,{"$f":"IF(ISNUMBER(#REF!),#REF!,\"\")","v":""},null,null,null,null,null,null,null,null,null,null,null,null,{"$f":"IF(ISNUMBER(#REF!),#REF!,\"\")","v":""}]
[null,null,null,null,null,null,null,null,null,null,null,null,{"$f":"IF(ISNUMBER(#REF!),#REF!,\"\")","v":""},null,null,null,null,null,null,null,null,null,null,null,null,{"$f":"IF(ISNUMBER(#REF!),#REF!,\"\")","v":""},null,null,null,null,null,null,null,null,null,null,null,{"$f":"IF(ISNUMBER(#REF!),#REF!,\"\")","v":""},null,null,null,null,null,null,null,null,null,null,null,null,{"$f":"IF(ISNUMBER(#REF!),#REF!,\"\")","v":""},null,null,null,null,null,null,null,null,null,null,null,null,{"$f":"IF(ISNUMBER(#REF!),#REF!,\"\")","v":""}]
[null,null,null,null,null,null,null,null,null,null,null,null,{"$f":"IF(ISNUMBER(#REF!),#REF!,\"\")","v":""},null,null,null,null,null,null,null,null,null,null,null,null,{"$f":"IF(ISNUMBER(#REF!),#REF!,\"\")","v":""},null,null,null,null,null,null,null,null,null,null,null,{"$f":"IF(ISNUMBER(#REF!),#REF!,\"\")","v":""},null,null,null,null,null,null,null,null,null,null,null,null,{"$f":"IF(ISNUMBER(#REF!),#REF!,\"\")","v":""},null,null,null,null,null,null,null,null,null,null,null,null,{"$f":"IF(ISNUMBER(#REF!),#REF!,\"\")","v":""}]
[null,null,null,null,null,null,null,null,null,null,null,null,{"$f":"IF(ISNUMBER(#REF!),#REF!,\"\")","v":""},null,null,null,null,null,null,null,null,null,null,null,null,{"$f":"IF(ISNUMBER(#REF!),#REF!,\"\")","v":""},null,null,null,null,null,null,null,null,null,null,null,{"$f":"IF(ISNUMBER(#REF!),#REF!,\"\")","v":""},null,null,null,null,null,null,null,null,null,null,null,null,{"$f":"IF(ISNUMBER(#REF!),#REF!,\"\")","v":""},null,null,null,null,null,null,null,null,null,null,null,null,{"$f":"IF(ISNUMBER(#REF!),#REF!,\"\")","v":""}]
[null,null,null,null,null,null,null,null,null,null,null,null,{"$f":"IF(ISNUMBER(#REF!),#REF!,\"\")","v":""},null,null,null,null,null,null,null,null,null,null,null,null,{"$f":"IF(ISNUMBER(#REF!),#REF!,\"\")","v":""},null,null,null,null,null,null,null,null,null,null,null,{"$f":"IF(ISNUMBER(#REF!),#REF!,\"\")","v":""},null,null,null,null,null,null,null,null,null,null,null,null,{"$f":"IF(ISNUMBER(#REF!),#REF!,\"\")","v":""},null,null,null,null,null,null,null,null,null,null,null,null,{"$f":"IF(ISNUMBER(#REF!),#REF!,\"\")","v":""}]
[null,null,null,null,null,null,null,null,null,null,null,null,{"$f":"IF(ISNUMBER(#REF!),#REF!,\"\")","v":""},null,null,null,null,null,null,null,null,null,null,null,null,{"$f":"IF(ISNUMBER(#REF!),#REF!,\"\")","v":""},null,null,null,null,null,null,null,null,null,null,null,{"$f":"IF(ISNUMBER(#REF!),#REF!,\"\")","v":""},null,null,null,null,null,null,null,null,null,null,null,null,{"$f":"IF(ISNUMBER(#REF!),#REF!,\"\")","v":""},null,null,null,null,null,null,null,null,null,null,null,null,{"$f":"IF(ISNUMBER(#REF!),#REF!,\"\")","v":""}]
[null,null,null,null,null,null,null,null,null,null,null,null,{"$f":"IF(ISNUMBER(#REF!),#REF!,\"\")","v":""},null,null,null,null,null,null,null,null,null,null,null,null,{"$f":"IF(ISNUMBER(#REF!),#REF!,\"\")","v":""},null,null,null,null,null,null,null,null,null,null,null,{"$f":"IF(ISNUMBER(#REF!),#REF!,\"\")","v":""},null,null,null,null,null,null,null,null,null,null,null,null,{"$f":"IF(ISNUMBER(#REF!),#REF!,\"\")","v":""},null,null,null,null,null,null,null,null,null,null,null,null,{"$f":"IF(ISNUMBER(#REF!),#REF!,\"\")","v":""}]
[null,null,null,null,null,null,null,null,null,null,null,null,{"$f":"IF(ISNUMBER(#REF!),#REF!,\"\")","v":""},null,null,null,null,null,null,null,null,null,null,null,null,{"$f":"IF(ISNUMBER(#REF!),#REF!,\"\")","v":""},null,null,null,null,null,null,null,null,null,null,null,{"$f":"IF(ISNUMBER(#REF!),#REF!,\"\")","v":""},null,null,null,null,null,null,null,null,null,null,null,null,{"$f":"IF(ISNUMBER(#REF!),#REF!,\"\")","v":""},null,null,null,null,null,null,null,null,null,null,null,null,{"$f":"IF(ISNUMBER(#REF!),#REF!,\"\")","v":""}]
[null,null,null,null,null,null,null,null,null,null,null,null,{"$f":"IF(ISNUMBER(#REF!),#REF!,\"\")","v":""},null,null,null,null,null,null,null,null,null,null,null,null,{"$f":"IF(ISNUMBER(#REF!),#REF!,\"\")","v":""},null,null,null,null,null,null,null,null,null,null,null,{"$f":"IF(ISNUMBER(#REF!),#REF!,\"\")","v":""},null,null,null,null,null,null,null,null,null,null,null,null,{"$f":"IF(ISNUMBER(#REF!),#REF!,\"\")","v":""},null,null,null,null,null,null,null,null,null,null,null,null,{"$f":"IF(ISNUMBER(#REF!),#REF!,\"\")","v":""}]
[null,null,null,null,null,null,null,null,null,null,null,null,{"$f":"IF(ISNUMBER(#REF!),#REF!,\"\")","v":""},null,null,null,null,null,null,null,null,null,null,null,null,{"$f":"IF(ISNUMBER(#REF!),#REF!,\"\")","v":""},null,null,null,null,null,null,null,null,null,null,null,{"$f":"IF(ISNUMBER(#REF!),#REF!,\"\")","v":""},null,null,null,null,null,null,null,null,null,null,null,null,{"$f":"IF(ISNUMBER(#REF!),#REF!,\"\")","v":""},null,null,null,null,null,null,null,null,null,null,null,null,{"$f":"IF(ISNUMBER(#REF!),#REF!,\"\")","v":""}]
[null,null,null,null,null,null,null,null,null,null,null,null,{"$f":"IF(ISNUMBER(#REF!),#REF!,\"\")","v":""},null,null,null,null,null,null,null,null,null,null,null,null,{"$f":"IF(ISNUMBER(#REF!),#REF!,\"\")","v":""},null,null,null,null,null,null,null,null,null,null,null,{"$f":"IF(ISNUMBER(#REF!),#REF!,\"\")","v":""},null,null,null,null,null,null,null,null,null,null,null,null,{"$f":"IF(ISNUMBER(#REF!),#REF!,\"\")","v":""},null,null,null,null,null,null,null,null,null,null,null,null,{"$f":"IF(ISNUMBER(#REF!),#REF!,\"\")","v":""}]
[null,null,null,null,null,null,null,null,null,null,null,null,{"$f":"IF(ISNUMBER(#REF!),#REF!,\"\")","v":""},null,null,null,null,null,null,null,null,null,null,null,null,{"$f":"IF(ISNUMBER(#REF!),#REF!,\"\")","v":""},null,null,null,null,null,null,null,null,null,null,null,{"$f":"IF(ISNUMBER(#REF!),#REF!,\"\")","v":""},null,null,null,null,null,null,null,null,null,null,null,null,{"$f":"IF(ISNUMBER(#REF!),#REF!,\"\")","v":""},null,null,null,null,null,null,null,null,null,null,null,null,{"$f":"IF(ISNUMBER(#REF!),#REF!,\"\")","v":""}]
[null,null,null,null,null,null,null,null,null,null,null,null,{"$f":"IF(ISNUMBER(#REF!),#REF!,\"\")","v":""},null,null,null,null,null,null,null,null,null,null,null,null,{"$f":"IF(ISNUMBER(#REF!),#REF!,\"\")","v":""},null,null,null,null,null,null,null,null,null,null,null,{"$f":"IF(ISNUMBER(#REF!),#REF!,\"\")","v":""},null,null,null,null,null,null,null,null,null,null,null,null,{"$f":"IF(ISNUMBER(#REF!),#REF!,\"\")","v":""},null,null,null,null,null,null,null,null,null,null,null,null,{"$f":"IF(ISNUMBER(#REF!),#REF!,\"\")","v":""}]
[null,null,null,null,null,null,null,null,null,null,null,null,{"$f":"IF(ISNUMBER(#REF!),#REF!,\"\")","v":""},null,null,null,null,null,null,null,null,null,null,null,null,{"$f":"IF(ISNUMBER(#REF!),#REF!,\"\")","v":""},null,null,null,null,null,null,null,null,null,null,null,{"$f":"IF(ISNUMBER(#REF!),#REF!,\"\")","v":""},null,null,null,null,null,null,null,null,null,null,null,null,{"$f":"IF(ISNUMBER(#REF!),#REF!,\"\")","v":""},null,null,null,null,null,null,null,null,null,null,null,null,{"$f":"IF(ISNUMBER(#REF!),#REF!,\"\")","v":""}]
[null,null,null,null,null,null,null,null,null,null,null,null,{"$f":"IF(ISNUMBER(#REF!),#REF!,\"\")","v":""},null,null,null,null,null,null,null,null,null,null,null,null,{"$f":"IF(ISNUMBER(#REF!),#REF!,\"\")","v":""},null,null,null,null,null,null,null,null,null,null,null,{"$f":"IF(ISNUMBER(#REF!),#REF!,\"\")","v":""},null,null,null,null,null,null,null,null,null,null,null,null,{"$f":"IF(ISNUMBER(#REF!),#REF!,\"\")","v":""},null,null,null,null,null,null,null,null,null,null,null,null,{"$f":"IF(ISNUMBER(#REF!),#REF!,\"\")","v":""}]
[null,null,null,null,null,null,null,null,null,null,null,null,{"$f":"IF(ISNUMBER(#REF!),#REF!,\"\")","v":""},null,null,null,null,null,null,null,null,null,null,null,null,{"$f":"IF(ISNUMBER(#REF!),#REF!,\"\")","v":""},null,null,null,null,null,null,null,null,null,null,null,{"$f":"IF(ISNUMBER(#REF!),#REF!,\"\")","v":""},null,null,null,null,null,null,null,null,null,null,null,null,{"$f":"IF(ISNUMBER(#REF!),#REF!,\"\")","v":""},null,null,null,null,null,null,null,null,null,null,null,null,{"$f":"IF(ISNUMBER(#REF!),#REF!,\"\")","v":""}]
[null,null,null,null,null,null,null,null,null,null,null,null,{"$f":"IF(ISNUMBER(#REF!),#REF!,\"\")","v":""},null,null,null,null,null,null,null,null,null,null,null,null,{"$f":"IF(ISNUMBER(#REF!),#REF!,\"\")","v":""},null,null,null,null,null,null,null,null,null,null,null,{"$f":"IF(ISNUMBER(#REF!),#REF!,\"\")","v":""},null,null,null,null,null,null,null,null,null,null,null,null,{"$f":"IF(ISNUMBER(#REF!),#REF!,\"\")","v":""},null,null,null,null,null,null,null,null,null,null,null,null,{"$f":"IF(ISNUMBER(#REF!),#REF!,\"\")","v":""}]
[null,null,null,null,null,null,null,null,null,null,null,null,{"$f":"IF(ISNUMBER(#REF!),#REF!,\"\")","v":""},null,null,null,null,null,null,null,null,null,null,null,null,{"$f":"IF(ISNUMBER(#REF!),#REF!,\"\")","v":""},null,null,null,null,null,null,null,null,null,null,null,{"$f":"IF(ISNUMBER(#REF!),#REF!,\"\")","v":""},null,null,null,null,null,null,null,null,null,null,null,null,{"$f":"IF(ISNUMBER(#REF!),#REF!,\"\")","v":""},null,null,null,null,null,null,null,null,null,null,null,null,{"$f":"IF(ISNUMBER(#REF!),#REF!,\"\")","v":""}]
[null,null,null,null,null,null,null,null,null,null,null,null,{"$f":"IF(ISNUMBER(#REF!),#REF!,\"\")","v":""},null,null,null,null,null,null,null,null,null,null,null,null,{"$f":"IF(ISNUMBER(#REF!),#REF!,\"\")","v":""},null,null,null,null,null,null,null,null,null,null,null,{"$f":"IF(ISNUMBER(#REF!),#REF!,\"\")","v":""},null,null,null,null,null,null,null,null,null,null,null,null,{"$f":"IF(ISNUMBER(#REF!),#REF!,\"\")","v":""},null,null,null,null,null,null,null,null,null,null,null,null,{"$f":"IF(ISNUMBER(#REF!),#REF!,\"\")","v":""}]
[null,null,null,null,null,null,null,null,null,null,null,null,{"$f":"IF(ISNUMBER(#REF!),#REF!,\"\")","v":""},null,null,null,null,null,null,null,null,null,null,null,null,{"$f":"IF(ISNUMBER(#REF!),#REF!,\"\")","v":""},null,null,null,null,null,null,null,null,null,null,null,{"$f":"IF(ISNUMBER(#REF!),#REF!,\"\")","v":""},null,null,null,null,null,null,null,null,null,null,null,null,{"$f":"IF(ISNUMBER(#REF!),#REF!,\"\")","v":""},null,null,null,null,null,null,null,null,null,null,null,null,{"$f":"IF(ISNUMBER(#REF!),#REF!,\"\")","v":""}]
[null,null,null,null,null,null,null,null,null,null,null,null,{"$f":"IF(ISNUMBER(#REF!),#REF!,\"\")","v":""},null,null,null,null,null,null,null,null,null,null,null,null,{"$f":"IF(ISNUMBER(#REF!),#REF!,\"\")","v":""},null,null,null,null,null,null,null,null,null,null,null,{"$f":"IF(ISNUMBER(#REF!),#REF!,\"\")","v":""},null,null,null,null,null,null,null,null,null,null,null,null,{"$f":"IF(ISNUMBER(#REF!),#REF!,\"\")","v":""},null,null,null,null,null,null,null,null,null,null,null,null,{"$f":"IF(ISNUMBER(#REF!),#REF!,\"\")","v":""}]
[null,null,null,null,null,null,null,null,null,null,null,null,{"$f":"IF(ISNUMBER(#REF!),#REF!,\"\")","v":""},null,null,null,null,null,null,null,null,null,null,null,null,{"$f":"IF(ISNUMBER(#REF!),#REF!,\"\")","v":""},null,null,null,null,null,null,null,null,null,null,null,{"$f":"IF(ISNUMBER(#REF!),#REF!,\"\")","v":""},null,null,null,null,null,null,null,null,null,null,null,null,{"$f":"IF(ISNUMBER(#REF!),#REF!,\"\")","v":""},null,null,null,null,null,null,null,null,null,null,null,null,{"$f":"IF(ISNUMBER(#REF!),#REF!,\"\")","v":""}]
[null,null,null,null,null,null,null,null,null,null,null,null,{"$f":"IF(ISNUMBER(#REF!),#REF!,\"\")","v":""},null,null,null,null,null,null,null,null,null,null,null,null,{"$f":"IF(ISNUMBER(#REF!),#REF!,\"\")","v":""},null,null,null,null,null,null,null,null,null,null,null,{"$f":"IF(ISNUMBER(#REF!),#REF!,\"\")","v":""},null,null,null,null,null,null,null,null,null,null,null,null,{"$f":"IF(ISNUMBER(#REF!),#REF!,\"\")","v":""},null,null,null,null,null,null,null,null,null,null,null,null,{"$f":"IF(ISNUMBER(#REF!),#REF!,\"\")","v":""}]
[null,null,null,null,null,null,null,null,null,null,null,null,{"$f":"IF(ISNUMBER(#REF!),#REF!,\"\")","v":""},null,null,null,null,null,null,null,null,null,null,null,null,{"$f":"IF(ISNUMBER(#REF!),#REF!,\"\")","v":""},null,null,null,null,null,null,null,null,null,null,null,{"$f":"IF(ISNUMBER(#REF!),#REF!,\"\")","v":""},null,null,null,null,null,null,null,null,null,null,null,null,{"$f":"IF(ISNUMBER(#REF!),#REF!,\"\")","v":""},null,null,null,null,null,null,null,null,null,null,null,null,{"$f":"IF(ISNUMBER(#REF!),#REF!,\"\")","v":""}]
[null,null,null,null,null,null,null,null,null,null,null,null,{"$f":"IF(ISNUMBER(#REF!),#REF!,\"\")","v":""},null,null,null,null,null,null,null,null,null,null,null,null,{"$f":"IF(ISNUMBER(#REF!),#REF!,\"\")","v":""},null,null,null,null,null,null,null,null,null,null,null,{"$f":"IF(ISNUMBER(#REF!),#REF!,\"\")","v":""},null,null,null,null,null,null,null,null,null,null,null,null,{"$f":"IF(ISNUMBER(#REF!),#REF!,\"\")","v":""},null,null,null,null,null,null,null,null,null,null,null,null,{"$f":"IF(ISNUMBER(#REF!),#REF!,\"\")","v":""}]
[null,null,null,null,null,null,null,null,null,null,null,null,{"$f":"IF(ISNUMBER(#REF!),#REF!,\"\")","v":""},null,null,null,null,null,null,null,null,null,null,null,null,{"$f":"IF(ISNUMBER(#REF!),#REF!,\"\")","v":""},null,null,null,null,null,null,null,null,null,null,null,{"$f":"IF(ISNUMBER(#REF!),#REF!,\"\")","v":""},null,null,null,null,null,null,null,null,null,null,null,null,{"$f":"IF(ISNUMBER(#REF!),#REF!,\"\")","v":""},null,null,null,null,null,null,null,null,null,null,null,null,{"$f":"IF(ISNUMBER(#REF!),#REF!,\"\")","v":""}]
[null,null,null,null,null,null,null,null,null,null,null,null,{"$f":"IF(ISNUMBER(#REF!),#REF!,\"\")","v":""},null,null,null,null,null,null,null,null,null,null,null,null,{"$f":"IF(ISNUMBER(#REF!),#REF!,\"\")","v":""},null,null,null,null,null,null,null,null,null,null,null,{"$f":"IF(ISNUMBER(#REF!),#REF!,\"\")","v":""},null,null,null,null,null,null,null,null,null,null,null,null,{"$f":"IF(ISNUMBER(#REF!),#REF!,\"\")","v":""},null,null,null,null,null,null,null,null,null,null,null,null,{"$f":"IF(ISNUMBER(#REF!),#REF!,\"\")","v":""}]
[null,null,null,null,null,null,null,null,null,null,null,null,{"$f":"IF(ISNUMBER(#REF!),#REF!,\"\")","v":""},null,null,null,null,null,null,null,null,null,null,null,null,{"$f":"IF(ISNUMBER(#REF!),#REF!,\"\")","v":""},null,null,null,null,null,null,null,null,null,null,null,{"$f":"IF(ISNUMBER(#REF!),#REF!,\"\")","v":""},null,null,null,null,null,null,null,null,null,null,null,null,{"$f":"IF(ISNUMBER(#REF!),#REF!,\"\")","v":""},null,null,null,null,null,null,null,null,null,null,null,null,{"$f":"IF(ISNUMBER(#REF!),#REF!,\"\")","v":""}]
[null,null,null,null,null,null,null,null,null,null,null,null,{"$f":"IF(ISNUMBER(#REF!),#REF!,\"\")","v":""},null,null,null,null,null,null,null,null,null,null,null,null,{"$f":"IF(ISNUMBER(#REF!),#REF!,\"\")","v":""},null,null,null,null,null,null,null,null,null,null,null,{"$f":"IF(ISNUMBER(#REF!),#REF!,\"\")","v":""},null,null,null,null,null,null,null,null,null,null,null,null,{"$f":"IF(ISNUMBER(#REF!),#REF!,\"\")","v":""},null,null,null,null,null,null,null,null,null,null,null,null,{"$f":"IF(ISNUMBER(#REF!),#REF!,\"\")","v":""}]
[null,null,null,null,null,null,null,null,null,null,null,null,{"$f":"IF(ISNUMBER(#REF!),#REF!,\"\")","v":""},null,null,null,null,null,null,null,null,null,null,null,null,{"$f":"IF(ISNUMBER(#REF!),#REF!,\"\")","v":""},null,null,null,null,null,null,null,null,null,null,null,{"$f":"IF(ISNUMBER(#REF!),#REF!,\"\")","v":""},null,null,null,null,null,null,null,null,null,null,null,null,{"$f":"IF(ISNUMBER(#REF!),#REF!,\"\")","v":""},null,null,null,null,null,null,null,null,null,null,null,null,{"$f":"IF(ISNUMBER(#REF!),#REF!,\"\")","v":""}]
[null,null,null,null,null,null,null,null,null,null,null,null,{"$f":"IF(ISNUMBER(#REF!),#REF!,\"\")","v":""},null,null,null,null,null,null,null,null,null,null,null,null,{"$f":"IF(ISNUMBER(#REF!),#REF!,\"\")","v":""},null,null,null,null,null,null,null,null,null,null,null,{"$f":"IF(ISNUMBER(#REF!),#REF!,\"\")","v":""},null,null,null,null,null,null,null,null,null,null,null,null,{"$f":"IF(ISNUMBER(#REF!),#REF!,\"\")","v":""},null,null,null,null,null,null,null,null,null,null,null,null,{"$f":"IF(ISNUMBER(#REF!),#REF!,\"\")","v":""}]
[null,null,null,null,null,null,null,null,null,null,null,null,{"$f":"IF(ISNUMBER(#REF!),#REF!,\"\")","v":""},null,null,null,null,null,null,null,null,null,null,null,null,{"$f":"IF(ISNUMBER(#REF!),#REF!,\"\")","v":""},null,null,null,null,null,null,null,null,null,null,null,{"$f":"IF(ISNUMBER(#REF!),#REF!,\"\")","v":""},null,null,null,null,null,null,null,null,null,null,null,null,{"$f":"IF(ISNUMBER(#REF!),#REF!,\"\")","v":""},null,null,null,null,null,null,null,null,null,null,null,null,{"$f":"IF(ISNUMBER(#REF!),#REF!,\"\")","v":""}]
[null,null,null,null,null,null,null,null,null,null,null,null,{"$f":"IF(ISNUMBER(#REF!),#REF!,\"\")","v":""},null,null,null,null,null,null,null,null,null,null,null,null,{"$f":"IF(ISNUMBER(#REF!),#REF!,\"\")","v":""},null,null,null,null,null,null,null,null,null,null,null,{"$f":"IF(ISNUMBER(#REF!),#REF!,\"\")","v":""},null,null,null,null,null,null,null,null,null,null,null,null,{"$f":"IF(ISNUMBER(#REF!),#REF!,\"\")","v":""},null,null,null,null,null,null,null,null,null,null,null,null,{"$f":"IF(ISNUMBER(#REF!),#REF!,\"\")","v":""}]
[null,null,null,null,null,null,null,null,null,null,null,null,{"$f":"IF(ISNUMBER(#REF!),#REF!,\"\")","v":""},null,null,null,null,null,null,null,null,null,null,null,null,{"$f":"IF(ISNUMBER(#REF!),#REF!,\"\")","v":""},null,null,null,null,null,null,null,null,null,null,null,{"$f":"IF(ISNUMBER(#REF!),#REF!,\"\")","v":""},null,null,null,null,null,null,null,null,null,null,null,null,{"$f":"IF(ISNUMBER(#REF!),#REF!,\"\")","v":""},null,null,null,null,null,null,null,null,null,null,null,null,{"$f":"IF(ISNUMBER(#REF!),#REF!,\"\")","v":""}]
[null,null,null,null,null,null,null,null,null,null,null,null,{"$f":"IF(ISNUMBER(#REF!),#REF!,\"\")","v":""},null,null,null,null,null,null,null,null,null,null,null,null,{"$f":"IF(ISNUMBER(#REF!),#REF!,\"\")","v":""},null,null,null,null,null,null,null,null,null,null,null,{"$f":"IF(ISNUMBER(#REF!),#REF!,\"\")","v":""},null,null,null,null,null,null,null,null,null,null,null,null,{"$f":"IF(ISNUMBER(#REF!),#REF!,\"\")","v":""},null,null,null,null,null,null,null,null,null,null,null,null,{"$f":"IF(ISNUMBER(#REF!),#REF!,\"\")","v":""}]
[null,null,null,null,null,null,null,null,null,null,null,null,{"$f":"IF(ISNUMBER(#REF!),#REF!,\"\")","v":""},null,null,null,null,null,null,null,null,null,null,null,null,{"$f":"IF(ISNUMBER(#REF!),#REF!,\"\")","v":""},null,null,null,null,null,null,null,null,null,null,null,{"$f":"IF(ISNUMBER(#REF!),#REF!,\"\")","v":""},null,null,null,null,null,null,null,null,null,null,null,null,{"$f":"IF(ISNUMBER(#REF!),#REF!,\"\")","v":""},null,null,null,null,null,null,null,null,null,null,null,null,{"$f":"IF(ISNUMBER(#REF!),#REF!,\"\")","v":""}]
[null,null,null,null,null,null,null,null,null,null,null,null,{"$f":"IF(ISNUMBER(#REF!),#REF!,\"\")","v":""},null,null,null,null,null,null,null,null,null,null,null,null,{"$f":"IF(ISNUMBER(#REF!),#REF!,\"\")","v":""},null,null,null,null,null,null,null,null,null,null,null,{"$f":"IF(ISNUMBER(#REF!),#REF!,\"\")","v":""},null,null,null,null,null,null,null,null,null,null,null,null,{"$f":"IF(ISNUMBER(#REF!),#REF!,\"\")","v":""},null,null,null,null,null,null,null,null,null,null,null,null,{"$f":"IF(ISNUMBER(#REF!),#REF!,\"\")","v":""}]
[null,null,null,null,null,null,null,null,null,null,null,null,{"$f":"IF(ISNUMBER(#REF!),#REF!,\"\")","v":""},null,null,null,null,null,null,null,null,null,null,null,null,{"$f":"IF(ISNUMBER(#REF!),#REF!,\"\")","v":""},null,null,null,null,null,null,null,null,null,null,null,{"$f":"IF(ISNUMBER(#REF!),#REF!,\"\")","v":""},null,null,null,null,null,null,null,null,null,null,null,null,{"$f":"IF(ISNUMBER(#REF!),#REF!,\"\")","v":""},null,null,null,null,null,null,null,null,null,null,null,null,{"$f":"IF(ISNUMBER(#REF!),#REF!,\"\")","v":""}]
[null,null,null,null,null,null,null,null,null,null,null,null,{"$f":"IF(ISNUMBER(#REF!),#REF!,\"\")","v":""},null,null,null,null,null,null,null,null,null,null,null,null,{"$f":"IF(ISNUMBER(#REF!),#REF!,\"\")","v":""},null,null,null,null,null,null,null,null,null,null,null,{"$f":"IF(ISNUMBER(#REF!),#REF!,\"\")","v":""},null,null,null,null,null,null,null,null,null,null,null,null,{"$f":"IF(ISNUMBER(#REF!),#REF!,\"\")","v":""},null,null,null,null,null,null,null,null,null,null,null,null,{"$f":"IF(ISNUMBER(#REF!),#REF!,\"\")","v":""}]
[null,null,null,null,null,null,null,null,null,null,null,null,{"$f":"IF(ISNUMBER(#REF!),#REF!,\"\")","v":""},null,null,null,null,null,null,null,null,null,null,null,null,{"$f":"IF(ISNUMBER(#REF!),#REF!,\"\")","v":""},null,null,null,null,null,null,null,null,null,null,null,{"$f":"IF(ISNUMBER(#REF!),#REF!,\"\")","v":""},null,null,null,null,null,null,null,null,null,null,null,null,{"$f":"IF(ISNUMBER(#REF!),#REF!,\"\")","v":""},null,null,null,null,null,null,null,null,null,null,null,null,{"$f":"IF(ISNUMBER(#REF!),#REF!,\"\")","v":""}]
[null,null,null,null,null,null,null,null,null,null,null,null,{"$f":"IF(ISNUMBER(#REF!),#REF!,\"\")","v":""},null,null,null,null,null,null,null,null,null,null,null,null,{"$f":"IF(ISNUMBER(#REF!),#REF!,\"\")","v":""},null,null,null,null,null,null,null,null,null,null,null,{"$f":"IF(ISNUMBER(#REF!),#REF!,\"\")","v":""},null,null,null,null,null,null,null,null,null,null,null,null,{"$f":"IF(ISNUMBER(#REF!),#REF!,\"\")","v":""},null,null,null,null,null,null,null,null,null,null,null,null,{"$f":"IF(ISNUMBER(#REF!),#REF!,\"\")","v":""}]
[null,null,null,null,null,null,null,null,null,null,null,null,{"$f":"IF(ISNUMBER(#REF!),#REF!,\"\")","v":""},null,null,null,null,null,null,null,null,null,null,null,null,{"$f":"IF(ISNUMBER(#REF!),#REF!,\"\")","v":""},null,null,null,null,null,null,null,null,null,null,null,{"$f":"IF(ISNUMBER(#REF!),#REF!,\"\")","v":""},null,null,null,null,null,null,null,null,null,null,null,null,{"$f":"IF(ISNUMBER(#REF!),#REF!,\"\")","v":""},null,null,null,null,null,null,null,null,null,null,null,null,{"$f":"IF(ISNUMBER(#REF!),#REF!,\"\")","v":""}]
[null,null,null,null,null,null,null,null,null,null,null,null,{"$f":"IF(ISNUMBER(#REF!),#REF!,\"\")","v":""},null,null,null,null,null,null,null,null,null,null,null,null,{"$f":"IF(ISNUMBER(#REF!),#REF!,\"\")","v":""},null,null,null,null,null,null,null,null,null,null,null,{"$f":"IF(ISNUMBER(#REF!),#REF!,\"\")","v":""},null,null,null,null,null,null,null,null,null,null,null,null,{"$f":"IF(ISNUMBER(#REF!),#REF!,\"\")","v":""},null,null,null,null,null,null,null,null,null,null,null,null,{"$f":"IF(ISNUMBER(#REF!),#REF!,\"\")","v":""}]
[null,null,null,null,null,null,null,null,null,null,null,null,{"$f":"IF(ISNUMBER(#REF!),#REF!,\"\")","v":""},null,null,null,null,null,null,null,null,null,null,null,null,{"$f":"IF(ISNUMBER(#REF!),#REF!,\"\")","v":""},null,null,null,null,null,null,null,null,null,null,null,{"$f":"IF(ISNUMBER(#REF!),#REF!,\"\")","v":""},null,null,null,null,null,null,null,null,null,null,null,null,{"$f":"IF(ISNUMBER(#REF!),#REF!,\"\")","v":""},null,null,null,null,null,null,null,null,null,null,null,null,{"$f":"IF(ISNUMBER(#REF!),#REF!,\"\")","v":""}]
[null,null,null,null,null,null,null,null,null,null,null,null,{"$f":"IF(ISNUMBER(#REF!),#REF!,\"\")","v":""},null,null,null,null,null,null,null,null,null,null,null,null,{"$f":"IF(ISNUMBER(#REF!),#REF!,\"\")","v":""},null,null,null,null,null,null,null,null,null,null,null,{"$f":"IF(ISNUMBER(#REF!),#REF!,\"\")","v":""},null,null,null,null,null,null,null,null,null,null,null,null,{"$f":"IF(ISNUMBER(#REF!),#REF!,\"\")","v":""},null,null,null,null,null,null,null,null,null,null,null,null,{"$f":"IF(ISNUMBER(#REF!),#REF!,\"\")","v":""}]
[null,null,null,null,null,null,null,null,null,null,null,null,{"$f":"IF(ISNUMBER(#REF!),#REF!,\"\")","v":""},null,null,null,null,null,null,null,null,null,null,null,null,{"$f":"IF(ISNUMBER(#REF!),#REF!,\"\")","v":""},null,null,null,null,null,null,null,null,null,null,null,{"$f":"IF(ISNUMBER(#REF!),#REF!,\"\")","v":""},null,null,null,null,null,null,null,null,null,null,null,null,{"$f":"IF(ISNUMBER(#REF!),#REF!,\"\")","v":""},null,null,null,null,null,null,null,null,null,null,null,null,{"$f":"IF(ISNUMBER(#REF!),#REF!,\"\")","v":""}]
[null,null,null,null,null,null,null,null,null,null,null,null,{"$f":"IF(ISNUMBER(#REF!),#REF!,\"\")","v":""},null,null,null,null,null,null,null,null,null,null,null,null,{"$f":"IF(ISNUMBER(#REF!),#REF!,\"\")","v":""},null,null,null,null,null,null,null,null,null,null,null,{"$f":"IF(ISNUMBER(#REF!),#REF!,\"\")","v":""},null,null,null,null,null,null,null,null,null,null,null,null,{"$f":"IF(ISNUMBER(#REF!),#REF!,\"\")","v":""},null,null,null,null,null,null,null,null,null,null,null,null,{"$f":"IF(ISNUMBER(#REF!),#REF!,\"\")","v":""}]
[null,null,null,null,null,null,null,null,null,null,null,null,{"$f":"IF(ISNUMBER(#REF!),#REF!,\"\")","v":""},null,null,null,null,null,null,null,null,null,null,null,null,{"$f":"IF(ISNUMBER(#REF!),#REF!,\"\")","v":""},null,null,null,null,null,null,null,null,null,null,null,{"$f":"IF(ISNUMBER(#REF!),#REF!,\"\")","v":""},null,null,null,null,null,null,null,null,null,null,null,null,{"$f":"IF(ISNUMBER(#REF!),#REF!,\"\")","v":""},null,null,null,null,null,null,null,null,null,null,null,null,{"$f":"IF(ISNUMBER(#REF!),#REF!,\"\")","v":""}]
[null,null,null,null,null,null,null,null,null,null,null,null,{"$f":"IF(ISNUMBER(#REF!),#REF!,\"\")","v":""},null,null,null,null,null,null,null,null,null,null,null,null,{"$f":"IF(ISNUMBER(#REF!),#REF!,\"\")","v":""},null,null,null,null,null,null,null,null,null,null,null,{"$f":"IF(ISNUMBER(#REF!),#REF!,\"\")","v":""},null,null,null,null,null,null,null,null,null,null,null,null,{"$f":"IF(ISNUMBER(#REF!),#REF!,\"\")","v":""},null,null,null,null,null,null,null,null,null,null,null,null,{"$f":"IF(ISNUMBER(#REF!),#REF!,\"\")","v":""}]
[null,null,null,null,null,null,null,null,null,null,null,null,{"$f":"IF(ISNUMBER(#REF!),#REF!,\"\")","v":""},null,null,null,null,null,null,null,null,null,null,null,null,{"$f":"IF(ISNUMBER(#REF!),#REF!,\"\")","v":""},null,null,null,null,null,null,null,null,null,null,null,{"$f":"IF(ISNUMBER(#REF!),#REF!,\"\")","v":""},null,null,null,null,null,null,null,null,null,null,null,null,{"$f":"IF(ISNUMBER(#REF!),#REF!,\"\")","v":""},null,null,null,null,null,null,null,null,null,null,null,null,{"$f":"IF(ISNUMBER(#REF!),#REF!,\"\")","v":""}]
[null,null,null,null,null,null,null,null,null,null,null,null,{"$f":"IF(ISNUMBER(#REF!),#REF!,\"\")","v":""},null,null,null,null,null,null,null,null,null,null,null,null,{"$f":"IF(ISNUMBER(#REF!),#REF!,\"\")","v":""},null,null,null,null,null,null,null,null,null,null,null,{"$f":"IF(ISNUMBER(#REF!),#REF!,\"\")","v":""},null,null,null,null,null,null,null,null,null,null,null,null,{"$f":"IF(ISNUMBER(#REF!),#REF!,\"\")","v":""},null,null,null,null,null,null,null,null,null,null,null,null,{"$f":"IF(ISNUMBER(#REF!),#REF!,\"\")","v":""}]
[null,null,null,null,null,null,null,null,null,null,null,null,{"$f":"IF(ISNUMBER(#REF!),#REF!,\"\")","v":""},null,null,null,null,null,null,null,null,null,null,null,null,{"$f":"IF(ISNUMBER(#REF!),#REF!,\"\")","v":""},null,null,null,null,null,null,null,null,null,null,null,{"$f":"IF(ISNUMBER(#REF!),#REF!,\"\")","v":""},null,null,null,null,null,null,null,null,null,null,null,null,{"$f":"IF(ISNUMBER(#REF!),#REF!,\"\")","v":""},null,null,null,null,null,null,null,null,null,null,null,null,{"$f":"IF(ISNUMBER(#REF!),#REF!,\"\")","v":""}]
[null,null,null,null,null,null,null,null,null,null,null,null,{"$f":"IF(ISNUMBER(#REF!),#REF!,\"\")","v":""},null,null,null,null,null,null,null,null,null,null,null,null,{"$f":"IF(ISNUMBER(#REF!),#REF!,\"\")","v":""},null,null,null,null,null,null,null,null,null,null,null,{"$f":"IF(ISNUMBER(#REF!),#REF!,\"\")","v":""},null,null,null,null,null,null,null,null,null,null,null,null,{"$f":"IF(ISNUMBER(#REF!),#REF!,\"\")","v":""},null,null,null,null,null,null,null,null,null,null,null,null,{"$f":"IF(ISNUMBER(#REF!),#REF!,\"\")","v":""}]
[null,null,null,null,null,null,null,null,null,null,null,null,{"$f":"IF(ISNUMBER(#REF!),#REF!,\"\")","v":""},null,null,null,null,null,null,null,null,null,null,null,null,{"$f":"IF(ISNUMBER(#REF!),#REF!,\"\")","v":""},null,null,null,null,null,null,null,null,null,null,null,{"$f":"IF(ISNUMBER(#REF!),#REF!,\"\")","v":""},null,null,null,null,null,null,null,null,null,null,null,null,{"$f":"IF(ISNUMBER(#REF!),#REF!,\"\")","v":""},null,null,null,null,null,null,null,null,null,null,null,null,{"$f":"IF(ISNUMBER(#REF!),#REF!,\"\")","v":""}]
[null,null,null,null,null,null,null,null,null,null,null,null,{"$f":"IF(ISNUMBER(#REF!),#REF!,\"\")","v":""},null,null,null,null,null,null,null,null,null,null,null,null,{"$f":"IF(ISNUMBER(#REF!),#REF!,\"\")","v":""},null,null,null,null,null,null,null,null,null,null,null,{"$f":"IF(ISNUMBER(#REF!),#REF!,\"\")","v":""},null,null,null,null,null,null,null,null,null,null,null,null,{"$f":"IF(ISNUMBER(#REF!),#REF!,\"\")","v":""},null,null,null,null,null,null,null,null,null,null,null,null,{"$f":"IF(ISNUMBER(#REF!),#REF!,\"\")","v":""}]
[null,null,null,null,null,null,null,null,null,null,null,null,{"$f":"IF(ISNUMBER(#REF!),#REF!,\"\")","v":""},null,null,null,null,null,null,null,null,null,null,null,null,{"$f":"IF(ISNUMBER(#REF!),#REF!,\"\")","v":""},null,null,null,null,null,null,null,null,null,null,null,{"$f":"IF(ISNUMBER(#REF!),#REF!,\"\")","v":""},null,null,null,null,null,null,null,null,null,null,null,null,{"$f":"IF(ISNUMBER(#REF!),#REF!,\"\")","v":""},null,null,null,null,null,null,null,null,null,null,null,null,{"$f":"IF(ISNUMBER(#REF!),#REF!,\"\")","v":""}]
[null,null,null,null,null,null,null,null,null,null,null,null,{"$f":"IF(ISNUMBER(#REF!),#REF!,\"\")","v":""},null,null,null,null,null,null,null,null,null,null,null,null,{"$f":"IF(ISNUMBER(#REF!),#REF!,\"\")","v":""},null,null,null,null,null,null,null,null,null,null,null,{"$f":"IF(ISNUMBER(#REF!),#REF!,\"\")","v":""},null,null,null,null,null,null,null,null,null,null,null,null,{"$f":"IF(ISNUMBER(#REF!),#REF!,\"\")","v":""},null,null,null,null,null,null,null,null,null,null,null,null,{"$f":"IF(ISNUMBER(#REF!),#REF!,\"\")","v":""}]
[null,null,null,null,null,null,null,null,null,null,null,null,{"$f":"IF(ISNUMBER(#REF!),#REF!,\"\")","v":""},null,null,null,null,null,null,null,null,null,null,null,null,{"$f":"IF(ISNUMBER(#REF!),#REF!,\"\")","v":""},null,null,null,null,null,null,null,null,null,null,null,{"$f":"IF(ISNUMBER(#REF!),#REF!,\"\")","v":""},null,null,null,null,null,null,null,null,null,null,null,null,{"$f":"IF(ISNUMBER(#REF!),#REF!,\"\")","v":""},null,null,null,null,null,null,null,null,null,null,null,null,{"$f":"IF(ISNUMBER(#REF!),#REF!,\"\")","v":""}]
[null,null,null,null,null,null,null,null,null,null,null,null,{"$f":"IF(ISNUMBER(#REF!),#REF!,\"\")","v":""},null,null,null,null,null,null,null,null,null,null,null,null,{"$f":"IF(ISNUMBER(#REF!),#REF!,\"\")","v":""},null,null,null,null,null,null,null,null,null,null,null,{"$f":"IF(ISNUMBER(#REF!),#REF!,\"\")","v":""},null,null,null,null,null,null,null,null,null,null,null,null,{"$f":"IF(ISNUMBER(#REF!),#REF!,\"\")","v":""},null,null,null,null,null,null,null,null,null,null,null,null,{"$f":"IF(ISNUMBER(#REF!),#REF!,\"\")","v":""}]
[null,null,null,null,null,null,null,null,null,null,null,null,{"$f":"IF(ISNUMBER(#REF!),#REF!,\"\")","v":""},null,null,null,null,null,null,null,null,null,null,null,null,{"$f":"IF(ISNUMBER(#REF!),#REF!,\"\")","v":""},null,null,null,null,null,null,null,null,null,null,null,{"$f":"IF(ISNUMBER(#REF!),#REF!,\"\")","v":""},null,null,null,null,null,null,null,null,null,null,null,null,{"$f":"IF(ISNUMBER(#REF!),#REF!,\"\")","v":""},null,null,null,null,null,null,null,null,null,null,null,null,{"$f":"IF(ISNUMBER(#REF!),#REF!,\"\")","v":""}]
[null,null,null,null,null,null,null,null,null,null,null,null,{"$f":"IF(ISNUMBER(#REF!),#REF!,\"\")","v":""},null,null,null,null,null,null,null,null,null,null,null,null,{"$f":"IF(ISNUMBER(#REF!),#REF!,\"\")","v":""},null,null,null,null,null,null,null,null,null,null,null,{"$f":"IF(ISNUMBER(#REF!),#REF!,\"\")","v":""},null,null,null,null,null,null,null,null,null,null,null,null,{"$f":"IF(ISNUMBER(#REF!),#REF!,\"\")","v":""},null,null,null,null,null,null,null,null,null,null,null,null,{"$f":"IF(ISNUMBER(#REF!),#REF!,\"\")","v":""}]
[null,null,null,null,null,null,null,null,null,null,null,null,{"$f":"IF(ISNUMBER(#REF!),#REF!,\"\")","v":""},null,null,null,null,null,null,null,null,null,null,null,null,{"$f":"IF(ISNUMBER(#REF!),#REF!,\"\")","v":""},null,null,null,null,null,null,null,null,null,null,null,{"$f":"IF(ISNUMBER(#REF!),#REF!,\"\")","v":""},null,null,null,null,null,null,null,null,null,null,null,null,{"$f":"IF(ISNUMBER(#REF!),#REF!,\"\")","v":""},null,null,null,null,null,null,null,null,null,null,null,null,{"$f":"IF(ISNUMBER(#REF!),#REF!,\"\")","v":""}]
[null,null,null,null,null,null,null,null,null,null,null,null,{"$f":"IF(ISNUMBER(#REF!),#REF!,\"\")","v":""},null,null,null,null,null,null,null,null,null,null,null,null,{"$f":"IF(ISNUMBER(#REF!),#REF!,\"\")","v":""},null,null,null,null,null,null,null,null,null,null,null,{"$f":"IF(ISNUMBER(#REF!),#REF!,\"\")","v":""},null,null,null,null,null,null,null,null,null,null,null,null,{"$f":"IF(ISNUMBER(#REF!),#REF!,\"\")","v":""},null,null,null,null,null,null,null,null,null,null,null,null,{"$f":"IF(ISNUMBER(#REF!),#REF!,\"\")","v":""}]
[null,null,null,null,null,null,null,null,null,null,null,null,{"$f":"IF(ISNUMBER(#REF!),#REF!,\"\")","v":""},null,null,null,null,null,null,null,null,null,null,null,null,{"$f":"IF(ISNUMBER(#REF!),#REF!,\"\")","v":""},null,null,null,null,null,null,null,null,null,null,null,{"$f":"IF(ISNUMBER(#REF!),#REF!,\"\")","v":""},null,null,null,null,null,null,null,null,null,null,null,null,{"$f":"IF(ISNUMBER(#REF!),#REF!,\"\")","v":""},null,null,null,null,null,null,null,null,null,null,null,null,{"$f":"IF(ISNUMBER(#REF!),#REF!,\"\")","v":""}]
[null,null,null,null,null,null,null,null,null,null,null,null,{"$f":"IF(ISNUMBER(#REF!),#REF!,\"\")","v":""},null,null,null,null,null,null,null,null,null,null,null,null,{"$f":"IF(ISNUMBER(#REF!),#REF!,\"\")","v":""},null,null,null,null,null,null,null,null,null,null,null,{"$f":"IF(ISNUMBER(#REF!),#REF!,\"\")","v":""},null,null,null,null,null,null,null,null,null,null,null,null,{"$f":"IF(ISNUMBER(#REF!),#REF!,\"\")","v":""},null,null,null,null,null,null,null,null,null,null,null,null,{"$f":"IF(ISNUMBER(#REF!),#REF!,\"\")","v":""}]
[null,null,null,null,null,null,null,null,null,null,null,null,{"$f":"IF(ISNUMBER(#REF!),#REF!,\"\")","v":""},null,null,null,null,null,null,null,null,null,null,null,null,{"$f":"IF(ISNUMBER(#REF!),#REF!,\"\")","v":""},null,null,null,null,null,null,null,null,null,null,null,{"$f":"IF(ISNUMBER(#REF!),#REF!,\"\")","v":""},null,null,null,null,null,null,null,null,null,null,null,null,{"$f":"IF(ISNUMBER(#REF!),#REF!,\"\")","v":""},null,null,null,null,null,null,null,null,null,null,null,null,{"$f":"IF(ISNUMBER(#REF!),#REF!,\"\")","v":""}]
[null,null,null,null,null,null,null,null,null,null,null,null,{"$f":"IF(ISNUMBER(#REF!),#REF!,\"\")","v":""},null,null,null,null,null,null,null,null,null,null,null,null,{"$f":"IF(ISNUMBER(#REF!),#REF!,\"\")","v":""},null,null,null,null,null,null,null,null,null,null,null,{"$f":"IF(ISNUMBER(#REF!),#REF!,\"\")","v":""},null,null,null,null,null,null,null,null,null,null,null,null,{"$f":"IF(ISNUMBER(#REF!),#REF!,\"\")","v":""},null,null,null,null,null,null,null,null,null,null,null,null,{"$f":"IF(ISNUMBER(#REF!),#REF!,\"\")","v":""}]
[null,null,null,null,null,null,null,null,null,null,null,null,{"$f":"IF(ISNUMBER(#REF!),#REF!,\"\")","v":""},null,null,null,null,null,null,null,null,null,null,null,null,{"$f":"IF(ISNUMBER(#REF!),#REF!,\"\")","v":""},null,null,null,null,null,null,null,null,null,null,null,{"$f":"IF(ISNUMBER(#REF!),#REF!,\"\")","v":""},null,null,null,null,null,null,null,null,null,null,null,null,{"$f":"IF(ISNUMBER(#REF!),#REF!,\"\")","v":""},null,null,null,null,null,null,null,null,null,null,null,null,{"$f":"IF(ISNUMBER(#REF!),#REF!,\"\")","v":""}]
[null,null,null,null,null,null,null,null,null,null,null,null,{"$f":"IF(ISNUMBER(#REF!),#REF!,\"\")","v":""},null,null,null,null,null,null,null,null,null,null,null,null,{"$f":"IF(ISNUMBER(#REF!),#REF!,\"\")","v":""},null,null,null,null,null,null,null,null,null,null,null,{"$f":"IF(ISNUMBER(#REF!),#REF!,\"\")","v":""},null,null,null,null,null,null,null,null,null,null,null,null,{"$f":"IF(ISNUMBER(#REF!),#REF!,\"\")","v":""},null,null,null,null,null,null,null,null,null,null,null,null,{"$f":"IF(ISNUMBER(#REF!),#REF!,\"\")","v":""}]
[null,null,null,null,null,null,null,null,null,null,null,null,{"$f":"IF(ISNUMBER(#REF!),#REF!,\"\")","v":""},null,null,null,null,null,null,null,null,null,null,null,null,{"$f":"IF(ISNUMBER(#REF!),#REF!,\"\")","v":""},null,null,null,null,null,null,null,null,null,null,null,{"$f":"IF(ISNUMBER(#REF!),#REF!,\"\")","v":""},null,null,null,null,null,null,null,null,null,null,null,null,{"$f":"IF(ISNUMBER(#REF!),#REF!,\"\")","v":""},null,null,null,null,null,null,null,null,null,null,null,null,{"$f":"IF(ISNUMBER(#REF!),#REF!,\"\")","v":""}]
[null,null,null,null,null,null,null,null,null,null,null,null,{"$f":"IF(ISNUMBER(#REF!),#REF!,\"\")","v":""},null,null,null,null,null,null,null,null,null,null,null,null,{"$f":"IF(ISNUMBER(#REF!),#REF!,\"\")","v":""},null,null,null,null,null,null,null,null,null,null,null,{"$f":"IF(ISNUMBER(#REF!),#REF!,\"\")","v":""},null,null,null,null,null,null,null,null,null,null,null,null,{"$f":"IF(ISNUMBER(#REF!),#REF!,\"\")","v":""},null,null,null,null,null,null,null,null,null,null,null,null,{"$f":"IF(ISNUMBER(#REF!),#REF!,\"\")","v":""}]
[null,null,null,null,null,null,null,null,null,null,null,null,{"$f":"IF(ISNUMBER(#REF!),#REF!,\"\")","v":""},null,null,null,null,null,null,null,null,null,null,null,null,{"$f":"IF(ISNUMBER(#REF!),#REF!,\"\")","v":""},null,null,null,null,null,null,null,null,null,null,null,{"$f":"IF(ISNUMBER(#REF!),#REF!,\"\")","v":""},null,null,null,null,null,null,null,null,null,null,null,null,{"$f":"IF(ISNUMBER(#REF!),#REF!,\"\")","v":""},null,null,null,null,null,null,null,null,null,null,null,null,{"$f":"IF(ISNUMBER(#REF!),#REF!,\"\")","v":""}]
[null,null,null,null,null,null,null,null,null,null,null,null,{"$f":"IF(ISNUMBER(#REF!),#REF!,\"\")","v":""},null,null,null,null,null,null,null,null,null,null,null,null,{"$f":"IF(ISNUMBER(#REF!),#REF!,\"\")","v":""},null,null,null,null,null,null,null,null,null,null,null,{"$f":"IF(ISNUMBER(#REF!),#REF!,\"\")","v":""},null,null,null,null,null,null,null,null,null,null,null,null,{"$f":"IF(ISNUMBER(#REF!),#REF!,\"\")","v":""},null,null,null,null,null,null,null,null,null,null,null,null,{"$f":"IF(ISNUMBER(#REF!),#REF!,\"\")","v":""}]
[null,null,null,null,null,null,null,null,null,null,null,null,{"$f":"IF(ISNUMBER(#REF!),#REF!,\"\")","v":""},null,null,null,null,null,null,null,null,null,null,null,null,{"$f":"IF(ISNUMBER(#REF!),#REF!,\"\")","v":""},null,null,null,null,null,null,null,null,null,null,null,{"$f":"IF(ISNUMBER(#REF!),#REF!,\"\")","v":""},null,null,null,null,null,null,null,null,null,null,null,null,{"$f":"IF(ISNUMBER(#REF!),#REF!,\"\")","v":""},null,null,null,null,null,null,null,null,null,null,null,null,{"$f":"IF(ISNUMBER(#REF!),#REF!,\"\")","v":""}]
[null,null,null,null,null,null,null,null,null,null,null,null,{"$f":"IF(ISNUMBER(#REF!),#REF!,\"\")","v":""},null,null,null,null,null,null,null,null,null,null,null,null,{"$f":"IF(ISNUMBER(#REF!),#REF!,\"\")","v":""},null,null,null,null,null,null,null,null,null,null,null,{"$f":"IF(ISNUMBER(#REF!),#REF!,\"\")","v":""},null,null,null,null,null,null,null,null,null,null,null,null,{"$f":"IF(ISNUMBER(#REF!),#REF!,\"\")","v":""},null,null,null,null,null,null,null,null,null,null,null,null,{"$f":"IF(ISNUMBER(#REF!),#REF!,\"\")","v":""}]
[null,null,null,null,null,null,null,null,null,null,null,null,{"$f":"IF(ISNUMBER(#REF!),#REF!,\"\")","v":""},null,null,null,null,null,null,null,null,null,null,null,null,{"$f":"IF(ISNUMBER(#REF!),#REF!,\"\")","v":""},null,null,null,null,null,null,null,null,null,null,null,{"$f":"IF(ISNUMBER(#REF!),#REF!,\"\")","v":""},null,null,null,null,null,null,null,null,null,null,null,null,{"$f":"IF(ISNUMBER(#REF!),#REF!,\"\")","v":""},null,null,null,null,null,null,null,null,null,null,null,null,{"$f":"IF(ISNUMBER(#REF!),#REF!,\"\")","v":""}]
[null,null,null,null,null,null,null,null,null,null,null,null,{"$f":"IF(ISNUMBER(#REF!),#REF!,\"\")","v":""},null,null,null,null,null,null,null,null,null,null,null,null,{"$f":"IF(ISNUMBER(#REF!),#REF!,\"\")","v":""},null,null,null,null,null,null,null,null,null,null,null,{"$f":"IF(ISNUMBER(#REF!),#REF!,\"\")","v":""},null,null,null,null,null,null,null,null,null,null,null,null,{"$f":"IF(ISNUMBER(#REF!),#REF!,\"\")","v":""},null,null,null,null,null,null,null,null,null,null,null,null,{"$f":"IF(ISNUMBER(#REF!),#REF!,\"\")","v":""}]
[null,null,null,null,null,null,null,null,null,null,null,null,{"$f":"IF(ISNUMBER(#REF!),#REF!,\"\")","v":""},null,null,null,null,null,null,null,null,null,null,null,null,{"$f":"IF(ISNUMBER(#REF!),#REF!,\"\")","v":""},null,null,null,null,null,null,null,null,null,null,null,{"$f":"IF(ISNUMBER(#REF!),#REF!,\"\")","v":""},null,null,null,null,null,null,null,null,null,null,null,null,{"$f":"IF(ISNUMBER(#REF!),#REF!,\"\")","v":""},null,null,null,null,null,null,null,null,null,null,null,null,{"$f":"IF(ISNUMBER(#REF!),#REF!,\"\")","v":""}]
[null,null,null,null,null,null,null,null,null,null,null,null,{"$f":"IF(ISNUMBER(#REF!),#REF!,\"\")","v":""},null,null,null,null,null,null,null,null,null,null,null,null,{"$f":"IF(ISNUMBER(#REF!),#REF!,\"\")","v":""},null,null,null,null,null,null,null,null,null,null,null,{"$f":"IF(ISNUMBER(#REF!),#REF!,\"\")","v":""},null,null,null,null,null,null,null,null,null,null,null,null,{"$f":"IF(ISNUMBER(#REF!),#REF!,\"\")","v":""},null,null,null,null,null,null,null,null,null,null,null,null,{"$f":"IF(ISNUMBER(#REF!),#REF!,\"\")","v":""}]
[null,null,null,null,null,null,null,null,null,null,null,null,{"$f":"IF(ISNUMBER(#REF!),#REF!,\"\")","v":""},null,null,null,null,null,null,null,null,null,null,null,null,{"$f":"IF(ISNUMBER(#REF!),#REF!,\"\")","v":""},null,null,null,null,null,null,null,null,null,null,null,{"$f":"IF(ISNUMBER(#REF!),#REF!,\"\")","v":""},null,null,null,null,null,null,null,null,null,null,null,null,{"$f":"IF(ISNUMBER(#REF!),#REF!,\"\")","v":""},null,null,null,null,null,null,null,null,null,null,null,null,{"$f":"IF(ISNUMBER(#REF!),#REF!,\"\")","v":""}]
[null,null,null,null,null,null,null,null,null,null,null,null,{"$f":"IF(ISNUMBER(#REF!),#REF!,\"\")","v":""},null,null,null,null,null,null,null,null,null,null,null,null,{"$f":"IF(ISNUMBER(#REF!),#REF!,\"\")","v":""},null,null,null,null,null,null,null,null,null,null,null,{"$f":"IF(ISNUMBER(#REF!),#REF!,\"\")","v":""},null,null,null,null,null,null,null,null,null,null,null,null,{"$f":"IF(ISNUMBER(#REF!),#REF!,\"\")","v":""},null,null,null,null,null,null,null,null,null,null,null,null,{"$f":"IF(ISNUMBER(#REF!),#REF!,\"\")","v":""}]
[null,null,null,null,null,null,null,null,null,null,null,null,{"$f":"IF(ISNUMBER(#REF!),#REF!,\"\")","v":""},null,null,null,null,null,null,null,null,null,null,null,null,{"$f":"IF(ISNUMBER(#REF!),#REF!,\"\")","v":""},null,null,null,null,null,null,null,null,null,null,null,{"$f":"IF(ISNUMBER(#REF!),#REF!,\"\")","v":""},null,null,null,null,null,null,null,null,null,null,null,null,{"$f":"IF(ISNUMBER(#REF!),#REF!,\"\")","v":""},null,null,null,null,null,null,null,null,null,null,null,null,{"$f":"IF(ISNUMBER(#REF!),#REF!,\"\")","v":""}]
[null,null,null,null,null,null,null,null,null,null,null,null,{"$f":"IF(ISNUMBER(#REF!),#REF!,\"\")","v":""},null,null,null,null,null,null,null,null,null,null,null,null,{"$f":"IF(ISNUMBER(#REF!),#REF!,\"\")","v":""},null,null,null,null,null,null,null,null,null,null,null,{"$f":"IF(ISNUMBER(#REF!),#REF!,\"\")","v":""},null,null,null,null,null,null,null,null,null,null,null,null,{"$f":"IF(ISNUMBER(#REF!),#REF!,\"\")","v":""},null,null,null,null,null,null,null,null,null,null,null,null,{"$f":"IF(ISNUMBER(#REF!),#REF!,\"\")","v":""}]
[null,null,null,null,null,null,null,null,null,null,null,null,{"$f":"IF(ISNUMBER(#REF!),#REF!,\"\")","v":""},null,null,null,null,null,null,null,null,null,null,null,null,{"$f":"IF(ISNUMBER(#REF!),#REF!,\"\")","v":""},null,null,null,null,null,null,null,null,null,null,null,{"$f":"IF(ISNUMBER(#REF!),#REF!,\"\")","v":""},null,null,null,null,null,null,null,null,null,null,null,null,{"$f":"IF(ISNUMBER(#REF!),#REF!,\"\")","v":""},null,null,null,null,null,null,null,null,null,null,null,null,{"$f":"IF(ISNUMBER(#REF!),#REF!,\"\")","v":""}]
[null,null,null,null,null,null,null,null,null,null,null,null,{"$f":"IF(ISNUMBER(#REF!),#REF!,\"\")","v":""},null,null,null,null,null,null,null,null,null,null,null,null,{"$f":"IF(ISNUMBER(#REF!),#REF!,\"\")","v":""},null,null,null,null,null,null,null,null,null,null,null,{"$f":"IF(ISNUMBER(#REF!),#REF!,\"\")","v":""},null,null,null,null,null,null,null,null,null,null,null,null,{"$f":"IF(ISNUMBER(#REF!),#REF!,\"\")","v":""},null,null,null,null,null,null,null,null,null,null,null,null,{"$f":"IF(ISNUMBER(#REF!),#REF!,\"\")","v":""}]
[null,null,null,null,null,null,null,null,null,null,null,null,{"$f":"IF(ISNUMBER(#REF!),#REF!,\"\")","v":""},null,null,null,null,null,null,null,null,null,null,null,null,{"$f":"IF(ISNUMBER(#REF!),#REF!,\"\")","v":""},null,null,null,null,null,null,null,null,null,null,null,{"$f":"IF(ISNUMBER(#REF!),#REF!,\"\")","v":""},null,null,null,null,null,null,null,null,null,null,null,null,{"$f":"IF(ISNUMBER(#REF!),#REF!,\"\")","v":""},null,null,null,null,null,null,null,null,null,null,null,null,{"$f":"IF(ISNUMBER(#REF!),#REF!,\"\")","v":""}]
[null,null,null,null,null,null,null,null,null,null,null,null,{"$f":"IF(ISNUMBER(#REF!),#REF!,\"\")","v":""},null,null,null,null,null,null,null,null,null,null,null,null,{"$f":"IF(ISNUMBER(#REF!),#REF!,\"\")","v":""},null,null,null,null,null,null,null,null,null,null,null,{"$f":"IF(ISNUMBER(#REF!),#REF!,\"\")","v":""},null,null,null,null,null,null,null,null,null,null,null,null,{"$f":"IF(ISNUMBER(#REF!),#REF!,\"\")","v":""},null,null,null,null,null,null,null,null,null,null,null,null,{"$f":"IF(ISNUMBER(#REF!),#REF!,\"\")","v":""}]
[null,null,null,null,null,null,null,null,null,null,null,null,{"$f":"IF(ISNUMBER(#REF!),#REF!,\"\")","v":""},null,null,null,null,null,null,null,null,null,null,null,null,{"$f":"IF(ISNUMBER(#REF!),#REF!,\"\")","v":""},null,null,null,null,null,null,null,null,null,null,null,{"$f":"IF(ISNUMBER(#REF!),#REF!,\"\")","v":""},null,null,null,null,null,null,null,null,null,null,null,null,{"$f":"IF(ISNUMBER(#REF!),#REF!,\"\")","v":""},null,null,null,null,null,null,null,null,null,null,null,null,{"$f":"IF(ISNUMBER(#REF!),#REF!,\"\")","v":""}]
[null,null,null,null,null,null,null,null,null,null,null,null,{"$f":"IF(ISNUMBER(#REF!),#REF!,\"\")","v":""},null,null,null,null,null,null,null,null,null,null,null,null,{"$f":"IF(ISNUMBER(#REF!),#REF!,\"\")","v":""},null,null,null,null,null,null,null,null,null,null,null,{"$f":"IF(ISNUMBER(#REF!),#REF!,\"\")","v":""},null,null,null,null,null,null,null,null,null,null,null,null,{"$f":"IF(ISNUMBER(#REF!),#REF!,\"\")","v":""},null,null,null,null,null,null,null,null,null,null,null,null,{"$f":"IF(ISNUMBER(#REF!),#REF!,\"\")","v":""}]
[null,null,null,null,null,null,null,null,null,null,null,null,{"$f":"IF(ISNUMBER(#REF!),#REF!,\"\")","v":""},null,null,null,null,null,null,null,null,null,null,null,null,{"$f":"IF(ISNUMBER(#REF!),#REF!,\"\")","v":""},null,null,null,null,null,null,null,null,null,null,null,{"$f":"IF(ISNUMBER(#REF!),#REF!,\"\")","v":""},null,null,null,null,null,null,null,null,null,null,null,null,{"$f":"IF(ISNUMBER(#REF!),#REF!,\"\")","v":""},null,null,null,null,null,null,null,null,null,null,null,null,{"$f":"IF(ISNUMBER(#REF!),#REF!,\"\")","v":""}]
[null,null,null,null,null,null,null,null,null,null,null,null,{"$f":"IF(ISNUMBER(#REF!),#REF!,\"\")","v":""},null,null,null,null,null,null,null,null,null,null,null,null,{"$f":"IF(ISNUMBER(#REF!),#REF!,\"\")","v":""},null,null,null,null,null,null,null,null,null,null,null,{"$f":"IF(ISNUMBER(#REF!),#REF!,\"\")","v":""},null,null,null,null,null,null,null,null,null,null,null,null,{"$f":"IF(ISNUMBER(#REF!),#REF!,\"\")","v":""},null,null,null,null,null,null,null,null,null,null,null,null,{"$f":"IF(ISNUMBER(#REF!),#REF!,\"\")","v":""}]
[null,null,null,null,null,null,null,null,null,null,null,null,{"$f":"IF(ISNUMBER(#REF!),#REF!,\"\")","v":""},null,null,null,null,null,null,null,null,null,null,null,null,{"$f":"IF(ISNUMBER(#REF!),#REF!,\"\")","v":""},null,null,null,null,null,null,null,null,null,null,null,{"$f":"IF(ISNUMBER(#REF!),#REF!,\"\")","v":""},null,null,null,null,null,null,null,null,null,null,null,null,{"$f":"IF(ISNUMBER(#REF!),#REF!,\"\")","v":""},null,null,null,null,null,null,null,null,null,null,null,null,{"$f":"IF(ISNUMBER(#REF!),#REF!,\"\")","v":""}]
[null,null,null,null,null,null,null,null,null,null,null,null,{"$f":"IF(ISNUMBER(#REF!),#REF!,\"\")","v":""},null,null,null,null,null,null,null,null,null,null,null,null,{"$f":"IF(ISNUMBER(#REF!),#REF!,\"\")","v":""},null,null,null,null,null,null,null,null,null,null,null,{"$f":"IF(ISNUMBER(#REF!),#REF!,\"\")","v":""},null,null,null,null,null,null,null,null,null,null,null,null,{"$f":"IF(ISNUMBER(#REF!),#REF!,\"\")","v":""},null,null,null,null,null,null,null,null,null,null,null,null,{"$f":"IF(ISNUMBER(#REF!),#REF!,\"\")","v":""}]
[null,null,null,null,null,null,null,null,null,null,null,null,{"$f":"IF(ISNUMBER(#REF!),#REF!,\"\")","v":""},null,null,null,null,null,null,null,null,null,null,null,null,{"$f":"IF(ISNUMBER(#REF!),#REF!,\"\")","v":""},null,null,null,null,null,null,null,null,null,null,null,{"$f":"IF(ISNUMBER(#REF!),#REF!,\"\")","v":""},null,null,null,null,null,null,null,null,null,null,null,null,{"$f":"IF(ISNUMBER(#REF!),#REF!,\"\")","v":""},null,null,null,null,null,null,null,null,null,null,null,null,{"$f":"IF(ISNUMBER(#REF!),#REF!,\"\")","v":""}]
[null,null,null,null,null,null,null,null,null,null,null,null,{"$f":"IF(ISNUMBER(#REF!),#REF!,\"\")","v":""},null,null,null,null,null,null,null,null,null,null,null,null,{"$f":"IF(ISNUMBER(#REF!),#REF!,\"\")","v":""},null,null,null,null,null,null,null,null,null,null,null,{"$f":"IF(ISNUMBER(#REF!),#REF!,\"\")","v":""},null,null,null,null,null,null,null,null,null,null,null,null,{"$f":"IF(ISNUMBER(#REF!),#REF!,\"\")","v":""},null,null,null,null,null,null,null,null,null,null,null,null,{"$f":"IF(ISNUMBER(#REF!),#REF!,\"\")","v":""}]
[null,null,null,null,null,null,null,null,null,null,null,null,{"$f":"IF(ISNUMBER(#REF!),#REF!,\"\")","v":""},null,null,null,null,null,null,null,null,null,null,null,null,{"$f":"IF(ISNUMBER(#REF!),#REF!,\"\")","v":""},null,null,null,null,null,null,null,null,null,null,null,{"$f":"IF(ISNUMBER(#REF!),#REF!,\"\")","v":""},null,null,null,null,null,null,null,null,null,null,null,null,{"$f":"IF(ISNUMBER(#REF!),#REF!,\"\")","v":""},null,null,null,null,null,null,null,null,null,null,null,null,{"$f":"IF(ISNUMBER(#REF!),#REF!,\"\")","v":""}]
[null,null,null,null,null,null,null,null,null,null,null,null,{"$f":"IF(ISNUMBER(#REF!),#REF!,\"\")","v":""},null,null,null,null,null,null,null,null,null,null,null,null,{"$f":"IF(ISNUMBER(#REF!),#REF!,\"\")","v":""},null,null,null,null,null,null,null,null,null,null,null,{"$f":"IF(ISNUMBER(#REF!),#REF!,\"\")","v":""},null,null,null,null,null,null,null,null,null,null,null,null,{"$f":"IF(ISNUMBER(#REF!),#REF!,\"\")","v":""},null,null,null,null,null,null,null,null,null,null,null,null,{"$f":"IF(ISNUMBER(#REF!),#REF!,\"\")","v":""}]
[null,null,null,null,null,null,null,null,null,null,null,null,{"$f":"IF(ISNUMBER(#REF!),#REF!,\"\")","v":""},null,null,null,null,null,null,null,null,null,null,null,null,{"$f":"IF(ISNUMBER(#REF!),#REF!,\"\")","v":""},null,null,null,null,null,null,null,null,null,null,null,{"$f":"IF(ISNUMBER(#REF!),#REF!,\"\")","v":""},null,null,null,null,null,null,null,null,null,null,null,null,{"$f":"IF(ISNUMBER(#REF!),#REF!,\"\")","v":""},null,null,null,null,null,null,null,null,null,null,null,null,{"$f":"IF(ISNUMBER(#REF!),#REF!,\"\")","v":""}]
[null,null,null,null,null,null,null,null,null,null,null,null,{"$f":"IF(ISNUMBER(#REF!),#REF!,\"\")","v":""},null,null,null,null,null,null,null,null,null,null,null,null,{"$f":"IF(ISNUMBER(#REF!),#REF!,\"\")","v":""},null,null,null,null,null,null,null,null,null,null,null,{"$f":"IF(ISNUMBER(#REF!),#REF!,\"\")","v":""},null,null,null,null,null,null,null,null,null,null,null,null,{"$f":"IF(ISNUMBER(#REF!),#REF!,\"\")","v":""},null,null,null,null,null,null,null,null,null,null,null,null,{"$f":"IF(ISNUMBER(#REF!),#REF!,\"\")","v":""}]
[null,null,null,null,null,null,null,null,null,null,null,null,{"$f":"IF(ISNUMBER(#REF!),#REF!,\"\")","v":""},null,null,null,null,null,null,null,null,null,null,null,null,{"$f":"IF(ISNUMBER(#REF!),#REF!,\"\")","v":""},null,null,null,null,null,null,null,null,null,null,null,{"$f":"IF(ISNUMBER(#REF!),#REF!,\"\")","v":""},null,null,null,null,null,null,null,null,null,null,null,null,{"$f":"IF(ISNUMBER(#REF!),#REF!,\"\")","v":""},null,null,null,null,null,null,null,null,null,null,null,null,{"$f":"IF(ISNUMBER(#REF!),#REF!,\"\")","v":""}]
[null,null,null,null,null,null,null,null,null,null,null,null,{"$f":"IF(ISNUMBER(#REF!),#REF!,\"\")","v":""},null,null,null,null,null,null,null,null,null,null,null,null,{"$f":"IF(ISNUMBER(#REF!),#REF!,\"\")","v":""},null,null,null,null,null,null,null,null,null,null,null,{"$f":"IF(ISNUMBER(#REF!),#REF!,\"\")","v":""},null,null,null,null,null,null,null,null,null,null,null,null,{"$f":"IF(ISNUMBER(#REF!),#REF!,\"\")","v":""},null,null,null,null,null,null,null,null,null,null,null,null,{"$f":"IF(ISNUMBER(#REF!),#REF!,\"\")","v":""}]
[null,null,null,null,null,null,null,null,null,null,null,null,{"$f":"IF(ISNUMBER(#REF!),#REF!,\"\")","v":""},null,null,null,null,null,null,null,null,null,null,null,null,{"$f":"IF(ISNUMBER(#REF!),#REF!,\"\")","v":""},null,null,null,null,null,null,null,null,null,null,null,{"$f":"IF(ISNUMBER(#REF!),#REF!,\"\")","v":""},null,null,null,null,null,null,null,null,null,null,null,null,{"$f":"IF(ISNUMBER(#REF!),#REF!,\"\")","v":""},null,null,null,null,null,null,null,null,null,null,null,null,{"$f":"IF(ISNUMBER(#REF!),#REF!,\"\")","v":""}]
[null,null,null,null,null,null,null,null,null,null,null,null,{"$f":"IF(ISNUMBER(#REF!),#REF!,\"\")","v":""},null,null,null,null,null,null,null,null,null,null,null,null,{"$f":"IF(ISNUMBER(#REF!),#REF!,\"\")","v":""},null,null,null,null,null,null,null,null,null,null,null,{"$f":"IF(ISNUMBER(#REF!),#REF!,\"\")","v":""},null,null,null,null,null,null,null,null,null,null,null,null,{"$f":"IF(ISNUMBER(#REF!),#REF!,\"\")","v":""},null,null,null,null,null,null,null,null,null,null,null,null,{"$f":"IF(ISNUMBER(#REF!),#REF!,\"\")","v":""}]
[null,null,null,null,null,null,null,null,null,null,null,null,{"$f":"IF(ISNUMBER(#REF!),#REF!,\"\")","v":""},null,null,null,null,null,null,null,null,null,null,null,null,{"$f":"IF(ISNUMBER(#REF!),#REF!,\"\")","v":""},null,null,null,null,null,null,null,null,null,null,null,{"$f":"IF(ISNUMBER(#REF!),#REF!,\"\")","v":""},null,null,null,null,null,null,null,null,null,null,null,null,{"$f":"IF(ISNUMBER(#REF!),#REF!,\"\")","v":""},null,null,null,null,null,null,null,null,null,null,null,null,{"$f":"IF(ISNUMBER(#REF!),#REF!,\"\")","v":""}]
[null,null,null,null,null,null,null,null,null,null,null,null,{"$f":"IF(ISNUMBER(#REF!),#REF!,\"\")","v":""},null,null,null,null,null,null,null,null,null,null,null,null,{"$f":"IF(ISNUMBER(#REF!),#REF!,\"\")","v":""},null,null,null,null,null,null,null,null,null,null,null,{"$f":"IF(ISNUMBER(#REF!),#REF!,\"\")","v":""},null,null,null,null,null,null,null,null,null,null,null,null,{"$f":"IF(ISNUMBER(#REF!),#REF!,\"\")","v":""},null,null,null,null,null,null,null,null,null,null,null,null,{"$f":"IF(ISNUMBER(#REF!),#REF!,\"\")","v":""}]
[null,null,null,null,null,null,null,null,null,null,null,null,{"$f":"IF(ISNUMBER(#REF!),#REF!,\"\")","v":""},null,null,null,null,null,null,null,null,null,null,null,null,{"$f":"IF(ISNUMBER(#REF!),#REF!,\"\")","v":""},null,null,null,null,null,null,null,null,null,null,null,{"$f":"IF(ISNUMBER(#REF!),#REF!,\"\")","v":""},null,null,null,null,null,null,null,null,null,null,null,null,{"$f":"IF(ISNUMBER(#REF!),#REF!,\"\")","v":""},null,null,null,null,null,null,null,null,null,null,null,null,{"$f":"IF(ISNUMBER(#REF!),#REF!,\"\")","v":""}]
[null,null,null,null,null,null,null,null,null,null,null,null,{"$f":"IF(ISNUMBER(#REF!),#REF!,\"\")","v":""},null,null,null,null,null,null,null,null,null,null,null,null,{"$f":"IF(ISNUMBER(#REF!),#REF!,\"\")","v":""},null,null,null,null,null,null,null,null,null,null,null,{"$f":"IF(ISNUMBER(#REF!),#REF!,\"\")","v":""},null,null,null,null,null,null,null,null,null,null,null,null,{"$f":"IF(ISNUMBER(#REF!),#REF!,\"\")","v":""},null,null,null,null,null,null,null,null,null,null,null,null,{"$f":"IF(ISNUMBER(#REF!),#REF!,\"\")","v":""}]
[null,null,null,null,null,null,null,null,null,null,null,null,{"$f":"IF(ISNUMBER(#REF!),#REF!,\"\")","v":""},null,null,null,null,null,null,null,null,null,null,null,null,{"$f":"IF(ISNUMBER(#REF!),#REF!,\"\")","v":""},null,null,null,null,null,null,null,null,null,null,null,{"$f":"IF(ISNUMBER(#REF!),#REF!,\"\")","v":""},null,null,null,null,null,null,null,null,null,null,null,null,{"$f":"IF(ISNUMBER(#REF!),#REF!,\"\")","v":""},null,null,null,null,null,null,null,null,null,null,null,null,{"$f":"IF(ISNUMBER(#REF!),#REF!,\"\")","v":""}]
[null,null,null,null,null,null,null,null,null,null,null,null,{"$f":"IF(ISNUMBER(#REF!),#REF!,\"\")","v":""},null,null,null,null,null,null,null,null,null,null,null,null,{"$f":"IF(ISNUMBER(#REF!),#REF!,\"\")","v":""},null,null,null,null,null,null,null,null,null,null,null,{"$f":"IF(ISNUMBER(#REF!),#REF!,\"\")","v":""},null,null,null,null,null,null,null,null,null,null,null,null,{"$f":"IF(ISNUMBER(#REF!),#REF!,\"\")","v":""},null,null,null,null,null,null,null,null,null,null,null,null,{"$f":"IF(ISNUMBER(#REF!),#REF!,\"\")","v":""}]
[null,null,null,null,null,null,null,null,null,null,null,null,{"$f":"IF(ISNUMBER(#REF!),#REF!,\"\")","v":""},null,null,null,null,null,null,null,null,null,null,null,null,{"$f":"IF(ISNUMBER(#REF!),#REF!,\"\")","v":""},null,null,null,null,null,null,null,null,null,null,null,{"$f":"IF(ISNUMBER(#REF!),#REF!,\"\")","v":""},null,null,null,null,null,null,null,null,null,null,null,null,{"$f":"IF(ISNUMBER(#REF!),#REF!,\"\")","v":""},null,null,null,null,null,null,null,null,null,null,null,null,{"$f":"IF(ISNUMBER(#REF!),#REF!,\"\")","v":""}]
[null,null,null,null,null,null,null,null,null,null,null,null,{"$f":"IF(ISNUMBER(#REF!),#REF!,\"\")","v":""},null,null,null,null,null,null,null,null,null,null,null,null,{"$f":"IF(ISNUMBER(#REF!),#REF!,\"\")","v":""},null,null,null,null,null,null,null,null,null,null,null,{"$f":"IF(ISNUMBER(#REF!),#REF!,\"\")","v":""},null,null,null,null,null,null,null,null,null,null,null,null,{"$f":"IF(ISNUMBER(#REF!),#REF!,\"\")","v":""},null,null,null,null,null,null,null,null,null,null,null,null,{"$f":"IF(ISNUMBER(#REF!),#REF!,\"\")","v":""}]
[null,null,null,null,null,null,null,null,null,null,null,null,{"$f":"IF(ISNUMBER(#REF!),#REF!,\"\")","v":""},null,null,null,null,null,null,null,null,null,null,null,null,{"$f":"IF(ISNUMBER(#REF!),#REF!,\"\")","v":""},null,null,null,null,null,null,null,null,null,null,null,{"$f":"IF(ISNUMBER(#REF!),#REF!,\"\")","v":""},null,null,null,null,null,null,null,null,null,null,null,null,{"$f":"IF(ISNUMBER(#REF!),#REF!,\"\")","v":""},null,null,null,null,null,null,null,null,null,null,null,null,{"$f":"IF(ISNUMBER(#REF!),#REF!,\"\")","v":""}]
[null,null,null,null,null,null,null,null,null,null,null,null,{"$f":"IF(ISNUMBER(#REF!),#REF!,\"\")","v":""},null,null,null,null,null,null,null,null,null,null,null,null,{"$f":"IF(ISNUMBER(#REF!),#REF!,\"\")","v":""},null,null,null,null,null,null,null,null,null,null,null,{"$f":"IF(ISNUMBER(#REF!),#REF!,\"\")","v":""},null,null,null,null,null,null,null,null,null,null,null,null,{"$f":"IF(ISNUMBER(#REF!),#REF!,\"\")","v":""},null,null,null,null,null,null,null,null,null,null,null,null,{"$f":"IF(ISNUMBER(#REF!),#REF!,\"\")","v":""}]
[null,null,null,null,null,null,null,null,null,null,null,null,{"$f":"IF(ISNUMBER(#REF!),#REF!,\"\")","v":""},null,null,null,null,null,null,null,null,null,null,null,null,{"$f":"IF(ISNUMBER(#REF!),#REF!,\"\")","v":""},null,null,null,null,null,null,null,null,null,null,null,{"$f":"IF(ISNUMBER(#REF!),#REF!,\"\")","v":""},null,null,null,null,null,null,null,null,null,null,null,null,{"$f":"IF(ISNUMBER(#REF!),#REF!,\"\")","v":""},null,null,null,null,null,null,null,null,null,null,null,null,{"$f":"IF(ISNUMBER(#REF!),#REF!,\"\")","v":""}]
[null,null,null,null,null,null,null,null,null,null,null,null,{"$f":"IF(ISNUMBER(#REF!),#REF!,\"\")","v":""},null,null,null,null,null,null,null,null,null,null,null,null,{"$f":"IF(ISNUMBER(#REF!),#REF!,\"\")","v":""},null,null,null,null,null,null,null,null,null,null,null,{"$f":"IF(ISNUMBER(#REF!),#REF!,\"\")","v":""},null,null,null,null,null,null,null,null,null,null,null,null,{"$f":"IF(ISNUMBER(#REF!),#REF!,\"\")","v":""},null,null,null,null,null,null,null,null,null,null,null,null,{"$f":"IF(ISNUMBER(#REF!),#REF!,\"\")","v":""}]
[null,null,null,null,null,null,null,null,null,null,null,null,{"$f":"IF(ISNUMBER(#REF!),#REF!,\"\")","v":""},null,null,null,null,null,null,null,null,null,null,null,null,{"$f":"IF(ISNUMBER(#REF!),#REF!,\"\")","v":""},null,null,null,null,null,null,null,null,null,null,null,{"$f":"IF(ISNUMBER(#REF!),#REF!,\"\")","v":""},null,null,null,null,null,null,null,null,null,null,null,null,{"$f":"IF(ISNUMBER(#REF!),#REF!,\"\")","v":""},null,null,null,null,null,null,null,null,null,null,null,null,{"$f":"IF(ISNUMBER(#REF!),#REF!,\"\")","v":""}]
[null,null,null,null,null,null,null,null,null,null,null,null,{"$f":"IF(ISNUMBER(#REF!),#REF!,\"\")","v":""},null,null,null,null,null,null,null,null,null,null,null,null,{"$f":"IF(ISNUMBER(#REF!),#REF!,\"\")","v":""},null,null,null,null,null,null,null,null,null,null,null,{"$f":"IF(ISNUMBER(#REF!),#REF!,\"\")","v":""},null,null,null,null,null,null,null,null,null,null,null,null,{"$f":"IF(ISNUMBER(#REF!),#REF!,\"\")","v":""},null,null,null,null,null,null,null,null,null,null,null,null,{"$f":"IF(ISNUMBER(#REF!),#REF!,\"\")","v":""}]
[null,null,null,null,null,null,null,null,null,null,null,null,{"$f":"IF(ISNUMBER(#REF!),#REF!,\"\")","v":""},null,null,null,null,null,null,null,null,null,null,null,null,{"$f":"IF(ISNUMBER(#REF!),#REF!,\"\")","v":""},null,null,null,null,null,null,null,null,null,null,null,{"$f":"IF(ISNUMBER(#REF!),#REF!,\"\")","v":""},null,null,null,null,null,null,null,null,null,null,null,null,{"$f":"IF(ISNUMBER(#REF!),#REF!,\"\")","v":""},null,null,null,null,null,null,null,null,null,null,null,null,{"$f":"IF(ISNUMBER(#REF!),#REF!,\"\")","v":""}]
[null,null,null,null,null,null,null,null,null,null,null,null,{"$f":"IF(ISNUMBER(#REF!),#REF!,\"\")","v":""},null,null,null,null,null,null,null,null,null,null,null,null,{"$f":"IF(ISNUMBER(#REF!),#REF!,\"\")","v":""},null,null,null,null,null,null,null,null,null,null,null,{"$f":"IF(ISNUMBER(#REF!),#REF!,\"\")","v":""},null,null,null,null,null,null,null,null,null,null,null,null,{"$f":"IF(ISNUMBER(#REF!),#REF!,\"\")","v":""},null,null,null,null,null,null,null,null,null,null,null,null,{"$f":"IF(ISNUMBER(#REF!),#REF!,\"\")","v":""}]
[null,null,null,null,null,null,null,null,null,null,null,null,{"$f":"IF(ISNUMBER(#REF!),#REF!,\"\")","v":""},null,null,null,null,null,null,null,null,null,null,null,null,{"$f":"IF(ISNUMBER(#REF!),#REF!,\"\")","v":""},null,null,null,null,null,null,null,null,null,null,null,{"$f":"IF(ISNUMBER(#REF!),#REF!,\"\")","v":""},null,null,null,null,null,null,null,null,null,null,null,null,{"$f":"IF(ISNUMBER(#REF!),#REF!,\"\")","v":""},null,null,null,null,null,null,null,null,null,null,null,null,{"$f":"IF(ISNUMBER(#REF!),#REF!,\"\")","v":""}]
[null,null,null,null,null,null,null,null,null,null,null,null,{"$f":"IF(ISNUMBER(#REF!),#REF!,\"\")","v":""},null,null,null,null,null,null,null,null,null,null,null,null,{"$f":"IF(ISNUMBER(#REF!),#REF!,\"\")","v":""},null,null,null,null,null,null,null,null,null,null,null,{"$f":"IF(ISNUMBER(#REF!),#REF!,\"\")","v":""},null,null,null,null,null,null,null,null,null,null,null,null,{"$f":"IF(ISNUMBER(#REF!),#REF!,\"\")","v":""},null,null,null,null,null,null,null,null,null,null,null,null,{"$f":"IF(ISNUMBER(#REF!),#REF!,\"\")","v":""}]
[null,null,null,null,null,null,null,null,null,null,null,null,{"$f":"IF(ISNUMBER(#REF!),#REF!,\"\")","v":""},null,null,null,null,null,null,null,null,null,null,null,null,{"$f":"IF(ISNUMBER(#REF!),#REF!,\"\")","v":""},null,null,null,null,null,null,null,null,null,null,null,{"$f":"IF(ISNUMBER(#REF!),#REF!,\"\")","v":""},null,null,null,null,null,null,null,null,null,null,null,null,{"$f":"IF(ISNUMBER(#REF!),#REF!,\"\")","v":""},null,null,null,null,null,null,null,null,null,null,null,null,{"$f":"IF(ISNUMBER(#REF!),#REF!,\"\")","v":""}]
[null,null,null,null,null,null,null,null,null,null,null,null,{"$f":"IF(ISNUMBER(#REF!),#REF!,\"\")","v":""},null,null,null,null,null,null,null,null,null,null,null,null,{"$f":"IF(ISNUMBER(#REF!),#REF!,\"\")","v":""},null,null,null,null,null,null,null,null,null,null,null,{"$f":"IF(ISNUMBER(#REF!),#REF!,\"\")","v":""},null,null,null,null,null,null,null,null,null,null,null,null,{"$f":"IF(ISNUMBER(#REF!),#REF!,\"\")","v":""},null,null,null,null,null,null,null,null,null,null,null,null,{"$f":"IF(ISNUMBER(#REF!),#REF!,\"\")","v":""}]
[null,null,null,null,null,null,null,null,null,null,null,null,{"$f":"IF(ISNUMBER(#REF!),#REF!,\"\")","v":""},null,null,null,null,null,null,null,null,null,null,null,null,{"$f":"IF(ISNUMBER(#REF!),#REF!,\"\")","v":""},null,null,null,null,null,null,null,null,null,null,null,{"$f":"IF(ISNUMBER(#REF!),#REF!,\"\")","v":""},null,null,null,null,null,null,null,null,null,null,null,null,{"$f":"IF(ISNUMBER(#REF!),#REF!,\"\")","v":""},null,null,null,null,null,null,null,null,null,null,null,null,{"$f":"IF(ISNUMBER(#REF!),#REF!,\"\")","v":""}]
[null,null,null,null,null,null,null,null,null,null,null,null,{"$f":"IF(ISNUMBER(#REF!),#REF!,\"\")","v":""},null,null,null,null,null,null,null,null,null,null,null,null,{"$f":"IF(ISNUMBER(#REF!),#REF!,\"\")","v":""},null,null,null,null,null,null,null,null,null,null,null,{"$f":"IF(ISNUMBER(#REF!),#REF!,\"\")","v":""},null,null,null,null,null,null,null,null,null,null,null,null,{"$f":"IF(ISNUMBER(#REF!),#REF!,\"\")","v":""},null,null,null,null,null,null,null,null,null,null,null,null,{"$f":"IF(ISNUMBER(#REF!),#REF!,\"\")","v":""}]
[null,null,null,null,null,null,null,null,null,null,null,null,{"$f":"IF(ISNUMBER(#REF!),#REF!,\"\")","v":""},null,null,null,null,null,null,null,null,null,null,null,null,{"$f":"IF(ISNUMBER(#REF!),#REF!,\"\")","v":""},null,null,null,null,null,null,null,null,null,null,null,{"$f":"IF(ISNUMBER(#REF!),#REF!,\"\")","v":""},null,null,null,null,null,null,null,null,null,null,null,null,{"$f":"IF(ISNUMBER(#REF!),#REF!,\"\")","v":""},null,null,null,null,null,null,null,null,null,null,null,null,{"$f":"IF(ISNUMBER(#REF!),#REF!,\"\")","v":""}]
[null,null,null,null,null,null,null,null,null,null,null,null,{"$f":"IF(ISNUMBER(#REF!),#REF!,\"\")","v":""},null,null,null,null,null,null,null,null,null,null,null,null,{"$f":"IF(ISNUMBER(#REF!),#REF!,\"\")","v":""},null,null,null,null,null,null,null,null,null,null,null,{"$f":"IF(ISNUMBER(#REF!),#REF!,\"\")","v":""},null,null,null,null,null,null,null,null,null,null,null,null,{"$f":"IF(ISNUMBER(#REF!),#REF!,\"\")","v":""},null,null,null,null,null,null,null,null,null,null,null,null,{"$f":"IF(ISNUMBER(#REF!),#REF!,\"\")","v":""}]
[null,null,null,null,null,null,null,null,null,null,null,null,{"$f":"IF(ISNUMBER(#REF!),#REF!,\"\")","v":""},null,null,null,null,null,null,null,null,null,null,null,null,{"$f":"IF(ISNUMBER(#REF!),#REF!,\"\")","v":""},null,null,null,null,null,null,null,null,null,null,null,{"$f":"IF(ISNUMBER(#REF!),#REF!,\"\")","v":""},null,null,null,null,null,null,null,null,null,null,null,null,{"$f":"IF(ISNUMBER(#REF!),#REF!,\"\")","v":""},null,null,null,null,null,null,null,null,null,null,null,null,{"$f":"IF(ISNUMBER(#REF!),#REF!,\"\")","v":""}]
[null,null,null,null,null,null,null,null,null,null,null,null,{"$f":"IF(ISNUMBER(#REF!),#REF!,\"\")","v":""},null,null,null,null,null,null,null,null,null,null,null,null,{"$f":"IF(ISNUMBER(#REF!),#REF!,\"\")","v":""},null,null,null,null,null,null,null,null,null,null,null,{"$f":"IF(ISNUMBER(#REF!),#REF!,\"\")","v":""},null,null,null,null,null,null,null,null,null,null,null,null,{"$f":"IF(ISNUMBER(#REF!),#REF!,\"\")","v":""},null,null,null,null,null,null,null,null,null,null,null,null,{"$f":"IF(ISNUMBER(#REF!),#REF!,\"\")","v":""}]
[null,null,null,null,null,null,null,null,null,null,null,null,{"$f":"IF(ISNUMBER(#REF!),#REF!,\"\")","v":""},null,null,null,null,null,null,null,null,null,null,null,null,{"$f":"IF(ISNUMBER(#REF!),#REF!,\"\")","v":""},null,null,null,null,null,null,null,null,null,null,null,{"$f":"IF(ISNUMBER(#REF!),#REF!,\"\")","v":""},null,null,null,null,null,null,null,null,null,null,null,null,{"$f":"IF(ISNUMBER(#REF!),#REF!,\"\")","v":""},null,null,null,null,null,null,null,null,null,null,null,null,{"$f":"IF(ISNUMBER(#REF!),#REF!,\"\")","v":""}]
[null,null,null,null,null,null,null,null,null,null,null,null,{"$f":"IF(ISNUMBER(#REF!),#REF!,\"\")","v":""},null,null,null,null,null,null,null,null,null,null,null,null,{"$f":"IF(ISNUMBER(#REF!),#REF!,\"\")","v":""},null,null,null,null,null,null,null,null,null,null,null,{"$f":"IF(ISNUMBER(#REF!),#REF!,\"\")","v":""},null,null,null,null,null,null,null,null,null,null,null,null,{"$f":"IF(ISNUMBER(#REF!),#REF!,\"\")","v":""},null,null,null,null,null,null,null,null,null,null,null,null,{"$f":"IF(ISNUMBER(#REF!),#REF!,\"\")","v":""}]
[null,null,null,null,null,null,null,null,null,null,null,null,{"$f":"IF(ISNUMBER(#REF!),#REF!,\"\")","v":""},null,null,null,null,null,null,null,null,null,null,null,null,{"$f":"IF(ISNUMBER(#REF!),#REF!,\"\")","v":""},null,null,null,null,null,null,null,null,null,null,null,{"$f":"IF(ISNUMBER(#REF!),#REF!,\"\")","v":""},null,null,null,null,null,null,null,null,null,null,null,null,{"$f":"IF(ISNUMBER(#REF!),#REF!,\"\")","v":""},null,null,null,null,null,null,null,null,null,null,null,null,{"$f":"IF(ISNUMBER(#REF!),#REF!,\"\")","v":""}]
[null,null,null,null,null,null,null,null,null,null,null,null,{"$f":"IF(ISNUMBER(#REF!),#REF!,\"\")","v":""},null,null,null,null,null,null,null,null,null,null,null,null,{"$f":"IF(ISNUMBER(#REF!),#REF!,\"\")","v":""},null,null,null,null,null,null,null,null,null,null,null,{"$f":"IF(ISNUMBER(#REF!),#REF!,\"\")","v":""},null,null,null,null,null,null,null,null,null,null,null,null,{"$f":"IF(ISNUMBER(#REF!),#REF!,\"\")","v":""},null,null,null,null,null,null,null,null,null,null,null,null,{"$f":"IF(ISNUMBER(#REF!),#REF!,\"\")","v":""}]
[null,null,null,null,null,null,null,null,null,null,null,null,{"$f":"IF(ISNUMBER(#REF!),#REF!,\"\")","v":""},null,null,null,null,null,null,null,null,null,null,null,null,{"$f":"IF(ISNUMBER(#REF!),#REF!,\"\")","v":""},null,null,null,null,null,null,null,null,null,null,null,{"$f":"IF(ISNUMBER(#REF!),#REF!,\"\")","v":""},null,null,null,null,null,null,null,null,null,null,null,null,{"$f":"IF(ISNUMBER(#REF!),#REF!,\"\")","v":""},null,null,null,null,null,null,null,null,null,null,null,null,{"$f":"IF(ISNUMBER(#REF!),#REF!,\"\")","v":""}]
[null,null,null,null,null,null,null,null,null,null,null,null,{"$f":"IF(ISNUMBER(#REF!),#REF!,\"\")","v":""},null,null,null,null,null,null,null,null,null,null,null,null,{"$f":"IF(ISNUMBER(#REF!),#REF!,\"\")","v":""},null,null,null,null,null,null,null,null,null,null,null,{"$f":"IF(ISNUMBER(#REF!),#REF!,\"\")","v":""},null,null,null,null,null,null,null,null,null,null,null,null,{"$f":"IF(ISNUMBER(#REF!),#REF!,\"\")","v":""},null,null,null,null,null,null,null,null,null,null,null,null,{"$f":"IF(ISNUMBER(#REF!),#REF!,\"\")","v":""}]
[null,null,null,null,null,null,null,null,null,null,null,null,{"$f":"IF(ISNUMBER(#REF!),#REF!,\"\")","v":""},null,null,null,null,null,null,null,null,null,null,null,null,{"$f":"IF(ISNUMBER(#REF!),#REF!,\"\")","v":""},null,null,null,null,null,null,null,null,null,null,null,{"$f":"IF(ISNUMBER(#REF!),#REF!,\"\")","v":""},null,null,null,null,null,null,null,null,null,null,null,null,{"$f":"IF(ISNUMBER(#REF!),#REF!,\"\")","v":""},null,null,null,null,null,null,null,null,null,null,null,null,{"$f":"IF(ISNUMBER(#REF!),#REF!,\"\")","v":""}]
[null,null,null,null,null,null,null,null,null,null,null,null,{"$f":"IF(ISNUMBER(#REF!),#REF!,\"\")","v":""},null,null,null,null,null,null,null,null,null,null,null,null,{"$f":"IF(ISNUMBER(#REF!),#REF!,\"\")","v":""},null,null,null,null,null,null,null,null,null,null,null,{"$f":"IF(ISNUMBER(#REF!),#REF!,\"\")","v":""},null,null,null,null,null,null,null,null,null,null,null,null,{"$f":"IF(ISNUMBER(#REF!),#REF!,\"\")","v":""},null,null,null,null,null,null,null,null,null,null,null,null,{"$f":"IF(ISNUMBER(#REF!),#REF!,\"\")","v":""}]
[null,null,null,null,null,null,null,null,null,null,null,null,{"$f":"IF(ISNUMBER(#REF!),#REF!,\"\")","v":""},null,null,null,null,null,null,null,null,null,null,null,null,{"$f":"IF(ISNUMBER(#REF!),#REF!,\"\")","v":""},null,null,null,null,null,null,null,null,null,null,null,{"$f":"IF(ISNUMBER(#REF!),#REF!,\"\")","v":""},null,null,null,null,null,null,null,null,null,null,null,null,{"$f":"IF(ISNUMBER(#REF!),#REF!,\"\")","v":""},null,null,null,null,null,null,null,null,null,null,null,null,{"$f":"IF(ISNUMBER(#REF!),#REF!,\"\")","v":""}]
[null,null,null,null,null,null,null,null,null,null,null,null,{"$f":"IF(ISNUMBER(#REF!),#REF!,\"\")","v":""},null,null,null,null,null,null,null,null,null,null,null,null,{"$f":"IF(ISNUMBER(#REF!),#REF!,\"\")","v":""},null,null,null,null,null,null,null,null,null,null,null,{"$f":"IF(ISNUMBER(#REF!),#REF!,\"\")","v":""},null,null,null,null,null,null,null,null,null,null,null,null,{"$f":"IF(ISNUMBER(#REF!),#REF!,\"\")","v":""},null,null,null,null,null,null,null,null,null,null,null,null,{"$f":"IF(ISNUMBER(#REF!),#REF!,\"\")","v":""}]
[null,null,null,null,null,null,null,null,null,null,null,null,{"$f":"IF(ISNUMBER(#REF!),#REF!,\"\")","v":""},null,null,null,null,null,null,null,null,null,null,null,null,{"$f":"IF(ISNUMBER(#REF!),#REF!,\"\")","v":""},null,null,null,null,null,null,null,null,null,null,null,{"$f":"IF(ISNUMBER(#REF!),#REF!,\"\")","v":""},null,null,null,null,null,null,null,null,null,null,null,null,{"$f":"IF(ISNUMBER(#REF!),#REF!,\"\")","v":""},null,null,null,null,null,null,null,null,null,null,null,null,{"$f":"IF(ISNUMBER(#REF!),#REF!,\"\")","v":""}]
[null,null,null,null,null,null,null,null,null,null,null,null,{"$f":"IF(ISNUMBER(#REF!),#REF!,\"\")","v":""},null,null,null,null,null,null,null,null,null,null,null,null,{"$f":"IF(ISNUMBER(#REF!),#REF!,\"\")","v":""},null,null,null,null,null,null,null,null,null,null,null,{"$f":"IF(ISNUMBER(#REF!),#REF!,\"\")","v":""},null,null,null,null,null,null,null,null,null,null,null,null,{"$f":"IF(ISNUMBER(#REF!),#REF!,\"\")","v":""},null,null,null,null,null,null,null,null,null,null,null,null,{"$f":"IF(ISNUMBER(#REF!),#REF!,\"\")","v":""}]
[null,null,null,null,null,null,null,null,null,null,null,null,{"$f":"IF(ISNUMBER(#REF!),#REF!,\"\")","v":""},null,null,null,null,null,null,null,null,null,null,null,null,{"$f":"IF(ISNUMBER(#REF!),#REF!,\"\")","v":""},null,null,null,null,null,null,null,null,null,null,null,{"$f":"IF(ISNUMBER(#REF!),#REF!,\"\")","v":""},null,null,null,null,null,null,null,null,null,null,null,null,{"$f":"IF(ISNUMBER(#REF!),#REF!,\"\")","v":""},null,null,null,null,null,null,null,null,null,null,null,null,{"$f":"IF(ISNUMBER(#REF!),#REF!,\"\")","v":""}]
[null,null,null,null,null,null,null,null,null,null,null,null,{"$f":"IF(ISNUMBER(#REF!),#REF!,\"\")","v":""},null,null,null,null,null,null,null,null,null,null,null,null,{"$f":"IF(ISNUMBER(#REF!),#REF!,\"\")","v":""},null,null,null,null,null,null,null,null,null,null,null,{"$f":"IF(ISNUMBER(#REF!),#REF!,\"\")","v":""},null,null,null,null,null,null,null,null,null,null,null,null,{"$f":"IF(ISNUMBER(#REF!),#REF!,\"\")","v":""},null,null,null,null,null,null,null,null,null,null,null,null,{"$f":"IF(ISNUMBER(#REF!),#REF!,\"\")","v":""}]
[null,null,null,null,null,null,null,null,null,null,null,null,{"$f":"IF(ISNUMBER(#REF!),#REF!,\"\")","v":""},null,null,null,null,null,null,null,null,null,null,null,null,{"$f":"IF(ISNUMBER(#REF!),#REF!,\"\")","v":""},null,null,null,null,null,null,null,null,null,null,null,{"$f":"IF(ISNUMBER(#REF!),#REF!,\"\")","v":""},null,null,null,null,null,null,null,null,null,null,null,null,{"$f":"IF(ISNUMBER(#REF!),#REF!,\"\")","v":""},null,null,null,null,null,null,null,null,null,null,null,null,{"$f":"IF(ISNUMBER(#REF!),#REF!,\"\")","v":""}]
[null,null,null,null,null,null,null,null,null,null,null,null,{"$f":"IF(ISNUMBER(#REF!),#REF!,\"\")","v":""},null,null,null,null,null,null,null,null,null,null,null,null,{"$f":"IF(ISNUMBER(#REF!),#REF!,\"\")","v":""},null,null,null,null,null,null,null,null,null,null,null,{"$f":"IF(ISNUMBER(#REF!),#REF!,\"\")","v":""},null,null,null,null,null,null,null,null,null,null,null,null,{"$f":"IF(ISNUMBER(#REF!),#REF!,\"\")","v":""},null,null,null,null,null,null,null,null,null,null,null,null,{"$f":"IF(ISNUMBER(#REF!),#REF!,\"\")","v":""}]
[null,null,null,null,null,null,null,null,null,null,null,null,{"$f":"IF(ISNUMBER(#REF!),#REF!,\"\")","v":""},null,null,null,null,null,null,null,null,null,null,null,null,{"$f":"IF(ISNUMBER(#REF!),#REF!,\"\")","v":""},null,null,null,null,null,null,null,null,null,null,null,{"$f":"IF(ISNUMBER(#REF!),#REF!,\"\")","v":""},null,null,null,null,null,null,null,null,null,null,null,null,{"$f":"IF(ISNUMBER(#REF!),#REF!,\"\")","v":""},null,null,null,null,null,null,null,null,null,null,null,null,{"$f":"IF(ISNUMBER(#REF!),#REF!,\"\")","v":""}]
[null,null,null,null,null,null,null,null,null,null,null,null,{"$f":"IF(ISNUMBER(#REF!),#REF!,\"\")","v":""},null,null,null,null,null,null,null,null,null,null,null,null,{"$f":"IF(ISNUMBER(#REF!),#REF!,\"\")","v":""},null,null,null,null,null,null,null,null,null,null,null,{"$f":"IF(ISNUMBER(#REF!),#REF!,\"\")","v":""},null,null,null,null,null,null,null,null,null,null,null,null,{"$f":"IF(ISNUMBER(#REF!),#REF!,\"\")","v":""},null,null,null,null,null,null,null,null,null,null,null,null,{"$f":"IF(ISNUMBER(#REF!),#REF!,\"\")","v":""}]
[null,null,null,null,null,null,null,null,null,null,null,null,{"$f":"IF(ISNUMBER(#REF!),#REF!,\"\")","v":""},null,null,null,null,null,null,null,null,null,null,null,null,{"$f":"IF(ISNUMBER(#REF!),#REF!,\"\")","v":""},null,null,null,null,null,null,null,null,null,null,null,{"$f":"IF(ISNUMBER(#REF!),#REF!,\"\")","v":""},null,null,null,null,null,null,null,null,null,null,null,null,{"$f":"IF(ISNUMBER(#REF!),#REF!,\"\")","v":""},null,null,null,null,null,null,null,null,null,null,null,null,{"$f":"IF(ISNUMBER(#REF!),#REF!,\"\")","v":""}]
[null,null,null,null,null,null,null,null,null,null,null,null,{"$f":"IF(ISNUMBER(#REF!),#REF!,\"\")","v":""},null,null,null,null,null,null,null,null,null,null,null,null,{"$f":"IF(ISNUMBER(#REF!),#REF!,\"\")","v":""},null,null,null,null,null,null,null,null,null,null,null,{"$f":"IF(ISNUMBER(#REF!),#REF!,\"\")","v":""},null,null,null,null,null,null,null,null,null,null,null,null,{"$f":"IF(ISNUMBER(#REF!),#REF!,\"\")","v":""},null,null,null,null,null,null,null,null,null,null,null,null,{"$f":"IF(ISNUMBER(#REF!),#REF!,\"\")","v":""}]
[null,null,null,null,null,null,null,null,null,null,null,null,{"$f":"IF(ISNUMBER(#REF!),#REF!,\"\")","v":""},null,null,null,null,null,null,null,null,null,null,null,null,{"$f":"IF(ISNUMBER(#REF!),#REF!,\"\")","v":""},null,null,null,null,null,null,null,null,null,null,null,{"$f":"IF(ISNUMBER(#REF!),#REF!,\"\")","v":""},null,null,null,null,null,null,null,null,null,null,null,null,{"$f":"IF(ISNUMBER(#REF!),#REF!,\"\")","v":""},null,null,null,null,null,null,null,null,null,null,null,null,{"$f":"IF(ISNUMBER(#REF!),#REF!,\"\")","v":""}]
[null,null,null,null,null,null,null,null,null,null,null,null,{"$f":"IF(ISNUMBER(#REF!),#REF!,\"\")","v":""},null,null,null,null,null,null,null,null,null,null,null,null,{"$f":"IF(ISNUMBER(#REF!),#REF!,\"\")","v":""},null,null,null,null,null,null,null,null,null,null,null,{"$f":"IF(ISNUMBER(#REF!),#REF!,\"\")","v":""},null,null,null,null,null,null,null,null,null,null,null,null,{"$f":"IF(ISNUMBER(#REF!),#REF!,\"\")","v":""},null,null,null,null,null,null,null,null,null,null,null,null,{"$f":"IF(ISNUMBER(#REF!),#REF!,\"\")","v":""}]
[null,null,null,null,null,null,null,null,null,null,null,null,{"$f":"IF(ISNUMBER(#REF!),#REF!,\"\")","v":""},null,null,null,null,null,null,null,null,null,null,null,null,{"$f":"IF(ISNUMBER(#REF!),#REF!,\"\")","v":""},null,null,null,null,null,null,null,null,null,null,null,{"$f":"IF(ISNUMBER(#REF!),#REF!,\"\")","v":""},null,null,null,null,null,null,null,null,null,null,null,null,{"$f":"IF(ISNUMBER(#REF!),#REF!,\"\")","v":""},null,null,null,null,null,null,null,null,null,null,null,null,{"$f":"IF(ISNUMBER(#REF!),#REF!,\"\")","v":""}]
[null,null,null,null,null,null,null,null,null,null,null,null,{"$f":"IF(ISNUMBER(#REF!),#REF!,\"\")","v":""},null,null,null,null,null,null,null,null,null,null,null,null,{"$f":"IF(ISNUMBER(#REF!),#REF!,\"\")","v":""},null,null,null,null,null,null,null,null,null,null,null,{"$f":"IF(ISNUMBER(#REF!),#REF!,\"\")","v":""},null,null,null,null,null,null,null,null,null,null,null,null,{"$f":"IF(ISNUMBER(#REF!),#REF!,\"\")","v":""},null,null,null,null,null,null,null,null,null,null,null,null,{"$f":"IF(ISNUMBER(#REF!),#REF!,\"\")","v":""}]
[null,null,null,null,null,null,null,null,null,null,null,null,{"$f":"IF(ISNUMBER(#REF!),#REF!,\"\")","v":""},null,null,null,null,null,null,null,null,null,null,null,null,{"$f":"IF(ISNUMBER(#REF!),#REF!,\"\")","v":""},null,null,null,null,null,null,null,null,null,null,null,{"$f":"IF(ISNUMBER(#REF!),#REF!,\"\")","v":""},null,null,null,null,null,null,null,null,null,null,null,null,{"$f":"IF(ISNUMBER(#REF!),#REF!,\"\")","v":""},null,null,null,null,null,null,null,null,null,null,null,null,{"$f":"IF(ISNUMBER(#REF!),#REF!,\"\")","v":""}]
[null,null,null,null,null,null,null,null,null,null,null,null,{"$f":"IF(ISNUMBER(#REF!),#REF!,\"\")","v":""},null,null,null,null,null,null,null,null,null,null,null,null,{"$f":"IF(ISNUMBER(#REF!),#REF!,\"\")","v":""},null,null,null,null,null,null,null,null,null,null,null,{"$f":"IF(ISNUMBER(#REF!),#REF!,\"\")","v":""},null,null,null,null,null,null,null,null,null,null,null,null,{"$f":"IF(ISNUMBER(#REF!),#REF!,\"\")","v":""},null,null,null,null,null,null,null,null,null,null,null,null,{"$f":"IF(ISNUMBER(#REF!),#REF!,\"\")","v":""}]
[null,null,null,null,null,null,null,null,null,null,null,null,{"$f":"IF(ISNUMBER(#REF!),#REF!,\"\")","v":""},null,null,null,null,null,null,null,null,null,null,null,null,{"$f":"IF(ISNUMBER(#REF!),#REF!,\"\")","v":""},null,null,null,null,null,null,null,null,null,null,null,{"$f":"IF(ISNUMBER(#REF!),#REF!,\"\")","v":""},null,null,null,null,null,null,null,null,null,null,null,null,{"$f":"IF(ISNUMBER(#REF!),#REF!,\"\")","v":""},null,null,null,null,null,null,null,null,null,null,null,null,{"$f":"IF(ISNUMBER(#REF!),#REF!,\"\")","v":""}]
[null,null,null,null,null,null,null,null,null,null,null,null,{"$f":"IF(ISNUMBER(#REF!),#REF!,\"\")","v":""},null,null,null,null,null,null,null,null,null,null,null,null,{"$f":"IF(ISNUMBER(#REF!),#REF!,\"\")","v":""},null,null,null,null,null,null,null,null,null,null,null,{"$f":"IF(ISNUMBER(#REF!),#REF!,\"\")","v":""},null,null,null,null,null,null,null,null,null,null,null,null,{"$f":"IF(ISNUMBER(#REF!),#REF!,\"\")","v":""},null,null,null,null,null,null,null,null,null,null,null,null,{"$f":"IF(ISNUMBER(#REF!),#REF!,\"\")","v":""}]
[null,null,null,null,null,null,null,null,null,null,null,null,{"$f":"IF(ISNUMBER(#REF!),#REF!,\"\")","v":""},null,null,null,null,null,null,null,null,null,null,null,null,{"$f":"IF(ISNUMBER(#REF!),#REF!,\"\")","v":""},null,null,null,null,null,null,null,null,null,null,null,{"$f":"IF(ISNUMBER(#REF!),#REF!,\"\")","v":""},null,null,null,null,null,null,null,null,null,null,null,null,{"$f":"IF(ISNUMBER(#REF!),#REF!,\"\")","v":""},null,null,null,null,null,null,null,null,null,null,null,null,{"$f":"IF(ISNUMBER(#REF!),#REF!,\"\")","v":""}]
[null,null,null,null,null,null,null,null,null,null,null,null,{"$f":"IF(ISNUMBER(#REF!),#REF!,\"\")","v":""},null,null,null,null,null,null,null,null,null,null,null,null,{"$f":"IF(ISNUMBER(#REF!),#REF!,\"\")","v":""},null,null,null,null,null,null,null,null,null,null,null,{"$f":"IF(ISNUMBER(#REF!),#REF!,\"\")","v":""},null,null,null,null,null,null,null,null,null,null,null,null,{"$f":"IF(ISNUMBER(#REF!),#REF!,\"\")","v":""},null,null,null,null,null,null,null,null,null,null,null,null,{"$f":"IF(ISNUMBER(#REF!),#REF!,\"\")","v":""}]
[null,null,null,null,null,null,null,null,null,null,null,null,{"$f":"IF(ISNUMBER(#REF!),#REF!,\"\")","v":""},null,null,null,null,null,null,null,null,null,null,null,null,{"$f":"IF(ISNUMBER(#REF!),#REF!,\"\")","v":""},null,null,null,null,null,null,null,null,null,null,null,{"$f":"IF(ISNUMBER(#REF!),#REF!,\"\")","v":""},null,null,null,null,null,null,null,null,null,null,null,null,{"$f":"IF(ISNUMBER(#REF!),#REF!,\"\")","v":""},null,null,null,null,null,null,null,null,null,null,null,null,{"$f":"IF(ISNUMBER(#REF!),#REF!,\"\")","v":""}]
[null,null,null,null,null,null,null,null,null,null,null,null,{"$f":"IF(ISNUMBER(#REF!),#REF!,\"\")","v":""},null,null,null,null,null,null,null,null,null,null,null,null,{"$f":"IF(ISNUMBER(#REF!),#REF!,\"\")","v":""},null,null,null,null,null,null,null,null,null,null,null,{"$f":"IF(ISNUMBER(#REF!),#REF!,\"\")","v":""},null,null,null,null,null,null,null,null,null,null,null,null,{"$f":"IF(ISNUMBER(#REF!),#REF!,\"\")","v":""},null,null,null,null,null,null,null,null,null,null,null,null,{"$f":"IF(ISNUMBER(#REF!),#REF!,\"\")","v":""}]
[null,null,null,null,null,null,null,null,null,null,null,null,{"$f":"IF(ISNUMBER(#REF!),#REF!,\"\")","v":""},null,null,null,null,null,null,null,null,null,null,null,null,{"$f":"IF(ISNUMBER(#REF!),#REF!,\"\")","v":""},null,null,null,null,null,null,null,null,null,null,null,{"$f":"IF(ISNUMBER(#REF!),#REF!,\"\")","v":""},null,null,null,null,null,null,null,null,null,null,null,null,{"$f":"IF(ISNUMBER(#REF!),#REF!,\"\")","v":""},null,null,null,null,null,null,null,null,null,null,null,null,{"$f":"IF(ISNUMBER(#REF!),#REF!,\"\")","v":""}]
[null,null,null,null,null,null,null,null,null,null,null,null,{"$f":"IF(ISNUMBER(#REF!),#REF!,\"\")","v":""},null,null,null,null,null,null,null,null,null,null,null,null,{"$f":"IF(ISNUMBER(#REF!),#REF!,\"\")","v":""},null,null,null,null,null,null,null,null,null,null,null,{"$f":"IF(ISNUMBER(#REF!),#REF!,\"\")","v":""},null,null,null,null,null,null,null,null,null,null,null,null,{"$f":"IF(ISNUMBER(#REF!),#REF!,\"\")","v":""},null,null,null,null,null,null,null,null,null,null,null,null,{"$f":"IF(ISNUMBER(#REF!),#REF!,\"\")","v":""}]
[null,null,null,null,null,null,null,null,null,null,null,null,{"$f":"IF(ISNUMBER(#REF!),#REF!,\"\")","v":""},null,null,null,null,null,null,null,null,null,null,null,null,{"$f":"IF(ISNUMBER(#REF!),#REF!,\"\")","v":""},null,null,null,null,null,null,null,null,null,null,null,{"$f":"IF(ISNUMBER(#REF!),#REF!,\"\")","v":""},null,null,null,null,null,null,null,null,null,null,null,null,{"$f":"IF(ISNUMBER(#REF!),#REF!,\"\")","v":""},null,null,null,null,null,null,null,null,null,null,null,null,{"$f":"IF(ISNUMBER(#REF!),#REF!,\"\")","v":""}]
[null,null,null,null,null,null,null,null,null,null,null,null,{"$f":"IF(ISNUMBER(#REF!),#REF!,\"\")","v":""},null,null,null,null,null,null,null,null,null,null,null,null,{"$f":"IF(ISNUMBER(#REF!),#REF!,\"\")","v":""},null,null,null,null,null,null,null,null,null,null,null,{"$f":"IF(ISNUMBER(#REF!),#REF!,\"\")","v":""},null,null,null,null,null,null,null,null,null,null,null,null,{"$f":"IF(ISNUMBER(#REF!),#REF!,\"\")","v":""},null,null,null,null,null,null,null,null,null,null,null,null,{"$f":"IF(ISNUMBER(#REF!),#REF!,\"\")","v":""}]
[null,null,null,null,null,null,null,null,null,null,null,null,{"$f":"IF(ISNUMBER(#REF!),#REF!,\"\")","v":""},null,null,null,null,null,null,null,null,null,null,null,null,{"$f":"IF(ISNUMBER(#REF!),#REF!,\"\")","v":""},null,null,null,null,null,null,null,null,null,null,null,{"$f":"IF(ISNUMBER(#REF!),#REF!,\"\")","v":""},null,null,null,null,null,null,null,null,null,null,null,null,{"$f":"IF(ISNUMBER(#REF!),#REF!,\"\")","v":""},null,null,null,null,null,null,null,null,null,null,null,null,{"$f":"IF(ISNUMBER(#REF!),#REF!,\"\")","v":""}]
[null,null,null,null,null,null,null,null,null,null,null,null,{"$f":"IF(ISNUMBER(#REF!),#REF!,\"\")","v":""},null,null,null,null,null,null,null,null,null,null,null,null,{"$f":"IF(ISNUMBER(#REF!),#REF!,\"\")","v":""},null,null,null,null,null,null,null,null,null,null,null,{"$f":"IF(ISNUMBER(#REF!),#REF!,\"\")","v":""},null,null,null,null,null,null,null,null,null,null,null,null,{"$f":"IF(ISNUMBER(#REF!),#REF!,\"\")","v":""},null,null,null,null,null,null,null,null,null,null,null,null,{"$f":"IF(ISNUMBER(#REF!),#REF!,\"\")","v":""}]
[null,null,null,null,null,null,null,null,null,null,null,null,{"$f":"IF(ISNUMBER(#REF!),#REF!,\"\")","v":""},null,null,null,null,null,null,null,null,null,null,null,null,{"$f":"IF(ISNUMBER(#REF!),#REF!,\"\")","v":""},null,null,null,null,null,null,null,null,null,null,null,{"$f":"IF(ISNUMBER(#REF!),#REF!,\"\")","v":""},null,null,null,null,null,null,null,null,null,null,null,null,{"$f":"IF(ISNUMBER(#REF!),#REF!,\"\")","v":""},null,null,null,null,null,null,null,null,null,null,null,null,{"$f":"IF(ISNUMBER(#REF!),#REF!,\"\")","v":""}]
[null,null,null,null,null,null,null,null,null,null,null,null,{"$f":"IF(ISNUMBER(#REF!),#REF!,\"\")","v":""},null,null,null,null,null,null,null,null,null,null,null,null,{"$f":"IF(ISNUMBER(#REF!),#REF!,\"\")","v":""},null,null,null,null,null,null,null,null,null,null,null,{"$f":"IF(ISNUMBER(#REF!),#REF!,\"\")","v":""},null,null,null,null,null,null,null,null,null,null,null,null,{"$f":"IF(ISNUMBER(#REF!),#REF!,\"\")","v":""},null,null,null,null,null,null,null,null,null,null,null,null,{"$f":"IF(ISNUMBER(#REF!),#REF!,\"\")","v":""}]
[null,null,null,null,null,null,null,null,null,null,null,null,{"$f":"IF(ISNUMBER(#REF!),#REF!,\"\")","v":""},null,null,null,null,null,null,null,null,null,null,null,null,{"$f":"IF(ISNUMBER(#REF!),#REF!,\"\")","v":""},null,null,null,null,null,null,null,null,null,null,null,{"$f":"IF(ISNUMBER(#REF!),#REF!,\"\")","v":""},null,null,null,null,null,null,null,null,null,null,null,null,{"$f":"IF(ISNUMBER(#REF!),#REF!,\"\")","v":""},null,null,null,null,null,null,null,null,null,null,null,null,{"$f":"IF(ISNUMBER(#REF!),#REF!,\"\")","v":""}]
[null,null,null,null,null,null,null,null,null,null,null,null,{"$f":"IF(ISNUMBER(#REF!),#REF!,\"\")","v":""},null,null,null,null,null,null,null,null,null,null,null,null,{"$f":"IF(ISNUMBER(#REF!),#REF!,\"\")","v":""},null,null,null,null,null,null,null,null,null,null,null,{"$f":"IF(ISNUMBER(#REF!),#REF!,\"\")","v":""},null,null,null,null,null,null,null,null,null,null,null,null,{"$f":"IF(ISNUMBER(#REF!),#REF!,\"\")","v":""},null,null,null,null,null,null,null,null,null,null,null,null,{"$f":"IF(ISNUMBER(#REF!),#REF!,\"\")","v":""}]
[null,null,null,null,null,null,null,null,null,null,null,null,{"$f":"IF(ISNUMBER(#REF!),#REF!,\"\")","v":""},null,null,null,null,null,null,null,null,null,null,null,null,{"$f":"IF(ISNUMBER(#REF!),#REF!,\"\")","v":""},null,null,null,null,null,null,null,null,null,null,null,{"$f":"IF(ISNUMBER(#REF!),#REF!,\"\")","v":""},null,null,null,null,null,null,null,null,null,null,null,null,{"$f":"IF(ISNUMBER(#REF!),#REF!,\"\")","v":""},null,null,null,null,null,null,null,null,null,null,null,null,{"$f":"IF(ISNUMBER(#REF!),#REF!,\"\")","v":""}]
[null,null,null,null,null,null,null,null,null,null,null,null,{"$f":"IF(ISNUMBER(#REF!),#REF!,\"\")","v":""},null,null,null,null,null,null,null,null,null,null,null,null,{"$f":"IF(ISNUMBER(#REF!),#REF!,\"\")","v":""},null,null,null,null,null,null,null,null,null,null,null,{"$f":"IF(ISNUMBER(#REF!),#REF!,\"\")","v":""},null,null,null,null,null,null,null,null,null,null,null,null,{"$f":"IF(ISNUMBER(#REF!),#REF!,\"\")","v":""},null,null,null,null,null,null,null,null,null,null,null,null,{"$f":"IF(ISNUMBER(#REF!),#REF!,\"\")","v":""}]
[null,null,null,null,null,null,null,null,null,null,null,null,{"$f":"IF(ISNUMBER(#REF!),#REF!,\"\")","v":""},null,null,null,null,null,null,null,null,null,null,null,null,{"$f":"IF(ISNUMBER(#REF!),#REF!,\"\")","v":""},null,null,null,null,null,null,null,null,null,null,null,{"$f":"IF(ISNUMBER(#REF!),#REF!,\"\")","v":""},null,null,null,null,null,null,null,null,null,null,null,null,{"$f":"IF(ISNUMBER(#REF!),#REF!,\"\")","v":""},null,null,null,null,null,null,null,null,null,null,null,null,{"$f":"IF(ISNUMBER(#REF!),#REF!,\"\")","v":""}]
[null,null,null,null,null,null,null,null,null,null,null,null,{"$f":"IF(ISNUMBER(#REF!),#REF!,\"\")","v":""},null,null,null,null,null,null,null,null,null,null,null,null,{"$f":"IF(ISNUMBER(#REF!),#REF!,\"\")","v":""},null,null,null,null,null,null,null,null,null,null,null,{"$f":"IF(ISNUMBER(#REF!),#REF!,\"\")","v":""},null,null,null,null,null,null,null,null,null,null,null,null,{"$f":"IF(ISNUMBER(#REF!),#REF!,\"\")","v":""},null,null,null,null,null,null,null,null,null,null,null,null,{"$f":"IF(ISNUMBER(#REF!),#REF!,\"\")","v":""}]
[null,null,null,null,null,null,null,null,null,null,null,null,{"$f":"IF(ISNUMBER(#REF!),#REF!,\"\")","v":""},null,null,null,null,null,null,null,null,null,null,null,null,{"$f":"IF(ISNUMBER(#REF!),#REF!,\"\")","v":""},null,null,null,null,null,null,null,null,null,null,null,{"$f":"IF(ISNUMBER(#REF!),#REF!,\"\")","v":""},null,null,null,null,null,null,null,null,null,null,null,null,{"$f":"IF(ISNUMBER(#REF!),#REF!,\"\")","v":""},null,null,null,null,null,null,null,null,null,null,null,null,{"$f":"IF(ISNUMBER(#REF!),#REF!,\"\")","v":""}]
[null,null,null,null,null,null,null,null,null,null,null,null,{"$f":"IF(ISNUMBER(#REF!),#REF!,\"\")","v":""},null,null,null,null,null,null,null,null,null,null,null,null,{"$f":"IF(ISNUMBER(#REF!),#REF!,\"\")","v":""},null,null,null,null,null,null,null,null,null,null,null,{"$f":"IF(ISNUMBER(#REF!),#REF!,\"\")","v":""},null,null,null,null,null,null,null,null,null,null,null,null,{"$f":"IF(ISNUMBER(#REF!),#REF!,\"\")","v":""},null,null,null,null,null,null,null,null,null,null,null,null,{"$f":"IF(ISNUMBER(#REF!),#REF!,\"\")","v":""}]
[null,null,null,null,null,null,null,null,null,null,null,null,{"$f":"IF(ISNUMBER(#REF!),#REF!,\"\")","v":""},null,null,null,null,null,null,null,null,null,null,null,null,{"$f":"IF(ISNUMBER(#REF!),#REF!,\"\")","v":""},null,null,null,null,null,null,null,null,null,null,null,{"$f":"IF(ISNUMBER(#REF!),#REF!,\"\")","v":""},null,null,null,null,null,null,null,null,null,null,null,null,{"$f":"IF(ISNUMBER(#REF!),#REF!,\"\")","v":""},null,null,null,null,null,null,null,null,null,null,null,null,{"$f":"IF(ISNUMBER(#REF!),#REF!,\"\")","v":""}]
[null,null,null,null,null,null,null,null,null,null,null,null,{"$f":"IF(ISNUMBER(#REF!),#REF!,\"\")","v":""},null,null,null,null,null,null,null,null,null,null,null,null,{"$f":"IF(ISNUMBER(#REF!),#REF!,\"\")","v":""},null,null,null,null,null,null,null,null,null,null,null,{"$f":"IF(ISNUMBER(#REF!),#REF!,\"\")","v":""},null,null,null,null,null,null,null,null,null,null,null,null,{"$f":"IF(ISNUMBER(#REF!),#REF!,\"\")","v":""},null,null,null,null,null,null,null,null,null,null,null,null,{"$f":"IF(ISNUMBER(#REF!),#REF!,\"\")","v":""}]
[null,null,null,null,null,null,null,null,null,null,null,null,{"$f":"IF(ISNUMBER(#REF!),#REF!,\"\")","v":""},null,null,null,null,null,null,null,null,null,null,null,null,{"$f":"IF(ISNUMBER(#REF!),#REF!,\"\")","v":""},null,null,null,null,null,null,null,null,null,null,null,{"$f":"IF(ISNUMBER(#REF!),#REF!,\"\")","v":""},null,null,null,null,null,null,null,null,null,null,null,null,{"$f":"IF(ISNUMBER(#REF!),#REF!,\"\")","v":""},null,null,null,null,null,null,null,null,null,null,null,null,{"$f":"IF(ISNUMBER(#REF!),#REF!,\"\")","v":""}]
[null,null,null,null,null,null,null,null,null,null,null,null,{"$f":"IF(ISNUMBER(#REF!),#REF!,\"\")","v":""},null,null,null,null,null,null,null,null,null,null,null,null,{"$f":"IF(ISNUMBER(#REF!),#REF!,\"\")","v":""},null,null,null,null,null,null,null,null,null,null,null,{"$f":"IF(ISNUMBER(#REF!),#REF!,\"\")","v":""},null,null,null,null,null,null,null,null,null,null,null,null,{"$f":"IF(ISNUMBER(#REF!),#REF!,\"\")","v":""},null,null,null,null,null,null,null,null,null,null,null,null,{"$f":"IF(ISNUMBER(#REF!),#REF!,\"\")","v":""}]
[null,null,null,null,null,null,null,null,null,null,null,null,{"$f":"IF(ISNUMBER(#REF!),#REF!,\"\")","v":""},null,null,null,null,null,null,null,null,null,null,null,null,{"$f":"IF(ISNUMBER(#REF!),#REF!,\"\")","v":""},null,null,null,null,null,null,null,null,null,null,null,{"$f":"IF(ISNUMBER(#REF!),#REF!,\"\")","v":""},null,null,null,null,null,null,null,null,null,null,null,null,{"$f":"IF(ISNUMBER(#REF!),#REF!,\"\")","v":""},null,null,null,null,null,null,null,null,null,null,null,null,{"$f":"IF(ISNUMBER(#REF!),#REF!,\"\")","v":""}]
[null,null,null,null,null,null,null,null,null,null,null,null,{"$f":"IF(ISNUMBER(#REF!),#REF!,\"\")","v":""},null,null,null,null,null,null,null,null,null,null,null,null,{"$f":"IF(ISNUMBER(#REF!),#REF!,\"\")","v":""},null,null,null,null,null,null,null,null,null,null,null,{"$f":"IF(ISNUMBER(#REF!),#REF!,\"\")","v":""},null,null,null,null,null,null,null,null,null,null,null,null,{"$f":"IF(ISNUMBER(#REF!),#REF!,\"\")","v":""},null,null,null,null,null,null,null,null,null,null,null,null,{"$f":"IF(ISNUMBER(#REF!),#REF!,\"\")","v":""}]
[null,null,null,null,null,null,null,null,null,null,null,null,{"$f":"IF(ISNUMBER(#REF!),#REF!,\"\")","v":""},null,null,null,null,null,null,null,null,null,null,null,null,{"$f":"IF(ISNUMBER(#REF!),#REF!,\"\")","v":""},null,null,null,null,null,null,null,null,null,null,null,{"$f":"IF(ISNUMBER(#REF!),#REF!,\"\")","v":""},null,null,null,null,null,null,null,null,null,null,null,null,{"$f":"IF(ISNUMBER(#REF!),#REF!,\"\")","v":""},null,null,null,null,null,null,null,null,null,null,null,null,{"$f":"IF(ISNUMBER(#REF!),#REF!,\"\")","v":""}]
[null,null,null,null,null,null,null,null,null,null,null,null,{"$f":"IF(ISNUMBER(#REF!),#REF!,\"\")","v":""},null,null,null,null,null,null,null,null,null,null,null,null,{"$f":"IF(ISNUMBER(#REF!),#REF!,\"\")","v":""},null,null,null,null,null,null,null,null,null,null,null,{"$f":"IF(ISNUMBER(#REF!),#REF!,\"\")","v":""},null,null,null,null,null,null,null,null,null,null,null,null,{"$f":"IF(ISNUMBER(#REF!),#REF!,\"\")","v":""},null,null,null,null,null,null,null,null,null,null,null,null,{"$f":"IF(ISNUMBER(#REF!),#REF!,\"\")","v":""}]
[null,null,null,null,null,null,null,null,null,null,null,null,{"$f":"IF(ISNUMBER(#REF!),#REF!,\"\")","v":""},null,null,null,null,null,null,null,null,null,null,null,null,{"$f":"IF(ISNUMBER(#REF!),#REF!,\"\")","v":""},null,null,null,null,null,null,null,null,null,null,null,{"$f":"IF(ISNUMBER(#REF!),#REF!,\"\")","v":""},null,null,null,null,null,null,null,null,null,null,null,null,{"$f":"IF(ISNUMBER(#REF!),#REF!,\"\")","v":""},null,null,null,null,null,null,null,null,null,null,null,null,{"$f":"IF(ISNUMBER(#REF!),#REF!,\"\")","v":""}]
[null,null,null,null,null,null,null,null,null,null,null,null,{"$f":"IF(ISNUMBER(#REF!),#REF!,\"\")","v":""},null,null,null,null,null,null,null,null,null,null,null,null,{"$f":"IF(ISNUMBER(#REF!),#REF!,\"\")","v":""},null,null,null,null,null,null,null,null,null,null,null,{"$f":"IF(ISNUMBER(#REF!),#REF!,\"\")","v":""},null,null,null,null,null,null,null,null,null,null,null,null,{"$f":"IF(ISNUMBER(#REF!),#REF!,\"\")","v":""},null,null,null,null,null,null,null,null,null,null,null,null,{"$f":"IF(ISNUMBER(#REF!),#REF!,\"\")","v":""}]
[null,null,null,null,null,null,null,null,null,null,null,null,{"$f":"IF(ISNUMBER(#REF!),#REF!,\"\")","v":""},null,null,null,null,null,null,null,null,null,null,null,null,{"$f":"IF(ISNUMBER(#REF!),#REF!,\"\")","v":""},null,null,null,null,null,null,null,null,null,null,null,{"$f":"IF(ISNUMBER(#REF!),#REF!,\"\")","v":""},null,null,null,null,null,null,null,null,null,null,null,null,{"$f":"IF(ISNUMBER(#REF!),#REF!,\"\")","v":""},null,null,null,null,null,null,null,null,null,null,null,null,{"$f":"IF(ISNUMBER(#REF!),#REF!,\"\")","v":""}]
[null,null,null,null,null,null,null,null,null,null,null,null,{"$f":"IF(ISNUMBER(#REF!),#REF!,\"\")","v":""},null,null,null,null,null,null,null,null,null,null,null,null,{"$f":"IF(ISNUMBER(#REF!),#REF!,\"\")","v":""},null,null,null,null,null,null,null,null,null,null,null,{"$f":"IF(ISNUMBER(#REF!),#REF!,\"\")","v":""},null,null,null,null,null,null,null,null,null,null,null,null,{"$f":"IF(ISNUMBER(#REF!),#REF!,\"\")","v":""},null,null,null,null,null,null,null,null,null,null,null,null,{"$f":"IF(ISNUMBER(#REF!),#REF!,\"\")","v":""}]
[null,null,null,null,null,null,null,null,null,null,null,null,{"$f":"IF(ISNUMBER(#REF!),#REF!,\"\")","v":""},null,null,null,null,null,null,null,null,null,null,null,null,{"$f":"IF(ISNUMBER(#REF!),#REF!,\"\")","v":""},null,null,null,null,null,null,null,null,null,null,null,{"$f":"IF(ISNUMBER(#REF!),#REF!,\"\")","v":""},null,null,null,null,null,null,null,null,null,null,null,null,{"$f":"IF(ISNUMBER(#REF!),#REF!,\"\")","v":""},null,null,null,null,null,null,null,null,null,null,null,null,{"$f":"IF(ISNUMBER(#REF!),#REF!,\"\")","v":""}]
[null,null,null,null,null,null,null,null,null,null,null,null,{"$f":"IF(ISNUMBER(#REF!),#REF!,\"\")","v":""},null,null,null,null,null,null,null,null,null,null,null,null,{"$f":"IF(ISNUMBER(#REF!),#REF!,\"\")","v":""},null,null,null,null,null,null,null,null,null,null,null,{"$f":"IF(ISNUMBER(#REF!),#REF!,\"\")","v":""},null,null,null,null,null,null,null,null,null,null,null,null,{"$f":"IF(ISNUMBER(#REF!),#REF!,\"\")","v":""},null,null,null,null,null,null,null,null,null,null,null,null,{"$f":"IF(ISNUMBER(#REF!),#REF!,\"\")","v":""}]
[null,null,null,null,null,null,null,null,null,null,null,null,{"$f":"IF(ISNUMBER(#REF!),#REF!,\"\")","v":""},null,null,null,null,null,null,null,null,null,null,null,null,{"$f":"IF(ISNUMBER(#REF!),#REF!,\"\")","v":""},null,null,null,null,null,null,null,null,null,null,null,{"$f":"IF(ISNUMBER(#REF!),#REF!,\"\")","v":""},null,null,null,null,null,null,null,null,null,null,null,null,{"$f":"IF(ISNUMBER(#REF!),#REF!,\"\")","v":""},null,null,null,null,null,null,null,null,null,null,null,null,{"$f":"IF(ISNUMBER(#REF!),#REF!,\"\")","v":""}]
[null,null,null,null,null,null,null,null,null,null,null,null,{"$f":"IF(ISNUMBER(#REF!),#REF!,\"\")","v":""},null,null,null,null,null,null,null,null,null,null,null,null,{"$f":"IF(ISNUMBER(#REF!),#REF!,\"\")","v":""},null,null,null,null,null,null,null,null,null,null,null,{"$f":"IF(ISNUMBER(#REF!),#REF!,\"\")","v":""},null,null,null,null,null,null,null,null,null,null,null,null,{"$f":"IF(ISNUMBER(#REF!),#REF!,\"\")","v":""},null,null,null,null,null,null,null,null,null,null,null,null,{"$f":"IF(ISNUMBER(#REF!),#REF!,\"\")","v":""}]
[null,null,null,null,null,null,null,null,null,null,null,null,{"$f":"IF(ISNUMBER(#REF!),#REF!,\"\")","v":""},null,null,null,null,null,null,null,null,null,null,null,null,{"$f":"IF(ISNUMBER(#REF!),#REF!,\"\")","v":""},null,null,null,null,null,null,null,null,null,null,null,{"$f":"IF(ISNUMBER(#REF!),#REF!,\"\")","v":""},null,null,null,null,null,null,null,null,null,null,null,null,{"$f":"IF(ISNUMBER(#REF!),#REF!,\"\")","v":""},null,null,null,null,null,null,null,null,null,null,null,null,{"$f":"IF(ISNUMBER(#REF!),#REF!,\"\")","v":""}]
[null,null,null,null,null,null,null,null,null,null,null,null,{"$f":"IF(ISNUMBER(#REF!),#REF!,\"\")","v":""},null,null,null,null,null,null,null,null,null,null,null,null,{"$f":"IF(ISNUMBER(#REF!),#REF!,\"\")","v":""},null,null,null,null,null,null,null,null,null,null,null,{"$f":"IF(ISNUMBER(#REF!),#REF!,\"\")","v":""},null,null,null,null,null,null,null,null,null,null,null,null,{"$f":"IF(ISNUMBER(#REF!),#REF!,\"\")","v":""},null,null,null,null,null,null,null,null,null,null,null,null,{"$f":"IF(ISNUMBER(#REF!),#REF!,\"\")","v":""}]
[null,null,null,null,null,null,null,null,null,null,null,null,{"$f":"IF(ISNUMBER(#REF!),#REF!,\"\")","v":""},null,null,null,null,null,null,null,null,null,null,null,null,{"$f":"IF(ISNUMBER(#REF!),#REF!,\"\")","v":""},null,null,null,null,null,null,null,null,null,null,null,{"$f":"IF(ISNUMBER(#REF!),#REF!,\"\")","v":""},null,null,null,null,null,null,null,null,null,null,null,null,{"$f":"IF(ISNUMBER(#REF!),#REF!,\"\")","v":""},null,null,null,null,null,null,null,null,null,null,null,null,{"$f":"IF(ISNUMBER(#REF!),#REF!,\"\")","v":""}]
[null,null,null,null,null,null,null,null,null,null,null,null,{"$f":"IF(ISNUMBER(#REF!),#REF!,\"\")","v":""},null,null,null,null,null,null,null,null,null,null,null,null,{"$f":"IF(ISNUMBER(#REF!),#REF!,\"\")","v":""},null,null,null,null,null,null,null,null,null,null,null,{"$f":"IF(ISNUMBER(#REF!),#REF!,\"\")","v":""},null,null,null,null,null,null,null,null,null,null,null,null,{"$f":"IF(ISNUMBER(#REF!),#REF!,\"\")","v":""},null,null,null,null,null,null,null,null,null,null,null,null,{"$f":"IF(ISNUMBER(#REF!),#REF!,\"\")","v":""}]
[null,null,null,null,null,null,null,null,null,null,null,null,{"$f":"IF(ISNUMBER(#REF!),#REF!,\"\")","v":""},null,null,null,null,null,null,null,null,null,null,null,null,{"$f":"IF(ISNUMBER(#REF!),#REF!,\"\")","v":""},null,null,null,null,null,null,null,null,null,null,null,{"$f":"IF(ISNUMBER(#REF!),#REF!,\"\")","v":""},null,null,null,null,null,null,null,null,null,null,null,null,{"$f":"IF(ISNUMBER(#REF!),#REF!,\"\")","v":""},null,null,null,null,null,null,null,null,null,null,null,null,{"$f":"IF(ISNUMBER(#REF!),#REF!,\"\")","v":""}]
[null,null,null,null,null,null,null,null,null,null,null,null,{"$f":"IF(ISNUMBER(#REF!),#REF!,\"\")","v":""},null,null,null,null,null,null,null,null,null,null,null,null,{"$f":"IF(ISNUMBER(#REF!),#REF!,\"\")","v":""},null,null,null,null,null,null,null,null,null,null,null,{"$f":"IF(ISNUMBER(#REF!),#REF!,\"\")","v":""},null,null,null,null,null,null,null,null,null,null,null,null,{"$f":"IF(ISNUMBER(#REF!),#REF!,\"\")","v":""},null,null,null,null,null,null,null,null,null,null,null,null,{"$f":"IF(ISNUMBER(#REF!),#REF!,\"\")","v":""}]
[null,null,null,null,null,null,null,null,null,null,null,null,{"$f":"IF(ISNUMBER(#REF!),#REF!,\"\")","v":""},null,null,null,null,null,null,null,null,null,null,null,null,{"$f":"IF(ISNUMBER(#REF!),#REF!,\"\")","v":""},null,null,null,null,null,null,null,null,null,null,null,{"$f":"IF(ISNUMBER(#REF!),#REF!,\"\")","v":""},null,null,null,null,null,null,null,null,null,null,null,null,{"$f":"IF(ISNUMBER(#REF!),#REF!,\"\")","v":""},null,null,null,null,null,null,null,null,null,null,null,null,{"$f":"IF(ISNUMBER(#REF!),#REF!,\"\")","v":""}]
[null,null,null,null,null,null,null,null,null,null,null,null,{"$f":"IF(ISNUMBER(#REF!),#REF!,\"\")","v":""},null,null,null,null,null,null,null,null,null,null,null,null,{"$f":"IF(ISNUMBER(#REF!),#REF!,\"\")","v":""},null,null,null,null,null,null,null,null,null,null,null,{"$f":"IF(ISNUMBER(#REF!),#REF!,\"\")","v":""},null,null,null,null,null,null,null,null,null,null,null,null,{"$f":"IF(ISNUMBER(#REF!),#REF!,\"\")","v":""},null,null,null,null,null,null,null,null,null,null,null,null,{"$f":"IF(ISNUMBER(#REF!),#REF!,\"\")","v":""}]
[null,null,null,null,null,null,null,null,null,null,null,null,{"$f":"IF(ISNUMBER(#REF!),#REF!,\"\")","v":""},null,null,null,null,null,null,null,null,null,null,null,null,{"$f":"IF(ISNUMBER(#REF!),#REF!,\"\")","v":""},null,null,null,null,null,null,null,null,null,null,null,{"$f":"IF(ISNUMBER(#REF!),#REF!,\"\")","v":""},null,null,null,null,null,null,null,null,null,null,null,null,{"$f":"IF(ISNUMBER(#REF!),#REF!,\"\")","v":""},null,null,null,null,null,null,null,null,null,null,null,null,{"$f":"IF(ISNUMBER(#REF!),#REF!,\"\")","v":""}]
[null,null,null,null,null,null,null,null,null,null,null,null,{"$f":"IF(ISNUMBER(#REF!),#REF!,\"\")","v":""},null,null,null,null,null,null,null,null,null,null,null,null,{"$f":"IF(ISNUMBER(#REF!),#REF!,\"\")","v":""},null,null,null,null,null,null,null,null,null,null,null,{"$f":"IF(ISNUMBER(#REF!),#REF!,\"\")","v":""},null,null,null,null,null,null,null,null,null,null,null,null,{"$f":"IF(ISNUMBER(#REF!),#REF!,\"\")","v":""},null,null,null,null,null,null,null,null,null,null,null,null,{"$f":"IF(ISNUMBER(#REF!),#REF!,\"\")","v":""}]
[null,null,null,null,null,null,null,null,null,null,null,null,{"$f":"IF(ISNUMBER(#REF!),#REF!,\"\")","v":""},null,null,null,null,null,null,null,null,null,null,null,null,{"$f":"IF(ISNUMBER(#REF!),#REF!,\"\")","v":""},null,null,null,null,null,null,null,null,null,null,null,{"$f":"IF(ISNUMBER(#REF!),#REF!,\"\")","v":""},null,null,null,null,null,null,null,null,null,null,null,null,{"$f":"IF(ISNUMBER(#REF!),#REF!,\"\")","v":""},null,null,null,null,null,null,null,null,null,null,null,null,{"$f":"IF(ISNUMBER(#REF!),#REF!,\"\")","v":""}]
[null,null,null,null,null,null,null,null,null,null,null,null,{"$f":"IF(ISNUMBER(#REF!),#REF!,\"\")","v":""},null,null,null,null,null,null,null,null,null,null,null,null,{"$f":"IF(ISNUMBER(#REF!),#REF!,\"\")","v":""},null,null,null,null,null,null,null,null,null,null,null,{"$f":"IF(ISNUMBER(#REF!),#REF!,\"\")","v":""},null,null,null,null,null,null,null,null,null,null,null,null,{"$f":"IF(ISNUMBER(#REF!),#REF!,\"\")","v":""},null,null,null,null,null,null,null,null,null,null,null,null,{"$f":"IF(ISNUMBER(#REF!),#REF!,\"\")","v":""}]
[null,null,null,null,null,null,null,null,null,null,null,null,{"$f":"IF(ISNUMBER(#REF!),#REF!,\"\")","v":""},null,null,null,null,null,null,null,null,null,null,null,null,{"$f":"IF(ISNUMBER(#REF!),#REF!,\"\")","v":""},null,null,null,null,null,null,null,null,null,null,null,{"$f":"IF(ISNUMBER(#REF!),#REF!,\"\")","v":""},null,null,null,null,null,null,null,null,null,null,null,null,{"$f":"IF(ISNUMBER(#REF!),#REF!,\"\")","v":""},null,null,null,null,null,null,null,null,null,null,null,null,{"$f":"IF(ISNUMBER(#REF!),#REF!,\"\")","v":""}]
[null,null,null,null,null,null,null,null,null,null,null,null,{"$f":"IF(ISNUMBER(#REF!),#REF!,\"\")","v":""},null,null,null,null,null,null,null,null,null,null,null,null,{"$f":"IF(ISNUMBER(#REF!),#REF!,\"\")","v":""},null,null,null,null,null,null,null,null,null,null,null,{"$f":"IF(ISNUMBER(#REF!),#REF!,\"\")","v":""},null,null,null,null,null,null,null,null,null,null,null,null,{"$f":"IF(ISNUMBER(#REF!),#REF!,\"\")","v":""},null,null,null,null,null,null,null,null,null,null,null,null,{"$f":"IF(ISNUMBER(#REF!),#REF!,\"\")","v":""}]
[null,null,null,null,null,null,null,null,null,null,null,null,{"$f":"IF(ISNUMBER(#REF!),#REF!,\"\")","v":""},null,null,null,null,null,null,null,null,null,null,null,null,{"$f":"IF(ISNUMBER(#REF!),#REF!,\"\")","v":""},null,null,null,null,null,null,null,null,null,null,null,{"$f":"IF(ISNUMBER(#REF!),#REF!,\"\")","v":""},null,null,null,null,null,null,null,null,null,null,null,null,{"$f":"IF(ISNUMBER(#REF!),#REF!,\"\")","v":""},null,null,null,null,null,null,null,null,null,null,null,null,{"$f":"IF(ISNUMBER(#REF!),#REF!,\"\")","v":""}]
[null,null,null,null,null,null,null,null,null,null,null,null,{"$f":"IF(ISNUMBER(#REF!),#REF!,\"\")","v":""},null,null,null,null,null,null,null,null,null,null,null,null,{"$f":"IF(ISNUMBER(#REF!),#REF!,\"\")","v":""},null,null,null,null,null,null,null,null,null,null,null,{"$f":"IF(ISNUMBER(#REF!),#REF!,\"\")","v":""},null,null,null,null,null,null,null,null,null,null,null,null,{"$f":"IF(ISNUMBER(#REF!),#REF!,\"\")","v":""},null,null,null,null,null,null,null,null,null,null,null,null,{"$f":"IF(ISNUMBER(#REF!),#REF!,\"\")","v":""}]
[null,null,null,null,null,null,null,null,null,null,null,null,{"$f":"IF(ISNUMBER(#REF!),#REF!,\"\")","v":""},null,null,null,null,null,null,null,null,null,null,null,null,{"$f":"IF(ISNUMBER(#REF!),#REF!,\"\")","v":""},null,null,null,null,null,null,null,null,null,null,null,{"$f":"IF(ISNUMBER(#REF!),#REF!,\"\")","v":""},null,null,null,null,null,null,null,null,null,null,null,null,{"$f":"IF(ISNUMBER(#REF!),#REF!,\"\")","v":""},null,null,null,null,null,null,null,null,null,null,null,null,{"$f":"IF(ISNUMBER(#REF!),#REF!,\"\")","v":""}]
[null,null,null,null,null,null,null,null,null,null,null,null,{"$f":"IF(ISNUMBER(#REF!),#REF!,\"\")","v":""},null,null,null,null,null,null,null,null,null,null,null,null,{"$f":"IF(ISNUMBER(#REF!),#REF!,\"\")","v":""},null,null,null,null,null,null,null,null,null,null,null,{"$f":"IF(ISNUMBER(#REF!),#REF!,\"\")","v":""},null,null,null,null,null,null,null,null,null,null,null,null,{"$f":"IF(ISNUMBER(#REF!),#REF!,\"\")","v":""},null,null,null,null,null,null,null,null,null,null,null,null,{"$f":"IF(ISNUMBER(#REF!),#REF!,\"\")","v":""}]
[null,null,null,null,null,null,null,null,null,null,null,null,{"$f":"IF(ISNUMBER(#REF!),#REF!,\"\")","v":""},null,null,null,null,null,null,null,null,null,null,null,null,{"$f":"IF(ISNUMBER(#REF!),#REF!,\"\")","v":""},null,null,null,null,null,null,null,null,null,null,null,{"$f":"IF(ISNUMBER(#REF!),#REF!,\"\")","v":""},null,null,null,null,null,null,null,null,null,null,null,null,{"$f":"IF(ISNUMBER(#REF!),#REF!,\"\")","v":""},null,null,null,null,null,null,null,null,null,null,null,null,{"$f":"IF(ISNUMBER(#REF!),#REF!,\"\")","v":""}]
[null,null,null,null,null,null,null,null,null,null,null,null,{"$f":"IF(ISNUMBER(#REF!),#REF!,\"\")","v":""},null,null,null,null,null,null,null,null,null,null,null,null,{"$f":"IF(ISNUMBER(#REF!),#REF!,\"\")","v":""},null,null,null,null,null,null,null,null,null,null,null,{"$f":"IF(ISNUMBER(#REF!),#REF!,\"\")","v":""},null,null,null,null,null,null,null,null,null,null,null,null,{"$f":"IF(ISNUMBER(#REF!),#REF!,\"\")","v":""},null,null,null,null,null,null,null,null,null,null,null,null,{"$f":"IF(ISNUMBER(#REF!),#REF!,\"\")","v":""}]
[null,null,null,null,null,null,null,null,null,null,null,null,{"$f":"IF(ISNUMBER(#REF!),#REF!,\"\")","v":""},null,null,null,null,null,null,null,null,null,null,null,null,{"$f":"IF(ISNUMBER(#REF!),#REF!,\"\")","v":""},null,null,null,null,null,null,null,null,null,null,null,{"$f":"IF(ISNUMBER(#REF!),#REF!,\"\")","v":""},null,null,null,null,null,null,null,null,null,null,null,null,{"$f":"IF(ISNUMBER(#REF!),#REF!,\"\")","v":""},null,null,null,null,null,null,null,null,null,null,null,null,{"$f":"IF(ISNUMBER(#REF!),#REF!,\"\")","v":""}]
[null,null,null,null,null,null,null,null,null,null,null,null,{"$f":"IF(ISNUMBER(#REF!),#REF!,\"\")","v":""},null,null,null,null,null,null,null,null,null,null,null,null,{"$f":"IF(ISNUMBER(#REF!),#REF!,\"\")","v":""},null,null,null,null,null,null,null,null,null,null,null,{"$f":"IF(ISNUMBER(#REF!),#REF!,\"\")","v":""},null,null,null,null,null,null,null,null,null,null,null,null,{"$f":"IF(ISNUMBER(#REF!),#REF!,\"\")","v":""},null,null,null,null,null,null,null,null,null,null,null,null,{"$f":"IF(ISNUMBER(#REF!),#REF!,\"\")","v":""}]
[null,null,null,null,null,null,null,null,null,null,null,null,{"$f":"IF(ISNUMBER(#REF!),#REF!,\"\")","v":""},null,null,null,null,null,null,null,null,null,null,null,null,{"$f":"IF(ISNUMBER(#REF!),#REF!,\"\")","v":""},null,null,null,null,null,null,null,null,null,null,null,{"$f":"IF(ISNUMBER(#REF!),#REF!,\"\")","v":""},null,null,null,null,null,null,null,null,null,null,null,null,{"$f":"IF(ISNUMBER(#REF!),#REF!,\"\")","v":""},null,null,null,null,null,null,null,null,null,null,null,null,{"$f":"IF(ISNUMBER(#REF!),#REF!,\"\")","v":""}]
[null,null,null,null,null,null,null,null,null,null,null,null,{"$f":"IF(ISNUMBER(#REF!),#REF!,\"\")","v":""},null,null,null,null,null,null,null,null,null,null,null,null,{"$f":"IF(ISNUMBER(#REF!),#REF!,\"\")","v":""},null,null,null,null,null,null,null,null,null,null,null,{"$f":"IF(ISNUMBER(#REF!),#REF!,\"\")","v":""},null,null,null,null,null,null,null,null,null,null,null,null,{"$f":"IF(ISNUMBER(#REF!),#REF!,\"\")","v":""},null,null,null,null,null,null,null,null,null,null,null,null,{"$f":"IF(ISNUMBER(#REF!),#REF!,\"\")","v":""}]
[null,null,null,null,null,null,null,null,null,null,null,null,{"$f":"IF(ISNUMBER(#REF!),#REF!,\"\")","v":""},null,null,null,null,null,null,null,null,null,null,null,null,{"$f":"IF(ISNUMBER(#REF!),#REF!,\"\")","v":""},null,null,null,null,null,null,null,null,null,null,null,{"$f":"IF(ISNUMBER(#REF!),#REF!,\"\")","v":""},null,null,null,null,null,null,null,null,null,null,null,null,{"$f":"IF(ISNUMBER(#REF!),#REF!,\"\")","v":""},null,null,null,null,null,null,null,null,null,null,null,null,{"$f":"IF(ISNUMBER(#REF!),#REF!,\"\")","v":""}]
[null,null,null,null,null,null,null,null,null,null,null,null,{"$f":"IF(ISNUMBER(#REF!),#REF!,\"\")","v":""},null,null,null,null,null,null,null,null,null,null,null,null,{"$f":"IF(ISNUMBER(#REF!),#REF!,\"\")","v":""},null,null,null,null,null,null,null,null,null,null,null,{"$f":"IF(ISNUMBER(#REF!),#REF!,\"\")","v":""},null,null,null,null,null,null,null,null,null,null,null,null,{"$f":"IF(ISNUMBER(#REF!),#REF!,\"\")","v":""},null,null,null,null,null,null,null,null,null,null,null,null,{"$f":"IF(ISNUMBER(#REF!),#REF!,\"\")","v":""}]
[null,null,null,null,null,null,null,null,null,null,null,null,{"$f":"IF(ISNUMBER(#REF!),#REF!,\"\")","v":""},null,null,null,null,null,null,null,null,null,null,null,null,{"$f":"IF(ISNUMBER(#REF!),#REF!,\"\")","v":""},null,null,null,null,null,null,null,null,null,null,null,{"$f":"IF(ISNUMBER(#REF!),#REF!,\"\")","v":""},null,null,null,null,null,null,null,null,null,null,null,null,{"$f":"IF(ISNUMBER(#REF!),#REF!,\"\")","v":""},null,null,null,null,null,null,null,null,null,null,null,null,{"$f":"IF(ISNUMBER(#REF!),#REF!,\"\")","v":""}]
[null,null,null,null,null,null,null,null,null,null,null,null,{"$f":"IF(ISNUMBER(#REF!),#REF!,\"\")","v":""},null,null,null,null,null,null,null,null,null,null,null,null,{"$f":"IF(ISNUMBER(#REF!),#REF!,\"\")","v":""},null,null,null,null,null,null,null,null,null,null,null,{"$f":"IF(ISNUMBER(#REF!),#REF!,\"\")","v":""},null,null,null,null,null,null,null,null,null,null,null,null,{"$f":"IF(ISNUMBER(#REF!),#REF!,\"\")","v":""},null,null,null,null,null,null,null,null,null,null,null,null,{"$f":"IF(ISNUMBER(#REF!),#REF!,\"\")","v":""}]
[null,null,null,null,null,null,null,null,null,null,null,null,{"$f":"IF(ISNUMBER(#REF!),#REF!,\"\")","v":""},null,null,null,null,null,null,null,null,null,null,null,null,{"$f":"IF(ISNUMBER(#REF!),#REF!,\"\")","v":""},null,null,null,null,null,null,null,null,null,null,null,{"$f":"IF(ISNUMBER(#REF!),#REF!,\"\")","v":""},null,null,null,null,null,null,null,null,null,null,null,null,{"$f":"IF(ISNUMBER(#REF!),#REF!,\"\")","v":""},null,null,null,null,null,null,null,null,null,null,null,null,{"$f":"IF(ISNUMBER(#REF!),#REF!,\"\")","v":""}]
[null,null,null,null,null,null,null,null,null,null,null,null,{"$f":"IF(ISNUMBER(#REF!),#REF!,\"\")","v":""},null,null,null,null,null,null,null,null,null,null,null,null,{"$f":"IF(ISNUMBER(#REF!),#REF!,\"\")","v":""},null,null,null,null,null,null,null,null,null,null,null,{"$f":"IF(ISNUMBER(#REF!),#REF!,\"\")","v":""},null,null,null,null,null,null,null,null,null,null,null,null,{"$f":"IF(ISNUMBER(#REF!),#REF!,\"\")","v":""},null,null,null,null,null,null,null,null,null,null,null,null,{"$f":"IF(ISNUMBER(#REF!),#REF!,\"\")","v":""}]
[null,null,null,null,null,null,null,null,null,null,null,null,{"$f":"IF(ISNUMBER(#REF!),#REF!,\"\")","v":""},null,null,null,null,null,null,null,null,null,null,null,null,{"$f":"IF(ISNUMBER(#REF!),#REF!,\"\")","v":""},null,null,null,null,null,null,null,null,null,null,null,{"$f":"IF(ISNUMBER(#REF!),#REF!,\"\")","v":""},null,null,null,null,null,null,null,null,null,null,null,null,{"$f":"IF(ISNUMBER(#REF!),#REF!,\"\")","v":""},null,null,null,null,null,null,null,null,null,null,null,null,{"$f":"IF(ISNUMBER(#REF!),#REF!,\"\")","v":""}]
[null,null,null,null,null,null,null,null,null,null,null,null,{"$f":"IF(ISNUMBER(#REF!),#REF!,\"\")","v":""},null,null,null,null,null,null,null,null,null,null,null,null,{"$f":"IF(ISNUMBER(#REF!),#REF!,\"\")","v":""},null,null,null,null,null,null,null,null,null,null,null,{"$f":"IF(ISNUMBER(#REF!),#REF!,\"\")","v":""},null,null,null,null,null,null,null,null,null,null,null,null,{"$f":"IF(ISNUMBER(#REF!),#REF!,\"\")","v":""},null,null,null,null,null,null,null,null,null,null,null,null,{"$f":"IF(ISNUMBER(#REF!),#REF!,\"\")","v":""}]
[null,null,null,null,null,null,null,null,null,null,null,null,{"$f":"IF(ISNUMBER(#REF!),#REF!,\"\")","v":""},null,null,null,null,null,null,null,null,null,null,null,null,{"$f":"IF(ISNUMBER(#REF!),#REF!,\"\")","v":""},null,null,null,null,null,null,null,null,null,null,null,{"$f":"IF(ISNUMBER(#REF!),#REF!,\"\")","v":""},null,null,null,null,null,null,null,null,null,null,null,null,{"$f":"IF(ISNUMBER(#REF!),#REF!,\"\")","v":""},null,null,null,null,null,null,null,null,null,null,null,null,{"$f":"IF(ISNUMBER(#REF!),#REF!,\"\")","v":""}]
[null,null,null,null,null,null,null,null,null,null,null,null,{"$f":"IF(ISNUMBER(#REF!),#REF!,\"\")","v":""},null,null,null,null,null,null,null,null,null,null,null,null,{"$f":"IF(ISNUMBER(#REF!),#REF!,\"\")","v":""},null,null,null,null,null,null,null,null,null,null,null,{"$f":"IF(ISNUMBER(#REF!),#REF!,\"\")","v":""},null,null,null,null,null,null,null,null,null,null,null,null,{"$f":"IF(ISNUMBER(#REF!),#REF!,\"\")","v":""},null,null,null,null,null,null,null,null,null,null,null,null,{"$f":"IF(ISNUMBER(#REF!),#REF!,\"\")","v":""}]
[null,null,null,null,null,null,null,null,null,null,null,null,{"$f":"IF(ISNUMBER(#REF!),#REF!,\"\")","v":""},null,null,null,null,null,null,null,null,null,null,null,null,{"$f":"IF(ISNUMBER(#REF!),#REF!,\"\")","v":""},null,null,null,null,null,null,null,null,null,null,null,{"$f":"IF(ISNUMBER(#REF!),#REF!,\"\")","v":""},null,null,null,null,null,null,null,null,null,null,null,null,{"$f":"IF(ISNUMBER(#REF!),#REF!,\"\")","v":""},null,null,null,null,null,null,null,null,null,null,null,null,{"$f":"IF(ISNUMBER(#REF!),#REF!,\"\")","v":""}]
[null,null,null,null,null,null,null,null,null,null,null,null,{"$f":"IF(ISNUMBER(#REF!),#REF!,\"\")","v":""},null,null,null,null,null,null,null,null,null,null,null,null,{"$f":"IF(ISNUMBER(#REF!),#REF!,\"\")","v":""},null,null,null,null,null,null,null,null,null,null,null,{"$f":"IF(ISNUMBER(#REF!),#REF!,\"\")","v":""},null,null,null,null,null,null,null,null,null,null,null,null,{"$f":"IF(ISNUMBER(#REF!),#REF!,\"\")","v":""},null,null,null,null,null,null,null,null,null,null,null,null,{"$f":"IF(ISNUMBER(#REF!),#REF!,\"\")","v":""}]
[null,null,null,null,null,null,null,null,null,null,null,null,{"$f":"IF(ISNUMBER(#REF!),#REF!,\"\")","v":""},null,null,null,null,null,null,null,null,null,null,null,null,{"$f":"IF(ISNUMBER(#REF!),#REF!,\"\")","v":""},null,null,null,null,null,null,null,null,null,null,null,{"$f":"IF(ISNUMBER(#REF!),#REF!,\"\")","v":""},null,null,null,null,null,null,null,null,null,null,null,null,{"$f":"IF(ISNUMBER(#REF!),#REF!,\"\")","v":""},null,null,null,null,null,null,null,null,null,null,null,null,{"$f":"IF(ISNUMBER(#REF!),#REF!,\"\")","v":""}]
[null,null,null,null,null,null,null,null,null,null,null,null,{"$f":"IF(ISNUMBER(#REF!),#REF!,\"\")","v":""},null,null,null,null,null,null,null,null,null,null,null,null,{"$f":"IF(ISNUMBER(#REF!),#REF!,\"\")","v":""},null,null,null,null,null,null,null,null,null,null,null,{"$f":"IF(ISNUMBER(#REF!),#REF!,\"\")","v":""},null,null,null,null,null,null,null,null,null,null,null,null,{"$f":"IF(ISNUMBER(#REF!),#REF!,\"\")","v":""},null,null,null,null,null,null,null,null,null,null,null,null,{"$f":"IF(ISNUMBER(#REF!),#REF!,\"\")","v":""}]
[null,null,null,null,null,null,null,null,null,null,null,null,{"$f":"IF(ISNUMBER(#REF!),#REF!,\"\")","v":""},null,null,null,null,null,null,null,null,null,null,null,null,{"$f":"IF(ISNUMBER(#REF!),#REF!,\"\")","v":""},null,null,null,null,null,null,null,null,null,null,null,{"$f":"IF(ISNUMBER(#REF!),#REF!,\"\")","v":""},null,null,null,null,null,null,null,null,null,null,null,null,{"$f":"IF(ISNUMBER(#REF!),#REF!,\"\")","v":""},null,null,null,null,null,null,null,null,null,null,null,null,{"$f":"IF(ISNUMBER(#REF!),#REF!,\"\")","v":""}]
[null,null,null,null,null,null,null,null,null,null,null,null,{"$f":"IF(ISNUMBER(#REF!),#REF!,\"\")","v":""},null,null,null,null,null,null,null,null,null,null,null,null,{"$f":"IF(ISNUMBER(#REF!),#REF!,\"\")","v":""},null,null,null,null,null,null,null,null,null,null,null,{"$f":"IF(ISNUMBER(#REF!),#REF!,\"\")","v":""},null,null,null,null,null,null,null,null,null,null,null,null,{"$f":"IF(ISNUMBER(#REF!),#REF!,\"\")","v":""},null,null,null,null,null,null,null,null,null,null,null,null,{"$f":"IF(ISNUMBER(#REF!),#REF!,\"\")","v":""}]
[null,null,null,null,null,null,null,null,null,null,null,null,{"$f":"IF(ISNUMBER(#REF!),#REF!,\"\")","v":""},null,null,null,null,null,null,null,null,null,null,null,null,{"$f":"IF(ISNUMBER(#REF!),#REF!,\"\")","v":""},null,null,null,null,null,null,null,null,null,null,null,{"$f":"IF(ISNUMBER(#REF!),#REF!,\"\")","v":""},null,null,null,null,null,null,null,null,null,null,null,null,{"$f":"IF(ISNUMBER(#REF!),#REF!,\"\")","v":""},null,null,null,null,null,null,null,null,null,null,null,null,{"$f":"IF(ISNUMBER(#REF!),#REF!,\"\")","v":""}]
[null,null,null,null,null,null,null,null,null,null,null,null,{"$f":"IF(ISNUMBER(#REF!),#REF!,\"\")","v":""},null,null,null,null,null,null,null,null,null,null,null,null,{"$f":"IF(ISNUMBER(#REF!),#REF!,\"\")","v":""},null,null,null,null,null,null,null,null,null,null,null,{"$f":"IF(ISNUMBER(#REF!),#REF!,\"\")","v":""},null,null,null,null,null,null,null,null,null,null,null,null,{"$f":"IF(ISNUMBER(#REF!),#REF!,\"\")","v":""},null,null,null,null,null,null,null,null,null,null,null,null,{"$f":"IF(ISNUMBER(#REF!),#REF!,\"\")","v":""}]
[null,null,null,null,null,null,null,null,null,null,null,null,{"$f":"IF(ISNUMBER(#REF!),#REF!,\"\")","v":""},null,null,null,null,null,null,null,null,null,null,null,null,{"$f":"IF(ISNUMBER(#REF!),#REF!,\"\")","v":""},null,null,null,null,null,null,null,null,null,null,null,{"$f":"IF(ISNUMBER(#REF!),#REF!,\"\")","v":""},null,null,null,null,null,null,null,null,null,null,null,null,{"$f":"IF(ISNUMBER(#REF!),#REF!,\"\")","v":""},null,null,null,null,null,null,null,null,null,null,null,null,{"$f":"IF(ISNUMBER(#REF!),#REF!,\"\")","v":""}]
[null,null,null,null,null,null,null,null,null,null,null,null,{"$f":"IF(ISNUMBER(#REF!),#REF!,\"\")","v":""},null,null,null,null,null,null,null,null,null,null,null,null,{"$f":"IF(ISNUMBER(#REF!),#REF!,\"\")","v":""},null,null,null,null,null,null,null,null,null,null,null,{"$f":"IF(ISNUMBER(#REF!),#REF!,\"\")","v":""},null,null,null,null,null,null,null,null,null,null,null,null,{"$f":"IF(ISNUMBER(#REF!),#REF!,\"\")","v":""},null,null,null,null,null,null,null,null,null,null,null,null,{"$f":"IF(ISNUMBER(#REF!),#REF!,\"\")","v":""}]
[null,null,null,null,null,null,null,null,null,null,null,null,{"$f":"IF(ISNUMBER(#REF!),#REF!,\"\")","v":""},null,null,null,null,null,null,null,null,null,null,null,null,{"$f":"IF(ISNUMBER(#REF!),#REF!,\"\")","v":""},null,null,null,null,null,null,null,null,null,null,null,{"$f":"IF(ISNUMBER(#REF!),#REF!,\"\")","v":""},null,null,null,null,null,null,null,null,null,null,null,null,{"$f":"IF(ISNUMBER(#REF!),#REF!,\"\")","v":""},null,null,null,null,null,null,null,null,null,null,null,null,{"$f":"IF(ISNUMBER(#REF!),#REF!,\"\")","v":""}]
[null,null,null,null,null,null,null,null,null,null,null,null,{"$f":"IF(ISNUMBER(#REF!),#REF!,\"\")","v":""},null,null,null,null,null,null,null,null,null,null,null,null,{"$f":"IF(ISNUMBER(#REF!),#REF!,\"\")","v":""},null,null,null,null,null,null,null,null,null,null,null,{"$f":"IF(ISNUMBER(#REF!),#REF!,\"\")","v":""},null,null,null,null,null,null,null,null,null,null,null,null,{"$f":"IF(ISNUMBER(#REF!),#REF!,\"\")","v":""},null,null,null,null,null,null,null,null,null,null,null,null,{"$f":"IF(ISNUMBER(#REF!),#REF!,\"\")","v":""}]
[null,null,null,null,null,null,null,null,null,null,null,null,{"$f":"IF(ISNUMBER(#REF!),#REF!,\"\")","v":""},null,null,null,null,null,null,null,null,null,null,null,null,{"$f":"IF(ISNUMBER(#REF!),#REF!,\"\")","v":""},null,null,null,null,null,null,null,null,null,null,null,{"$f":"IF(ISNUMBER(#REF!),#REF!,\"\")","v":""},null,null,null,null,null,null,null,null,null,null,null,null,{"$f":"IF(ISNUMBER(#REF!),#REF!,\"\")","v":""},null,null,null,null,null,null,null,null,null,null,null,null,{"$f":"IF(ISNUMBER(#REF!),#REF!,\"\")","v":""}]
[null,null,null,null,null,null,null,null,null,null,null,null,{"$f":"IF(ISNUMBER(#REF!),#REF!,\"\")","v":""},null,null,null,null,null,null,null,null,null,null,null,null,{"$f":"IF(ISNUMBER(#REF!),#REF!,\"\")","v":""},null,null,null,null,null,null,null,null,null,null,null,{"$f":"IF(ISNUMBER(#REF!),#REF!,\"\")","v":""},null,null,null,null,null,null,null,null,null,null,null,null,{"$f":"IF(ISNUMBER(#REF!),#REF!,\"\")","v":""},null,null,null,null,null,null,null,null,null,null,null,null,{"$f":"IF(ISNUMBER(#REF!),#REF!,\"\")","v":""}]
[null,null,null,null,null,null,null,null,null,null,null,null,{"$f":"IF(ISNUMBER(#REF!),#REF!,\"\")","v":""},null,null,null,null,null,null,null,null,null,null,null,null,{"$f":"IF(ISNUMBER(#REF!),#REF!,\"\")","v":""},null,null,null,null,null,null,null,null,null,null,null,{"$f":"IF(ISNUMBER(#REF!),#REF!,\"\")","v":""},null,null,null,null,null,null,null,null,null,null,null,null,{"$f":"IF(ISNUMBER(#REF!),#REF!,\"\")","v":""},null,null,null,null,null,null,null,null,null,null,null,null,{"$f":"IF(ISNUMBER(#REF!),#REF!,\"\")","v":""}]
[null,null,null,null,null,null,null,null,null,null,null,null,{"$f":"IF(ISNUMBER(#REF!),#REF!,\"\")","v":""},null,null,null,null,null,null,null,null,null,null,null,null,{"$f":"IF(ISNUMBER(#REF!),#REF!,\"\")","v":""},null,null,null,null,null,null,null,null,null,null,null,{"$f":"IF(ISNUMBER(#REF!),#REF!,\"\")","v":""},null,null,null,null,null,null,null,null,null,null,null,null,{"$f":"IF(ISNUMBER(#REF!),#REF!,\"\")","v":""},null,null,null,null,null,null,null,null,null,null,null,null,{"$f":"IF(ISNUMBER(#REF!),#REF!,\"\")","v":""}]
[null,null,null,null,null,null,null,null,null,null,null,null,{"$f":"IF(ISNUMBER(#REF!),#REF!,\"\")","v":""},null,null,null,null,null,null,null,null,null,null,null,null,{"$f":"IF(ISNUMBER(#REF!),#REF!,\"\")","v":""},null,null,null,null,null,null,null,null,null,null,null,{"$f":"IF(ISNUMBER(#REF!),#REF!,\"\")","v":""},null,null,null,null,null,null,null,null,null,null,null,null,{"$f":"IF(ISNUMBER(#REF!),#REF!,\"\")","v":""},null,null,null,null,null,null,null,null,null,null,null,null,{"$f":"IF(ISNUMBER(#REF!),#REF!,\"\")","v":""}]
[null,null,null,null,null,null,null,null,null,null,null,null,{"$f":"IF(ISNUMBER(#REF!),#REF!,\"\")","v":""},null,null,null,null,null,null,null,null,null,null,null,null,{"$f":"IF(ISNUMBER(#REF!),#REF!,\"\")","v":""},null,null,null,null,null,null,null,null,null,null,null,{"$f":"IF(ISNUMBER(#REF!),#REF!,\"\")","v":""},null,null,null,null,null,null,null,null,null,null,null,null,{"$f":"IF(ISNUMBER(#REF!),#REF!,\"\")","v":""},null,null,null,null,null,null,null,null,null,null,null,null,{"$f":"IF(ISNUMBER(#REF!),#REF!,\"\")","v":""}]
[null,null,null,null,null,null,null,null,null,null,null,null,{"$f":"IF(ISNUMBER(#REF!),#REF!,\"\")","v":""},null,null,null,null,null,null,null,null,null,null,null,null,{"$f":"IF(ISNUMBER(#REF!),#REF!,\"\")","v":""},null,null,null,null,null,null,null,null,null,null,null,{"$f":"IF(ISNUMBER(#REF!),#REF!,\"\")","v":""},null,null,null,null,null,null,null,null,null,null,null,null,{"$f":"IF(ISNUMBER(#REF!),#REF!,\"\")","v":""},null,null,null,null,null,null,null,null,null,null,null,null,{"$f":"IF(ISNUMBER(#REF!),#REF!,\"\")","v":""}]
[null,null,null,null,null,null,null,null,null,null,null,null,{"$f":"IF(ISNUMBER(#REF!),#REF!,\"\")","v":""},null,null,null,null,null,null,null,null,null,null,null,null,{"$f":"IF(ISNUMBER(#REF!),#REF!,\"\")","v":""},null,null,null,null,null,null,null,null,null,null,null,{"$f":"IF(ISNUMBER(#REF!),#REF!,\"\")","v":""},null,null,null,null,null,null,null,null,null,null,null,null,{"$f":"IF(ISNUMBER(#REF!),#REF!,\"\")","v":""},null,null,null,null,null,null,null,null,null,null,null,null,{"$f":"IF(ISNUMBER(#REF!),#REF!,\"\")","v":""}]
[null,null,null,null,null,null,null,null,null,null,null,null,{"$f":"IF(ISNUMBER(#REF!),#REF!,\"\")","v":""},null,null,null,null,null,null,null,null,null,null,null,null,{"$f":"IF(ISNUMBER(#REF!),#REF!,\"\")","v":""},null,null,null,null,null,null,null,null,null,null,null,{"$f":"IF(ISNUMBER(#REF!),#REF!,\"\")","v":""},null,null,null,null,null,null,null,null,null,null,null,null,{"$f":"IF(ISNUMBER(#REF!),#REF!,\"\")","v":""},null,null,null,null,null,null,null,null,null,null,null,null,{"$f":"IF(ISNUMBER(#REF!),#REF!,\"\")","v":""}]
[null,null,null,null,null,null,null,null,null,null,null,null,{"$f":"IF(ISNUMBER(#REF!),#REF!,\"\")","v":""},null,null,null,null,null,null,null,null,null,null,null,null,{"$f":"IF(ISNUMBER(#REF!),#REF!,\"\")","v":""},null,null,null,null,null,null,null,null,null,null,null,{"$f":"IF(ISNUMBER(#REF!),#REF!,\"\")","v":""},null,null,null,null,null,null,null,null,null,null,null,null,{"$f":"IF(ISNUMBER(#REF!),#REF!,\"\")","v":""},null,null,null,null,null,null,null,null,null,null,null,null,{"$f":"IF(ISNUMBER(#REF!),#REF!,\"\")","v":""}]
[null,null,null,null,null,null,null,null,null,null,null,null,{"$f":"IF(ISNUMBER(#REF!),#REF!,\"\")","v":""},null,null,null,null,null,null,null,null,null,null,null,null,{"$f":"IF(ISNUMBER(#REF!),#REF!,\"\")","v":""},null,null,null,null,null,null,null,null,null,null,null,{"$f":"IF(ISNUMBER(#REF!),#REF!,\"\")","v":""},null,null,null,null,null,null,null,null,null,null,null,null,{"$f":"IF(ISNUMBER(#REF!),#REF!,\"\")","v":""},null,null,null,null,null,null,null,null,null,null,null,null,{"$f":"IF(ISNUMBER(#REF!),#REF!,\"\")","v":""}]
[null,null,null,null,null,null,null,null,null,null,null,null,{"$f":"IF(ISNUMBER(#REF!),#REF!,\"\")","v":""},null,null,null,null,null,null,null,null,null,null,null,null,{"$f":"IF(ISNUMBER(#REF!),#REF!,\"\")","v":""},null,null,null,null,null,null,null,null,null,null,null,{"$f":"IF(ISNUMBER(#REF!),#REF!,\"\")","v":""},null,null,null,null,null,null,null,null,null,null,null,null,{"$f":"IF(ISNUMBER(#REF!),#REF!,\"\")","v":""},null,null,null,null,null,null,null,null,null,null,null,null,{"$f":"IF(ISNUMBER(#REF!),#REF!,\"\")","v":""}]
[null,null,null,null,null,null,null,null,null,null,null,null,{"$f":"IF(ISNUMBER(#REF!),#REF!,\"\")","v":""},null,null,null,null,null,null,null,null,null,null,null,null,{"$f":"IF(ISNUMBER(#REF!),#REF!,\"\")","v":""},null,null,null,null,null,null,null,null,null,null,null,{"$f":"IF(ISNUMBER(#REF!),#REF!,\"\")","v":""},null,null,null,null,null,null,null,null,null,null,null,null,{"$f":"IF(ISNUMBER(#REF!),#REF!,\"\")","v":""},null,null,null,null,null,null,null,null,null,null,null,null,{"$f":"IF(ISNUMBER(#REF!),#REF!,\"\")","v":""}]
[null,null,null,null,null,null,null,null,null,null,null,null,{"$f":"IF(ISNUMBER(#REF!),#REF!,\"\")","v":""},null,null,null,null,null,null,null,null,null,null,null,null,{"$f":"IF(ISNUMBER(#REF!),#REF!,\"\")","v":""},null,null,null,null,null,null,null,null,null,null,null,{"$f":"IF(ISNUMBER(#REF!),#REF!,\"\")","v":""},null,null,null,null,null,null,null,null,null,null,null,null,{"$f":"IF(ISNUMBER(#REF!),#REF!,\"\")","v":""},null,null,null,null,null,null,null,null,null,null,null,null,{"$f":"IF(ISNUMBER(#REF!),#REF!,\"\")","v":""}]
[null,null,null,null,null,null,null,null,null,null,null,null,{"$f":"IF(ISNUMBER(#REF!),#REF!,\"\")","v":""},null,null,null,null,null,null,null,null,null,null,null,null,{"$f":"IF(ISNUMBER(#REF!),#REF!,\"\")","v":""},null,null,null,null,null,null,null,null,null,null,null,{"$f":"IF(ISNUMBER(#REF!),#REF!,\"\")","v":""},null,null,null,null,null,null,null,null,null,null,null,null,{"$f":"IF(ISNUMBER(#REF!),#REF!,\"\")","v":""},null,null,null,null,null,null,null,null,null,null,null,null,{"$f":"IF(ISNUMBER(#REF!),#REF!,\"\")","v":""}]
[null,null,null,null,null,null,null,null,null,null,null,null,{"$f":"IF(ISNUMBER(#REF!),#REF!,\"\")","v":""},null,null,null,null,null,null,null,null,null,null,null,null,{"$f":"IF(ISNUMBER(#REF!),#REF!,\"\")","v":""},null,null,null,null,null,null,null,null,null,null,null,{"$f":"IF(ISNUMBER(#REF!),#REF!,\"\")","v":""},null,null,null,null,null,null,null,null,null,null,null,null,{"$f":"IF(ISNUMBER(#REF!),#REF!,\"\")","v":""},null,null,null,null,null,null,null,null,null,null,null,null,{"$f":"IF(ISNUMBER(#REF!),#REF!,\"\")","v":""}]
[null,null,null,null,null,null,null,null,null,null,null,null,{"$f":"IF(ISNUMBER(#REF!),#REF!,\"\")","v":""},null,null,null,null,null,null,null,null,null,null,null,null,{"$f":"IF(ISNUMBER(#REF!),#REF!,\"\")","v":""},null,null,null,null,null,null,null,null,null,null,null,{"$f":"IF(ISNUMBER(#REF!),#REF!,\"\")","v":""},null,null,null,null,null,null,null,null,null,null,null,null,{"$f":"IF(ISNUMBER(#REF!),#REF!,\"\")","v":""},null,null,null,null,null,null,null,null,null,null,null,null,{"$f":"IF(ISNUMBER(#REF!),#REF!,\"\")","v":""}]
[null,null,null,null,null,null,null,null,null,null,null,null,{"$f":"IF(ISNUMBER(#REF!),#REF!,\"\")","v":""},null,null,null,null,null,null,null,null,null,null,null,null,{"$f":"IF(ISNUMBER(#REF!),#REF!,\"\")","v":""},null,null,null,null,null,null,null,null,null,null,null,{"$f":"IF(ISNUMBER(#REF!),#REF!,\"\")","v":""},null,null,null,null,null,null,null,null,null,null,null,null,{"$f":"IF(ISNUMBER(#REF!),#REF!,\"\")","v":""},null,null,null,null,null,null,null,null,null,null,null,null,{"$f":"IF(ISNUMBER(#REF!),#REF!,\"\")","v":""}]
[null,null,null,null,null,null,null,null,null,null,null,null,{"$f":"IF(ISNUMBER(#REF!),#REF!,\"\")","v":""},null,null,null,null,null,null,null,null,null,null,null,null,{"$f":"IF(ISNUMBER(#REF!),#REF!,\"\")","v":""},null,null,null,null,null,null,null,null,null,null,null,{"$f":"IF(ISNUMBER(#REF!),#REF!,\"\")","v":""},null,null,null,null,null,null,null,null,null,null,null,null,{"$f":"IF(ISNUMBER(#REF!),#REF!,\"\")","v":""},null,null,null,null,null,null,null,null,null,null,null,null,{"$f":"IF(ISNUMBER(#REF!),#REF!,\"\")","v":""}]
[null,null,null,null,null,null,null,null,null,null,null,null,{"$f":"IF(ISNUMBER(#REF!),#REF!,\"\")","v":""},null,null,null,null,null,null,null,null,null,null,null,null,{"$f":"IF(ISNUMBER(#REF!),#REF!,\"\")","v":""},null,null,null,null,null,null,null,null,null,null,null,{"$f":"IF(ISNUMBER(#REF!),#REF!,\"\")","v":""},null,null,null,null,null,null,null,null,null,null,null,null,{"$f":"IF(ISNUMBER(#REF!),#REF!,\"\")","v":""},null,null,null,null,null,null,null,null,null,null,null,null,{"$f":"IF(ISNUMBER(#REF!),#REF!,\"\")","v":""}]
[null,null,null,null,null,null,null,null,null,null,null,null,{"$f":"IF(ISNUMBER(#REF!),#REF!,\"\")","v":""},null,null,null,null,null,null,null,null,null,null,null,null,{"$f":"IF(ISNUMBER(#REF!),#REF!,\"\")","v":""},null,null,null,null,null,null,null,null,null,null,null,{"$f":"IF(ISNUMBER(#REF!),#REF!,\"\")","v":""},null,null,null,null,null,null,null,null,null,null,null,null,{"$f":"IF(ISNUMBER(#REF!),#REF!,\"\")","v":""},null,null,null,null,null,null,null,null,null,null,null,null,{"$f":"IF(ISNUMBER(#REF!),#REF!,\"\")","v":""}]
[null,null,null,null,null,null,null,null,null,null,null,null,{"$f":"IF(ISNUMBER(#REF!),#REF!,\"\")","v":""},null,null,null,null,null,null,null,null,null,null,null,null,{"$f":"IF(ISNUMBER(#REF!),#REF!,\"\")","v":""},null,null,null,null,null,null,null,null,null,null,null,{"$f":"IF(ISNUMBER(#REF!),#REF!,\"\")","v":""},null,null,null,null,null,null,null,null,null,null,null,null,{"$f":"IF(ISNUMBER(#REF!),#REF!,\"\")","v":""},null,null,null,null,null,null,null,null,null,null,null,null,{"$f":"IF(ISNUMBER(#REF!),#REF!,\"\")","v":""}]
[null,null,null,null,null,null,null,null,null,null,null,null,{"$f":"IF(ISNUMBER(#REF!),#REF!,\"\")","v":""},null,null,null,null,null,null,null,null,null,null,null,null,{"$f":"IF(ISNUMBER(#REF!),#REF!,\"\")","v":""},null,null,null,null,null,null,null,null,null,null,null,{"$f":"IF(ISNUMBER(#REF!),#REF!,\"\")","v":""},null,null,null,null,null,null,null,null,null,null,null,null,{"$f":"IF(ISNUMBER(#REF!),#REF!,\"\")","v":""},null,null,null,null,null,null,null,null,null,null,null,null,{"$f":"IF(ISNUMBER(#REF!),#REF!,\"\")","v":""}]
[null,null,null,null,null,null,null,null,null,null,null,null,{"$f":"IF(ISNUMBER(#REF!),#REF!,\"\")","v":""},null,null,null,null,null,null,null,null,null,null,null,null,{"$f":"IF(ISNUMBER(#REF!),#REF!,\"\")","v":""},null,null,null,null,null,null,null,null,null,null,null,{"$f":"IF(ISNUMBER(#REF!),#REF!,\"\")","v":""},null,null,null,null,null,null,null,null,null,null,null,null,{"$f":"IF(ISNUMBER(#REF!),#REF!,\"\")","v":""},null,null,null,null,null,null,null,null,null,null,null,null,{"$f":"IF(ISNUMBER(#REF!),#REF!,\"\")","v":""}]
[null,null,null,null,null,null,null,null,null,null,null,null,{"$f":"IF(ISNUMBER(#REF!),#REF!,\"\")","v":""},null,null,null,null,null,null,null,null,null,null,null,null,{"$f":"IF(ISNUMBER(#REF!),#REF!,\"\")","v":""},null,null,null,null,null,null,null,null,null,null,null,{"$f":"IF(ISNUMBER(#REF!),#REF!,\"\")","v":""},null,null,null,null,null,null,null,null,null,null,null,null,{"$f":"IF(ISNUMBER(#REF!),#REF!,\"\")","v":""},null,null,null,null,null,null,null,null,null,null,null,null,{"$f":"IF(ISNUMBER(#REF!),#REF!,\"\")","v":""}]
[null,null,null,null,null,null,null,null,null,null,null,null,{"$f":"IF(ISNUMBER(#REF!),#REF!,\"\")","v":""},null,null,null,null,null,null,null,null,null,null,null,null,{"$f":"IF(ISNUMBER(#REF!),#REF!,\"\")","v":""},null,null,null,null,null,null,null,null,null,null,null,{"$f":"IF(ISNUMBER(#REF!),#REF!,\"\")","v":""},null,null,null,null,null,null,null,null,null,null,null,null,{"$f":"IF(ISNUMBER(#REF!),#REF!,\"\")","v":""},null,null,null,null,null,null,null,null,null,null,null,null,{"$f":"IF(ISNUMBER(#REF!),#REF!,\"\")","v":""}]
[null,null,null,null,null,null,null,null,null,null,null,null,{"$f":"IF(ISNUMBER(#REF!),#REF!,\"\")","v":""},null,null,null,null,null,null,null,null,null,null,null,null,{"$f":"IF(ISNUMBER(#REF!),#REF!,\"\")","v":""},null,null,null,null,null,null,null,null,null,null,null,{"$f":"IF(ISNUMBER(#REF!),#REF!,\"\")","v":""},null,null,null,null,null,null,null,null,null,null,null,null,{"$f":"IF(ISNUMBER(#REF!),#REF!,\"\")","v":""},null,null,null,null,null,null,null,null,null,null,null,null,{"$f":"IF(ISNUMBER(#REF!),#REF!,\"\")","v":""}]
[null,null,null,null,null,null,null,null,null,null,null,null,{"$f":"IF(ISNUMBER(#REF!),#REF!,\"\")","v":""},null,null,null,null,null,null,null,null,null,null,null,null,{"$f":"IF(ISNUMBER(#REF!),#REF!,\"\")","v":""},null,null,null,null,null,null,null,null,null,null,null,{"$f":"IF(ISNUMBER(#REF!),#REF!,\"\")","v":""},null,null,null,null,null,null,null,null,null,null,null,null,{"$f":"IF(ISNUMBER(#REF!),#REF!,\"\")","v":""},null,null,null,null,null,null,null,null,null,null,null,null,{"$f":"IF(ISNUMBER(#REF!),#REF!,\"\")","v":""}]
[null,null,null,null,null,null,null,null,null,null,null,null,{"$f":"IF(ISNUMBER(#REF!),#REF!,\"\")","v":""},null,null,null,null,null,null,null,null,null,null,null,null,{"$f":"IF(ISNUMBER(#REF!),#REF!,\"\")","v":""},null,null,null,null,null,null,null,null,null,null,null,{"$f":"IF(ISNUMBER(#REF!),#REF!,\"\")","v":""},null,null,null,null,null,null,null,null,null,null,null,null,{"$f":"IF(ISNUMBER(#REF!),#REF!,\"\")","v":""},null,null,null,null,null,null,null,null,null,null,null,null,{"$f":"IF(ISNUMBER(#REF!),#REF!,\"\")","v":""}]
[null,null,null,null,null,null,null,null,null,null,null,null,{"$f":"IF(ISNUMBER(#REF!),#REF!,\"\")","v":""},null,null,null,null,null,null,null,null,null,null,null,null,{"$f":"IF(ISNUMBER(#REF!),#REF!,\"\")","v":""},null,null,null,null,null,null,null,null,null,null,null,{"$f":"IF(ISNUMBER(#REF!),#REF!,\"\")","v":""},null,null,null,null,null,null,null,null,null,null,null,null,{"$f":"IF(ISNUMBER(#REF!),#REF!,\"\")","v":""},null,null,null,null,null,null,null,null,null,null,null,null,{"$f":"IF(ISNUMBER(#REF!),#REF!,\"\")","v":""}]
[null,null,null,null,null,null,null,null,null,null,null,null,{"$f":"IF(ISNUMBER(#REF!),#REF!,\"\")","v":""},null,null,null,null,null,null,null,null,null,null,null,null,{"$f":"IF(ISNUMBER(#REF!),#REF!,\"\")","v":""},null,null,null,null,null,null,null,null,null,null,null,{"$f":"IF(ISNUMBER(#REF!),#REF!,\"\")","v":""},null,null,null,null,null,null,null,null,null,null,null,null,{"$f":"IF(ISNUMBER(#REF!),#REF!,\"\")","v":""},null,null,null,null,null,null,null,null,null,null,null,null,{"$f":"IF(ISNUMBER(#REF!),#REF!,\"\")","v":""}]
[null,null,null,null,null,null,null,null,null,null,null,null,{"$f":"IF(ISNUMBER(#REF!),#REF!,\"\")","v":""},null,null,null,null,null,null,null,null,null,null,null,null,{"$f":"IF(ISNUMBER(#REF!),#REF!,\"\")","v":""},null,null,null,null,null,null,null,null,null,null,null,{"$f":"IF(ISNUMBER(#REF!),#REF!,\"\")","v":""},null,null,null,null,null,null,null,null,null,null,null,null,{"$f":"IF(ISNUMBER(#REF!),#REF!,\"\")","v":""},null,null,null,null,null,null,null,null,null,null,null,null,{"$f":"IF(ISNUMBER(#REF!),#REF!,\"\")","v":""}]
[null,null,null,null,null,null,null,null,null,null,null,null,{"$f":"IF(ISNUMBER(#REF!),#REF!,\"\")","v":""},null,null,null,null,null,null,null,null,null,null,null,null,{"$f":"IF(ISNUMBER(#REF!),#REF!,\"\")","v":""},null,null,null,null,null,null,null,null,null,null,null,{"$f":"IF(ISNUMBER(#REF!),#REF!,\"\")","v":""},null,null,null,null,null,null,null,null,null,null,null,null,{"$f":"IF(ISNUMBER(#REF!),#REF!,\"\")","v":""},null,null,null,null,null,null,null,null,null,null,null,null,{"$f":"IF(ISNUMBER(#REF!),#REF!,\"\")","v":""}]
[null,null,null,null,null,null,null,null,null,null,null,null,{"$f":"IF(ISNUMBER(#REF!),#REF!,\"\")","v":""},null,null,null,null,null,null,null,null,null,null,null,null,{"$f":"IF(ISNUMBER(#REF!),#REF!,\"\")","v":""},null,null,null,null,null,null,null,null,null,null,null,{"$f":"IF(ISNUMBER(#REF!),#REF!,\"\")","v":""},null,null,null,null,null,null,null,null,null,null,null,null,{"$f":"IF(ISNUMBER(#REF!),#REF!,\"\")","v":""},null,null,null,null,null,null,null,null,null,null,null,null,{"$f":"IF(ISNUMBER(#REF!),#REF!,\"\")","v":""}]
[null,null,null,null,null,null,null,null,null,null,null,null,{"$f":"IF(ISNUMBER(#REF!),#REF!,\"\")","v":""},null,null,null,null,null,null,null,null,null,null,null,null,{"$f":"IF(ISNUMBER(#REF!),#REF!,\"\")","v":""},null,null,null,null,null,null,null,null,null,null,null,{"$f":"IF(ISNUMBER(#REF!),#REF!,\"\")","v":""},null,null,null,null,null,null,null,null,null,null,null,null,{"$f":"IF(ISNUMBER(#REF!),#REF!,\"\")","v":""},null,null,null,null,null,null,null,null,null,null,null,null,{"$f":"IF(ISNUMBER(#REF!),#REF!,\"\")","v":""}]
[null,null,null,null,null,null,null,null,null,null,null,null,{"$f":"IF(ISNUMBER(#REF!),#REF!,\"\")","v":""},null,null,null,null,null,null,null,null,null,null,null,null,{"$f":"IF(ISNUMBER(#REF!),#REF!,\"\")","v":""},null,null,null,null,null,null,null,null,null,null,null,{"$f":"IF(ISNUMBER(#REF!),#REF!,\"\")","v":""},null,null,null,null,null,null,null,null,null,null,null,null,{"$f":"IF(ISNUMBER(#REF!),#REF!,\"\")","v":""},null,null,null,null,null,null,null,null,null,null,null,null,{"$f":"IF(ISNUMBER(#REF!),#REF!,\"\")","v":""}]
[null,null,null,null,null,null,null,null,null,null,null,null,{"$f":"IF(ISNUMBER(#REF!),#REF!,\"\")","v":""},null,null,null,null,null,null,null,null,null,null,null,null,{"$f":"IF(ISNUMBER(#REF!),#REF!,\"\")","v":""},null,null,null,null,null,null,null,null,null,null,null,{"$f":"IF(ISNUMBER(#REF!),#REF!,\"\")","v":""},null,null,null,null,null,null,null,null,null,null,null,null,{"$f":"IF(ISNUMBER(#REF!),#REF!,\"\")","v":""},null,null,null,null,null,null,null,null,null,null,null,null,{"$f":"IF(ISNUMBER(#REF!),#REF!,\"\")","v":""}]
[null,null,null,null,null,null,null,null,null,null,null,null,{"$f":"IF(ISNUMBER(#REF!),#REF!,\"\")","v":""},null,null,null,null,null,null,null,null,null,null,null,null,{"$f":"IF(ISNUMBER(#REF!),#REF!,\"\")","v":""},null,null,null,null,null,null,null,null,null,null,null,{"$f":"IF(ISNUMBER(#REF!),#REF!,\"\")","v":""},null,null,null,null,null,null,null,null,null,null,null,null,{"$f":"IF(ISNUMBER(#REF!),#REF!,\"\")","v":""},null,null,null,null,null,null,null,null,null,null,null,null,{"$f":"IF(ISNUMBER(#REF!),#REF!,\"\")","v":""}]
[null,null,null,null,null,null,null,null,null,null,null,null,{"$f":"IF(ISNUMBER(#REF!),#REF!,\"\")","v":""},null,null,null,null,null,null,null,null,null,null,null,null,{"$f":"IF(ISNUMBER(#REF!),#REF!,\"\")","v":""},null,null,null,null,null,null,null,null,null,null,null,{"$f":"IF(ISNUMBER(#REF!),#REF!,\"\")","v":""},null,null,null,null,null,null,null,null,null,null,null,null,{"$f":"IF(ISNUMBER(#REF!),#REF!,\"\")","v":""},null,null,null,null,null,null,null,null,null,null,null,null,{"$f":"IF(ISNUMBER(#REF!),#REF!,\"\")","v":""}]
[null,null,null,null,null,null,null,null,null,null,null,null,{"$f":"IF(ISNUMBER(#REF!),#REF!,\"\")","v":""},null,null,null,null,null,null,null,null,null,null,null,null,{"$f":"IF(ISNUMBER(#REF!),#REF!,\"\")","v":""},null,null,null,null,null,null,null,null,null,null,null,{"$f":"IF(ISNUMBER(#REF!),#REF!,\"\")","v":""},null,null,null,null,null,null,null,null,null,null,null,null,{"$f":"IF(ISNUMBER(#REF!),#REF!,\"\")","v":""},null,null,null,null,null,null,null,null,null,null,null,null,{"$f":"IF(ISNUMBER(#REF!),#REF!,\"\")","v":""}]
[null,null,null,null,null,null,null,null,null,null,null,null,{"$f":"IF(ISNUMBER(#REF!),#REF!,\"\")","v":""},null,null,null,null,null,null,null,null,null,null,null,null,{"$f":"IF(ISNUMBER(#REF!),#REF!,\"\")","v":""},null,null,null,null,null,null,null,null,null,null,null,{"$f":"IF(ISNUMBER(#REF!),#REF!,\"\")","v":""},null,null,null,null,null,null,null,null,null,null,null,null,{"$f":"IF(ISNUMBER(#REF!),#REF!,\"\")","v":""},null,null,null,null,null,null,null,null,null,null,null,null,{"$f":"IF(ISNUMBER(#REF!),#REF!,\"\")","v":""}]
[null,null,null,null,null,null,null,null,null,null,null,null,{"$f":"IF(ISNUMBER(#REF!),#REF!,\"\")","v":""},null,null,null,null,null,null,null,null,null,null,null,null,{"$f":"IF(ISNUMBER(#REF!),#REF!,\"\")","v":""},null,null,null,null,null,null,null,null,null,null,null,{"$f":"IF(ISNUMBER(#REF!),#REF!,\"\")","v":""},null,null,null,null,null,null,null,null,null,null,null,null,{"$f":"IF(ISNUMBER(#REF!),#REF!,\"\")","v":""},null,null,null,null,null,null,null,null,null,null,null,null,{"$f":"IF(ISNUMBER(#REF!),#REF!,\"\")","v":""}]
[null,null,null,null,null,null,null,null,null,null,null,null,{"$f":"IF(ISNUMBER(#REF!),#REF!,\"\")","v":""},null,null,null,null,null,null,null,null,null,null,null,null,{"$f":"IF(ISNUMBER(#REF!),#REF!,\"\")","v":""},null,null,null,null,null,null,null,null,null,null,null,{"$f":"IF(ISNUMBER(#REF!),#REF!,\"\")","v":""},null,null,null,null,null,null,null,null,null,null,null,null,{"$f":"IF(ISNUMBER(#REF!),#REF!,\"\")","v":""},null,null,null,null,null,null,null,null,null,null,null,null,{"$f":"IF(ISNUMBER(#REF!),#REF!,\"\")","v":""}]
[null,null,null,null,null,null,null,null,null,null,null,null,{"$f":"IF(ISNUMBER(#REF!),#REF!,\"\")","v":""},null,null,null,null,null,null,null,null,null,null,null,null,{"$f":"IF(ISNUMBER(#REF!),#REF!,\"\")","v":""},null,null,null,null,null,null,null,null,null,null,null,{"$f":"IF(ISNUMBER(#REF!),#REF!,\"\")","v":""},null,null,null,null,null,null,null,null,null,null,null,null,{"$f":"IF(ISNUMBER(#REF!),#REF!,\"\")","v":""},null,null,null,null,null,null,null,null,null,null,null,null,{"$f":"IF(ISNUMBER(#REF!),#REF!,\"\")","v":""}]
[null,null,null,null,null,null,null,null,null,null,null,null,{"$f":"IF(ISNUMBER(#REF!),#REF!,\"\")","v":""},null,null,null,null,null,null,null,null,null,null,null,null,{"$f":"IF(ISNUMBER(#REF!),#REF!,\"\")","v":""},null,null,null,null,null,null,null,null,null,null,null,{"$f":"IF(ISNUMBER(#REF!),#REF!,\"\")","v":""},null,null,null,null,null,null,null,null,null,null,null,null,{"$f":"IF(ISNUMBER(#REF!),#REF!,\"\")","v":""},null,null,null,null,null,null,null,null,null,null,null,null,{"$f":"IF(ISNUMBER(#REF!),#REF!,\"\")","v":""}]
[null,null,null,null,null,null,null,null,null,null,null,null,{"$f":"IF(ISNUMBER(#REF!),#REF!,\"\")","v":""},null,null,null,null,null,null,null,null,null,null,null,null,{"$f":"IF(ISNUMBER(#REF!),#REF!,\"\")","v":""},null,null,null,null,null,null,null,null,null,null,null,{"$f":"IF(ISNUMBER(#REF!),#REF!,\"\")","v":""},null,null,null,null,null,null,null,null,null,null,null,null,{"$f":"IF(ISNUMBER(#REF!),#REF!,\"\")","v":""},null,null,null,null,null,null,null,null,null,null,null,null,{"$f":"IF(ISNUMBER(#REF!),#REF!,\"\")","v":""}]
[null,null,null,null,null,null,null,null,null,null,null,null,{"$f":"IF(ISNUMBER(#REF!),#REF!,\"\")","v":""},null,null,null,null,null,null,null,null,null,null,null,null,{"$f":"IF(ISNUMBER(#REF!),#REF!,\"\")","v":""},null,null,null,null,null,null,null,null,null,null,null,{"$f":"IF(ISNUMBER(#REF!),#REF!,\"\")","v":""},null,null,null,null,null,null,null,null,null,null,null,null,{"$f":"IF(ISNUMBER(#REF!),#REF!,\"\")","v":""},null,null,null,null,null,null,null,null,null,null,null,null,{"$f":"IF(ISNUMBER(#REF!),#REF!,\"\")","v":""}]
[null,null,null,null,null,null,null,null,null,null,null,null,{"$f":"IF(ISNUMBER(#REF!),#REF!,\"\")","v":""},null,null,null,null,null,null,null,null,null,null,null,null,{"$f":"IF(ISNUMBER(#REF!),#REF!,\"\")","v":""},null,null,null,null,null,null,null,null,null,null,null,{"$f":"IF(ISNUMBER(#REF!),#REF!,\"\")","v":""},null,null,null,null,null,null,null,null,null,null,null,null,{"$f":"IF(ISNUMBER(#REF!),#REF!,\"\")","v":""},null,null,null,null,null,null,null,null,null,null,null,null,{"$f":"IF(ISNUMBER(#REF!),#REF!,\"\")","v":""}]
[null,null,null,null,null,null,null,null,null,null,null,null,{"$f":"IF(ISNUMBER(#REF!),#REF!,\"\")","v":""},null,null,null,null,null,null,null,null,null,null,null,null,{"$f":"IF(ISNUMBER(#REF!),#REF!,\"\")","v":""},null,null,null,null,null,null,null,null,null,null,null,{"$f":"IF(ISNUMBER(#REF!),#REF!,\"\")","v":""},null,null,null,null,null,null,null,null,null,null,null,null,{"$f":"IF(ISNUMBER(#REF!),#REF!,\"\")","v":""},null,null,null,null,null,null,null,null,null,null,null,null,{"$f":"IF(ISNUMBER(#REF!),#REF!,\"\")","v":""}]
[null,null,null,null,null,null,null,null,null,null,null,null,{"$f":"IF(ISNUMBER(#REF!),#REF!,\"\")","v":""},null,null,null,null,null,null,null,null,null,null,null,null,{"$f":"IF(ISNUMBER(#REF!),#REF!,\"\")","v":""},null,null,null,null,null,null,null,null,null,null,null,{"$f":"IF(ISNUMBER(#REF!),#REF!,\"\")","v":""},null,null,null,null,null,null,null,null,null,null,null,null,{"$f":"IF(ISNUMBER(#REF!),#REF!,\"\")","v":""},null,null,null,null,null,null,null,null,null,null,null,null,{"$f":"IF(ISNUMBER(#REF!),#REF!,\"\")","v":""}]
[null,null,null,null,null,null,null,null,null,null,null,null,{"$f":"IF(ISNUMBER(#REF!),#REF!,\"\")","v":""},null,null,null,null,null,null,null,null,null,null,null,null,{"$f":"IF(ISNUMBER(#REF!),#REF!,\"\")","v":""},null,null,null,null,null,null,null,null,null,null,null,{"$f":"IF(ISNUMBER(#REF!),#REF!,\"\")","v":""},null,null,null,null,null,null,null,null,null,null,null,null,{"$f":"IF(ISNUMBER(#REF!),#REF!,\"\")","v":""},null,null,null,null,null,null,null,null,null,null,null,null,{"$f":"IF(ISNUMBER(#REF!),#REF!,\"\")","v":""}]
[null,null,null,null,null,null,null,null,null,null,null,null,{"$f":"IF(ISNUMBER(#REF!),#REF!,\"\")","v":""},null,null,null,null,null,null,null,null,null,null,null,null,{"$f":"IF(ISNUMBER(#REF!),#REF!,\"\")","v":""},null,null,null,null,null,null,null,null,null,null,null,{"$f":"IF(ISNUMBER(#REF!),#REF!,\"\")","v":""},null,null,null,null,null,null,null,null,null,null,null,null,{"$f":"IF(ISNUMBER(#REF!),#REF!,\"\")","v":""},null,null,null,null,null,null,null,null,null,null,null,null,{"$f":"IF(ISNUMBER(#REF!),#REF!,\"\")","v":""}]
[null,null,null,null,null,null,null,null,null,null,null,null,{"$f":"IF(ISNUMBER(#REF!),#REF!,\"\")","v":""},null,null,null,null,null,null,null,null,null,null,null,null,{"$f":"IF(ISNUMBER(#REF!),#REF!,\"\")","v":""},null,null,null,null,null,null,null,null,null,null,null,{"$f":"IF(ISNUMBER(#REF!),#REF!,\"\")","v":""},null,null,null,null,null,null,null,null,null,null,null,null,{"$f":"IF(ISNUMBER(#REF!),#REF!,\"\")","v":""},null,null,null,null,null,null,null,null,null,null,null,null,{"$f":"IF(ISNUMBER(#REF!),#REF!,\"\")","v":""}]
[null,null,null,null,null,null,null,null,null,null,null,null,{"$f":"IF(ISNUMBER(#REF!),#REF!,\"\")","v":""},null,null,null,null,null,null,null,null,null,null,null,null,{"$f":"IF(ISNUMBER(#REF!),#REF!,\"\")","v":""},null,null,null,null,null,null,null,null,null,null,null,{"$f":"IF(ISNUMBER(#REF!),#REF!,\"\")","v":""},null,null,null,null,null,null,null,null,null,null,null,null,{"$f":"IF(ISNUMBER(#REF!),#REF!,\"\")","v":""},null,null,null,null,null,null,null,null,null,null,null,null,{"$f":"IF(ISNUMBER(#REF!),#REF!,\"\")","v":""}]
[null,null,null,null,null,null,null,null,null,null,null,null,{"$f":"IF(ISNUMBER(#REF!),#REF!,\"\")","v":""},null,null,null,null,null,null,null,null,null,null,null,null,{"$f":"IF(ISNUMBER(#REF!),#REF!,\"\")","v":""},null,null,null,null,null,null,null,null,null,null,null,{"$f":"IF(ISNUMBER(#REF!),#REF!,\"\")","v":""},null,null,null,null,null,null,null,null,null,null,null,null,{"$f":"IF(ISNUMBER(#REF!),#REF!,\"\")","v":""},null,null,null,null,null,null,null,null,null,null,null,null,{"$f":"IF(ISNUMBER(#REF!),#REF!,\"\")","v":""}]
[null,null,null,null,null,null,null,null,null,null,null,null,{"$f":"IF(ISNUMBER(#REF!),#REF!,\"\")","v":""},null,null,null,null,null,null,null,null,null,null,null,null,{"$f":"IF(ISNUMBER(#REF!),#REF!,\"\")","v":""},null,null,null,null,null,null,null,null,null,null,null,{"$f":"IF(ISNUMBER(#REF!),#REF!,\"\")","v":""},null,null,null,null,null,null,null,null,null,null,null,null,{"$f":"IF(ISNUMBER(#REF!),#REF!,\"\")","v":""},null,null,null,null,null,null,null,null,null,null,null,null,{"$f":"IF(ISNUMBER(#REF!),#REF!,\"\")","v":""}]
[null,null,null,null,null,null,null,null,null,null,null,null,{"$f":"IF(ISNUMBER(#REF!),#REF!,\"\")","v":""},null,null,null,null,null,null,null,null,null,null,null,null,{"$f":"IF(ISNUMBER(#REF!),#REF!,\"\")","v":""},null,null,null,null,null,null,null,null,null,null,null,{"$f":"IF(ISNUMBER(#REF!),#REF!,\"\")","v":""},null,null,null,null,null,null,null,null,null,null,null,null,{"$f":"IF(ISNUMBER(#REF!),#REF!,\"\")","v":""},null,null,null,null,null,null,null,null,null,null,null,null,{"$f":"IF(ISNUMBER(#REF!),#REF!,\"\")","v":""}]
[null,null,null,null,null,null,null,null,null,null,null,null,{"$f":"IF(ISNUMBER(#REF!),#REF!,\"\")","v":""},null,null,null,null,null,null,null,null,null,null,null,null,{"$f":"IF(ISNUMBER(#REF!),#REF!,\"\")","v":""},null,null,null,null,null,null,null,null,null,null,null,{"$f":"IF(ISNUMBER(#REF!),#REF!,\"\")","v":""},null,null,null,null,null,null,null,null,null,null,null,null,{"$f":"IF(ISNUMBER(#REF!),#REF!,\"\")","v":""},null,null,null,null,null,null,null,null,null,null,null,null,{"$f":"IF(ISNUMBER(#REF!),#REF!,\"\")","v":""}]
[null,null,null,null,null,null,null,null,null,null,null,null,{"$f":"IF(ISNUMBER(#REF!),#REF!,\"\")","v":""},null,null,null,null,null,null,null,null,null,null,null,null,{"$f":"IF(ISNUMBER(#REF!),#REF!,\"\")","v":""},null,null,null,null,null,null,null,null,null,null,null,{"$f":"IF(ISNUMBER(#REF!),#REF!,\"\")","v":""},null,null,null,null,null,null,null,null,null,null,null,null,{"$f":"IF(ISNUMBER(#REF!),#REF!,\"\")","v":""},null,null,null,null,null,null,null,null,null,null,null,null,{"$f":"IF(ISNUMBER(#REF!),#REF!,\"\")","v":""}]
[null,null,null,null,null,null,null,null,null,null,null,null,{"$f":"IF(ISNUMBER(#REF!),#REF!,\"\")","v":""},null,null,null,null,null,null,null,null,null,null,null,null,{"$f":"IF(ISNUMBER(#REF!),#REF!,\"\")","v":""},null,null,null,null,null,null,null,null,null,null,null,{"$f":"IF(ISNUMBER(#REF!),#REF!,\"\")","v":""},null,null,null,null,null,null,null,null,null,null,null,null,{"$f":"IF(ISNUMBER(#REF!),#REF!,\"\")","v":""},null,null,null,null,null,null,null,null,null,null,null,null,{"$f":"IF(ISNUMBER(#REF!),#REF!,\"\")","v":""}]
[null,null,null,null,null,null,null,null,null,null,null,null,{"$f":"IF(ISNUMBER(#REF!),#REF!,\"\")","v":""},null,null,null,null,null,null,null,null,null,null,null,null,{"$f":"IF(ISNUMBER(#REF!),#REF!,\"\")","v":""},null,null,null,null,null,null,null,null,null,null,null,{"$f":"IF(ISNUMBER(#REF!),#REF!,\"\")","v":""},null,null,null,null,null,null,null,null,null,null,null,null,{"$f":"IF(ISNUMBER(#REF!),#REF!,\"\")","v":""},null,null,null,null,null,null,null,null,null,null,null,null,{"$f":"IF(ISNUMBER(#REF!),#REF!,\"\")","v":""}]
[null,null,null,null,null,null,null,null,null,null,null,null,{"$f":"IF(ISNUMBER(#REF!),#REF!,\"\")","v":""},null,null,null,null,null,null,null,null,null,null,null,null,{"$f":"IF(ISNUMBER(#REF!),#REF!,\"\")","v":""},null,null,null,null,null,null,null,null,null,null,null,{"$f":"IF(ISNUMBER(#REF!),#REF!,\"\")","v":""},null,null,null,null,null,null,null,null,null,null,null,null,{"$f":"IF(ISNUMBER(#REF!),#REF!,\"\")","v":""},null,null,null,null,null,null,null,null,null,null,null,null,{"$f":"IF(ISNUMBER(#REF!),#REF!,\"\")","v":""}]
[null,null,null,null,null,null,null,null,null,null,null,null,{"$f":"IF(ISNUMBER(#REF!),#REF!,\"\")","v":""},null,null,null,null,null,null,null,null,null,null,null,null,{"$f":"IF(ISNUMBER(#REF!),#REF!,\"\")","v":""},null,null,null,null,null,null,null,null,null,null,null,{"$f":"IF(ISNUMBER(#REF!),#REF!,\"\")","v":""},null,null,null,null,null,null,null,null,null,null,null,null,{"$f":"IF(ISNUMBER(#REF!),#REF!,\"\")","v":""},null,null,null,null,null,null,null,null,null,null,null,null,{"$f":"IF(ISNUMBER(#REF!),#REF!,\"\")","v":""}]
[null,null,null,null,null,null,null,null,null,null,null,null,{"$f":"IF(ISNUMBER(#REF!),#REF!,\"\")","v":""},null,null,null,null,null,null,null,null,null,null,null,null,{"$f":"IF(ISNUMBER(#REF!),#REF!,\"\")","v":""},null,null,null,null,null,null,null,null,null,null,null,{"$f":"IF(ISNUMBER(#REF!),#REF!,\"\")","v":""},null,null,null,null,null,null,null,null,null,null,null,null,{"$f":"IF(ISNUMBER(#REF!),#REF!,\"\")","v":""},null,null,null,null,null,null,null,null,null,null,null,null,{"$f":"IF(ISNUMBER(#REF!),#REF!,\"\")","v":""}]
[null,null,null,null,null,null,null,null,null,null,null,null,{"$f":"IF(ISNUMBER(#REF!),#REF!,\"\")","v":""},null,null,null,null,null,null,null,null,null,null,null,null,{"$f":"IF(ISNUMBER(#REF!),#REF!,\"\")","v":""},null,null,null,null,null,null,null,null,null,null,null,{"$f":"IF(ISNUMBER(#REF!),#REF!,\"\")","v":""},null,null,null,null,null,null,null,null,null,null,null,null,{"$f":"IF(ISNUMBER(#REF!),#REF!,\"\")","v":""},null,null,null,null,null,null,null,null,null,null,null,null,{"$f":"IF(ISNUMBER(#REF!),#REF!,\"\")","v":""}]
[null,null,null,null,null,null,null,null,null,null,null,null,{"$f":"IF(ISNUMBER(#REF!),#REF!,\"\")","v":""},null,null,null,null,null,null,null,null,null,null,null,null,{"$f":"IF(ISNUMBER(#REF!),#REF!,\"\")","v":""},null,null,null,null,null,null,null,null,null,null,null,{"$f":"IF(ISNUMBER(#REF!),#REF!,\"\")","v":""},null,null,null,null,null,null,null,null,null,null,null,null,{"$f":"IF(ISNUMBER(#REF!),#REF!,\"\")","v":""},null,null,null,null,null,null,null,null,null,null,null,null,{"$f":"IF(ISNUMBER(#REF!),#REF!,\"\")","v":""}]
[null,null,null,null,null,null,null,null,null,null,null,null,{"$f":"IF(ISNUMBER(#REF!),#REF!,\"\")","v":""},null,null,null,null,null,null,null,null,null,null,null,null,{"$f":"IF(ISNUMBER(#REF!),#REF!,\"\")","v":""},null,null,null,null,null,null,null,null,null,null,null,{"$f":"IF(ISNUMBER(#REF!),#REF!,\"\")","v":""},null,null,null,null,null,null,null,null,null,null,null,null,{"$f":"IF(ISNUMBER(#REF!),#REF!,\"\")","v":""},null,null,null,null,null,null,null,null,null,null,null,null,{"$f":"IF(ISNUMBER(#REF!),#REF!,\"\")","v":""}]
[null,null,null,null,null,null,null,null,null,null,null,null,{"$f":"IF(ISNUMBER(#REF!),#REF!,\"\")","v":""},null,null,null,null,null,null,null,null,null,null,null,null,{"$f":"IF(ISNUMBER(#REF!),#REF!,\"\")","v":""},null,null,null,null,null,null,null,null,null,null,null,{"$f":"IF(ISNUMBER(#REF!),#REF!,\"\")","v":""},null,null,null,null,null,null,null,null,null,null,null,null,{"$f":"IF(ISNUMBER(#REF!),#REF!,\"\")","v":""},null,null,null,null,null,null,null,null,null,null,null,null,{"$f":"IF(ISNUMBER(#REF!),#REF!,\"\")","v":""}]
[null,null,null,null,null,null,null,null,null,null,null,null,{"$f":"IF(ISNUMBER(#REF!),#REF!,\"\")","v":""},null,null,null,null,null,null,null,null,null,null,null,null,{"$f":"IF(ISNUMBER(#REF!),#REF!,\"\")","v":""},null,null,null,null,null,null,null,null,null,null,null,{"$f":"IF(ISNUMBER(#REF!),#REF!,\"\")","v":""},null,null,null,null,null,null,null,null,null,null,null,null,{"$f":"IF(ISNUMBER(#REF!),#REF!,\"\")","v":""},null,null,null,null,null,null,null,null,null,null,null,null,{"$f":"IF(ISNUMBER(#REF!),#REF!,\"\")","v":""}]
[null,null,null,null,null,null,null,null,null,null,null,null,{"$f":"IF(ISNUMBER(#REF!),#REF!,\"\")","v":""},null,null,null,null,null,null,null,null,null,null,null,null,{"$f":"IF(ISNUMBER(#REF!),#REF!,\"\")","v":""},null,null,null,null,null,null,null,null,null,null,null,{"$f":"IF(ISNUMBER(#REF!),#REF!,\"\")","v":""},null,null,null,null,null,null,null,null,null,null,null,null,{"$f":"IF(ISNUMBER(#REF!),#REF!,\"\")","v":""},null,null,null,null,null,null,null,null,null,null,null,null,{"$f":"IF(ISNUMBER(#REF!),#REF!,\"\")","v":""}]
[null,null,null,null,null,null,null,null,null,null,null,null,{"$f":"IF(ISNUMBER(#REF!),#REF!,\"\")","v":""},null,null,null,null,null,null,null,null,null,null,null,null,{"$f":"IF(ISNUMBER(#REF!),#REF!,\"\")","v":""},null,null,null,null,null,null,null,null,null,null,null,{"$f":"IF(ISNUMBER(#REF!),#REF!,\"\")","v":""},null,null,null,null,null,null,null,null,null,null,null,null,{"$f":"IF(ISNUMBER(#REF!),#REF!,\"\")","v":""},null,null,null,null,null,null,null,null,null,null,null,null,{"$f":"IF(ISNUMBER(#REF!),#REF!,\"\")","v":""}]
[null,null,null,null,null,null,null,null,null,null,null,null,{"$f":"IF(ISNUMBER(#REF!),#REF!,\"\")","v":""},null,null,null,null,null,null,null,null,null,null,null,null,{"$f":"IF(ISNUMBER(#REF!),#REF!,\"\")","v":""},null,null,null,null,null,null,null,null,null,null,null,{"$f":"IF(ISNUMBER(#REF!),#REF!,\"\")","v":""},null,null,null,null,null,null,null,null,null,null,null,null,{"$f":"IF(ISNUMBER(#REF!),#REF!,\"\")","v":""},null,null,null,null,null,null,null,null,null,null,null,null,{"$f":"IF(ISNUMBER(#REF!),#REF!,\"\")","v":""}]
[null,null,null,null,null,null,null,null,null,null,null,null,{"$f":"IF(ISNUMBER(#REF!),#REF!,\"\")","v":""},null,null,null,null,null,null,null,null,null,null,null,null,{"$f":"IF(ISNUMBER(#REF!),#REF!,\"\")","v":""},null,null,null,null,null,null,null,null,null,null,null,{"$f":"IF(ISNUMBER(#REF!),#REF!,\"\")","v":""},null,null,null,null,null,null,null,null,null,null,null,null,{"$f":"IF(ISNUMBER(#REF!),#REF!,\"\")","v":""},null,null,null,null,null,null,null,null,null,null,null,null,{"$f":"IF(ISNUMBER(#REF!),#REF!,\"\")","v":""}]
[null,null,null,null,null,null,null,null,null,null,null,null,{"$f":"IF(ISNUMBER(#REF!),#REF!,\"\")","v":""},null,null,null,null,null,null,null,null,null,null,null,null,{"$f":"IF(ISNUMBER(#REF!),#REF!,\"\")","v":""},null,null,null,null,null,null,null,null,null,null,null,{"$f":"IF(ISNUMBER(#REF!),#REF!,\"\")","v":""},null,null,null,null,null,null,null,null,null,null,null,null,{"$f":"IF(ISNUMBER(#REF!),#REF!,\"\")","v":""},null,null,null,null,null,null,null,null,null,null,null,null,{"$f":"IF(ISNUMBER(#REF!),#REF!,\"\")","v":""}]
[null,null,null,null,null,null,null,null,null,null,null,null,{"$f":"IF(ISNUMBER(#REF!),#REF!,\"\")","v":""},null,null,null,null,null,null,null,null,null,null,null,null,{"$f":"IF(ISNUMBER(#REF!),#REF!,\"\")","v":""},null,null,null,null,null,null,null,null,null,null,null,{"$f":"IF(ISNUMBER(#REF!),#REF!,\"\")","v":""},null,null,null,null,null,null,null,null,null,null,null,null,{"$f":"IF(ISNUMBER(#REF!),#REF!,\"\")","v":""},null,null,null,null,null,null,null,null,null,null,null,null,{"$f":"IF(ISNUMBER(#REF!),#REF!,\"\")","v":""}]
[null,null,null,null,null,null,null,null,null,null,null,null,{"$f":"IF(ISNUMBER(#REF!),#REF!,\"\")","v":""},null,null,null,null,null,null,null,null,null,null,null,null,{"$f":"IF(ISNUMBER(#REF!),#REF!,\"\")","v":""},null,null,null,null,null,null,null,null,null,null,null,{"$f":"IF(ISNUMBER(#REF!),#REF!,\"\")","v":""},null,null,null,null,null,null,null,null,null,null,null,null,{"$f":"IF(ISNUMBER(#REF!),#REF!,\"\")","v":""},null,null,null,null,null,null,null,null,null,null,null,null,{"$f":"IF(ISNUMBER(#REF!),#REF!,\"\")","v":""}]
[null,null,null,null,null,null,null,null,null,null,null,null,{"$f":"IF(ISNUMBER(#REF!),#REF!,\"\")","v":""},null,null,null,null,null,null,null,null,null,null,null,null,{"$f":"IF(ISNUMBER(#REF!),#REF!,\"\")","v":""},null,null,null,null,null,null,null,null,null,null,null,{"$f":"IF(ISNUMBER(#REF!),#REF!,\"\")","v":""},null,null,null,null,null,null,null,null,null,null,null,null,{"$f":"IF(ISNUMBER(#REF!),#REF!,\"\")","v":""},null,null,null,null,null,null,null,null,null,null,null,null,{"$f":"IF(ISNUMBER(#REF!),#REF!,\"\")","v":""}]
[null,null,null,null,null,null,null,null,null,null,null,null,{"$f":"IF(ISNUMBER(#REF!),#REF!,\"\")","v":""},null,null,null,null,null,null,null,null,null,null,null,null,{"$f":"IF(ISNUMBER(#REF!),#REF!,\"\")","v":""},null,null,null,null,null,null,null,null,null,null,null,{"$f":"IF(ISNUMBER(#REF!),#REF!,\"\")","v":""},null,null,null,null,null,null,null,null,null,null,null,null,{"$f":"IF(ISNUMBER(#REF!),#REF!,\"\")","v":""},null,null,null,null,null,null,null,null,null,null,null,null,{"$f":"IF(ISNUMBER(#REF!),#REF!,\"\")","v":""}]
[null,null,null,null,null,null,null,null,null,null,null,null,{"$f":"IF(ISNUMBER(#REF!),#REF!,\"\")","v":""},null,null,null,null,null,null,null,null,null,null,null,null,{"$f":"IF(ISNUMBER(#REF!),#REF!,\"\")","v":""},null,null,null,null,null,null,null,null,null,null,null,{"$f":"IF(ISNUMBER(#REF!),#REF!,\"\")","v":""},null,null,null,null,null,null,null,null,null,null,null,null,{"$f":"IF(ISNUMBER(#REF!),#REF!,\"\")","v":""},null,null,null,null,null,null,null,null,null,null,null,null,{"$f":"IF(ISNUMBER(#REF!),#REF!,\"\")","v":""}]
[null,null,null,null,null,null,null,null,null,null,null,null,{"$f":"IF(ISNUMBER(#REF!),#REF!,\"\")","v":""},null,null,null,null,null,null,null,null,null,null,null,null,{"$f":"IF(ISNUMBER(#REF!),#REF!,\"\")","v":""},null,null,null,null,null,null,null,null,null,null,null,{"$f":"IF(ISNUMBER(#REF!),#REF!,\"\")","v":""},null,null,null,null,null,null,null,null,null,null,null,null,{"$f":"IF(ISNUMBER(#REF!),#REF!,\"\")","v":""},null,null,null,null,null,null,null,null,null,null,null,null,{"$f":"IF(ISNUMBER(#REF!),#REF!,\"\")","v":""}]
[null,null,null,null,null,null,null,null,null,null,null,null,{"$f":"IF(ISNUMBER(#REF!),#REF!,\"\")","v":""},null,null,null,null,null,null,null,null,null,null,null,null,{"$f":"IF(ISNUMBER(#REF!),#REF!,\"\")","v":""},null,null,null,null,null,null,null,null,null,null,null,{"$f":"IF(ISNUMBER(#REF!),#REF!,\"\")","v":""},null,null,null,null,null,null,null,null,null,null,null,null,{"$f":"IF(ISNUMBER(#REF!),#REF!,\"\")","v":""},null,null,null,null,null,null,null,null,null,null,null,null,{"$f":"IF(ISNUMBER(#REF!),#REF!,\"\")","v":""}]
[null,null,null,null,null,null,null,null,null,null,null,null,{"$f":"IF(ISNUMBER(#REF!),#REF!,\"\")","v":""},null,null,null,null,null,null,null,null,null,null,null,null,{"$f":"IF(ISNUMBER(#REF!),#REF!,\"\")","v":""},null,null,null,null,null,null,null,null,null,null,null,{"$f":"IF(ISNUMBER(#REF!),#REF!,\"\")","v":""},null,null,null,null,null,null,null,null,null,null,null,null,{"$f":"IF(ISNUMBER(#REF!),#REF!,\"\")","v":""},null,null,null,null,null,null,null,null,null,null,null,null,{"$f":"IF(ISNUMBER(#REF!),#REF!,\"\")","v":""}]
[null,null,null,null,null,null,null,null,null,null,null,null,{"$f":"IF(ISNUMBER(#REF!),#REF!,\"\")","v":""},null,null,null,null,null,null,null,null,null,null,null,null,{"$f":"IF(ISNUMBER(#REF!),#REF!,\"\")","v":""},null,null,null,null,null,null,null,null,null,null,null,{"$f":"IF(ISNUMBER(#REF!),#REF!,\"\")","v":""},null,null,null,null,null,null,null,null,null,null,null,null,{"$f":"IF(ISNUMBER(#REF!),#REF!,\"\")","v":""},null,null,null,null,null,null,null,null,null,null,null,null,{"$f":"IF(ISNUMBER(#REF!),#REF!,\"\")","v":""}]
[null,null,null,null,null,null,null,null,null,null,null,null,{"$f":"IF(ISNUMBER(#REF!),#REF!,\"\")","v":""},null,null,null,null,null,null,null,null,null,null,null,null,{"$f":"IF(ISNUMBER(#REF!),#REF!,\"\")","v":""},null,null,null,null,null,null,null,null,null,null,null,{"$f":"IF(ISNUMBER(#REF!),#REF!,\"\")","v":""},null,null,null,null,null,null,null,null,null,null,null,null,{"$f":"IF(ISNUMBER(#REF!),#REF!,\"\")","v":""},null,null,null,null,null,null,null,null,null,null,null,null,{"$f":"IF(ISNUMBER(#REF!),#REF!,\"\")","v":""}]
[null,null,null,null,null,null,null,null,null,null,null,null,{"$f":"IF(ISNUMBER(#REF!),#REF!,\"\")","v":""},null,null,null,null,null,null,null,null,null,null,null,null,{"$f":"IF(ISNUMBER(#REF!),#REF!,\"\")","v":""},null,null,null,null,null,null,null,null,null,null,null,{"$f":"IF(ISNUMBER(#REF!),#REF!,\"\")","v":""},null,null,null,null,null,null,null,null,null,null,null,null,{"$f":"IF(ISNUMBER(#REF!),#REF!,\"\")","v":""},null,null,null,null,null,null,null,null,null,null,null,null,{"$f":"IF(ISNUMBER(#REF!),#REF!,\"\")","v":""}]
[null,null,null,null,null,null,null,null,null,null,null,null,{"$f":"IF(ISNUMBER(#REF!),#REF!,\"\")","v":""},null,null,null,null,null,null,null,null,null,null,null,null,{"$f":"IF(ISNUMBER(#REF!),#REF!,\"\")","v":""},null,null,null,null,null,null,null,null,null,null,null,{"$f":"IF(ISNUMBER(#REF!),#REF!,\"\")","v":""},null,null,null,null,null,null,null,null,null,null,null,null,{"$f":"IF(ISNUMBER(#REF!),#REF!,\"\")","v":""},null,null,null,null,null,null,null,null,null,null,null,null,{"$f":"IF(ISNUMBER(#REF!),#REF!,\"\")","v":""}]
[null,null,null,null,null,null,null,null,null,null,null,null,{"$f":"IF(ISNUMBER(#REF!),#REF!,\"\")","v":""},null,null,null,null,null,null,null,null,null,null,null,null,{"$f":"IF(ISNUMBER(#REF!),#REF!,\"\")","v":""},null,null,null,null,null,null,null,null,null,null,null,{"$f":"IF(ISNUMBER(#REF!),#REF!,\"\")","v":""},null,null,null,null,null,null,null,null,null,null,null,null,{"$f":"IF(ISNUMBER(#REF!),#REF!,\"\")","v":""},null,null,null,null,null,null,null,null,null,null,null,null,{"$f":"IF(ISNUMBER(#REF!),#REF!,\"\")","v":""}]
[null,null,null,null,null,null,null,null,null,null,null,null,{"$f":"IF(ISNUMBER(#REF!),#REF!,\"\")","v":""},null,null,null,null,null,null,null,null,null,null,null,null,{"$f":"IF(ISNUMBER(#REF!),#REF!,\"\")","v":""},null,null,null,null,null,null,null,null,null,null,null,{"$f":"IF(ISNUMBER(#REF!),#REF!,\"\")","v":""},null,null,null,null,null,null,null,null,null,null,null,null,{"$f":"IF(ISNUMBER(#REF!),#REF!,\"\")","v":""},null,null,null,null,null,null,null,null,null,null,null,null,{"$f":"IF(ISNUMBER(#REF!),#REF!,\"\")","v":""}]
[null,null,null,null,null,null,null,null,null,null,null,null,{"$f":"IF(ISNUMBER(#REF!),#REF!,\"\")","v":""},null,null,null,null,null,null,null,null,null,null,null,null,{"$f":"IF(ISNUMBER(#REF!),#REF!,\"\")","v":""},null,null,null,null,null,null,null,null,null,null,null,{"$f":"IF(ISNUMBER(#REF!),#REF!,\"\")","v":""},null,null,null,null,null,null,null,null,null,null,null,null,{"$f":"IF(ISNUMBER(#REF!),#REF!,\"\")","v":""},null,null,null,null,null,null,null,null,null,null,null,null,{"$f":"IF(ISNUMBER(#REF!),#REF!,\"\")","v":""}]
[null,null,null,null,null,null,null,null,null,null,null,null,{"$f":"IF(ISNUMBER(#REF!),#REF!,\"\")","v":""},null,null,null,null,null,null,null,null,null,null,null,null,{"$f":"IF(ISNUMBER(#REF!),#REF!,\"\")","v":""},null,null,null,null,null,null,null,null,null,null,null,{"$f":"IF(ISNUMBER(#REF!),#REF!,\"\")","v":""},null,null,null,null,null,null,null,null,null,null,null,null,{"$f":"IF(ISNUMBER(#REF!),#REF!,\"\")","v":""},null,null,null,null,null,null,null,null,null,null,null,null,{"$f":"IF(ISNUMBER(#REF!),#REF!,\"\")","v":""}]
[null,null,null,null,null,null,null,null,null,null,null,null,{"$f":"IF(ISNUMBER(#REF!),#REF!,\"\")","v":""},null,null,null,null,null,null,null,null,null,null,null,null,{"$f":"IF(ISNUMBER(#REF!),#REF!,\"\")","v":""},null,null,null,null,null,null,null,null,null,null,null,{"$f":"IF(ISNUMBER(#REF!),#REF!,\"\")","v":""},null,null,null,null,null,null,null,null,null,null,null,null,{"$f":"IF(ISNUMBER(#REF!),#REF!,\"\")","v":""},null,null,null,null,null,null,null,null,null,null,null,null,{"$f":"IF(ISNUMBER(#REF!),#REF!,\"\")","v":""}]
[null,null,null,null,null,null,null,null,null,null,null,null,{"$f":"IF(ISNUMBER(#REF!),#REF!,\"\")","v":""},null,null,null,null,null,null,null,null,null,null,null,null,{"$f":"IF(ISNUMBER(#REF!),#REF!,\"\")","v":""},null,null,null,null,null,null,null,null,null,null,null,{"$f":"IF(ISNUMBER(#REF!),#REF!,\"\")","v":""},null,null,null,null,null,null,null,null,null,null,null,null,{"$f":"IF(ISNUMBER(#REF!),#REF!,\"\")","v":""},null,null,null,null,null,null,null,null,null,null,null,null,{"$f":"IF(ISNUMBER(#REF!),#REF!,\"\")","v":""}]
[null,null,null,null,null,null,null,null,null,null,null,null,{"$f":"IF(ISNUMBER(#REF!),#REF!,\"\")","v":""},null,null,null,null,null,null,null,null,null,null,null,null,{"$f":"IF(ISNUMBER(#REF!),#REF!,\"\")","v":""},null,null,null,null,null,null,null,null,null,null,null,{"$f":"IF(ISNUMBER(#REF!),#REF!,\"\")","v":""},null,null,null,null,null,null,null,null,null,null,null,null,{"$f":"IF(ISNUMBER(#REF!),#REF!,\"\")","v":""},null,null,null,null,null,null,null,null,null,null,null,null,{"$f":"IF(ISNUMBER(#REF!),#REF!,\"\")","v":""}]
[null,null,null,null,null,null,null,null,null,null,null,null,{"$f":"IF(ISNUMBER(#REF!),#REF!,\"\")","v":""},null,null,null,null,null,null,null,null,null,null,null,null,{"$f":"IF(ISNUMBER(#REF!),#REF!,\"\")","v":""},null,null,null,null,null,null,null,null,null,null,null,{"$f":"IF(ISNUMBER(#REF!),#REF!,\"\")","v":""},null,null,null,null,null,null,null,null,null,null,null,null,{"$f":"IF(ISNUMBER(#REF!),#REF!,\"\")","v":""},null,null,null,null,null,null,null,null,null,null,null,null,{"$f":"IF(ISNUMBER(#REF!),#REF!,\"\")","v":""}]
[null,null,null,null,null,null,null,null,null,null,null,null,{"$f":"IF(ISNUMBER(#REF!),#REF!,\"\")","v":""},null,null,null,null,null,null,null,null,null,null,null,null,{"$f":"IF(ISNUMBER(#REF!),#REF!,\"\")","v":""},null,null,null,null,null,null,null,null,null,null,null,{"$f":"IF(ISNUMBER(#REF!),#REF!,\"\")","v":""},null,null,null,null,null,null,null,null,null,null,null,null,{"$f":"IF(ISNUMBER(#REF!),#REF!,\"\")","v":""},null,null,null,null,null,null,null,null,null,null,null,null,{"$f":"IF(ISNUMBER(#REF!),#REF!,\"\")","v":""}]
[null,null,null,null,null,null,null,null,null,null,null,null,{"$f":"IF(ISNUMBER(#REF!),#REF!,\"\")","v":""},null,null,null,null,null,null,null,null,null,null,null,null,{"$f":"IF(ISNUMBER(#REF!),#REF!,\"\")","v":""},null,null,null,null,null,null,null,null,null,null,null,{"$f":"IF(ISNUMBER(#REF!),#REF!,\"\")","v":""},null,null,null,null,null,null,null,null,null,null,null,null,{"$f":"IF(ISNUMBER(#REF!),#REF!,\"\")","v":""},null,null,null,null,null,null,null,null,null,null,null,null,{"$f":"IF(ISNUMBER(#REF!),#REF!,\"\")","v":""}]
[null,null,null,null,null,null,null,null,null,null,null,null,{"$f":"IF(ISNUMBER(#REF!),#REF!,\"\")","v":""},null,null,null,null,null,null,null,null,null,null,null,null,{"$f":"IF(ISNUMBER(#REF!),#REF!,\"\")","v":""},null,null,null,null,null,null,null,null,null,null,null,{"$f":"IF(ISNUMBER(#REF!),#REF!,\"\")","v":""},null,null,null,null,null,null,null,null,null,null,null,null,{"$f":"IF(ISNUMBER(#REF!),#REF!,\"\")","v":""},null,null,null,null,null,null,null,null,null,null,null,null,{"$f":"IF(ISNUMBER(#REF!),#REF!,\"\")","v":""}]
[null,null,null,null,null,null,null,null,null,null,null,null,{"$f":"IF(ISNUMBER(#REF!),#REF!,\"\")","v":""},null,null,null,null,null,null,null,null,null,null,null,null,{"$f":"IF(ISNUMBER(#REF!),#REF!,\"\")","v":""},null,null,null,null,null,null,null,null,null,null,null,{"$f":"IF(ISNUMBER(#REF!),#REF!,\"\")","v":""},null,null,null,null,null,null,null,null,null,null,null,null,{"$f":"IF(ISNUMBER(#REF!),#REF!,\"\")","v":""},null,null,null,null,null,null,null,null,null,null,null,null,{"$f":"IF(ISNUMBER(#REF!),#REF!,\"\")","v":""}]
[null,null,null,null,null,null,null,null,null,null,null,null,{"$f":"IF(ISNUMBER(#REF!),#REF!,\"\")","v":""},null,null,null,null,null,null,null,null,null,null,null,null,{"$f":"IF(ISNUMBER(#REF!),#REF!,\"\")","v":""},null,null,null,null,null,null,null,null,null,null,null,{"$f":"IF(ISNUMBER(#REF!),#REF!,\"\")","v":""},null,null,null,null,null,null,null,null,null,null,null,null,{"$f":"IF(ISNUMBER(#REF!),#REF!,\"\")","v":""},null,null,null,null,null,null,null,null,null,null,null,null,{"$f":"IF(ISNUMBER(#REF!),#REF!,\"\")","v":""}]
[null,null,null,null,null,null,null,null,null,null,null,null,{"$f":"IF(ISNUMBER(#REF!),#REF!,\"\")","v":""},null,null,null,null,null,null,null,null,null,null,null,null,{"$f":"IF(ISNUMBER(#REF!),#REF!,\"\")","v":""},null,null,null,null,null,null,null,null,null,null,null,{"$f":"IF(ISNUMBER(#REF!),#REF!,\"\")","v":""},null,null,null,null,null,null,null,null,null,null,null,null,{"$f":"IF(ISNUMBER(#REF!),#REF!,\"\")","v":""},null,null,null,null,null,null,null,null,null,null,null,null,{"$f":"IF(ISNUMBER(#REF!),#REF!,\"\")","v":""}]
[null,null,null,null,null,null,null,null,null,null,null,null,{"$f":"IF(ISNUMBER(#REF!),#REF!,\"\")","v":""},null,null,null,null,null,null,null,null,null,null,null,null,{"$f":"IF(ISNUMBER(#REF!),#REF!,\"\")","v":""},null,null,null,null,null,null,null,null,null,null,null,{"$f":"IF(ISNUMBER(#REF!),#REF!,\"\")","v":""},null,null,null,null,null,null,null,null,null,null,null,null,{"$f":"IF(ISNUMBER(#REF!),#REF!,\"\")","v":""},null,null,null,null,null,null,null,null,null,null,null,null,{"$f":"IF(ISNUMBER(#REF!),#REF!,\"\")","v":""}]
[null,null,null,null,null,null,null,null,null,null,null,null,{"$f":"IF(ISNUMBER(#REF!),#REF!,\"\")","v":""},null,null,null,null,null,null,null,null,null,null,null,null,{"$f":"IF(ISNUMBER(#REF!),#REF!,\"\")","v":""},null,null,null,null,null,null,null,null,null,null,null,{"$f":"IF(ISNUMBER(#REF!),#REF!,\"\")","v":""},null,null,null,null,null,null,null,null,null,null,null,null,{"$f":"IF(ISNUMBER(#REF!),#REF!,\"\")","v":""},null,null,null,null,null,null,null,null,null,null,null,null,{"$f":"IF(ISNUMBER(#REF!),#REF!,\"\")","v":""}]
[null,null,null,null,null,null,null,null,null,null,null,null,{"$f":"IF(ISNUMBER(#REF!),#REF!,\"\")","v":""},null,null,null,null,null,null,null,null,null,null,null,null,{"$f":"IF(ISNUMBER(#REF!),#REF!,\"\")","v":""},null,null,null,null,null,null,null,null,null,null,null,{"$f":"IF(ISNUMBER(#REF!),#REF!,\"\")","v":""},null,null,null,null,null,null,null,null,null,null,null,null,{"$f":"IF(ISNUMBER(#REF!),#REF!,\"\")","v":""},null,null,null,null,null,null,null,null,null,null,null,null,{"$f":"IF(ISNUMBER(#REF!),#REF!,\"\")","v":""}]
[null,null,null,null,null,null,null,null,null,null,null,null,{"$f":"IF(ISNUMBER(#REF!),#REF!,\"\")","v":""},null,null,null,null,null,null,null,null,null,null,null,null,{"$f":"IF(ISNUMBER(#REF!),#REF!,\"\")","v":""},null,null,null,null,null,null,null,null,null,null,null,{"$f":"IF(ISNUMBER(#REF!),#REF!,\"\")","v":""},null,null,null,null,null,null,null,null,null,null,null,null,{"$f":"IF(ISNUMBER(#REF!),#REF!,\"\")","v":""},null,null,null,null,null,null,null,null,null,null,null,null,{"$f":"IF(ISNUMBER(#REF!),#REF!,\"\")","v":""}]
[null,null,null,null,null,null,null,null,null,null,null,null,{"$f":"IF(ISNUMBER(#REF!),#REF!,\"\")","v":""},null,null,null,null,null,null,null,null,null,null,null,null,{"$f":"IF(ISNUMBER(#REF!),#REF!,\"\")","v":""},null,null,null,null,null,null,null,null,null,null,null,{"$f":"IF(ISNUMBER(#REF!),#REF!,\"\")","v":""},null,null,null,null,null,null,null,null,null,null,null,null,{"$f":"IF(ISNUMBER(#REF!),#REF!,\"\")","v":""},null,null,null,null,null,null,null,null,null,null,null,null,{"$f":"IF(ISNUMBER(#REF!),#REF!,\"\")","v":""}]
[null,null,null,null,null,null,null,null,null,null,null,null,{"$f":"IF(ISNUMBER(#REF!),#REF!,\"\")","v":""},null,null,null,null,null,null,null,null,null,null,null,null,{"$f":"IF(ISNUMBER(#REF!),#REF!,\"\")","v":""},null,null,null,null,null,null,null,null,null,null,null,{"$f":"IF(ISNUMBER(#REF!),#REF!,\"\")","v":""},null,null,null,null,null,null,null,null,null,null,null,null,{"$f":"IF(ISNUMBER(#REF!),#REF!,\"\")","v":""},null,null,null,null,null,null,null,null,null,null,null,null,{"$f":"IF(ISNUMBER(#REF!),#REF!,\"\")","v":""}]
[null,null,null,null,null,null,null,null,null,null,null,null,{"$f":"IF(ISNUMBER(#REF!),#REF!,\"\")","v":""},null,null,null,null,null,null,null,null,null,null,null,null,{"$f":"IF(ISNUMBER(#REF!),#REF!,\"\")","v":""},null,null,null,null,null,null,null,null,null,null,null,{"$f":"IF(ISNUMBER(#REF!),#REF!,\"\")","v":""},null,null,null,null,null,null,null,null,null,null,null,null,{"$f":"IF(ISNUMBER(#REF!),#REF!,\"\")","v":""},null,null,null,null,null,null,null,null,null,null,null,null,{"$f":"IF(ISNUMBER(#REF!),#REF!,\"\")","v":""}]
[null,null,null,null,null,null,null,null,null,null,null,null,{"$f":"IF(ISNUMBER(#REF!),#REF!,\"\")","v":""},null,null,null,null,null,null,null,null,null,null,null,null,{"$f":"IF(ISNUMBER(#REF!),#REF!,\"\")","v":""},null,null,null,null,null,null,null,null,null,null,null,{"$f":"IF(ISNUMBER(#REF!),#REF!,\"\")","v":""},null,null,null,null,null,null,null,null,null,null,null,null,{"$f":"IF(ISNUMBER(#REF!),#REF!,\"\")","v":""},null,null,null,null,null,null,null,null,null,null,null,null,{"$f":"IF(ISNUMBER(#REF!),#REF!,\"\")","v":""}]
[null,null,null,null,null,null,null,null,null,null,null,null,{"$f":"IF(ISNUMBER(#REF!),#REF!,\"\")","v":""},null,null,null,null,null,null,null,null,null,null,null,null,{"$f":"IF(ISNUMBER(#REF!),#REF!,\"\")","v":""},null,null,null,null,null,null,null,null,null,null,null,{"$f":"IF(ISNUMBER(#REF!),#REF!,\"\")","v":""},null,null,null,null,null,null,null,null,null,null,null,null,{"$f":"IF(ISNUMBER(#REF!),#REF!,\"\")","v":""},null,null,null,null,null,null,null,null,null,null,null,null,{"$f":"IF(ISNUMBER(#REF!),#REF!,\"\")","v":""}]
[null,null,null,null,null,null,null,null,null,null,null,null,{"$f":"IF(ISNUMBER(#REF!),#REF!,\"\")","v":""},null,null,null,null,null,null,null,null,null,null,null,null,{"$f":"IF(ISNUMBER(#REF!),#REF!,\"\")","v":""},null,null,null,null,null,null,null,null,null,null,null,{"$f":"IF(ISNUMBER(#REF!),#REF!,\"\")","v":""},null,null,null,null,null,null,null,null,null,null,null,null,{"$f":"IF(ISNUMBER(#REF!),#REF!,\"\")","v":""},null,null,null,null,null,null,null,null,null,null,null,null,{"$f":"IF(ISNUMBER(#REF!),#REF!,\"\")","v":""}]
[null,null,null,null,null,null,null,null,null,null,null,null,{"$f":"IF(ISNUMBER(#REF!),#REF!,\"\")","v":""},null,null,null,null,null,null,null,null,null,null,null,null,{"$f":"IF(ISNUMBER(#REF!),#REF!,\"\")","v":""},null,null,null,null,null,null,null,null,null,null,null,{"$f":"IF(ISNUMBER(#REF!),#REF!,\"\")","v":""},null,null,null,null,null,null,null,null,null,null,null,null,{"$f":"IF(ISNUMBER(#REF!),#REF!,\"\")","v":""},null,null,null,null,null,null,null,null,null,null,null,null,{"$f":"IF(ISNUMBER(#REF!),#REF!,\"\")","v":""}]
[null,null,null,null,null,null,null,null,null,null,null,null,{"$f":"IF(ISNUMBER(#REF!),#REF!,\"\")","v":""},null,null,null,null,null,null,null,null,null,null,null,null,{"$f":"IF(ISNUMBER(#REF!),#REF!,\"\")","v":""},null,null,null,null,null,null,null,null,null,null,null,{"$f":"IF(ISNUMBER(#REF!),#REF!,\"\")","v":""},null,null,null,null,null,null,null,null,null,null,null,null,{"$f":"IF(ISNUMBER(#REF!),#REF!,\"\")","v":""},null,null,null,null,null,null,null,null,null,null,null,null,{"$f":"IF(ISNUMBER(#REF!),#REF!,\"\")","v":""}]
[null,null,null,null,null,null,null,null,null,null,null,null,{"$f":"IF(ISNUMBER(#REF!),#REF!,\"\")","v":""},null,null,null,null,null,null,null,null,null,null,null,null,{"$f":"IF(ISNUMBER(#REF!),#REF!,\"\")","v":""},null,null,null,null,null,null,null,null,null,null,null,{"$f":"IF(ISNUMBER(#REF!),#REF!,\"\")","v":""},null,null,null,null,null,null,null,null,null,null,null,null,{"$f":"IF(ISNUMBER(#REF!),#REF!,\"\")","v":""},null,null,null,null,null,null,null,null,null,null,null,null,{"$f":"IF(ISNUMBER(#REF!),#REF!,\"\")","v":""}]
[null,null,null,null,null,null,null,null,null,null,null,null,{"$f":"IF(ISNUMBER(#REF!),#REF!,\"\")","v":""},null,null,null,null,null,null,null,null,null,null,null,null,{"$f":"IF(ISNUMBER(#REF!),#REF!,\"\")","v":""},null,null,null,null,null,null,null,null,null,null,null,{"$f":"IF(ISNUMBER(#REF!),#REF!,\"\")","v":""},null,null,null,null,null,null,null,null,null,null,null,null,{"$f":"IF(ISNUMBER(#REF!),#REF!,\"\")","v":""},null,null,null,null,null,null,null,null,null,null,null,null,{"$f":"IF(ISNUMBER(#REF!),#REF!,\"\")","v":""}]
[null,null,null,null,null,null,null,null,null,null,null,null,{"$f":"IF(ISNUMBER(#REF!),#REF!,\"\")","v":""},null,null,null,null,null,null,null,null,null,null,null,null,{"$f":"IF(ISNUMBER(#REF!),#REF!,\"\")","v":""},null,null,null,null,null,null,null,null,null,null,null,{"$f":"IF(ISNUMBER(#REF!),#REF!,\"\")","v":""},null,null,null,null,null,null,null,null,null,null,null,null,{"$f":"IF(ISNUMBER(#REF!),#REF!,\"\")","v":""},null,null,null,null,null,null,null,null,null,null,null,null,{"$f":"IF(ISNUMBER(#REF!),#REF!,\"\")","v":""}]
[null,null,null,null,null,null,null,null,null,null,null,null,{"$f":"IF(ISNUMBER(#REF!),#REF!,\"\")","v":""},null,null,null,null,null,null,null,null,null,null,null,null,{"$f":"IF(ISNUMBER(#REF!),#REF!,\"\")","v":""},null,null,null,null,null,null,null,null,null,null,null,{"$f":"IF(ISNUMBER(#REF!),#REF!,\"\")","v":""},null,null,null,null,null,null,null,null,null,null,null,null,{"$f":"IF(ISNUMBER(#REF!),#REF!,\"\")","v":""},null,null,null,null,null,null,null,null,null,null,null,null,{"$f":"IF(ISNUMBER(#REF!),#REF!,\"\")","v":""}]
[null,null,null,null,null,null,null,null,null,null,null,null,{"$f":"IF(ISNUMBER(#REF!),#REF!,\"\")","v":""},null,null,null,null,null,null,null,null,null,null,null,null,{"$f":"IF(ISNUMBER(#REF!),#REF!,\"\")","v":""},null,null,null,null,null,null,null,null,null,null,null,{"$f":"IF(ISNUMBER(#REF!),#REF!,\"\")","v":""},null,null,null,null,null,null,null,null,null,null,null,null,{"$f":"IF(ISNUMBER(#REF!),#REF!,\"\")","v":""},null,null,null,null,null,null,null,null,null,null,null,null,{"$f":"IF(ISNUMBER(#REF!),#REF!,\"\")","v":""}]
[null,null,null,null,null,null,null,null,null,null,null,null,{"$f":"IF(ISNUMBER(#REF!),#REF!,\"\")","v":""},null,null,null,null,null,null,null,null,null,null,null,null,{"$f":"IF(ISNUMBER(#REF!),#REF!,\"\")","v":""},null,null,null,null,null,null,null,null,null,null,null,{"$f":"IF(ISNUMBER(#REF!),#REF!,\"\")","v":""},null,null,null,null,null,null,null,null,null,null,null,null,{"$f":"IF(ISNUMBER(#REF!),#REF!,\"\")","v":""},null,null,null,null,null,null,null,null,null,null,null,null,{"$f":"IF(ISNUMBER(#REF!),#REF!,\"\")","v":""}]
[null,null,null,null,null,null,null,null,null,null,null,null,{"$f":"IF(ISNUMBER(#REF!),#REF!,\"\")","v":""},null,null,null,null,null,null,null,null,null,null,null,null,{"$f":"IF(ISNUMBER(#REF!),#REF!,\"\")","v":""},null,null,null,null,null,null,null,null,null,null,null,{"$f":"IF(ISNUMBER(#REF!),#REF!,\"\")","v":""},null,null,null,null,null,null,null,null,null,null,null,null,{"$f":"IF(ISNUMBER(#REF!),#REF!,\"\")","v":""},null,null,null,null,null,null,null,null,null,null,null,null,{"$f":"IF(ISNUMBER(#REF!),#REF!,\"\")","v":""}]
[null,null,null,null,null,null,null,null,null,null,null,null,{"$f":"IF(ISNUMBER(#REF!),#REF!,\"\")","v":""},null,null,null,null,null,null,null,null,null,null,null,null,{"$f":"IF(ISNUMBER(#REF!),#REF!,\"\")","v":""},null,null,null,null,null,null,null,null,null,null,null,{"$f":"IF(ISNUMBER(#REF!),#REF!,\"\")","v":""},null,null,null,null,null,null,null,null,null,null,null,null,{"$f":"IF(ISNUMBER(#REF!),#REF!,\"\")","v":""},null,null,null,null,null,null,null,null,null,null,null,null,{"$f":"IF(ISNUMBER(#REF!),#REF!,\"\")","v":""}]
[null,null,null,null,null,null,null,null,null,null,null,null,{"$f":"IF(ISNUMBER(#REF!),#REF!,\"\")","v":""},null,null,null,null,null,null,null,null,null,null,null,null,{"$f":"IF(ISNUMBER(#REF!),#REF!,\"\")","v":""},null,null,null,null,null,null,null,null,null,null,null,{"$f":"IF(ISNUMBER(#REF!),#REF!,\"\")","v":""},null,null,null,null,null,null,null,null,null,null,null,null,{"$f":"IF(ISNUMBER(#REF!),#REF!,\"\")","v":""},null,null,null,null,null,null,null,null,null,null,null,null,{"$f":"IF(ISNUMBER(#REF!),#REF!,\"\")","v":""}]
[null,null,null,null,null,null,null,null,null,null,null,null,{"$f":"IF(ISNUMBER(#REF!),#REF!,\"\")","v":""},null,null,null,null,null,null,null,null,null,null,null,null,{"$f":"IF(ISNUMBER(#REF!),#REF!,\"\")","v":""},null,null,null,null,null,null,null,null,null,null,null,{"$f":"IF(ISNUMBER(#REF!),#REF!,\"\")","v":""},null,null,null,null,null,null,null,null,null,null,null,null,{"$f":"IF(ISNUMBER(#REF!),#REF!,\"\")","v":""},null,null,null,null,null,null,null,null,null,null,null,null,{"$f":"IF(ISNUMBER(#REF!),#REF!,\"\")","v":""}]
[null,null,null,null,null,null,null,null,null,null,null,null,{"$f":"IF(ISNUMBER(#REF!),#REF!,\"\")","v":""},null,null,null,null,null,null,null,null,null,null,null,null,{"$f":"IF(ISNUMBER(#REF!),#REF!,\"\")","v":""},null,null,null,null,null,null,null,null,null,null,null,{"$f":"IF(ISNUMBER(#REF!),#REF!,\"\")","v":""},null,null,null,null,null,null,null,null,null,null,null,null,{"$f":"IF(ISNUMBER(#REF!),#REF!,\"\")","v":""},null,null,null,null,null,null,null,null,null,null,null,null,{"$f":"IF(ISNUMBER(#REF!),#REF!,\"\")","v":""}]
[null,null,null,null,null,null,null,null,null,null,null,null,{"$f":"IF(ISNUMBER(#REF!),#REF!,\"\")","v":""},null,null,null,null,null,null,null,null,null,null,null,null,{"$f":"IF(ISNUMBER(#REF!),#REF!,\"\")","v":""},null,null,null,null,null,null,null,null,null,null,null,{"$f":"IF(ISNUMBER(#REF!),#REF!,\"\")","v":""},null,null,null,null,null,null,null,null,null,null,null,null,{"$f":"IF(ISNUMBER(#REF!),#REF!,\"\")","v":""},null,null,null,null,null,null,null,null,null,null,null,null,{"$f":"IF(ISNUMBER(#REF!),#REF!,\"\")","v":""}]
[null,null,null,null,null,null,null,null,null,null,null,null,{"$f":"IF(ISNUMBER(#REF!),#REF!,\"\")","v":""},null,null,null,null,null,null,null,null,null,null,null,null,{"$f":"IF(ISNUMBER(#REF!),#REF!,\"\")","v":""},null,null,null,null,null,null,null,null,null,null,null,{"$f":"IF(ISNUMBER(#REF!),#REF!,\"\")","v":""},null,null,null,null,null,null,null,null,null,null,null,null,{"$f":"IF(ISNUMBER(#REF!),#REF!,\"\")","v":""},null,null,null,null,null,null,null,null,null,null,null,null,{"$f":"IF(ISNUMBER(#REF!),#REF!,\"\")","v":""}]
[null,null,null,null,null,null,null,null,null,null,null,null,{"$f":"IF(ISNUMBER(#REF!),#REF!,\"\")","v":""},null,null,null,null,null,null,null,null,null,null,null,null,{"$f":"IF(ISNUMBER(#REF!),#REF!,\"\")","v":""},null,null,null,null,null,null,null,null,null,null,null,{"$f":"IF(ISNUMBER(#REF!),#REF!,\"\")","v":""},null,null,null,null,null,null,null,null,null,null,null,null,{"$f":"IF(ISNUMBER(#REF!),#REF!,\"\")","v":""},null,null,null,null,null,null,null,null,null,null,null,null,{"$f":"IF(ISNUMBER(#REF!),#REF!,\"\")","v":""}]
[null,null,null,null,null,null,null,null,null,null,null,null,{"$f":"IF(ISNUMBER(#REF!),#REF!,\"\")","v":""},null,null,null,null,null,null,null,null,null,null,null,null,{"$f":"IF(ISNUMBER(#REF!),#REF!,\"\")","v":""},null,null,null,null,null,null,null,null,null,null,null,{"$f":"IF(ISNUMBER(#REF!),#REF!,\"\")","v":""},null,null,null,null,null,null,null,null,null,null,null,null,{"$f":"IF(ISNUMBER(#REF!),#REF!,\"\")","v":""},null,null,null,null,null,null,null,null,null,null,null,null,{"$f":"IF(ISNUMBER(#REF!),#REF!,\"\")","v":""}]
[null,null,null,null,null,null,null,null,null,null,null,null,{"$f":"IF(ISNUMBER(#REF!),#REF!,\"\")","v":""},null,null,null,null,null,null,null,null,null,null,null,null,{"$f":"IF(ISNUMBER(#REF!),#REF!,\"\")","v":""},null,null,null,null,null,null,null,null,null,null,null,{"$f":"IF(ISNUMBER(#REF!),#REF!,\"\")","v":""},null,null,null,null,null,null,null,null,null,null,null,null,{"$f":"IF(ISNUMBER(#REF!),#REF!,\"\")","v":""},null,null,null,null,null,null,null,null,null,null,null,null,{"$f":"IF(ISNUMBER(#REF!),#REF!,\"\")","v":""}]
[null,null,null,null,null,null,null,null,null,null,null,null,{"$f":"IF(ISNUMBER(#REF!),#REF!,\"\")","v":""},null,null,null,null,null,null,null,null,null,null,null,null,{"$f":"IF(ISNUMBER(#REF!),#REF!,\"\")","v":""},null,null,null,null,null,null,null,null,null,null,null,{"$f":"IF(ISNUMBER(#REF!),#REF!,\"\")","v":""},null,null,null,null,null,null,null,null,null,null,null,null,{"$f":"IF(ISNUMBER(#REF!),#REF!,\"\")","v":""},null,null,null,null,null,null,null,null,null,null,null,null,{"$f":"IF(ISNUMBER(#REF!),#REF!,\"\")","v":""}]
[null,null,null,null,null,null,null,null,null,null,null,null,{"$f":"IF(ISNUMBER(#REF!),#REF!,\"\")","v":""},null,null,null,null,null,null,null,null,null,null,null,null,{"$f":"IF(ISNUMBER(#REF!),#REF!,\"\")","v":""},null,null,null,null,null,null,null,null,null,null,null,{"$f":"IF(ISNUMBER(#REF!),#REF!,\"\")","v":""},null,null,null,null,null,null,null,null,null,null,null,null,{"$f":"IF(ISNUMBER(#REF!),#REF!,\"\")","v":""},null,null,null,null,null,null,null,null,null,null,null,null,{"$f":"IF(ISNUMBER(#REF!),#REF!,\"\")","v":""}]
[null,null,null,null,null,null,null,null,null,null,null,null,{"$f":"IF(ISNUMBER(#REF!),#REF!,\"\")","v":""},null,null,null,null,null,null,null,null,null,null,null,null,{"$f":"IF(ISNUMBER(#REF!),#REF!,\"\")","v":""},null,null,null,null,null,null,null,null,null,null,null,{"$f":"IF(ISNUMBER(#REF!),#REF!,\"\")","v":""},null,null,null,null,null,null,null,null,null,null,null,null,{"$f":"IF(ISNUMBER(#REF!),#REF!,\"\")","v":""},null,null,null,null,null,null,null,null,null,null,null,null,{"$f":"IF(ISNUMBER(#REF!),#REF!,\"\")","v":""}]
[null,null,null,null,null,null,null,null,null,null,null,null,{"$f":"IF(ISNUMBER(#REF!),#REF!,\"\")","v":""},null,null,null,null,null,null,null,null,null,null,null,null,{"$f":"IF(ISNUMBER(#REF!),#REF!,\"\")","v":""},null,null,null,null,null,null,null,null,null,null,null,{"$f":"IF(ISNUMBER(#REF!),#REF!,\"\")","v":""},null,null,null,null,null,null,null,null,null,null,null,null,{"$f":"IF(ISNUMBER(#REF!),#REF!,\"\")","v":""},null,null,null,null,null,null,null,null,null,null,null,null,{"$f":"IF(ISNUMBER(#REF!),#REF!,\"\")","v":""}]
[null,null,null,null,null,null,null,null,null,null,null,null,{"$f":"IF(ISNUMBER(#REF!),#REF!,\"\")","v":""},null,null,null,null,null,null,null,null,null,null,null,null,{"$f":"IF(ISNUMBER(#REF!),#REF!,\"\")","v":""},null,null,null,null,null,null,null,null,null,null,null,{"$f":"IF(ISNUMBER(#REF!),#REF!,\"\")","v":""},null,null,null,null,null,null,null,null,null,null,null,null,{"$f":"IF(ISNUMBER(#REF!),#REF!,\"\")","v":""},null,null,null,null,null,null,null,null,null,null,null,null,{"$f":"IF(ISNUMBER(#REF!),#REF!,\"\")","v":""}]
[null,null,null,null,null,null,null,null,null,null,null,null,{"$f":"IF(ISNUMBER(#REF!),#REF!,\"\")","v":""},null,null,null,null,null,null,null,null,null,null,null,null,{"$f":"IF(ISNUMBER(#REF!),#REF!,\"\")","v":""},null,null,null,null,null,null,null,null,null,null,null,{"$f":"IF(ISNUMBER(#REF!),#REF!,\"\")","v":""},null,null,null,null,null,null,null,null,null,null,null,null,{"$f":"IF(ISNUMBER(#REF!),#REF!,\"\")","v":""},null,null,null,null,null,null,null,null,null,null,null,null,{"$f":"IF(ISNUMBER(#REF!),#REF!,\"\")","v":""}]
[null,null,null,null,null,null,null,null,null,null,null,null,{"$f":"IF(ISNUMBER(#REF!),#REF!,\"\")","v":""},null,null,null,null,null,null,null,null,null,null,null,null,{"$f":"IF(ISNUMBER(#REF!),#REF!,\"\")","v":""},null,null,null,null,null,null,null,null,null,null,null,{"$f":"IF(ISNUMBER(#REF!),#REF!,\"\")","v":""},null,null,null,null,null,null,null,null,null,null,null,null,{"$f":"IF(ISNUMBER(#REF!),#REF!,\"\")","v":""},null,null,null,null,null,null,null,null,null,null,null,null,{"$f":"IF(ISNUMBER(#REF!),#REF!,\"\")","v":""}]
[null,null,null,null,null,null,null,null,null,null,null,null,{"$f":"IF(ISNUMBER(#REF!),#REF!,\"\")","v":""},null,null,null,null,null,null,null,null,null,null,null,null,{"$f":"IF(ISNUMBER(#REF!),#REF!,\"\")","v":""},null,null,null,null,null,null,null,null,null,null,null,{"$f":"IF(ISNUMBER(#REF!),#REF!,\"\")","v":""},null,null,null,null,null,null,null,null,null,null,null,null,{"$f":"IF(ISNUMBER(#REF!),#REF!,\"\")","v":""},null,null,null,null,null,null,null,null,null,null,null,null,{"$f":"IF(ISNUMBER(#REF!),#REF!,\"\")","v":""}]
[null,null,null,null,null,null,null,null,null,null,null,null,{"$f":"IF(ISNUMBER(#REF!),#REF!,\"\")","v":""},null,null,null,null,null,null,null,null,null,null,null,null,{"$f":"IF(ISNUMBER(#REF!),#REF!,\"\")","v":""},null,null,null,null,null,null,null,null,null,null,null,{"$f":"IF(ISNUMBER(#REF!),#REF!,\"\")","v":""},null,null,null,null,null,null,null,null,null,null,null,null,{"$f":"IF(ISNUMBER(#REF!),#REF!,\"\")","v":""},null,null,null,null,null,null,null,null,null,null,null,null,{"$f":"IF(ISNUMBER(#REF!),#REF!,\"\")","v":""}]
[null,null,null,null,null,null,null,null,null,null,null,null,{"$f":"IF(ISNUMBER(#REF!),#REF!,\"\")","v":""},null,null,null,null,null,null,null,null,null,null,null,null,{"$f":"IF(ISNUMBER(#REF!),#REF!,\"\")","v":""},null,null,null,null,null,null,null,null,null,null,null,{"$f":"IF(ISNUMBER(#REF!),#REF!,\"\")","v":""},null,null,null,null,null,null,null,null,null,null,null,null,{"$f":"IF(ISNUMBER(#REF!),#REF!,\"\")","v":""},null,null,null,null,null,null,null,null,null,null,null,null,{"$f":"IF(ISNUMBER(#REF!),#REF!,\"\")","v":""}]
[null,null,null,null,null,null,null,null,null,null,null,null,{"$f":"IF(ISNUMBER(#REF!),#REF!,\"\")","v":""},null,null,null,null,null,null,null,null,null,null,null,null,{"$f":"IF(ISNUMBER(#REF!),#REF!,\"\")","v":""},null,null,null,null,null,null,null,null,null,null,null,{"$f":"IF(ISNUMBER(#REF!),#REF!,\"\")","v":""},null,null,null,null,null,null,null,null,null,null,null,null,{"$f":"IF(ISNUMBER(#REF!),#REF!,\"\")","v":""},null,null,null,null,null,null,null,null,null,null,null,null,{"$f":"IF(ISNUMBER(#REF!),#REF!,\"\")","v":""}]
[null,null,null,null,null,null,null,null,null,null,null,null,{"$f":"IF(ISNUMBER(#REF!),#REF!,\"\")","v":""},null,null,null,null,null,null,null,null,null,null,null,null,{"$f":"IF(ISNUMBER(#REF!),#REF!,\"\")","v":""},null,null,null,null,null,null,null,null,null,null,null,{"$f":"IF(ISNUMBER(#REF!),#REF!,\"\")","v":""},null,null,null,null,null,null,null,null,null,null,null,null,{"$f":"IF(ISNUMBER(#REF!),#REF!,\"\")","v":""},null,null,null,null,null,null,null,null,null,null,null,null,{"$f":"IF(ISNUMBER(#REF!),#REF!,\"\")","v":""}]
[null,null,null,null,null,null,null,null,null,null,null,null,{"$f":"IF(ISNUMBER(#REF!),#REF!,\"\")","v":""},null,null,null,null,null,null,null,null,null,null,null,null,{"$f":"IF(ISNUMBER(#REF!),#REF!,\"\")","v":""},null,null,null,null,null,null,null,null,null,null,null,{"$f":"IF(ISNUMBER(#REF!),#REF!,\"\")","v":""},null,null,null,null,null,null,null,null,null,null,null,null,{"$f":"IF(ISNUMBER(#REF!),#REF!,\"\")","v":""},null,null,null,null,null,null,null,null,null,null,null,null,{"$f":"IF(ISNUMBER(#REF!),#REF!,\"\")","v":""}]
[null,null,null,null,null,null,null,null,null,null,null,null,{"$f":"IF(ISNUMBER(#REF!),#REF!,\"\")","v":""},null,null,null,null,null,null,null,null,null,null,null,null,{"$f":"IF(ISNUMBER(#REF!),#REF!,\"\")","v":""},null,null,null,null,null,null,null,null,null,null,null,{"$f":"IF(ISNUMBER(#REF!),#REF!,\"\")","v":""},null,null,null,null,null,null,null,null,null,null,null,null,{"$f":"IF(ISNUMBER(#REF!),#REF!,\"\")","v":""},null,null,null,null,null,null,null,null,null,null,null,null,{"$f":"IF(ISNUMBER(#REF!),#REF!,\"\")","v":""}]
[null,null,null,null,null,null,null,null,null,null,null,null,{"$f":"IF(ISNUMBER(#REF!),#REF!,\"\")","v":""},null,null,null,null,null,null,null,null,null,null,null,null,{"$f":"IF(ISNUMBER(#REF!),#REF!,\"\")","v":""},null,null,null,null,null,null,null,null,null,null,null,{"$f":"IF(ISNUMBER(#REF!),#REF!,\"\")","v":""},null,null,null,null,null,null,null,null,null,null,null,null,{"$f":"IF(ISNUMBER(#REF!),#REF!,\"\")","v":""},null,null,null,null,null,null,null,null,null,null,null,null,{"$f":"IF(ISNUMBER(#REF!),#REF!,\"\")","v":""}]
[null,null,null,null,null,null,null,null,null,null,null,null,{"$f":"IF(ISNUMBER(#REF!),#REF!,\"\")","v":""},null,null,null,null,null,null,null,null,null,null,null,null,{"$f":"IF(ISNUMBER(#REF!),#REF!,\"\")","v":""},null,null,null,null,null,null,null,null,null,null,null,{"$f":"IF(ISNUMBER(#REF!),#REF!,\"\")","v":""},null,null,null,null,null,null,null,null,null,null,null,null,{"$f":"IF(ISNUMBER(#REF!),#REF!,\"\")","v":""},null,null,null,null,null,null,null,null,null,null,null,null,{"$f":"IF(ISNUMBER(#REF!),#REF!,\"\")","v":""}]
[null,null,null,null,null,null,null,null,null,null,null,null,{"$f":"IF(ISNUMBER(#REF!),#REF!,\"\")","v":""},null,null,null,null,null,null,null,null,null,null,null,null,{"$f":"IF(ISNUMBER(#REF!),#REF!,\"\")","v":""},null,null,null,null,null,null,null,null,null,null,null,{"$f":"IF(ISNUMBER(#REF!),#REF!,\"\")","v":""},null,null,null,null,null,null,null,null,null,null,null,null,{"$f":"IF(ISNUMBER(#REF!),#REF!,\"\")","v":""},null,null,null,null,null,null,null,null,null,null,null,null,{"$f":"IF(ISNUMBER(#REF!),#REF!,\"\")","v":""}]
[null,null,null,null,null,null,null,null,null,null,null,null,{"$f":"IF(ISNUMBER(#REF!),#REF!,\"\")","v":""},null,null,null,null,null,null,null,null,null,null,null,null,{"$f":"IF(ISNUMBER(#REF!),#REF!,\"\")","v":""},null,null,null,null,null,null,null,null,null,null,null,{"$f":"IF(ISNUMBER(#REF!),#REF!,\"\")","v":""},null,null,null,null,null,null,null,null,null,null,null,null,{"$f":"IF(ISNUMBER(#REF!),#REF!,\"\")","v":""},null,null,null,null,null,null,null,null,null,null,null,null,{"$f":"IF(ISNUMBER(#REF!),#REF!,\"\")","v":""}]
[null,null,null,null,null,null,null,null,null,null,null,null,{"$f":"IF(ISNUMBER(#REF!),#REF!,\"\")","v":""},null,null,null,null,null,null,null,null,null,null,null,null,{"$f":"IF(ISNUMBER(#REF!),#REF!,\"\")","v":""},null,null,null,null,null,null,null,null,null,null,null,{"$f":"IF(ISNUMBER(#REF!),#REF!,\"\")","v":""},null,null,null,null,null,null,null,null,null,null,null,null,{"$f":"IF(ISNUMBER(#REF!),#REF!,\"\")","v":""},null,null,null,null,null,null,null,null,null,null,null,null,{"$f":"IF(ISNUMBER(#REF!),#REF!,\"\")","v":""}]
[null,null,null,null,null,null,null,null,null,null,null,null,{"$f":"IF(ISNUMBER(#REF!),#REF!,\"\")","v":""},null,null,null,null,null,null,null,null,null,null,null,null,{"$f":"IF(ISNUMBER(#REF!),#REF!,\"\")","v":""},null,null,null,null,null,null,null,null,null,null,null,{"$f":"IF(ISNUMBER(#REF!),#REF!,\"\")","v":""},null,null,null,null,null,null,null,null,null,null,null,null,{"$f":"IF(ISNUMBER(#REF!),#REF!,\"\")","v":""},null,null,null,null,null,null,null,null,null,null,null,null,{"$f":"IF(ISNUMBER(#REF!),#REF!,\"\")","v":""}]
[null,null,null,null,null,null,null,null,null,null,null,null,{"$f":"IF(ISNUMBER(#REF!),#REF!,\"\")","v":""},null,null,null,null,null,null,null,null,null,null,null,null,{"$f":"IF(ISNUMBER(#REF!),#REF!,\"\")","v":""},null,null,null,null,null,null,null,null,null,null,null,{"$f":"IF(ISNUMBER(#REF!),#REF!,\"\")","v":""},null,null,null,null,null,null,null,null,null,null,null,null,{"$f":"IF(ISNUMBER(#REF!),#REF!,\"\")","v":""},null,null,null,null,null,null,null,null,null,null,null,null,{"$f":"IF(ISNUMBER(#REF!),#REF!,\"\")","v":""}]
[null,null,null,null,null,null,null,null,null,null,null,null,{"$f":"IF(ISNUMBER(#REF!),#REF!,\"\")","v":""},null,null,null,null,null,null,null,null,null,null,null,null,{"$f":"IF(ISNUMBER(#REF!),#REF!,\"\")","v":""},null,null,null,null,null,null,null,null,null,null,null,{"$f":"IF(ISNUMBER(#REF!),#REF!,\"\")","v":""},null,null,null,null,null,null,null,null,null,null,null,null,{"$f":"IF(ISNUMBER(#REF!),#REF!,\"\")","v":""},null,null,null,null,null,null,null,null,null,null,null,null,{"$f":"IF(ISNUMBER(#REF!),#REF!,\"\")","v":""}]
[null,null,null,null,null,null,null,null,null,null,null,null,{"$f":"IF(ISNUMBER(#REF!),#REF!,\"\")","v":""},null,null,null,null,null,null,null,null,null,null,null,null,{"$f":"IF(ISNUMBER(#REF!),#REF!,\"\")","v":""},null,null,null,null,null,null,null,null,null,null,null,{"$f":"IF(ISNUMBER(#REF!),#REF!,\"\")","v":""},null,null,null,null,null,null,null,null,null,null,null,null,{"$f":"IF(ISNUMBER(#REF!),#REF!,\"\")","v":""},null,null,null,null,null,null,null,null,null,null,null,null,{"$f":"IF(ISNUMBER(#REF!),#REF!,\"\")","v":""}]
[null,null,null,null,null,null,null,null,null,null,null,null,{"$f":"IF(ISNUMBER(#REF!),#REF!,\"\")","v":""},null,null,null,null,null,null,null,null,null,null,null,null,{"$f":"IF(ISNUMBER(#REF!),#REF!,\"\")","v":""},null,null,null,null,null,null,null,null,null,null,null,{"$f":"IF(ISNUMBER(#REF!),#REF!,\"\")","v":""},null,null,null,null,null,null,null,null,null,null,null,null,{"$f":"IF(ISNUMBER(#REF!),#REF!,\"\")","v":""},null,null,null,null,null,null,null,null,null,null,null,null,{"$f":"IF(ISNUMBER(#REF!),#REF!,\"\")","v":""}]
[null,null,null,null,null,null,null,null,null,null,null,null,{"$f":"IF(ISNUMBER(#REF!),#REF!,\"\")","v":""},null,null,null,null,null,null,null,null,null,null,null,null,{"$f":"IF(ISNUMBER(#REF!),#REF!,\"\")","v":""},null,null,null,null,null,null,null,null,null,null,null,{"$f":"IF(ISNUMBER(#REF!),#REF!,\"\")","v":""},null,null,null,null,null,null,null,null,null,null,null,null,{"$f":"IF(ISNUMBER(#REF!),#REF!,\"\")","v":""},null,null,null,null,null,null,null,null,null,null,null,null,{"$f":"IF(ISNUMBER(#REF!),#REF!,\"\")","v":""}]
[null,null,null,null,null,null,null,null,null,null,null,null,{"$f":"IF(ISNUMBER(#REF!),#REF!,\"\")","v":""},null,null,null,null,null,null,null,null,null,null,null,null,{"$f":"IF(ISNUMBER(#REF!),#REF!,\"\")","v":""},null,null,null,null,null,null,null,null,null,null,null,{"$f":"IF(ISNUMBER(#REF!),#REF!,\"\")","v":""},null,null,null,null,null,null,null,null,null,null,null,null,{"$f":"IF(ISNUMBER(#REF!),#REF!,\"\")","v":""},null,null,null,null,null,null,null,null,null,null,null,null,{"$f":"IF(ISNUMBER(#REF!),#REF!,\"\")","v":""}]
[null,null,null,null,null,null,null,null,null,null,null,null,{"$f":"IF(ISNUMBER(#REF!),#REF!,\"\")","v":""},null,null,null,null,null,null,null,null,null,null,null,null,{"$f":"IF(ISNUMBER(#REF!),#REF!,\"\")","v":""},null,null,null,null,null,null,null,null,null,null,null,{"$f":"IF(ISNUMBER(#REF!),#REF!,\"\")","v":""},null,null,null,null,null,null,null,null,null,null,null,null,{"$f":"IF(ISNUMBER(#REF!),#REF!,\"\")","v":""},null,null,null,null,null,null,null,null,null,null,null,null,{"$f":"IF(ISNUMBER(#REF!),#REF!,\"\")","v":""}]
[null,null,null,null,null,null,null,null,null,null,null,null,{"$f":"IF(ISNUMBER(#REF!),#REF!,\"\")","v":""},null,null,null,null,null,null,null,null,null,null,null,null,{"$f":"IF(ISNUMBER(#REF!),#REF!,\"\")","v":""},null,null,null,null,null,null,null,null,null,null,null,{"$f":"IF(ISNUMBER(#REF!),#REF!,\"\")","v":""},null,null,null,null,null,null,null,null,null,null,null,null,{"$f":"IF(ISNUMBER(#REF!),#REF!,\"\")","v":""},null,null,null,null,null,null,null,null,null,null,null,null,{"$f":"IF(ISNUMBER(#REF!),#REF!,\"\")","v":""}]
[null,null,null,null,null,null,null,null,null,null,null,null,{"$f":"IF(ISNUMBER(#REF!),#REF!,\"\")","v":""},null,null,null,null,null,null,null,null,null,null,null,null,{"$f":"IF(ISNUMBER(#REF!),#REF!,\"\")","v":""},null,null,null,null,null,null,null,null,null,null,null,{"$f":"IF(ISNUMBER(#REF!),#REF!,\"\")","v":""},null,null,null,null,null,null,null,null,null,null,null,null,{"$f":"IF(ISNUMBER(#REF!),#REF!,\"\")","v":""},null,null,null,null,null,null,null,null,null,null,null,null,{"$f":"IF(ISNUMBER(#REF!),#REF!,\"\")","v":""}]
[null,null,null,null,null,null,null,null,null,null,null,null,{"$f":"IF(ISNUMBER(#REF!),#REF!,\"\")","v":""},null,null,null,null,null,null,null,null,null,null,null,null,{"$f":"IF(ISNUMBER(#REF!),#REF!,\"\")","v":""},null,null,null,null,null,null,null,null,null,null,null,{"$f":"IF(ISNUMBER(#REF!),#REF!,\"\")","v":""},null,null,null,null,null,null,null,null,null,null,null,null,{"$f":"IF(ISNUMBER(#REF!),#REF!,\"\")","v":""},null,null,null,null,null,null,null,null,null,null,null,null,{"$f":"IF(ISNUMBER(#REF!),#REF!,\"\")","v":""}]
[null,null,null,null,null,null,null,null,null,null,null,null,{"$f":"IF(ISNUMBER(#REF!),#REF!,\"\")","v":""},null,null,null,null,null,null,null,null,null,null,null,null,{"$f":"IF(ISNUMBER(#REF!),#REF!,\"\")","v":""},null,null,null,null,null,null,null,null,null,null,null,{"$f":"IF(ISNUMBER(#REF!),#REF!,\"\")","v":""},null,null,null,null,null,null,null,null,null,null,null,null,{"$f":"IF(ISNUMBER(#REF!),#REF!,\"\")","v":""},null,null,null,null,null,null,null,null,null,null,null,null,{"$f":"IF(ISNUMBER(#REF!),#REF!,\"\")","v":""}]
[null,null,null,null,null,null,null,null,null,null,null,null,{"$f":"IF(ISNUMBER(#REF!),#REF!,\"\")","v":""},null,null,null,null,null,null,null,null,null,null,null,null,{"$f":"IF(ISNUMBER(#REF!),#REF!,\"\")","v":""},null,null,null,null,null,null,null,null,null,null,null,{"$f":"IF(ISNUMBER(#REF!),#REF!,\"\")","v":""},null,null,null,null,null,null,null,null,null,null,null,null,{"$f":"IF(ISNUMBER(#REF!),#REF!,\"\")","v":""},null,null,null,null,null,null,null,null,null,null,null,null,{"$f":"IF(ISNUMBER(#REF!),#REF!,\"\")","v":""}]
[null,null,null,null,null,null,null,null,null,null,null,null,{"$f":"IF(ISNUMBER(#REF!),#REF!,\"\")","v":""},null,null,null,null,null,null,null,null,null,null,null,null,{"$f":"IF(ISNUMBER(#REF!),#REF!,\"\")","v":""},null,null,null,null,null,null,null,null,null,null,null,{"$f":"IF(ISNUMBER(#REF!),#REF!,\"\")","v":""},null,null,null,null,null,null,null,null,null,null,null,null,{"$f":"IF(ISNUMBER(#REF!),#REF!,\"\")","v":""},null,null,null,null,null,null,null,null,null,null,null,null,{"$f":"IF(ISNUMBER(#REF!),#REF!,\"\")","v":""}]
[null,null,null,null,null,null,null,null,null,null,null,null,{"$f":"IF(ISNUMBER(#REF!),#REF!,\"\")","v":""},null,null,null,null,null,null,null,null,null,null,null,null,{"$f":"IF(ISNUMBER(#REF!),#REF!,\"\")","v":""},null,null,null,null,null,null,null,null,null,null,null,{"$f":"IF(ISNUMBER(#REF!),#REF!,\"\")","v":""},null,null,null,null,null,null,null,null,null,null,null,null,{"$f":"IF(ISNUMBER(#REF!),#REF!,\"\")","v":""},null,null,null,null,null,null,null,null,null,null,null,null,{"$f":"IF(ISNUMBER(#REF!),#REF!,\"\")","v":""}]
[null,null,null,null,null,null,null,null,null,null,null,null,{"$f":"IF(ISNUMBER(#REF!),#REF!,\"\")","v":""},null,null,null,null,null,null,null,null,null,null,null,null,{"$f":"IF(ISNUMBER(#REF!),#REF!,\"\")","v":""},null,null,null,null,null,null,null,null,null,null,null,{"$f":"IF(ISNUMBER(#REF!),#REF!,\"\")","v":""},null,null,null,null,null,null,null,null,null,null,null,null,{"$f":"IF(ISNUMBER(#REF!),#REF!,\"\")","v":""},null,null,null,null,null,null,null,null,null,null,null,null,{"$f":"IF(ISNUMBER(#REF!),#REF!,\"\")","v":""}]
[null,null,null,null,null,null,null,null,null,null,null,null,{"$f":"IF(ISNUMBER(#REF!),#REF!,\"\")","v":""},null,null,null,null,null,null,null,null,null,null,null,null,{"$f":"IF(ISNUMBER(#REF!),#REF!,\"\")","v":""},null,null,null,null,null,null,null,null,null,null,null,{"$f":"IF(ISNUMBER(#REF!),#REF!,\"\")","v":""},null,null,null,null,null,null,null,null,null,null,null,null,{"$f":"IF(ISNUMBER(#REF!),#REF!,\"\")","v":""},null,null,null,null,null,null,null,null,null,null,null,null,{"$f":"IF(ISNUMBER(#REF!),#REF!,\"\")","v":""}]
[null,null,null,null,null,null,null,null,null,null,null,null,{"$f":"IF(ISNUMBER(#REF!),#REF!,\"\")","v":""},null,null,null,null,null,null,null,null,null,null,null,null,{"$f":"IF(ISNUMBER(#REF!),#REF!,\"\")","v":""},null,null,null,null,null,null,null,null,null,null,null,{"$f":"IF(ISNUMBER(#REF!),#REF!,\"\")","v":""},null,null,null,null,null,null,null,null,null,null,null,null,{"$f":"IF(ISNUMBER(#REF!),#REF!,\"\")","v":""},null,null,null,null,null,null,null,null,null,null,null,null,{"$f":"IF(ISNUMBER(#REF!),#REF!,\"\")","v":""}]
[null,null,null,null,null,null,null,null,null,null,null,null,{"$f":"IF(ISNUMBER(#REF!),#REF!,\"\")","v":""},null,null,null,null,null,null,null,null,null,null,null,null,{"$f":"IF(ISNUMBER(#REF!),#REF!,\"\")","v":""},null,null,null,null,null,null,null,null,null,null,null,{"$f":"IF(ISNUMBER(#REF!),#REF!,\"\")","v":""},null,null,null,null,null,null,null,null,null,null,null,null,{"$f":"IF(ISNUMBER(#REF!),#REF!,\"\")","v":""},null,null,null,null,null,null,null,null,null,null,null,null,{"$f":"IF(ISNUMBER(#REF!),#REF!,\"\")","v":""}]
[null,null,null,null,null,null,null,null,null,null,null,null,{"$f":"IF(ISNUMBER(#REF!),#REF!,\"\")","v":""},null,null,null,null,null,null,null,null,null,null,null,null,{"$f":"IF(ISNUMBER(#REF!),#REF!,\"\")","v":""},null,null,null,null,null,null,null,null,null,null,null,{"$f":"IF(ISNUMBER(#REF!),#REF!,\"\")","v":""},null,null,null,null,null,null,null,null,null,null,null,null,{"$f":"IF(ISNUMBER(#REF!),#REF!,\"\")","v":""},null,null,null,null,null,null,null,null,null,null,null,null,{"$f":"IF(ISNUMBER(#REF!),#REF!,\"\")","v":""}]
[null,null,null,null,null,null,null,null,null,null,null,null,{"$f":"IF(ISNUMBER(#REF!),#REF!,\"\")","v":""},null,null,null,null,null,null,null,null,null,null,null,null,{"$f":"IF(ISNUMBER(#REF!),#REF!,\"\")","v":""},null,null,null,null,null,null,null,null,null,null,null,{"$f":"IF(ISNUMBER(#REF!),#REF!,\"\")","v":""},null,null,null,null,null,null,null,null,null,null,null,null,{"$f":"IF(ISNUMBER(#REF!),#REF!,\"\")","v":""},null,null,null,null,null,null,null,null,null,null,null,null,{"$f":"IF(ISNUMBER(#REF!),#REF!,\"\")","v":""}]
[null,null,null,null,null,null,null,null,null,null,null,null,{"$f":"IF(ISNUMBER(#REF!),#REF!,\"\")","v":""},null,null,null,null,null,null,null,null,null,null,null,null,{"$f":"IF(ISNUMBER(#REF!),#REF!,\"\")","v":""},null,null,null,null,null,null,null,null,null,null,null,{"$f":"IF(ISNUMBER(#REF!),#REF!,\"\")","v":""},null,null,null,null,null,null,null,null,null,null,null,null,{"$f":"IF(ISNUMBER(#REF!),#REF!,\"\")","v":""},null,null,null,null,null,null,null,null,null,null,null,null,{"$f":"IF(ISNUMBER(#REF!),#REF!,\"\")","v":""}]
[null,null,null,null,null,null,null,null,null,null,null,null,{"$f":"IF(ISNUMBER(#REF!),#REF!,\"\")","v":""},null,null,null,null,null,null,null,null,null,null,null,null,{"$f":"IF(ISNUMBER(#REF!),#REF!,\"\")","v":""},null,null,null,null,null,null,null,null,null,null,null,{"$f":"IF(ISNUMBER(#REF!),#REF!,\"\")","v":""},null,null,null,null,null,null,null,null,null,null,null,null,{"$f":"IF(ISNUMBER(#REF!),#REF!,\"\")","v":""},null,null,null,null,null,null,null,null,null,null,null,null,{"$f":"IF(ISNUMBER(#REF!),#REF!,\"\")","v":""}]
[null,null,null,null,null,null,null,null,null,null,null,null,{"$f":"IF(ISNUMBER(#REF!),#REF!,\"\")","v":""},null,null,null,null,null,null,null,null,null,null,null,null,{"$f":"IF(ISNUMBER(#REF!),#REF!,\"\")","v":""},null,null,null,null,null,null,null,null,null,null,null,{"$f":"IF(ISNUMBER(#REF!),#REF!,\"\")","v":""},null,null,null,null,null,null,null,null,null,null,null,null,{"$f":"IF(ISNUMBER(#REF!),#REF!,\"\")","v":""},null,null,null,null,null,null,null,null,null,null,null,null,{"$f":"IF(ISNUMBER(#REF!),#REF!,\"\")","v":""}]
[null,null,null,null,null,null,null,null,null,null,null,null,{"$f":"IF(ISNUMBER(#REF!),#REF!,\"\")","v":""},null,null,null,null,null,null,null,null,null,null,null,null,{"$f":"IF(ISNUMBER(#REF!),#REF!,\"\")","v":""},null,null,null,null,null,null,null,null,null,null,null,{"$f":"IF(ISNUMBER(#REF!),#REF!,\"\")","v":""},null,null,null,null,null,null,null,null,null,null,null,null,{"$f":"IF(ISNUMBER(#REF!),#REF!,\"\")","v":""},null,null,null,null,null,null,null,null,null,null,null,null,{"$f":"IF(ISNUMBER(#REF!),#REF!,\"\")","v":""}]
[null,null,null,null,null,null,null,null,null,null,null,null,{"$f":"IF(ISNUMBER(#REF!),#REF!,\"\")","v":""},null,null,null,null,null,null,null,null,null,null,null,null,{"$f":"IF(ISNUMBER(#REF!),#REF!,\"\")","v":""},null,null,null,null,null,null,null,null,null,null,null,{"$f":"IF(ISNUMBER(#REF!),#REF!,\"\")","v":""},null,null,null,null,null,null,null,null,null,null,null,null,{"$f":"IF(ISNUMBER(#REF!),#REF!,\"\")","v":""},null,null,null,null,null,null,null,null,null,null,null,null,{"$f":"IF(ISNUMBER(#REF!),#REF!,\"\")","v":""}]
[null,null,null,null,null,null,null,null,null,null,null,null,{"$f":"IF(ISNUMBER(#REF!),#REF!,\"\")","v":""},null,null,null,null,null,null,null,null,null,null,null,null,{"$f":"IF(ISNUMBER(#REF!),#REF!,\"\")","v":""},null,null,null,null,null,null,null,null,null,null,null,{"$f":"IF(ISNUMBER(#REF!),#REF!,\"\")","v":""},null,null,null,null,null,null,null,null,null,null,null,null,{"$f":"IF(ISNUMBER(#REF!),#REF!,\"\")","v":""},null,null,null,null,null,null,null,null,null,null,null,null,{"$f":"IF(ISNUMBER(#REF!),#REF!,\"\")","v":""}]
[null,null,null,null,null,null,null,null,null,null,null,null,{"$f":"IF(ISNUMBER(#REF!),#REF!,\"\")","v":""},null,null,null,null,null,null,null,null,null,null,null,null,{"$f":"IF(ISNUMBER(#REF!),#REF!,\"\")","v":""},null,null,null,null,null,null,null,null,null,null,null,{"$f":"IF(ISNUMBER(#REF!),#REF!,\"\")","v":""},null,null,null,null,null,null,null,null,null,null,null,null,{"$f":"IF(ISNUMBER(#REF!),#REF!,\"\")","v":""},null,null,null,null,null,null,null,null,null,null,null,null,{"$f":"IF(ISNUMBER(#REF!),#REF!,\"\")","v":""}]
[null,null,null,null,null,null,null,null,null,null,null,null,{"$f":"IF(ISNUMBER(#REF!),#REF!,\"\")","v":""},null,null,null,null,null,null,null,null,null,null,null,null,{"$f":"IF(ISNUMBER(#REF!),#REF!,\"\")","v":""},null,null,null,null,null,null,null,null,null,null,null,{"$f":"IF(ISNUMBER(#REF!),#REF!,\"\")","v":""},null,null,null,null,null,null,null,null,null,null,null,null,{"$f":"IF(ISNUMBER(#REF!),#REF!,\"\")","v":""},null,null,null,null,null,null,null,null,null,null,null,null,{"$f":"IF(ISNUMBER(#REF!),#REF!,\"\")","v":""}]
[null,null,null,null,null,null,null,null,null,null,null,null,{"$f":"IF(ISNUMBER(#REF!),#REF!,\"\")","v":""},null,null,null,null,null,null,null,null,null,null,null,null,{"$f":"IF(ISNUMBER(#REF!),#REF!,\"\")","v":""},null,null,null,null,null,null,null,null,null,null,null,{"$f":"IF(ISNUMBER(#REF!),#REF!,\"\")","v":""},null,null,null,null,null,null,null,null,null,null,null,null,{"$f":"IF(ISNUMBER(#REF!),#REF!,\"\")","v":""},null,null,null,null,null,null,null,null,null,null,null,null,{"$f":"IF(ISNUMBER(#REF!),#REF!,\"\")","v":""}]
[null,null,null,null,null,null,null,null,null,null,null,null,{"$f":"IF(ISNUMBER(#REF!),#REF!,\"\")","v":""},null,null,null,null,null,null,null,null,null,null,null,null,{"$f":"IF(ISNUMBER(#REF!),#REF!,\"\")","v":""},null,null,null,null,null,null,null,null,null,null,null,{"$f":"IF(ISNUMBER(#REF!),#REF!,\"\")","v":""},null,null,null,null,null,null,null,null,null,null,null,null,{"$f":"IF(ISNUMBER(#REF!),#REF!,\"\")","v":""},null,null,null,null,null,null,null,null,null,null,null,null,{"$f":"IF(ISNUMBER(#REF!),#REF!,\"\")","v":""}]
[null,null,null,null,null,null,null,null,null,null,null,null,{"$f":"IF(ISNUMBER(#REF!),#REF!,\"\")","v":""},null,null,null,null,null,null,null,null,null,null,null,null,{"$f":"IF(ISNUMBER(#REF!),#REF!,\"\")","v":""},null,null,null,null,null,null,null,null,null,null,null,{"$f":"IF(ISNUMBER(#REF!),#REF!,\"\")","v":""},null,null,null,null,null,null,null,null,null,null,null,null,{"$f":"IF(ISNUMBER(#REF!),#REF!,\"\")","v":""},null,null,null,null,null,null,null,null,null,null,null,null,{"$f":"IF(ISNUMBER(#REF!),#REF!,\"\")","v":""}]
[null,null,null,null,null,null,null,null,null,null,null,null,{"$f":"IF(ISNUMBER(#REF!),#REF!,\"\")","v":""},null,null,null,null,null,null,null,null,null,null,null,null,{"$f":"IF(ISNUMBER(#REF!),#REF!,\"\")","v":""},null,null,null,null,null,null,null,null,null,null,null,{"$f":"IF(ISNUMBER(#REF!),#REF!,\"\")","v":""},null,null,null,null,null,null,null,null,null,null,null,null,{"$f":"IF(ISNUMBER(#REF!),#REF!,\"\")","v":""},null,null,null,null,null,null,null,null,null,null,null,null,{"$f":"IF(ISNUMBER(#REF!),#REF!,\"\")","v":""}]
[null,null,null,null,null,null,null,null,null,null,null,null,{"$f":"IF(ISNUMBER(#REF!),#REF!,\"\")","v":""},null,null,null,null,null,null,null,null,null,null,null,null,{"$f":"IF(ISNUMBER(#REF!),#REF!,\"\")","v":""},null,null,null,null,null,null,null,null,null,null,null,{"$f":"IF(ISNUMBER(#REF!),#REF!,\"\")","v":""},null,null,null,null,null,null,null,null,null,null,null,null,{"$f":"IF(ISNUMBER(#REF!),#REF!,\"\")","v":""},null,null,null,null,null,null,null,null,null,null,null,null,{"$f":"IF(ISNUMBER(#REF!),#REF!,\"\")","v":""}]
[null,null,null,null,null,null,null,null,null,null,null,null,{"$f":"IF(ISNUMBER(#REF!),#REF!,\"\")","v":""},null,null,null,null,null,null,null,null,null,null,null,null,{"$f":"IF(ISNUMBER(#REF!),#REF!,\"\")","v":""},null,null,null,null,null,null,null,null,null,null,null,{"$f":"IF(ISNUMBER(#REF!),#REF!,\"\")","v":""},null,null,null,null,null,null,null,null,null,null,null,null,{"$f":"IF(ISNUMBER(#REF!),#REF!,\"\")","v":""},null,null,null,null,null,null,null,null,null,null,null,null,{"$f":"IF(ISNUMBER(#REF!),#REF!,\"\")","v":""}]
[null,null,null,null,null,null,null,null,null,null,null,null,{"$f":"IF(ISNUMBER(#REF!),#REF!,\"\")","v":""},null,null,null,null,null,null,null,null,null,null,null,null,{"$f":"IF(ISNUMBER(#REF!),#REF!,\"\")","v":""},null,null,null,null,null,null,null,null,null,null,null,{"$f":"IF(ISNUMBER(#REF!),#REF!,\"\")","v":""},null,null,null,null,null,null,null,null,null,null,null,null,{"$f":"IF(ISNUMBER(#REF!),#REF!,\"\")","v":""},null,null,null,null,null,null,null,null,null,null,null,null,{"$f":"IF(ISNUMBER(#REF!),#REF!,\"\")","v":""}]
[null,null,null,null,null,null,null,null,null,null,null,null,{"$f":"IF(ISNUMBER(#REF!),#REF!,\"\")","v":""},null,null,null,null,null,null,null,null,null,null,null,null,{"$f":"IF(ISNUMBER(#REF!),#REF!,\"\")","v":""},null,null,null,null,null,null,null,null,null,null,null,{"$f":"IF(ISNUMBER(#REF!),#REF!,\"\")","v":""},null,null,null,null,null,null,null,null,null,null,null,null,{"$f":"IF(ISNUMBER(#REF!),#REF!,\"\")","v":""},null,null,null,null,null,null,null,null,null,null,null,null,{"$f":"IF(ISNUMBER(#REF!),#REF!,\"\")","v":""}]
[null,null,null,null,null,null,null,null,null,null,null,null,{"$f":"IF(ISNUMBER(#REF!),#REF!,\"\")","v":""},null,null,null,null,null,null,null,null,null,null,null,null,{"$f":"IF(ISNUMBER(#REF!),#REF!,\"\")","v":""},null,null,null,null,null,null,null,null,null,null,null,{"$f":"IF(ISNUMBER(#REF!),#REF!,\"\")","v":""},null,null,null,null,null,null,null,null,null,null,null,null,{"$f":"IF(ISNUMBER(#REF!),#REF!,\"\")","v":""},null,null,null,null,null,null,null,null,null,null,null,null,{"$f":"IF(ISNUMBER(#REF!),#REF!,\"\")","v":""}]
[null,null,null,null,null,null,null,null,null,null,null,null,{"$f":"IF(ISNUMBER(#REF!),#REF!,\"\")","v":""},null,null,null,null,null,null,null,null,null,null,null,null,{"$f":"IF(ISNUMBER(#REF!),#REF!,\"\")","v":""},null,null,null,null,null,null,null,null,null,null,null,{"$f":"IF(ISNUMBER(#REF!),#REF!,\"\")","v":""},null,null,null,null,null,null,null,null,null,null,null,null,{"$f":"IF(ISNUMBER(#REF!),#REF!,\"\")","v":""},null,null,null,null,null,null,null,null,null,null,null,null,{"$f":"IF(ISNUMBER(#REF!),#REF!,\"\")","v":""}]
[null,null,null,null,null,null,null,null,null,null,null,null,{"$f":"IF(ISNUMBER(#REF!),#REF!,\"\")","v":""},null,null,null,null,null,null,null,null,null,null,null,null,{"$f":"IF(ISNUMBER(#REF!),#REF!,\"\")","v":""},null,null,null,null,null,null,null,null,null,null,null,{"$f":"IF(ISNUMBER(#REF!),#REF!,\"\")","v":""},null,null,null,null,null,null,null,null,null,null,null,null,{"$f":"IF(ISNUMBER(#REF!),#REF!,\"\")","v":""},null,null,null,null,null,null,null,null,null,null,null,null,{"$f":"IF(ISNUMBER(#REF!),#REF!,\"\")","v":""}]
[null,null,null,null,null,null,null,null,null,null,null,null,{"$f":"IF(ISNUMBER(#REF!),#REF!,\"\")","v":""},null,null,null,null,null,null,null,null,null,null,null,null,{"$f":"IF(ISNUMBER(#REF!),#REF!,\"\")","v":""},null,null,null,null,null,null,null,null,null,null,null,{"$f":"IF(ISNUMBER(#REF!),#REF!,\"\")","v":""},null,null,null,null,null,null,null,null,null,null,null,null,{"$f":"IF(ISNUMBER(#REF!),#REF!,\"\")","v":""},null,null,null,null,null,null,null,null,null,null,null,null,{"$f":"IF(ISNUMBER(#REF!),#REF!,\"\")","v":""}]
[null,null,null,null,null,null,null,null,null,null,null,null,{"$f":"IF(ISNUMBER(#REF!),#REF!,\"\")","v":""},null,null,null,null,null,null,null,null,null,null,null,null,{"$f":"IF(ISNUMBER(#REF!),#REF!,\"\")","v":""},null,null,null,null,null,null,null,null,null,null,null,{"$f":"IF(ISNUMBER(#REF!),#REF!,\"\")","v":""},null,null,null,null,null,null,null,null,null,null,null,null,{"$f":"IF(ISNUMBER(#REF!),#REF!,\"\")","v":""},null,null,null,null,null,null,null,null,null,null,null,null,{"$f":"IF(ISNUMBER(#REF!),#REF!,\"\")","v":""}]
[null,null,null,null,null,null,null,null,null,null,null,null,{"$f":"IF(ISNUMBER(#REF!),#REF!,\"\")","v":""},null,null,null,null,null,null,null,null,null,null,null,null,{"$f":"IF(ISNUMBER(#REF!),#REF!,\"\")","v":""},null,null,null,null,null,null,null,null,null,null,null,{"$f":"IF(ISNUMBER(#REF!),#REF!,\"\")","v":""},null,null,null,null,null,null,null,null,null,null,null,null,{"$f":"IF(ISNUMBER(#REF!),#REF!,\"\")","v":""},null,null,null,null,null,null,null,null,null,null,null,null,{"$f":"IF(ISNUMBER(#REF!),#REF!,\"\")","v":""}]
[null,null,null,null,null,null,null,null,null,null,null,null,{"$f":"IF(ISNUMBER(#REF!),#REF!,\"\")","v":""},null,null,null,null,null,null,null,null,null,null,null,null,{"$f":"IF(ISNUMBER(#REF!),#REF!,\"\")","v":""},null,null,null,null,null,null,null,null,null,null,null,{"$f":"IF(ISNUMBER(#REF!),#REF!,\"\")","v":""},null,null,null,null,null,null,null,null,null,null,null,null,{"$f":"IF(ISNUMBER(#REF!),#REF!,\"\")","v":""},null,null,null,null,null,null,null,null,null,null,null,null,{"$f":"IF(ISNUMBER(#REF!),#REF!,\"\")","v":""}]
[null,null,null,null,null,null,null,null,null,null,null,null,{"$f":"IF(ISNUMBER(#REF!),#REF!,\"\")","v":""},null,null,null,null,null,null,null,null,null,null,null,null,{"$f":"IF(ISNUMBER(#REF!),#REF!,\"\")","v":""},null,null,null,null,null,null,null,null,null,null,null,{"$f":"IF(ISNUMBER(#REF!),#REF!,\"\")","v":""},null,null,null,null,null,null,null,null,null,null,null,null,{"$f":"IF(ISNUMBER(#REF!),#REF!,\"\")","v":""},null,null,null,null,null,null,null,null,null,null,null,null,{"$f":"IF(ISNUMBER(#REF!),#REF!,\"\")","v":""}]
[null,null,null,null,null,null,null,null,null,null,null,null,{"$f":"IF(ISNUMBER(#REF!),#REF!,\"\")","v":""},null,null,null,null,null,null,null,null,null,null,null,null,{"$f":"IF(ISNUMBER(#REF!),#REF!,\"\")","v":""},null,null,null,null,null,null,null,null,null,null,null,{"$f":"IF(ISNUMBER(#REF!),#REF!,\"\")","v":""},null,null,null,null,null,null,null,null,null,null,null,null,{"$f":"IF(ISNUMBER(#REF!),#REF!,\"\")","v":""},null,null,null,null,null,null,null,null,null,null,null,null,{"$f":"IF(ISNUMBER(#REF!),#REF!,\"\")","v":""}]
[null,null,null,null,null,null,null,null,null,null,null,null,{"$f":"IF(ISNUMBER(#REF!),#REF!,\"\")","v":""},null,null,null,null,null,null,null,null,null,null,null,null,{"$f":"IF(ISNUMBER(#REF!),#REF!,\"\")","v":""},null,null,null,null,null,null,null,null,null,null,null,{"$f":"IF(ISNUMBER(#REF!),#REF!,\"\")","v":""},null,null,null,null,null,null,null,null,null,null,null,null,{"$f":"IF(ISNUMBER(#REF!),#REF!,\"\")","v":""},null,null,null,null,null,null,null,null,null,null,null,null,{"$f":"IF(ISNUMBER(#REF!),#REF!,\"\")","v":""}]
[null,null,null,null,null,null,null,null,null,null,null,null,{"$f":"IF(ISNUMBER(#REF!),#REF!,\"\")","v":""},null,null,null,null,null,null,null,null,null,null,null,null,{"$f":"IF(ISNUMBER(#REF!),#REF!,\"\")","v":""},null,null,null,null,null,null,null,null,null,null,null,{"$f":"IF(ISNUMBER(#REF!),#REF!,\"\")","v":""},null,null,null,null,null,null,null,null,null,null,null,null,{"$f":"IF(ISNUMBER(#REF!),#REF!,\"\")","v":""},null,null,null,null,null,null,null,null,null,null,null,null,{"$f":"IF(ISNUMBER(#REF!),#REF!,\"\")","v":""}]
[null,null,null,null,null,null,null,null,null,null,null,null,{"$f":"IF(ISNUMBER(#REF!),#REF!,\"\")","v":""},null,null,null,null,null,null,null,null,null,null,null,null,{"$f":"IF(ISNUMBER(#REF!),#REF!,\"\")","v":""},null,null,null,null,null,null,null,null,null,null,null,{"$f":"IF(ISNUMBER(#REF!),#REF!,\"\")","v":""},null,null,null,null,null,null,null,null,null,null,null,null,{"$f":"IF(ISNUMBER(#REF!),#REF!,\"\")","v":""},null,null,null,null,null,null,null,null,null,null,null,null,{"$f":"IF(ISNUMBER(#REF!),#REF!,\"\")","v":""}]
[null,null,null,null,null,null,null,null,null,null,null,null,{"$f":"IF(ISNUMBER(#REF!),#REF!,\"\")","v":""},null,null,null,null,null,null,null,null,null,null,null,null,{"$f":"IF(ISNUMBER(#REF!),#REF!,\"\")","v":""},null,null,null,null,null,null,null,null,null,null,null,{"$f":"IF(ISNUMBER(#REF!),#REF!,\"\")","v":""},null,null,null,null,null,null,null,null,null,null,null,null,{"$f":"IF(ISNUMBER(#REF!),#REF!,\"\")","v":""},null,null,null,null,null,null,null,null,null,null,null,null,{"$f":"IF(ISNUMBER(#REF!),#REF!,\"\")","v":""}]
[null,null,null,null,null,null,null,null,null,null,null,null,{"$f":"IF(ISNUMBER(#REF!),#REF!,\"\")","v":""},null,null,null,null,null,null,null,null,null,null,null,null,{"$f":"IF(ISNUMBER(#REF!),#REF!,\"\")","v":""},null,null,null,null,null,null,null,null,null,null,null,{"$f":"IF(ISNUMBER(#REF!),#REF!,\"\")","v":""},null,null,null,null,null,null,null,null,null,null,null,null,{"$f":"IF(ISNUMBER(#REF!),#REF!,\"\")","v":""},null,null,null,null,null,null,null,null,null,null,null,null,{"$f":"IF(ISNUMBER(#REF!),#REF!,\"\")","v":""}]
[null,null,null,null,null,null,null,null,null,null,null,null,{"$f":"IF(ISNUMBER(#REF!),#REF!,\"\")","v":""},null,null,null,null,null,null,null,null,null,null,null,null,{"$f":"IF(ISNUMBER(#REF!),#REF!,\"\")","v":""},null,null,null,null,null,null,null,null,null,null,null,{"$f":"IF(ISNUMBER(#REF!),#REF!,\"\")","v":""},null,null,null,null,null,null,null,null,null,null,null,null,{"$f":"IF(ISNUMBER(#REF!),#REF!,\"\")","v":""},null,null,null,null,null,null,null,null,null,null,null,null,{"$f":"IF(ISNUMBER(#REF!),#REF!,\"\")","v":""}]
[null,null,null,null,null,null,null,null,null,null,null,null,{"$f":"IF(ISNUMBER(#REF!),#REF!,\"\")","v":""},null,null,null,null,null,null,null,null,null,null,null,null,{"$f":"IF(ISNUMBER(#REF!),#REF!,\"\")","v":""},null,null,null,null,null,null,null,null,null,null,null,{"$f":"IF(ISNUMBER(#REF!),#REF!,\"\")","v":""},null,null,null,null,null,null,null,null,null,null,null,null,{"$f":"IF(ISNUMBER(#REF!),#REF!,\"\")","v":""},null,null,null,null,null,null,null,null,null,null,null,null,{"$f":"IF(ISNUMBER(#REF!),#REF!,\"\")","v":""}]
[null,null,null,null,null,null,null,null,null,null,null,null,{"$f":"IF(ISNUMBER(#REF!),#REF!,\"\")","v":""},null,null,null,null,null,null,null,null,null,null,null,null,{"$f":"IF(ISNUMBER(#REF!),#REF!,\"\")","v":""},null,null,null,null,null,null,null,null,null,null,null,{"$f":"IF(ISNUMBER(#REF!),#REF!,\"\")","v":""},null,null,null,null,null,null,null,null,null,null,null,null,{"$f":"IF(ISNUMBER(#REF!),#REF!,\"\")","v":""},null,null,null,null,null,null,null,null,null,null,null,null,{"$f":"IF(ISNUMBER(#REF!),#REF!,\"\")","v":""}]
[null,null,null,null,null,null,null,null,null,null,null,null,{"$f":"IF(ISNUMBER(#REF!),#REF!,\"\")","v":""},null,null,null,null,null,null,null,null,null,null,null,null,{"$f":"IF(ISNUMBER(#REF!),#REF!,\"\")","v":""},null,null,null,null,null,null,null,null,null,null,null,{"$f":"IF(ISNUMBER(#REF!),#REF!,\"\")","v":""},null,null,null,null,null,null,null,null,null,null,null,null,{"$f":"IF(ISNUMBER(#REF!),#REF!,\"\")","v":""},null,null,null,null,null,null,null,null,null,null,null,null,{"$f":"IF(ISNUMBER(#REF!),#REF!,\"\")","v":""}]
[null,null,null,null,null,null,null,null,null,null,null,null,{"$f":"IF(ISNUMBER(#REF!),#REF!,\"\")","v":""},null,null,null,null,null,null,null,null,null,null,null,null,{"$f":"IF(ISNUMBER(#REF!),#REF!,\"\")","v":""},null,null,null,null,null,null,null,null,null,null,null,{"$f":"IF(ISNUMBER(#REF!),#REF!,\"\")","v":""},null,null,null,null,null,null,null,null,null,null,null,null,{"$f":"IF(ISNUMBER(#REF!),#REF!,\"\")","v":""},null,null,null,null,null,null,null,null,null,null,null,null,{"$f":"IF(ISNUMBER(#REF!),#REF!,\"\")","v":""}]
[null,null,null,null,null,null,null,null,null,null,null,null,{"$f":"IF(ISNUMBER(#REF!),#REF!,\"\")","v":""},null,null,null,null,null,null,null,null,null,null,null,null,{"$f":"IF(ISNUMBER(#REF!),#REF!,\"\")","v":""},null,null,null,null,null,null,null,null,null,null,null,{"$f":"IF(ISNUMBER(#REF!),#REF!,\"\")","v":""},null,null,null,null,null,null,null,null,null,null,null,null,{"$f":"IF(ISNUMBER(#REF!),#REF!,\"\")","v":""},null,null,null,null,null,null,null,null,null,null,null,null,{"$f":"IF(ISNUMBER(#REF!),#REF!,\"\")","v":""}]
[null,null,null,null,null,null,null,null,null,null,null,null,{"$f":"IF(ISNUMBER(#REF!),#REF!,\"\")","v":""},null,null,null,null,null,null,null,null,null,null,null,null,{"$f":"IF(ISNUMBER(#REF!),#REF!,\"\")","v":""},null,null,null,null,null,null,null,null,null,null,null,{"$f":"IF(ISNUMBER(#REF!),#REF!,\"\")","v":""},null,null,null,null,null,null,null,null,null,null,null,null,{"$f":"IF(ISNUMBER(#REF!),#REF!,\"\")","v":""},null,null,null,null,null,null,null,null,null,null,null,null,{"$f":"IF(ISNUMBER(#REF!),#REF!,\"\")","v":""}]
[null,null,null,null,null,null,null,null,null,null,null,null,{"$f":"IF(ISNUMBER(#REF!),#REF!,\"\")","v":""},null,null,null,null,null,null,null,null,null,null,null,null,{"$f":"IF(ISNUMBER(#REF!),#REF!,\"\")","v":""},null,null,null,null,null,null,null,null,null,null,null,{"$f":"IF(ISNUMBER(#REF!),#REF!,\"\")","v":""},null,null,null,null,null,null,null,null,null,null,null,null,{"$f":"IF(ISNUMBER(#REF!),#REF!,\"\")","v":""},null,null,null,null,null,null,null,null,null,null,null,null,{"$f":"IF(ISNUMBER(#REF!),#REF!,\"\")","v":""}]
[null,null,null,null,null,null,null,null,null,null,null,null,{"$f":"IF(ISNUMBER(#REF!),#REF!,\"\")","v":""},null,null,null,null,null,null,null,null,null,null,null,null,{"$f":"IF(ISNUMBER(#REF!),#REF!,\"\")","v":""},null,null,null,null,null,null,null,null,null,null,null,{"$f":"IF(ISNUMBER(#REF!),#REF!,\"\")","v":""},null,null,null,null,null,null,null,null,null,null,null,null,{"$f":"IF(ISNUMBER(#REF!),#REF!,\"\")","v":""},null,null,null,null,null,null,null,null,null,null,null,null,{"$f":"IF(ISNUMBER(#REF!),#REF!,\"\")","v":""}]
[null,null,null,null,null,null,null,null,null,null,null,null,{"$f":"IF(ISNUMBER(#REF!),#REF!,\"\")","v":""},null,null,null,null,null,null,null,null,null,null,null,null,{"$f":"IF(ISNUMBER(#REF!),#REF!,\"\")","v":""},null,null,null,null,null,null,null,null,null,null,null,{"$f":"IF(ISNUMBER(#REF!),#REF!,\"\")","v":""},null,null,null,null,null,null,null,null,null,null,null,null,{"$f":"IF(ISNUMBER(#REF!),#REF!,\"\")","v":""},null,null,null,null,null,null,null,null,null,null,null,null,{"$f":"IF(ISNUMBER(#REF!),#REF!,\"\")","v":""}]
[null,null,null,null,null,null,null,null,null,null,null,null,{"$f":"IF(ISNUMBER(#REF!),#REF!,\"\")","v":""},null,null,null,null,null,null,null,null,null,null,null,null,{"$f":"IF(ISNUMBER(#REF!),#REF!,\"\")","v":""},null,null,null,null,null,null,null,null,null,null,null,{"$f":"IF(ISNUMBER(#REF!),#REF!,\"\")","v":""},null,null,null,null,null,null,null,null,null,null,null,null,{"$f":"IF(ISNUMBER(#REF!),#REF!,\"\")","v":""},null,null,null,null,null,null,null,null,null,null,null,null,{"$f":"IF(ISNUMBER(#REF!),#REF!,\"\")","v":""}]
[null,null,null,null,null,null,null,null,null,null,null,null,{"$f":"IF(ISNUMBER(#REF!),#REF!,\"\")","v":""},null,null,null,null,null,null,null,null,null,null,null,null,{"$f":"IF(ISNUMBER(#REF!),#REF!,\"\")","v":""},null,null,null,null,null,null,null,null,null,null,null,{"$f":"IF(ISNUMBER(#REF!),#REF!,\"\")","v":""},null,null,null,null,null,null,null,null,null,null,null,null,{"$f":"IF(ISNUMBER(#REF!),#REF!,\"\")","v":""},null,null,null,null,null,null,null,null,null,null,null,null,{"$f":"IF(ISNUMBER(#REF!),#REF!,\"\")","v":""}]
[null,null,null,null,null,null,null,null,null,null,null,null,{"$f":"IF(ISNUMBER(#REF!),#REF!,\"\")","v":""},null,null,null,null,null,null,null,null,null,null,null,null,{"$f":"IF(ISNUMBER(#REF!),#REF!,\"\")","v":""},null,null,null,null,null,null,null,null,null,null,null,{"$f":"IF(ISNUMBER(#REF!),#REF!,\"\")","v":""},null,null,null,null,null,null,null,null,null,null,null,null,{"$f":"IF(ISNUMBER(#REF!),#REF!,\"\")","v":""},null,null,null,null,null,null,null,null,null,null,null,null,{"$f":"IF(ISNUMBER(#REF!),#REF!,\"\")","v":""}]
[null,null,null,null,null,null,null,null,null,null,null,null,{"$f":"IF(ISNUMBER(#REF!),#REF!,\"\")","v":""},null,null,null,null,null,null,null,null,null,null,null,null,{"$f":"IF(ISNUMBER(#REF!),#REF!,\"\")","v":""},null,null,null,null,null,null,null,null,null,null,null,{"$f":"IF(ISNUMBER(#REF!),#REF!,\"\")","v":""},null,null,null,null,null,null,null,null,null,null,null,null,{"$f":"IF(ISNUMBER(#REF!),#REF!,\"\")","v":""},null,null,null,null,null,null,null,null,null,null,null,null,{"$f":"IF(ISNUMBER(#REF!),#REF!,\"\")","v":""}]
[null,null,null,null,null,null,null,null,null,null,null,null,{"$f":"IF(ISNUMBER(#REF!),#REF!,\"\")","v":""},null,null,null,null,null,null,null,null,null,null,null,null,{"$f":"IF(ISNUMBER(#REF!),#REF!,\"\")","v":""},null,null,null,null,null,null,null,null,null,null,null,{"$f":"IF(ISNUMBER(#REF!),#REF!,\"\")","v":""},null,null,null,null,null,null,null,null,null,null,null,null,{"$f":"IF(ISNUMBER(#REF!),#REF!,\"\")","v":""},null,null,null,null,null,null,null,null,null,null,null,null,{"$f":"IF(ISNUMBER(#REF!),#REF!,\"\")","v":""}]
[null,null,null,null,null,null,null,null,null,null,null,null,{"$f":"IF(ISNUMBER(#REF!),#REF!,\"\")","v":""},null,null,null,null,null,null,null,null,null,null,null,null,{"$f":"IF(ISNUMBER(#REF!),#REF!,\"\")","v":""},null,null,null,null,null,null,null,null,null,null,null,{"$f":"IF(ISNUMBER(#REF!),#REF!,\"\")","v":""},null,null,null,null,null,null,null,null,null,null,null,null,{"$f":"IF(ISNUMBER(#REF!),#REF!,\"\")","v":""},null,null,null,null,null,null,null,null,null,null,null,null,{"$f":"IF(ISNUMBER(#REF!),#REF!,\"\")","v":""}]
[null,null,null,null,null,null,null,null,null,null,null,null,{"$f":"IF(ISNUMBER(#REF!),#REF!,\"\")","v":""},null,null,null,null,null,null,null,null,null,null,null,null,{"$f":"IF(ISNUMBER(#REF!),#REF!,\"\")","v":""},null,null,null,null,null,null,null,null,null,null,null,{"$f":"IF(ISNUMBER(#REF!),#REF!,\"\")","v":""},null,null,null,null,null,null,null,null,null,null,null,null,{"$f":"IF(ISNUMBER(#REF!),#REF!,\"\")","v":""},null,null,null,null,null,null,null,null,null,null,null,null,{"$f":"IF(ISNUMBER(#REF!),#REF!,\"\")","v":""}]
[null,null,null,null,null,null,null,null,null,null,null,null,{"$f":"IF(ISNUMBER(#REF!),#REF!,\"\")","v":""},null,null,null,null,null,null,null,null,null,null,null,null,{"$f":"IF(ISNUMBER(#REF!),#REF!,\"\")","v":""},null,null,null,null,null,null,null,null,null,null,null,{"$f":"IF(ISNUMBER(#REF!),#REF!,\"\")","v":""},null,null,null,null,null,null,null,null,null,null,null,null,{"$f":"IF(ISNUMBER(#REF!),#REF!,\"\")","v":""},null,null,null,null,null,null,null,null,null,null,null,null,{"$f":"IF(ISNUMBER(#REF!),#REF!,\"\")","v":""}]
[null,null,null,null,null,null,null,null,null,null,null,null,{"$f":"IF(ISNUMBER(#REF!),#REF!,\"\")","v":""},null,null,null,null,null,null,null,null,null,null,null,null,{"$f":"IF(ISNUMBER(#REF!),#REF!,\"\")","v":""},null,null,null,null,null,null,null,null,null,null,null,{"$f":"IF(ISNUMBER(#REF!),#REF!,\"\")","v":""},null,null,null,null,null,null,null,null,null,null,null,null,{"$f":"IF(ISNUMBER(#REF!),#REF!,\"\")","v":""},null,null,null,null,null,null,null,null,null,null,null,null,{"$f":"IF(ISNUMBER(#REF!),#REF!,\"\")","v":""}]
[null,null,null,null,null,null,null,null,null,null,null,null,{"$f":"IF(ISNUMBER(#REF!),#REF!,\"\")","v":""},null,null,null,null,null,null,null,null,null,null,null,null,{"$f":"IF(ISNUMBER(#REF!),#REF!,\"\")","v":""},null,null,null,null,null,null,null,null,null,null,null,{"$f":"IF(ISNUMBER(#REF!),#REF!,\"\")","v":""},null,null,null,null,null,null,null,null,null,null,null,null,{"$f":"IF(ISNUMBER(#REF!),#REF!,\"\")","v":""},null,null,null,null,null,null,null,null,null,null,null,null,{"$f":"IF(ISNUMBER(#REF!),#REF!,\"\")","v":""}]
[null,null,null,null,null,null,null,null,null,null,null,null,{"$f":"IF(ISNUMBER(#REF!),#REF!,\"\")","v":""},null,null,null,null,null,null,null,null,null,null,null,null,{"$f":"IF(ISNUMBER(#REF!),#REF!,\"\")","v":""},null,null,null,null,null,null,null,null,null,null,null,{"$f":"IF(ISNUMBER(#REF!),#REF!,\"\")","v":""},null,null,null,null,null,null,null,null,null,null,null,null,{"$f":"IF(ISNUMBER(#REF!),#REF!,\"\")","v":""}]
[null,null,null,null,null,null,null,null,null,null,null,null,{"$f":"IF(ISNUMBER(#REF!),#REF!,\"\")","v":""},null,null,null,null,null,null,null,null,null,null,null,null,{"$f":"IF(ISNUMBER(#REF!),#REF!,\"\")","v":""},null,null,null,null,null,null,null,null,null,null,null,{"$f":"IF(ISNUMBER(#REF!),#REF!,\"\")","v":""},null,null,null,null,null,null,null,null,null,null,null,null,{"$f":"IF(ISNUMBER(#REF!),#REF!,\"\")","v":""}]
[null,null,null,null,null,null,null,null,null,null,null,null,{"$f":"IF(ISNUMBER(#REF!),#REF!,\"\")","v":""},null,null,null,null,null,null,null,null,null,null,null,null,{"$f":"IF(ISNUMBER(#REF!),#REF!,\"\")","v":""},null,null,null,null,null,null,null,null,null,null,null,{"$f":"IF(ISNUMBER(#REF!),#REF!,\"\")","v":""},null,null,null,null,null,null,null,null,null,null,null,null,{"$f":"IF(ISNUMBER(#REF!),#REF!,\"\")","v":""}]
[null,null,null,null,null,null,null,null,null,null,null,null,{"$f":"IF(ISNUMBER(#REF!),#REF!,\"\")","v":""},null,null,null,null,null,null,null,null,null,null,null,null,{"$f":"IF(ISNUMBER(#REF!),#REF!,\"\")","v":""},null,null,null,null,null,null,null,null,null,null,null,{"$f":"IF(ISNUMBER(#REF!),#REF!,\"\")","v":""},null,null,null,null,null,null,null,null,null,null,null,null,{"$f":"IF(ISNUMBER(#REF!),#REF!,\"\")","v":""}]
[null,null,null,null,null,null,null,null,null,null,null,null,{"$f":"IF(ISNUMBER(#REF!),#REF!,\"\")","v":""},null,null,null,null,null,null,null,null,null,null,null,null,{"$f":"IF(ISNUMBER(#REF!),#REF!,\"\")","v":""},null,null,null,null,null,null,null,null,null,null,null,{"$f":"IF(ISNUMBER(#REF!),#REF!,\"\")","v":""}]
[null,null,null,null,null,null,null,null,null,null,null,null,{"$f":"IF(ISNUMBER(#REF!),#REF!,\"\")","v":""},null,null,null,null,null,null,null,null,null,null,null,null,{"$f":"IF(ISNUMBER(#REF!),#REF!,\"\")","v":""},null,null,null,null,null,null,null,null,null,null,null,{"$f":"IF(ISNUMBER(#REF!),#REF!,\"\")","v":""}]
[null,null,null,null,null,null,null,null,null,null,null,null,{"$f":"IF(ISNUMBER(#REF!),#REF!,\"\")","v":""},null,null,null,null,null,null,null,null,null,null,null,null,{"$f":"IF(ISNUMBER(#REF!),#REF!,\"\")","v":""},null,null,null,null,null,null,null,null,null,null,null,{"$f":"IF(ISNUMBER(#REF!),#REF!,\"\")","v":""}]
[null,null,null,null,null,null,null,null,null,null,null,null,{"$f":"IF(ISNUMBER(#REF!),#REF!,\"\")","v":""},null,null,null,null,null,null,null,null,null,null,null,null,{"$f":"IF(ISNUMBER(#REF!),#REF!,\"\")","v":""},null,null,null,null,null,null,null,null,null,null,null,{"$f":"IF(ISNUMBER(#REF!),#REF!,\"\")","v":""}]
[null,null,null,null,null,null,null,null,null,null,null,null,{"$f":"IF(ISNUMBER(#REF!),#REF!,\"\")","v":""},null,null,null,null,null,null,null,null,null,null,null,null,{"$f":"IF(ISNUMBER(#REF!),#REF!,\"\")","v":""},null,null,null,null,null,null,null,null,null,null,null,{"$f":"IF(ISNUMBER(#REF!),#REF!,\"\")","v":""}]
[null,null,null,null,null,null,null,null,null,null,null,null,{"$f":"IF(ISNUMBER(#REF!),#REF!,\"\")","v":""},null,null,null,null,null,null,null,null,null,null,null,null,{"$f":"IF(ISNUMBER(#REF!),#REF!,\"\")","v":""},null,null,null,null,null,null,null,null,null,null,null,{"$f":"IF(ISNUMBER(#REF!),#REF!,\"\")","v":""}]
[null,null,null,null,null,null,null,null,null,null,null,null,{"$f":"IF(ISNUMBER(#REF!),#REF!,\"\")","v":""},null,null,null,null,null,null,null,null,null,null,null,null,{"$f":"IF(ISNUMBER(#REF!),#REF!,\"\")","v":""},null,null,null,null,null,null,null,null,null,null,null,{"$f":"IF(ISNUMBER(#REF!),#REF!,\"\")","v":""}]
[null,null,null,null,null,null,null,null,null,null,null,null,{"$f":"IF(ISNUMBER(#REF!),#REF!,\"\")","v":""},null,null,null,null,null,null,null,null,null,null,null,null,{"$f":"IF(ISNUMBER(#REF!),#REF!,\"\")","v":""},null,null,null,null,null,null,null,null,null,null,null,{"$f":"IF(ISNUMBER(#REF!),#REF!,\"\")","v":""}]
[null,null,null,null,null,null,null,null,null,null,null,null,{"$f":"IF(ISNUMBER(#REF!),#REF!,\"\")","v":""},null,null,null,null,null,null,null,null,null,null,null,null,{"$f":"IF(ISNUMBER(#REF!),#REF!,\"\")","v":""},null,null,null,null,null,null,null,null,null,null,null,{"$f":"IF(ISNUMBER(#REF!),#REF!,\"\")","v":""}]
[null,null,null,null,null,null,null,null,null,null,null,null,{"$f":"IF(ISNUMBER(#REF!),#REF!,\"\")","v":""},null,null,null,null,null,null,null,null,null,null,null,null,{"$f":"IF(ISNUMBER(#REF!),#REF!,\"\")","v":""},null,null,null,null,null,null,null,null,null,null,null,{"$f":"IF(ISNUMBER(#REF!),#REF!,\"\")","v":""}]
[null,null,null,null,null,null,null,null,null,null,null,null,{"$f":"IF(ISNUMBER(#REF!),#REF!,\"\")","v":""},null,null,null,null,null,null,null,null,null,null,null,null,{"$f":"IF(ISNUMBER(#REF!),#REF!,\"\")","v":""},null,null,null,null,null,null,null,null,null,null,null,{"$f":"IF(ISNUMBER(#REF!),#REF!,\"\")","v":""}]
[null,null,null,null,null,null,null,null,null,null,null,null,{"$f":"IF(ISNUMBER(#REF!),#REF!,\"\")","v":""},null,null,null,null,null,null,null,null,null,null,null,null,{"$f":"IF(ISNUMBER(#REF!),#REF!,\"\")","v":""},null,null,null,null,null,null,null,null,null,null,null,{"$f":"IF(ISNUMBER(#REF!),#REF!,\"\")","v":""}]
[null,null,null,null,null,null,null,null,null,null,null,null,{"$f":"IF(ISNUMBER(#REF!),#REF!,\"\")","v":""},null,null,null,null,null,null,null,null,null,null,null,null,{"$f":"IF(ISNUMBER(#REF!),#REF!,\"\")","v":""},null,null,null,null,null,null,null,null,null,null,null,{"$f":"IF(ISNUMBER(#REF!),#REF!,\"\")","v":""}]
[null,null,null,null,null,null,null,null,null,null,null,null,{"$f":"IF(ISNUMBER(#REF!),#REF!,\"\")","v":""},null,null,null,null,null,null,null,null,null,null,null,null,{"$f":"IF(ISNUMBER(#REF!),#REF!,\"\")","v":""},null,null,null,null,null,null,null,null,null,null,null,{"$f":"IF(ISNUMBER(#REF!),#REF!,\"\")","v":""}]
[null,null,null,null,null,null,null,null,null,null,null,null,{"$f":"IF(ISNUMBER(#REF!),#REF!,\"\")","v":""},null,null,null,null,null,null,null,null,null,null,null,null,{"$f":"IF(ISNUMBER(#REF!),#REF!,\"\")","v":""},null,null,null,null,null,null,null,null,null,null,null,{"$f":"IF(ISNUMBER(#REF!),#REF!,\"\")","v":""}]
[null,null,null,null,null,null,null,null,null,null,null,null,{"$f":"IF(ISNUMBER(#REF!),#REF!,\"\")","v":""},null,null,null,null,null,null,null,null,null,null,null,null,{"$f":"IF(ISNUMBER(#REF!),#REF!,\"\")","v":""},null,null,null,null,null,null,null,null,null,null,null,{"$f":"IF(ISNUMBER(#REF!),#REF!,\"\")","v":""}]
[null,null,null,null,null,null,null,null,null,null,null,null,{"$f":"IF(ISNUMBER(#REF!),#REF!,\"\")","v":""},null,null,null,null,null,null,null,null,null,null,null,null,{"$f":"IF(ISNUMBER(#REF!),#REF!,\"\")","v":""},null,null,null,null,null,null,null,null,null,null,null,{"$f":"IF(ISNUMBER(#REF!),#REF!,\"\")","v":""}]
[null,null,null,null,null,null,null,null,null,null,null,null,{"$f":"IF(ISNUMBER(#REF!),#REF!,\"\")","v":""},null,null,null,null,null,null,null,null,null,null,null,null,{"$f":"IF(ISNUMBER(#REF!),#REF!,\"\")","v":""},null,null,null,null,null,null,null,null,null,null,null,{"$f":"IF(ISNUMBER(#REF!),#REF!,\"\")","v":""}]
[null,null,null,null,null,null,null,null,null,null,null,null,{"$f":"IF(ISNUMBER(#REF!),#REF!,\"\")","v":""},null,null,null,null,null,null,null,null,null,null,null,null,{"$f":"IF(ISNUMBER(#REF!),#REF!,\"\")","v":""},null,null,null,null,null,null,null,null,null,null,null,{"$f":"IF(ISNUMBER(#REF!),#REF!,\"\")","v":""}]
[null,null,null,null,null,null,null,null,null,null,null,null,{"$f":"IF(ISNUMBER(#REF!),#REF!,\"\")","v":""},null,null,null,null,null,null,null,null,null,null,null,null,{"$f":"IF(ISNUMBER(#REF!),#REF!,\"\")","v":""},null,null,null,null,null,null,null,null,null,null,null,{"$f":"IF(ISNUMBER(#REF!),#REF!,\"\")","v":""}]
[null,null,null,null,null,null,null,null,null,null,null,null,{"$f":"IF(ISNUMBER(#REF!),#REF!,\"\")","v":""},null,null,null,null,null,null,null,null,null,null,null,null,{"$f":"IF(ISNUMBER(#REF!),#REF!,\"\")","v":""},null,null,null,null,null,null,null,null,null,null,null,{"$f":"IF(ISNUMBER(#REF!),#REF!,\"\")","v":""}]
[null,null,null,null,null,null,null,null,null,null,null,null,{"$f":"IF(ISNUMBER(#REF!),#REF!,\"\")","v":""},null,null,null,null,null,null,null,null,null,null,null,null,{"$f":"IF(ISNUMBER(#REF!),#REF!,\"\")","v":""},null,null,null,null,null,null,null,null,null,null,null,{"$f":"IF(ISNUMBER(#REF!),#REF!,\"\")","v":""}]
[null,null,null,null,null,null,null,null,null,null,null,null,{"$f":"IF(ISNUMBER(#REF!),#REF!,\"\")","v":""},null,null,null,null,null,null,null,null,null,null,null,null,{"$f":"IF(ISNUMBER(#REF!),#REF!,\"\")","v":""},null,null,null,null,null,null,null,null,null,null,null,{"$f":"IF(ISNUMBER(#REF!),#REF!,\"\")","v":""}]
[null,null,null,null,null,null,null,null,null,null,null,null,{"$f":"IF(ISNUMBER(#REF!),#REF!,\"\")","v":""},null,null,null,null,null,null,null,null,null,null,null,null,{"$f":"IF(ISNUMBER(#REF!),#REF!,\"\")","v":""},null,null,null,null,null,null,null,null,null,null,null,{"$f":"IF(ISNUMBER(#REF!),#REF!,\"\")","v":""}]
[null,null,null,null,null,null,null,null,null,null,null,null,{"$f":"IF(ISNUMBER(#REF!),#REF!,\"\")","v":""},null,null,null,null,null,null,null,null,null,null,null,null,{"$f":"IF(ISNUMBER(#REF!),#REF!,\"\")","v":""},null,null,null,null,null,null,null,null,null,null,null,{"$f":"IF(ISNUMBER(#REF!),#REF!,\"\")","v":""}]
[null,null,null,null,null,null,null,null,null,null,null,null,{"$f":"IF(ISNUMBER(#REF!),#REF!,\"\")","v":""},null,null,null,null,null,null,null,null,null,null,null,null,{"$f":"IF(ISNUMBER(#REF!),#REF!,\"\")","v":""},null,null,null,null,null,null,null,null,null,null,null,{"$f":"IF(ISNUMBER(#REF!),#REF!,\"\")","v":""}]
[null,null,null,null,null,null,null,null,null,null,null,null,{"$f":"IF(ISNUMBER(#REF!),#REF!,\"\")","v":""},null,null,null,null,null,null,null,null,null,null,null,null,{"$f":"IF(ISNUMBER(#REF!),#REF!,\"\")","v":""},null,null,null,null,null,null,null,null,null,null,null,{"$f":"IF(ISNUMBER(#REF!),#REF!,\"\")","v":""}]
[null,null,null,null,null,null,null,null,null,null,null,null,{"$f":"IF(ISNUMBER(#REF!),#REF!,\"\")","v":""},null,null,null,null,null,null,null,null,null,null,null,null,{"$f":"IF(ISNUMBER(#REF!),#REF!,\"\")","v":""},null,null,null,null,null,null,null,null,null,null,null,{"$f":"IF(ISNUMBER(#REF!),#REF!,\"\")","v":""}]
[null,null,null,null,null,null,null,null,null,null,null,null,{"$f":"IF(ISNUMBER(#REF!),#REF!,\"\")","v":""},null,null,null,null,null,null,null,null,null,null,null,null,{"$f":"IF(ISNUMBER(#REF!),#REF!,\"\")","v":""},null,null,null,null,null,null,null,null,null,null,null,{"$f":"IF(ISNUMBER(#REF!),#REF!,\"\")","v":""}]
[null,null,null,null,null,null,null,null,null,null,null,null,{"$f":"IF(ISNUMBER(#REF!),#REF!,\"\")","v":""},null,null,null,null,null,null,null,null,null,null,null,null,{"$f":"IF(ISNUMBER(#REF!),#REF!,\"\")","v":""},null,null,null,null,null,null,null,null,null,null,null,{"$f":"IF(ISNUMBER(#REF!),#REF!,\"\")","v":""}]
[null,null,null,null,null,null,null,null,null,null,null,null,{"$f":"IF(ISNUMBER(#REF!),#REF!,\"\")","v":""},null,null,null,null,null,null,null,null,null,null,null,null,{"$f":"IF(ISNUMBER(#REF!),#REF!,\"\")","v":""},null,null,null,null,null,null,null,null,null,null,null,{"$f":"IF(ISNUMBER(#REF!),#REF!,\"\")","v":""}]
[null,null,null,null,null,null,null,null,null,null,null,null,{"$f":"IF(ISNUMBER(#REF!),#REF!,\"\")","v":""},null,null,null,null,null,null,null,null,null,null,null,null,{"$f":"IF(ISNUMBER(#REF!),#REF!,\"\")","v":""},null,null,null,null,null,null,null,null,null,null,null,{"$f":"IF(ISNUMBER(#REF!),#REF!,\"\")","v":""}]
[null,null,null,null,null,null,null,null,null,null,null,null,{"$f":"IF(ISNUMBER(#REF!),#REF!,\"\")","v":""},null,null,null,null,null,null,null,null,null,null,null,null,{"$f":"IF(ISNUMBER(#REF!),#REF!,\"\")","v":""},null,null,null,null,null,null,null,null,null,null,null,{"$f":"IF(ISNUMBER(#REF!),#REF!,\"\")","v":""}]
[null,null,null,null,null,null,null,null,null,null,null,null,{"$f":"IF(ISNUMBER(#REF!),#REF!,\"\")","v":""},null,null,null,null,null,null,null,null,null,null,null,null,{"$f":"IF(ISNUMBER(#REF!),#REF!,\"\")","v":""},null,null,null,null,null,null,null,null,null,null,null,{"$f":"IF(ISNUMBER(#REF!),#REF!,\"\")","v":""}]
[null,null,null,null,null,null,null,null,null,null,null,null,{"$f":"IF(ISNUMBER(#REF!),#REF!,\"\")","v":""},null,null,null,null,null,null,null,null,null,null,null,null,{"$f":"IF(ISNUMBER(#REF!),#REF!,\"\")","v":""},null,null,null,null,null,null,null,null,null,null,null,{"$f":"IF(ISNUMBER(#REF!),#REF!,\"\")","v":""}]
[null,null,null,null,null,null,null,null,null,null,null,null,{"$f":"IF(ISNUMBER(#REF!),#REF!,\"\")","v":""},null,null,null,null,null,null,null,null,null,null,null,null,{"$f":"IF(ISNUMBER(#REF!),#REF!,\"\")","v":""}]
[null,null,null,null,null,null,null,null,null,null,null,null,{"$f":"IF(ISNUMBER(#REF!),#REF!,\"\")","v":""},null,null,null,null,null,null,null,null,null,null,null,null,{"$f":"IF(ISNUMBER(#REF!),#REF!,\"\")","v":""}]
[null,null,null,null,null,null,null,null,null,null,null,null,{"$f":"IF(ISNUMBER(#REF!),#REF!,\"\")","v":""},null,null,null,null,null,null,null,null,null,null,null,null,{"$f":"IF(ISNUMBER(#REF!),#REF!,\"\")","v":""}]
[null,null,null,null,null,null,null,null,null,null,null,null,{"$f":"IF(ISNUMBER(#REF!),#REF!,\"\")","v":""},null,null,null,null,null,null,null,null,null,null,null,null,{"$f":"IF(ISNUMBER(#REF!),#REF!,\"\")","v":""}]
[null,null,null,null,null,null,null,null,null,null,null,null,{"$f":"IF(ISNUMBER(#REF!),#REF!,\"\")","v":""},null,null,null,null,null,null,null,null,null,null,null,null,{"$f":"IF(ISNUMBER(#REF!),#REF!,\"\")","v":""}]
[null,null,null,null,null,null,null,null,null,null,null,null,{"$f":"IF(ISNUMBER(#REF!),#REF!,\"\")","v":""},null,null,null,null,null,null,null,null,null,null,null,null,{"$f":"IF(ISNUMBER(#REF!),#REF!,\"\")","v":""}]
[null,null,null,null,null,null,null,null,null,null,null,null,{"$f":"IF(ISNUMBER(#REF!),#REF!,\"\")","v":""},null,null,null,null,null,null,null,null,null,null,null,null,{"$f":"IF(ISNUMBER(#REF!),#REF!,\"\")","v":""}]
[null,null,null,null,null,null,null,null,null,null,null,null,{"$f":"IF(ISNUMBER(#REF!),#REF!,\"\")","v":""},null,null,null,null,null,null,null,null,null,null,null,null,{"$f":"IF(ISNUMBER(#REF!),#REF!,\"\")","v":""}]
[null,null,null,null,null,null,null,null,null,null,null,null,{"$f":"IF(ISNUMBER(#REF!),#REF!,\"\")","v":""},null,null,null,null,null,null,null,null,null,null,null,null,{"$f":"IF(ISNUMBER(#REF!),#REF!,\"\")","v":""}]
[null,null,null,null,null,null,null,null,null,null,null,null,{"$f":"IF(ISNUMBER(#REF!),#REF!,\"\")","v":""},null,null,null,null,null,null,null,null,null,null,null,null,{"$f":"IF(ISNUMBER(#REF!),#REF!,\"\")","v":""}]
[null,null,null,null,null,null,null,null,null,null,null,null,{"$f":"IF(ISNUMBER(#REF!),#REF!,\"\")","v":""},null,null,null,null,null,null,null,null,null,null,null,null,{"$f":"IF(ISNUMBER(#REF!),#REF!,\"\")","v":""}]
[null,null,null,null,null,null,null,null,null,null,null,null,{"$f":"IF(ISNUMBER(#REF!),#REF!,\"\")","v":""},null,null,null,null,null,null,null,null,null,null,null,null,{"$f":"IF(ISNUMBER(#REF!),#REF!,\"\")","v":""}]
[null,null,null,null,null,null,null,null,null,null,null,null,{"$f":"IF(ISNUMBER(#REF!),#REF!,\"\")","v":""},null,null,null,null,null,null,null,null,null,null,null,null,{"$f":"IF(ISNUMBER(#REF!),#REF!,\"\")","v":""}]
[null,null,null,null,null,null,null,null,null,null,null,null,{"$f":"IF(ISNUMBER(#REF!),#REF!,\"\")","v":""},null,null,null,null,null,null,null,null,null,null,null,null,{"$f":"IF(ISNUMBER(#REF!),#REF!,\"\")","v":""}]
[null,null,null,null,null,null,null,null,null,null,null,null,{"$f":"IF(ISNUMBER(#REF!),#REF!,\"\")","v":""},null,null,null,null,null,null,null,null,null,null,null,null,{"$f":"IF(ISNUMBER(#REF!),#REF!,\"\")","v":""}]
[null,null,null,null,null,null,null,null,null,null,null,null,{"$f":"IF(ISNUMBER(#REF!),#REF!,\"\")","v":""},null,null,null,null,null,null,null,null,null,null,null,null,{"$f":"IF(ISNUMBER(#REF!),#REF!,\"\")","v":""}]
[null,null,null,null,null,null,null,null,null,null,null,null,{"$f":"IF(ISNUMBER(#REF!),#REF!,\"\")","v":""},null,null,null,null,null,null,null,null,null,null,null,null,{"$f":"IF(ISNUMBER(#REF!),#REF!,\"\")","v":""}]
[null,null,null,null,null,null,null,null,null,null,null,null,{"$f":"IF(ISNUMBER(#REF!),#REF!,\"\")","v":""},null,null,null,null,null,null,null,null,null,null,null,null,{"$f":"IF(ISNUMBER(#REF!),#REF!,\"\")","v":""}]
[null,null,null,null,null,null,null,null,null,null,null,null,{"$f":"IF(ISNUMBER(#REF!),#REF!,\"\")","v":""},null,null,null,null,null,null,null,null,null,null,null,null,{"$f":"IF(ISNUMBER(#REF!),#REF!,\"\")","v":""}]
[null,null,null,null,null,null,null,null,null,null,null,null,{"$f":"IF(ISNUMBER(#REF!),#REF!,\"\")","v":""},null,null,null,null,null,null,null,null,null,null,null,null,{"$f":"IF(ISNUMBER(#REF!),#REF!,\"\")","v":""}]
[null,null,null,null,null,null,null,null,null,null,null,null,{"$f":"IF(ISNUMBER(#REF!),#REF!,\"\")","v":""},null,null,null,null,null,null,null,null,null,null,null,null,{"$f":"IF(ISNUMBER(#REF!),#REF!,\"\")","v":""}]
[null,null,null,null,null,null,null,null,null,null,null,null,{"$f":"IF(ISNUMBER(#REF!),#REF!,\"\")","v":""},null,null,null,null,null,null,null,null,null,null,null,null,{"$f":"IF(ISNUMBER(#REF!),#REF!,\"\")","v":""}]
[null,null,null,null,null,null,null,null,null,null,null,null,{"$f":"IF(ISNUMBER(#REF!),#REF!,\"\")","v":""},null,null,null,null,null,null,null,null,null,null,null,null,{"$f":"IF(ISNUMBER(#REF!),#REF!,\"\")","v":""}]
[null,null,null,null,null,null,null,null,null,null,null,null,{"$f":"IF(ISNUMBER(#REF!),#REF!,\"\")","v":""},null,null,null,null,null,null,null,null,null,null,null,null,{"$f":"IF(ISNUMBER(#REF!),#REF!,\"\")","v":""}]
[null,null,null,null,null,null,null,null,null,null,null,null,{"$f":"IF(ISNUMBER(#REF!),#REF!,\"\")","v":""},null,null,null,null,null,null,null,null,null,null,null,null,{"$f":"IF(ISNUMBER(#REF!),#REF!,\"\")","v":""}]
[null,null,null,null,null,null,null,null,null,null,null,null,{"$f":"IF(ISNUMBER(#REF!),#REF!,\"\")","v":""},null,null,null,null,null,null,null,null,null,null,null,null,{"$f":"IF(ISNUMBER(#REF!),#REF!,\"\")","v":""}]
[null,null,null,null,null,null,null,null,null,null,null,null,{"$f":"IF(ISNUMBER(#REF!),#REF!,\"\")","v":""},null,null,null,null,null,null,null,null,null,null,null,null,{"$f":"IF(ISNUMBER(#REF!),#REF!,\"\")","v":""}]
[null,null,null,null,null,null,null,null,null,null,null,null,{"$f":"IF(ISNUMBER(#REF!),#REF!,\"\")","v":""},null,null,null,null,null,null,null,null,null,null,null,null,{"$f":"IF(ISNUMBER(#REF!),#REF!,\"\")","v":""}]
[null,null,null,null,null,null,null,null,null,null,null,null,{"$f":"IF(ISNUMBER(#REF!),#REF!,\"\")","v":""},null,null,null,null,null,null,null,null,null,null,null,null,{"$f":"IF(ISNUMBER(#REF!),#REF!,\"\")","v":""}]
[null,null,null,null,null,null,null,null,null,null,null,null,{"$f":"IF(ISNUMBER(#REF!),#REF!,\"\")","v":""},null,null,null,null,null,null,null,null,null,null,null,null,{"$f":"IF(ISNUMBER(#REF!),#REF!,\"\")","v":""}]
[null,null,null,null,null,null,null,null,null,null,null,null,{"$f":"IF(ISNUMBER(#REF!),#REF!,\"\")","v":""},null,null,null,null,null,null,null,null,null,null,null,null,{"$f":"IF(ISNUMBER(#REF!),#REF!,\"\")","v":""}]
[null,null,null,null,null,null,null,null,null,null,null,null,{"$f":"IF(ISNUMBER(#REF!),#REF!,\"\")","v":""},null,null,null,null,null,null,null,null,null,null,null,null,{"$f":"IF(ISNUMBER(#REF!),#REF!,\"\")","v":""}]
[null,null,null,null,null,null,null,null,null,null,null,null,{"$f":"IF(ISNUMBER(#REF!),#REF!,\"\")","v":""},null,null,null,null,null,null,null,null,null,null,null,null,{"$f":"IF(ISNUMBER(#REF!),#REF!,\"\")","v":""}]
[null,null,null,null,null,null,null,null,null,null,null,null,{"$f":"IF(ISNUMBER(#REF!),#REF!,\"\")","v":""},null,null,null,null,null,null,null,null,null,null,null,null,{"$f":"IF(ISNUMBER(#REF!),#REF!,\"\")","v":""}]
[null,null,null,null,null,null,null,null,null,null,null,null,{"$f":"IF(ISNUMBER(#REF!),#REF!,\"\")","v":""},null,null,null,null,null,null,null,null,null,null,null,null,{"$f":"IF(ISNUMBER(#REF!),#REF!,\"\")","v":""}]
[null,null,null,null,null,null,null,null,null,null,null,null,{"$f":"IF(ISNUMBER(#REF!),#REF!,\"\")","v":""},null,null,null,null,null,null,null,null,null,null,null,null,{"$f":"IF(ISNUMBER(#REF!),#REF!,\"\")","v":""}]
[null,null,null,null,null,null,null,null,null,null,null,null,{"$f":"IF(ISNUMBER(#REF!),#REF!,\"\")","v":""},null,null,null,null,null,null,null,null,null,null,null,null,{"$f":"IF(ISNUMBER(#REF!),#REF!,\"\")","v":""}]
[null,null,null,null,null,null,null,null,null,null,null,null,{"$f":"IF(ISNUMBER(#REF!),#REF!,\"\")","v":""},null,null,null,null,null,null,null,null,null,null,null,null,{"$f":"IF(ISNUMBER(#REF!),#REF!,\"\")","v":""}]
[null,null,null,null,null,null,null,null,null,null,null,null,{"$f":"IF(ISNUMBER(#REF!),#REF!,\"\")","v":""},null,null,null,null,null,null,null,null,null,null,null,null,{"$f":"IF(ISNUMBER(#REF!),#REF!,\"\")","v":""}]
[null,null,null,null,null,null,null,null,null,null,null,null,{"$f":"IF(ISNUMBER(#REF!),#REF!,\"\")","v":""},null,null,null,null,null,null,null,null,null,null,null,null,{"$f":"IF(ISNUMBER(#REF!),#REF!,\"\")","v":""}]
[null,null,null,null,null,null,null,null,null,null,null,null,{"$f":"IF(ISNUMBER(#REF!),#REF!,\"\")","v":""},null,null,null,null,null,null,null,null,null,null,null,null,{"$f":"IF(ISNUMBER(#REF!),#REF!,\"\")","v":""}]
[null,null,null,null,null,null,null,null,null,null,null,null,{"$f":"IF(ISNUMBER(#REF!),#REF!,\"\")","v":""},null,null,null,null,null,null,null,null,null,null,null,null,{"$f":"IF(ISNUMBER(#REF!),#REF!,\"\")","v":""}]
[null,null,null,null,null,null,null,null,null,null,null,null,{"$f":"IF(ISNUMBER(#REF!),#REF!,\"\")","v":""},null,null,null,null,null,null,null,null,null,null,null,null,{"$f":"IF(ISNUMBER(#REF!),#REF!,\"\")","v":""}]
[null,null,null,null,null,null,null,null,null,null,null,null,{"$f":"IF(ISNUMBER(#REF!),#REF!,\"\")","v":""},null,null,null,null,null,null,null,null,null,null,null,null,{"$f":"IF(ISNUMBER(#REF!),#REF!,\"\")","v":""}]
[null,null,null,null,null,null,null,null,null,null,null,null,{"$f":"IF(ISNUMBER(#REF!),#REF!,\"\")","v":""},null,null,null,null,null,null,null,null,null,null,null,null,{"$f":"IF(ISNUMBER(#REF!),#REF!,\"\")","v":""}]
[null,null,null,null,null,null,null,null,null,null,null,null,{"$f":"IF(ISNUMBER(#REF!),#REF!,\"\")","v":""},null,null,null,null,null,null,null,null,null,null,null,null,{"$f":"IF(ISNUMBER(#REF!),#REF!,\"\")","v":""}]
[null,null,null,null,null,null,null,null,null,null,null,null,{"$f":"IF(ISNUMBER(#REF!),#REF!,\"\")","v":""},null,null,null,null,null,null,null,null,null,null,null,null,{"$f":"IF(ISNUMBER(#REF!),#REF!,\"\")","v":""}]
[null,null,null,null,null,null,null,null,null,null,null,null,{"$f":"IF(ISNUMBER(#REF!),#REF!,\"\")","v":""},null,null,null,null,null,null,null,null,null,null,null,null,{"$f":"IF(ISNUMBER(#REF!),#REF!,\"\")","v":""}]
[null,null,null,null,null,null,null,null,null,null,null,null,{"$f":"IF(ISNUMBER(#REF!),#REF!,\"\")","v":""},null,null,null,null,null,null,null,null,null,null,null,null,{"$f":"IF(ISNUMBER(#REF!),#REF!,\"\")","v":""}]
[null,null,null,null,null,null,null,null,null,null,null,null,{"$f":"IF(ISNUMBER(#REF!),#REF!,\"\")","v":""},null,null,null,null,null,null,null,null,null,null,null,null,{"$f":"IF(ISNUMBER(#REF!),#REF!,\"\")","v":""}]
[null,null,null,null,null,null,null,null,null,null,null,null,{"$f":"IF(ISNUMBER(#REF!),#REF!,\"\")","v":""},null,null,null,null,null,null,null,null,null,null,null,null,{"$f":"IF(ISNUMBER(#REF!),#REF!,\"\")","v":""}]
[null,null,null,null,null,null,null,null,null,null,null,null,{"$f":"IF(ISNUMBER(#REF!),#REF!,\"\")","v":""},null,null,null,null,null,null,null,null,null,null,null,null,{"$f":"IF(ISNUMBER(#REF!),#REF!,\"\")","v":""}]
[null,null,null,null,null,null,null,null,null,null,null,null,{"$f":"IF(ISNUMBER(#REF!),#REF!,\"\")","v":""},null,null,null,null,null,null,null,null,null,null,null,null,{"$f":"IF(ISNUMBER(#REF!),#REF!,\"\")","v":""}]
[null,null,null,null,null,null,null,null,null,null,null,null,{"$f":"IF(ISNUMBER(#REF!),#REF!,\"\")","v":""},null,null,null,null,null,null,null,null,null,null,null,null,{"$f":"IF(ISNUMBER(#REF!),#REF!,\"\")","v":""}]
[null,null,null,null,null,null,null,null,null,null,null,null,{"$f":"IF(ISNUMBER(#REF!),#REF!,\"\")","v":""},null,null,null,null,null,null,null,null,null,null,null,null,{"$f":"IF(ISNUMBER(#REF!),#REF!,\"\")","v":""}]
[null,null,null,null,null,null,null,null,null,null,null,null,{"$f":"IF(ISNUMBER(#REF!),#REF!,\"\")","v":""},null,null,null,null,null,null,null,null,null,null,null,null,{"$f":"IF(ISNUMBER(#REF!),#REF!,\"\")","v":""}]
[null,null,null,null,null,null,null,null,null,null,null,null,{"$f":"IF(ISNUMBER(#REF!),#REF!,\"\")","v":""},null,null,null,null,null,null,null,null,null,null,null,null,{"$f":"IF(ISNUMBER(#REF!),#REF!,\"\")","v":""}]
[null,null,null,null,null,null,null,null,null,null,null,null,{"$f":"IF(ISNUMBER(#REF!),#REF!,\"\")","v":""},null,null,null,null,null,null,null,null,null,null,null,null,{"$f":"IF(ISNUMBER(#REF!),#REF!,\"\")","v":""}]
[null,null,null,null,null,null,null,null,null,null,null,null,{"$f":"IF(ISNUMBER(#REF!),#REF!,\"\")","v":""},null,null,null,null,null,null,null,null,null,null,null,null,{"$f":"IF(ISNUMBER(#REF!),#REF!,\"\")","v":""}]
[null,null,null,null,null,null,null,null,null,null,null,null,{"$f":"IF(ISNUMBER(#REF!),#REF!,\"\")","v":""},null,null,null,null,null,null,null,null,null,null,null,null,{"$f":"IF(ISNUMBER(#REF!),#REF!,\"\")","v":""}]
[null,null,null,null,null,null,null,null,null,null,null,null,{"$f":"IF(ISNUMBER(#REF!),#REF!,\"\")","v":""},null,null,null,null,null,null,null,null,null,null,null,null,{"$f":"IF(ISNUMBER(#REF!),#REF!,\"\")","v":""}]
[null,null,null,null,null,null,null,null,null,null,null,null,{"$f":"IF(ISNUMBER(#REF!),#REF!,\"\")","v":""},null,null,null,null,null,null,null,null,null,null,null,null,{"$f":"IF(ISNUMBER(#REF!),#REF!,\"\")","v":""}]
[null,null,null,null,null,null,null,null,null,null,null,null,{"$f":"IF(ISNUMBER(#REF!),#REF!,\"\")","v":""},null,null,null,null,null,null,null,null,null,null,null,null,{"$f":"IF(ISNUMBER(#REF!),#REF!,\"\")","v":""}]
[null,null,null,null,null,null,null,null,null,null,null,null,{"$f":"IF(ISNUMBER(#REF!),#REF!,\"\")","v":""},null,null,null,null,null,null,null,null,null,null,null,null,{"$f":"IF(ISNUMBER(#REF!),#REF!,\"\")","v":""}]
[null,null,null,null,null,null,null,null,null,null,null,null,{"$f":"IF(ISNUMBER(#REF!),#REF!,\"\")","v":""},null,null,null,null,null,null,null,null,null,null,null,null,{"$f":"IF(ISNUMBER(#REF!),#REF!,\"\")","v":""}]
[null,null,null,null,null,null,null,null,null,null,null,null,{"$f":"IF(ISNUMBER(#REF!),#REF!,\"\")","v":""},null,null,null,null,null,null,null,null,null,null,null,null,{"$f":"IF(ISNUMBER(#REF!),#REF!,\"\")","v":""}]
[null,null,null,null,null,null,null,null,null,null,null,null,{"$f":"IF(ISNUMBER(#REF!),#REF!,\"\")","v":""},null,null,null,null,null,null,null,null,null,null,null,null,{"$f":"IF(ISNUMBER(#REF!),#REF!,\"\")","v":""}]
[null,null,null,null,null,null,null,null,null,null,null,null,{"$f":"IF(ISNUMBER(#REF!),#REF!,\"\")","v":""},null,null,null,null,null,null,null,null,null,null,null,null,{"$f":"IF(ISNUMBER(#REF!),#REF!,\"\")","v":""}]
[null,null,null,null,null,null,null,null,null,null,null,null,{"$f":"IF(ISNUMBER(#REF!),#REF!,\"\")","v":""},null,null,null,null,null,null,null,null,null,null,null,null,{"$f":"IF(ISNUMBER(#REF!),#REF!,\"\")","v":""}]
[null,null,null,null,null,null,null,null,null,null,null,null,{"$f":"IF(ISNUMBER(#REF!),#REF!,\"\")","v":""},null,null,null,null,null,null,null,null,null,null,null,null,{"$f":"IF(ISNUMBER(#REF!),#REF!,\"\")","v":""}]
[null,null,null,null,null,null,null,null,null,null,null,null,{"$f":"IF(ISNUMBER(#REF!),#REF!,\"\")","v":""},null,null,null,null,null,null,null,null,null,null,null,null,{"$f":"IF(ISNUMBER(#REF!),#REF!,\"\")","v":""}]
[null,null,null,null,null,null,null,null,null,null,null,null,{"$f":"IF(ISNUMBER(#REF!),#REF!,\"\")","v":""},null,null,null,null,null,null,null,null,null,null,null,null,{"$f":"IF(ISNUMBER(#REF!),#REF!,\"\")","v":""}]
[null,null,null,null,null,null,null,null,null,null,null,null,{"$f":"IF(ISNUMBER(#REF!),#REF!,\"\")","v":""},null,null,null,null,null,null,null,null,null,null,null,null,{"$f":"IF(ISNUMBER(#REF!),#REF!,\"\")","v":""}]
[null,null,null,null,null,null,null,null,null,null,null,null,{"$f":"IF(ISNUMBER(#REF!),#REF!,\"\")","v":""},null,null,null,null,null,null,null,null,null,null,null,null,{"$f":"IF(ISNUMBER(#REF!),#REF!,\"\")","v":""}]
[null,null,null,null,null,null,null,null,null,null,null,null,{"$f":"IF(ISNUMBER(#REF!),#REF!,\"\")","v":""},null,null,null,null,null,null,null,null,null,null,null,null,{"$f":"IF(ISNUMBER(#REF!),#REF!,\"\")","v":""}]
[null,null,null,null,null,null,null,null,null,null,null,null,{"$f":"IF(ISNUMBER(#REF!),#REF!,\"\")","v":""},null,null,null,null,null,null,null,null,null,null,null,null,{"$f":"IF(ISNUMBER(#REF!),#REF!,\"\")","v":""}]
[null,null,null,null,null,null,null,null,null,null,null,null,{"$f":"IF(ISNUMBER(#REF!),#REF!,\"\")","v":""},null,null,null,null,null,null,null,null,null,null,null,null,{"$f":"IF(ISNUMBER(#REF!),#REF!,\"\")","v":""}]
[null,null,null,null,null,null,null,null,null,null,null,null,{"$f":"IF(ISNUMBER(#REF!),#REF!,\"\")","v":""},null,null,null,null,null,null,null,null,null,null,null,null,{"$f":"IF(ISNUMBER(#REF!),#REF!,\"\")","v":""}]
[null,null,null,null,null,null,null,null,null,null,null,null,{"$f":"IF(ISNUMBER(#REF!),#REF!,\"\")","v":""},null,null,null,null,null,null,null,null,null,null,null,null,{"$f":"IF(ISNUMBER(#REF!),#REF!,\"\")","v":""}]
[null,null,null,null,null,null,null,null,null,null,null,null,{"$f":"IF(ISNUMBER(#REF!),#REF!,\"\")","v":""},null,null,null,null,null,null,null,null,null,null,null,null,{"$f":"IF(ISNUMBER(#REF!),#REF!,\"\")","v":""}]
[null,null,null,null,null,null,null,null,null,null,null,null,{"$f":"IF(ISNUMBER(#REF!),#REF!,\"\")","v":""},null,null,null,null,null,null,null,null,null,null,null,null,{"$f":"IF(ISNUMBER(#REF!),#REF!,\"\")","v":""}]
[null,null,null,null,null,null,null,null,null,null,null,null,{"$f":"IF(ISNUMBER(#REF!),#REF!,\"\")","v":""},null,null,null,null,null,null,null,null,null,null,null,null,{"$f":"IF(ISNUMBER(#REF!),#REF!,\"\")","v":""}]
[null,null,null,null,null,null,null,null,null,null,null,null,{"$f":"IF(ISNUMBER(#REF!),#REF!,\"\")","v":""},null,null,null,null,null,null,null,null,null,null,null,null,{"$f":"IF(ISNUMBER(#REF!),#REF!,\"\")","v":""}]
[null,null,null,null,null,null,null,null,null,null,null,null,{"$f":"IF(ISNUMBER(#REF!),#REF!,\"\")","v":""},null,null,null,null,null,null,null,null,null,null,null,null,{"$f":"IF(ISNUMBER(#REF!),#REF!,\"\")","v":""}]
[null,null,null,null,null,null,null,null,null,null,null,null,{"$f":"IF(ISNUMBER(#REF!),#REF!,\"\")","v":""},null,null,null,null,null,null,null,null,null,null,null,null,{"$f":"IF(ISNUMBER(#REF!),#REF!,\"\")","v":""}]
[null,null,null,null,null,null,null,null,null,null,null,null,{"$f":"IF(ISNUMBER(#REF!),#REF!,\"\")","v":""},null,null,null,null,null,null,null,null,null,null,null,null,{"$f":"IF(ISNUMBER(#REF!),#REF!,\"\")","v":""}]
[null,null,null,null,null,null,null,null,null,null,null,null,{"$f":"IF(ISNUMBER(#REF!),#REF!,\"\")","v":""},null,null,null,null,null,null,null,null,null,null,null,null,{"$f":"IF(ISNUMBER(#REF!),#REF!,\"\")","v":""}]
[null,null,null,null,null,null,null,null,null,null,null,null,{"$f":"IF(ISNUMBER(#REF!),#REF!,\"\")","v":""},null,null,null,null,null,null,null,null,null,null,null,null,{"$f":"IF(ISNUMBER(#REF!),#REF!,\"\")","v":""}]
[null,null,null,null,null,null,null,null,null,null,null,null,{"$f":"IF(ISNUMBER(#REF!),#REF!,\"\")","v":""},null,null,null,null,null,null,null,null,null,null,null,null,{"$f":"IF(ISNUMBER(#REF!),#REF!,\"\")","v":""}]
[null,null,null,null,null,null,null,null,null,null,null,null,{"$f":"IF(ISNUMBER(#REF!),#REF!,\"\")","v":""},null,null,null,null,null,null,null,null,null,null,null,null,{"$f":"IF(ISNUMBER(#REF!),#REF!,\"\")","v":""}]
[null,null,null,null,null,null,null,null,null,null,null,null,{"$f":"IF(ISNUMBER(#REF!),#REF!,\"\")","v":""},null,null,null,null,null,null,null,null,null,null,null,null,{"$f":"IF(ISNUMBER(#REF!),#REF!,\"\")","v":""}]
[null,null,null,null,null,null,null,null,null,null,null,null,{"$f":"IF(ISNUMBER(#REF!),#REF!,\"\")","v":""}]
[null,null,null,null,null,null,null,null,null,null,null,null,{"$f":"IF(ISNUMBER(#REF!),#REF!,\"\")","v":""}]
[null,null,null,null,null,null,null,null,null,null,null,null,{"$f":"IF(ISNUMBER(#REF!),#REF!,\"\")","v":""}]
[null,null,null,null,null,null,null,null,null,null,null,null,{"$f":"IF(ISNUMBER(#REF!),#REF!,\"\")","v":""}]
[null,null,null,null,null,null,null,null,null,null,null,null,{"$f":"IF(ISNUMBER(#REF!),#REF!,\"\")","v":""}]
[null,null,null,null,null,null,null,null,null,null,null,null,{"$f":"IF(ISNUMBER(#REF!),#REF!,\"\")","v":""}]
[null,null,null,null,null,null,null,null,null,null,null,null,{"$f":"IF(ISNUMBER(#REF!),#REF!,\"\")","v":""}]
[null,null,null,null,null,null,null,null,null,null,null,null,{"$f":"IF(ISNUMBER(#REF!),#REF!,\"\")","v":""}]
[null,null,null,null,null,null,null,null,null,null,null,null,{"$f":"IF(ISNUMBER(#REF!),#REF!,\"\")","v":""}]
[null,null,null,null,null,null,null,null,null,null,null,null,{"$f":"IF(ISNUMBER(#REF!),#REF!,\"\")","v":""}]
[null,null,null,null,null,null,null,null,null,null,null,null,{"$f":"IF(ISNUMBER(#REF!),#REF!,\"\")","v":""}]
[null,null,null,null,null,null,null,null,null,null,null,null,{"$f":"IF(ISNUMBER(#REF!),#REF!,\"\")","v":""}]
[null,null,null,null,null,null,null,null,null,null,null,null,{"$f":"IF(ISNUMBER(#REF!),#REF!,\"\")","v":""}]
[null,null,null,null,null,null,null,null,null,null,null,null,{"$f":"IF(ISNUMBER(#REF!),#REF!,\"\")","v":""}]
[null,null,null,null,null,null,null,null,null,null,null,null,{"$f":"IF(ISNUMBER(#REF!),#REF!,\"\")","v":""}]
[null,null,null,null,null,null,null,null,null,null,null,null,{"$f":"IF(ISNUMBER(#REF!),#REF!,\"\")","v":""}]
[null,null,null,null,null,null,null,null,null,null,null,null,{"$f":"IF(ISNUMBER(#REF!),#REF!,\"\")","v":""}]
[null,null,null,null,null,null,null,null,null,null,null,null,{"$f":"IF(ISNUMBER(#REF!),#REF!,\"\")","v":""}]
[null,null,null,null,null,null,null,null,null,null,null,null,{"$f":"IF(ISNUMBER(#REF!),#REF!,\"\")","v":""}]
[null,null,null,null,null,null,null,null,null,null,null,null,{"$f":"IF(ISNUMBER(#REF!),#REF!,\"\")","v":""}]
[null,null,null,null,null,null,null,null,null,null,null,null,{"$f":"IF(ISNUMBER(#REF!),#REF!,\"\")","v":""}]
[null,null,null,null,null,null,null,null,null,null,null,null,{"$f":"IF(ISNUMBER(#REF!),#REF!,\"\")","v":""}]
[null,null,null,null,null,null,null,null,null,null,null,null,{"$f":"IF(ISNUMBER(#REF!),#REF!,\"\")","v":""}]
[null,null,null,null,null,null,null,null,null,null,null,null,{"$f":"IF(ISNUMBER(#REF!),#REF!,\"\")","v":""}]
[null,null,null,null,null,null,null,null,null,null,null,null,{"$f":"IF(ISNUMBER(#REF!),#REF!,\"\")","v":""}]
[null,null,null,null,null,null,null,null,null,null,null,null,{"$f":"IF(ISNUMBER(#REF!),#REF!,\"\")","v":""}]
[null,null,null,null,null,null,null,null,null,null,null,null,{"$f":"IF(ISNUMBER(#REF!),#REF!,\"\")","v":""}]
[null,null,null,null,null,null,null,null,null,null,null,null,{"$f":"IF(ISNUMBER(#REF!),#REF!,\"\")","v":""}]
[null,null,null,null,null,null,null,null,null,null,null,null,{"$f":"IF(ISNUMBER(#REF!),#REF!,\"\")","v":""}]
[null,null,null,null,null,null,null,null,null,null,null,null,{"$f":"IF(ISNUMBER(#REF!),#REF!,\"\")","v":""}]
[null,null,null,null,null,null,null,null,null,null,null,null,{"$f":"IF(ISNUMBER(#REF!),#REF!,\"\")","v":""}]
[null,null,null,null,null,null,null,null,null,null,null,null,{"$f":"IF(ISNUMBER(#REF!),#REF!,\"\")","v":""}]
[null,null,null,null,null,null,null,null,null,null,null,null,{"$f":"IF(ISNUMBER(#REF!),#REF!,\"\")","v":""}]
[null,null,null,null,null,null,null,null,null,null,null,null,{"$f":"IF(ISNUMBER(#REF!),#REF!,\"\")","v":""}]
[null,null,null,null,null,null,null,null,null,null,null,null,{"$f":"IF(ISNUMBER(#REF!),#REF!,\"\")","v":""}]
[null,null,null,null,null,null,null,null,null,null,null,null,{"$f":"IF(ISNUMBER(#REF!),#REF!,\"\")","v":""}]
[null,null,null,null,null,null,null,null,null,null,null,null,{"$f":"IF(ISNUMBER(#REF!),#REF!,\"\")","v":""}]
[null,null,null,null,null,null,null,null,null,null,null,null,{"$f":"IF(ISNUMBER(#REF!),#REF!,\"\")","v":""}]
[null,null,null,null,null,null,null,null,null,null,null,null,{"$f":"IF(ISNUMBER(#REF!),#REF!,\"\")","v":""}]
[null,null,null,null,null,null,null,null,null,null,null,null,{"$f":"IF(ISNUMBER(#REF!),#REF!,\"\")","v":""}]
[null,null,null,null,null,null,null,null,null,null,null,null,{"$f":"IF(ISNUMBER(#REF!),#REF!,\"\")","v":""}]
[null,null,null,null,null,null,null,null,null,null,null,null,{"$f":"IF(ISNUMBER(#REF!),#REF!,\"\")","v":""}]
[null,null,null,null,null,null,null,null,null,null,null,null,{"$f":"IF(ISNUMBER(#REF!),#REF!,\"\")","v":""}]
[null,null,null,null,null,null,null,null,null,null,null,null,{"$f":"IF(ISNUMBER(#REF!),#REF!,\"\")","v":""}]
[null,null,null,null,null,null,null,null,null,null,null,null,{"$f":"IF(ISNUMBER(#REF!),#REF!,\"\")","v":""}]
[null,null,null,null,null,null,null,null,null,null,null,null,{"$f":"IF(ISNUMBER(#REF!),#REF!,\"\")","v":""}]
[null,null,null,null,null,null,null,null,null,null,null,null,{"$f":"IF(ISNUMBER(#REF!),#REF!,\"\")","v":""}]
[null,null,null,null,null,null,null,null,null,null,null,null,{"$f":"IF(ISNUMBER(#REF!),#REF!,\"\")","v":""}]
[null,null,null,null,null,null,null,null,null,null,null,null,{"$f":"IF(ISNUMBER(#REF!),#REF!,\"\")","v":""}]
[null,null,null,null,null,null,null,null,null,null,null,null,{"$f":"IF(ISNUMBER(#REF!),#REF!,\"\")","v":""}]
[null,null,null,null,null,null,null,null,null,null,null,null,{"$f":"IF(ISNUMBER(#REF!),#REF!,\"\")","v":""}]
[null,null,null,null,null,null,null,null,null,null,null,null,{"$f":"IF(ISNUMBER(#REF!),#REF!,\"\")","v":""}]
[null,null,null,null,null,null,null,null,null,null,null,null,{"$f":"IF(ISNUMBER(#REF!),#REF!,\"\")","v":""}]
[null,null,null,null,null,null,null,null,null,null,null,null,{"$f":"IF(ISNUMBER(#REF!),#REF!,\"\")","v":""}]
[null,null,null,null,null,null,null,null,null,null,null,null,{"$f":"IF(ISNUMBER(#REF!),#REF!,\"\")","v":""}]
[null,null,null,null,null,null,null,null,null,null,null,null,{"$f":"IF(ISNUMBER(#REF!),#REF!,\"\")","v":""}]
[null,null,null,null,null,null,null,null,null,null,null,null,{"$f":"IF(ISNUMBER(#REF!),#REF!,\"\")","v":""}]
[null,null,null,null,null,null,null,null,null,null,null,null,{"$f":"IF(ISNUMBER(#REF!),#REF!,\"\")","v":""}]
[null,null,null,null,null,null,null,null,null,null,null,null,{"$f":"IF(ISNUMBER(#REF!),#REF!,\"\")","v":""}]
[null,null,null,null,null,null,null,null,null,null,null,null,{"$f":"IF(ISNUMBER(#REF!),#REF!,\"\")","v":""}]
[null,null,null,null,null,null,null,null,null,null,null,null,{"$f":"IF(ISNUMBER(#REF!),#REF!,\"\")","v":""}]
[null,null,null,null,null,null,null,null,null,null,null,null,{"$f":"IF(ISNUMBER(#REF!),#REF!,\"\")","v":""}]
[null,null,null,null,null,null,null,null,null,null,null,null,{"$f":"IF(ISNUMBER(#REF!),#REF!,\"\")","v":""}]
[null,null,null,null,null,null,null,null,null,null,null,null,{"$f":"IF(ISNUMBER(#REF!),#REF!,\"\")","v":""}]
[null,null,null,null,null,null,null,null,null,null,null,null,{"$f":"IF(ISNUMBER(#REF!),#REF!,\"\")","v":""}]
[null,null,null,null,null,null,null,null,null,null,null,null,{"$f":"IF(ISNUMBER(#REF!),#REF!,\"\")","v":""}]
[null,null,null,null,null,null,null,null,null,null,null,null,{"$f":"IF(ISNUMBER(#REF!),#REF!,\"\")","v":""}]
[null,null,null,null,null,null,null,null,null,null,null,null,{"$f":"IF(ISNUMBER(#REF!),#REF!,\"\")","v":""}]
[null,null,null,null,null,null,null,null,null,null,null,null,{"$f":"IF(ISNUMBER(#REF!),#REF!,\"\")","v":""}]
[null,null,null,null,null,null,null,null,null,null,null,null,{"$f":"IF(ISNUMBER(#REF!),#REF!,\"\")","v":""}]
[null,null,null,null,null,null,null,null,null,null,null,null,{"$f":"IF(ISNUMBER(#REF!),#REF!,\"\")","v":""}]
[null,null,null,null,null,null,null,null,null,null,null,null,{"$f":"IF(ISNUMBER(#REF!),#REF!,\"\")","v":""}]
[null,null,null,null,null,null,null,null,null,null,null,null,{"$f":"IF(ISNUMBER(#REF!),#REF!,\"\")","v":""}]
[null,null,null,null,null,null,null,null,null,null,null,null,{"$f":"IF(ISNUMBER(#REF!),#REF!,\"\")","v":""}]
[null,null,null,null,null,null,null,null,null,null,null,null,{"$f":"IF(ISNUMBER(#REF!),#REF!,\"\")","v":""}]
[null,null,null,null,null,null,null,null,null,null,null,null,{"$f":"IF(ISNUMBER(#REF!),#REF!,\"\")","v":""}]
[null,null,null,null,null,null,null,null,null,null,null,null,{"$f":"IF(ISNUMBER(#REF!),#REF!,\"\")","v":""}]
[null,null,null,null,null,null,null,null,null,null,null,null,{"$f":"IF(ISNUMBER(#REF!),#REF!,\"\")","v":""}]
[null,null,null,null,null,null,null,null,null,null,null,null,{"$f":"IF(ISNUMBER(#REF!),#REF!,\"\")","v":""}]
[null,null,null,null,null,null,null,null,null,null,null,null,{"$f":"IF(ISNUMBER(#REF!),#REF!,\"\")","v":""}]
[null,null,null,null,null,null,null,null,null,null,null,null,{"$f":"IF(ISNUMBER(#REF!),#REF!,\"\")","v":""}]
[null,null,null,null,null,null,null,null,null,null,null,null,{"$f":"IF(ISNUMBER(#REF!),#REF!,\"\")","v":""}]
[null,null,null,null,null,null,null,null,null,null,null,null,{"$f":"IF(ISNUMBER(#REF!),#REF!,\"\")","v":""}]
[null,null,null,null,null,null,null,null,null,null,null,null,{"$f":"IF(ISNUMBER(#REF!),#REF!,\"\")","v":""}]
[null,null,null,null,null,null,null,null,null,null,null,null,{"$f":"IF(ISNUMBER(#REF!),#REF!,\"\")","v":""}]
[null,null,null,null,null,null,null,null,null,null,null,null,{"$f":"IF(ISNUMBER(#REF!),#REF!,\"\")","v":""}]
[null,null,null,null,null,null,null,null,null,null,null,null,{"$f":"IF(ISNUMBER(#REF!),#REF!,\"\")","v":""}]
[null,null,null,null,null,null,null,null,null,null,null,null,{"$f":"IF(ISNUMBER(#REF!),#REF!,\"\")","v":""}]
[null,null,null,null,null,null,null,null,null,null,null,null,{"$f":"IF(ISNUMBER(#REF!),#REF!,\"\")","v":""}]
[null,null,null,null,null,null,null,null,null,null,null,null,{"$f":"IF(ISNUMBER(#REF!),#REF!,\"\")","v":""}]
[null,null,null,null,null,null,null,null,null,null,null,null,{"$f":"IF(ISNUMBER(#REF!),#REF!,\"\")","v":""}]
[null,null,null,null,null,null,null,null,null,null,null,null,{"$f":"IF(ISNUMBER(#REF!),#REF!,\"\")","v":""}]
[null,null,null,null,null,null,null,null,null,null,null,null,{"$f":"IF(ISNUMBER(#REF!),#REF!,\"\")","v":""}]
[null,null,null,null,null,null,null,null,null,null,null,null,{"$f":"IF(ISNUMBER(#REF!),#REF!,\"\")","v":""}]
[null,null,null,null,null,null,null,null,null,null,null,null,{"$f":"IF(ISNUMBER(#REF!),#REF!,\"\")","v":""}]
[null,null,null,null,null,null,null,null,null,null,null,null,{"$f":"IF(ISNUMBER(#REF!),#REF!,\"\")","v":""}]
[null,null,null,null,null,null,null,null,null,null,null,null,{"$f":"IF(ISNUMBER(#REF!),#REF!,\"\")","v":""}]
[null,null,null,null,null,null,null,null,null,null,null,null,{"$f":"IF(ISNUMBER(#REF!),#REF!,\"\")","v":""}]
[null,null,null,null,null,null,null,null,null,null,null,null,{"$f":"IF(ISNUMBER(#REF!),#REF!,\"\")","v":""}]
[null,null,null,null,null,null,null,null,null,null,null,null,{"$f":"IF(ISNUMBER(#REF!),#REF!,\"\")","v":""}]
[null,null,null,null,null,null,null,null,null,null,null,null,{"$f":"IF(ISNUMBER(#REF!),#REF!,\"\")","v":""}]
[null,null,null,null,null,null,null,null,null,null,null,null,{"$f":"IF(ISNUMBER(#REF!),#REF!,\"\")","v":""}]
[null,null,null,null,null,null,null,null,null,null,null,null,{"$f":"IF(ISNUMBER(#REF!),#REF!,\"\")","v":""}]
[null,null,null,null,null,null,null,null,null,null,null,null,{"$f":"IF(ISNUMBER(#REF!),#REF!,\"\")","v":""}]
[null,null,null,null,null,null,null,null,null,null,null,null,{"$f":"IF(ISNUMBER(#REF!),#REF!,\"\")","v":""}]
[null,null,null,null,null,null,null,null,null,null,null,null,{"$f":"IF(ISNUMBER(#REF!),#REF!,\"\")","v":""}]
[null,null,null,null,null,null,null,null,null,null,null,null,{"$f":"IF(ISNUMBER(#REF!),#REF!,\"\")","v":""}]
[null,null,null,null,null,null,null,null,null,null,null,null,{"$f":"IF(ISNUMBER(#REF!),#REF!,\"\")","v":""}]
[null,null,null,null,null,null,null,null,null,null,null,null,{"$f":"IF(ISNUMBER(#REF!),#REF!,\"\")","v":""}]
[null,null,null,null,null,null,null,null,null,null,null,null,{"$f":"IF(ISNUMBER(#REF!),#REF!,\"\")","v":""}]
[null,null,null,null,null,null,null,null,null,null,null,null,{"$f":"IF(ISNUMBER(#REF!),#REF!,\"\")","v":""}]
[null,null,null,null,null,null,null,null,null,null,null,null,{"$f":"IF(ISNUMBER(#REF!),#REF!,\"\")","v":""}]
[null,null,null,null,null,null,null,null,null,null,null,null,{"$f":"IF(ISNUMBER(#REF!),#REF!,\"\")","v":""}]
[null,null,null,null,null,null,null,null,null,null,null,null,{"$f":"IF(ISNUMBER(#REF!),#REF!,\"\")","v":""}]
[null,null,null,null,null,null,null,null,null,null,null,null,{"$f":"IF(ISNUMBER(#REF!),#REF!,\"\")","v":""}]
[null,null,null,null,null,null,null,null,null,null,null,null,{"$f":"IF(ISNUMBER(#REF!),#REF!,\"\")","v":""}]
[null,null,null,null,null,null,null,null,null,null,null,null,{"$f":"IF(ISNUMBER(#REF!),#REF!,\"\")","v":""}]
[null,null,null,null,null,null,null,null,null,null,null,null,{"$f":"IF(ISNUMBER(#REF!),#REF!,\"\")","v":""}]
[null,null,null,null,null,null,null,null,null,null,null,null,{"$f":"IF(ISNUMBER(#REF!),#REF!,\"\")","v":""}]
[null,null,null,null,null,null,null,null,null,null,null,null,{"$f":"IF(ISNUMBER(#REF!),#REF!,\"\")","v":""}]
[null,null,null,null,null,null,null,null,null,null,null,null,{"$f":"IF(ISNUMBER(#REF!),#REF!,\"\")","v":""}]
[null,null,null,null,null,null,null,null,null,null,null,null,{"$f":"IF(ISNUMBER(#REF!),#REF!,\"\")","v":""}]
[null,null,null,null,null,null,null,null,null,null,null,null,{"$f":"IF(ISNUMBER(#REF!),#REF!,\"\")","v":""}]
[null,null,null,null,null,null,null,null,null,null,null,null,{"$f":"IF(ISNUMBER(#REF!),#REF!,\"\")","v":""}]
[null,null,null,null,null,null,null,null,null,null,null,null,{"$f":"IF(ISNUMBER(#REF!),#REF!,\"\")","v":""}]
[null,null,null,null,null,null,null,null,null,null,null,null,{"$f":"IF(ISNUMBER(#REF!),#REF!,\"\")","v":""}]
[null,null,null,null,null,null,null,null,null,null,null,null,{"$f":"IF(ISNUMBER(#REF!),#REF!,\"\")","v":""}]
[null,null,null,null,null,null,null,null,null,null,null,null,{"$f":"IF(ISNUMBER(#REF!),#REF!,\"\")","v":""}]
[null,null,null,null,null,null,null,null,null,null,null,null,{"$f":"IF(ISNUMBER(#REF!),#REF!,\"\")","v":""}]
[null,null,null,null,null,null,null,null,null,null,null,null,{"$f":"IF(ISNUMBER(#REF!),#REF!,\"\")","v":""}]
[null,null,null,null,null,null,null,null,null,null,null,null,{"$f":"IF(ISNUMBER(#REF!),#REF!,\"\")","v":""}]
[null,null,null,null,null,null,null,null,null,null,null,null,{"$f":"IF(ISNUMBER(#REF!),#REF!,\"\")","v":""}]
[null,null,null,null,null,null,null,null,null,null,null,null,{"$f":"IF(ISNUMBER(#REF!),#REF!,\"\")","v":""}]
[null,null,null,null,null,null,null,null,null,null,null,null,{"$f":"IF(ISNUMBER(#REF!),#REF!,\"\")","v":""}]
[null,null,null,null,null,null,null,null,null,null,null,null,{"$f":"IF(ISNUMBER(#REF!),#REF!,\"\")","v":""}]
[null,null,null,null,null,null,null,null,null,null,null,null,{"$f":"IF(ISNUMBER(#REF!),#REF!,\"\")","v":""}]
[null,null,null,null,null,null,null,null,null,null,null,null,{"$f":"IF(ISNUMBER(#REF!),#REF!,\"\")","v":""}]
[null,null,null,null,null,null,null,null,null,null,null,null,{"$f":"IF(ISNUMBER(#REF!),#REF!,\"\")","v":""}]
[null,null,null,null,null,null,null,null,null,null,null,null,{"$f":"IF(ISNUMBER(#REF!),#REF!,\"\")","v":""}]
[null,null,null,null,null,null,null,null,null,null,null,null,{"$f":"IF(ISNUMBER(#REF!),#REF!,\"\")","v":""}]
[null,null,null,null,null,null,null,null,null,null,null,null,{"$f":"IF(ISNUMBER(#REF!),#REF!,\"\")","v":""}]
[null,null,null,null,null,null,null,null,null,null,null,null,{"$f":"IF(ISNUMBER(#REF!),#REF!,\"\")","v":""}]
[null,null,null,null,null,null,null,null,null,null,null,null,{"$f":"IF(ISNUMBER(#REF!),#REF!,\"\")","v":""}]
[null,null,null,null,null,null,null,null,null,null,null,null,{"$f":"IF(ISNUMBER(#REF!),#REF!,\"\")","v":""}]
[null,null,null,null,null,null,null,null,null,null,null,null,{"$f":"IF(ISNUMBER(#REF!),#REF!,\"\")","v":""}]
[null,null,null,null,null,null,null,null,null,null,null,null,{"$f":"IF(ISNUMBER(#REF!),#REF!,\"\")","v":""}]
[null,null,null,null,null,null,null,null,null,null,null,null,{"$f":"IF(ISNUMBER(#REF!),#REF!,\"\")","v":""}]
[null,null,null,null,null,null,null,null,null,null,null,null,{"$f":"IF(ISNUMBER(#REF!),#REF!,\"\")","v":""}]
[null,null,null,null,null,null,null,null,null,null,null,null,{"$f":"IF(ISNUMBER(#REF!),#REF!,\"\")","v":""}]
[null,null,null,null,null,null,null,null,null,null,null,null,{"$f":"IF(ISNUMBER(#REF!),#REF!,\"\")","v":""}]
[null,null,null,null,null,null,null,null,null,null,null,null,{"$f":"IF(ISNUMBER(#REF!),#REF!,\"\")","v":""}]
[null,null,null,null,null,null,null,null,null,null,null,null,{"$f":"IF(ISNUMBER(#REF!),#REF!,\"\")","v":""}]
[null,null,null,null,null,null,null,null,null,null,null,null,{"$f":"IF(ISNUMBER(#REF!),#REF!,\"\")","v":""}]
[null,null,null,null,null,null,null,null,null,null,null,null,{"$f":"IF(ISNUMBER(#REF!),#REF!,\"\")","v":""}]
[null,null,null,null,null,null,null,null,null,null,null,null,{"$f":"IF(ISNUMBER(#REF!),#REF!,\"\")","v":""}]
[null,null,null,null,null,null,null,null,null,null,null,null,{"$f":"IF(ISNUMBER(#REF!),#REF!,\"\")","v":""}]
[null,null,null,null,null,null,null,null,null,null,null,null,{"$f":"IF(ISNUMBER(#REF!),#REF!,\"\")","v":""}]
[null,null,null,null,null,null,null,null,null,null,null,null,{"$f":"IF(ISNUMBER(#REF!),#REF!,\"\")","v":""}]
[null,null,null,null,null,null,null,null,null,null,null,null,{"$f":"IF(ISNUMBER(#REF!),#REF!,\"\")","v":""}]
[null,null,null,null,null,null,null,null,null,null,null,null,{"$f":"IF(ISNUMBER(#REF!),#REF!,\"\")","v":""}]
[null,null,null,null,null,null,null,null,null,null,null,null,{"$f":"IF(ISNUMBER(#REF!),#REF!,\"\")","v":""}]
[null,null,null,null,null,null,null,null,null,null,null,null,{"$f":"IF(ISNUMBER(#REF!),#REF!,\"\")","v":""}]
[null,null,null,null,null,null,null,null,null,null,null,null,{"$f":"IF(ISNUMBER(#REF!),#REF!,\"\")","v":""}]
[null,null,null,null,null,null,null,null,null,null,null,null,{"$f":"IF(ISNUMBER(#REF!),#REF!,\"\")","v":""}]
[null,null,null,null,null,null,null,null,null,null,null,null,{"$f":"IF(ISNUMBER(#REF!),#REF!,\"\")","v":""}]
[null,null,null,null,null,null,null,null,null,null,null,null,{"$f":"IF(ISNUMBER(#REF!),#REF!,\"\")","v":""}]
[null,null,null,null,null,null,null,null,null,null,null,null,{"$f":"IF(ISNUMBER(#REF!),#REF!,\"\")","v":""}]
[null,null,null,null,null,null,null,null,null,null,null,null,{"$f":"IF(ISNUMBER(#REF!),#REF!,\"\")","v":""}]
[null,null,null,null,null,null,null,null,null,null,null,null,{"$f":"IF(ISNUMBER(#REF!),#REF!,\"\")","v":""}]
[null,null,null,null,null,null,null,null,null,null,null,null,{"$f":"IF(ISNUMBER(#REF!),#REF!,\"\")","v":""}]
[null,null,null,null,null,null,null,null,null,null,null,null,{"$f":"IF(ISNUMBER(#REF!),#REF!,\"\")","v":""}]
[null,null,null,null,null,null,null,null,null,null,null,null,{"$f":"IF(ISNUMBER(#REF!),#REF!,\"\")","v":""}]
[null,null,null,null,null,null,null,null,null,null,null,null,{"$f":"IF(ISNUMBER(#REF!),#REF!,\"\")","v":""}]
[null,null,null,null,null,null,null,null,null,null,null,null,{"$f":"IF(ISNUMBER(#REF!),#REF!,\"\")","v":""}]
[null,null,null,null,null,null,null,null,null,null,null,null,{"$f":"IF(ISNUMBER(#REF!),#REF!,\"\")","v":""}]
[null,null,null,null,null,null,null,null,null,null,null,null,{"$f":"IF(ISNUMBER(#REF!),#REF!,\"\")","v":""}]
[null,null,null,null,null,null,null,null,null,null,null,null,{"$f":"IF(ISNUMBER(#REF!),#REF!,\"\")","v":""}]
[null,null,null,null,null,null,null,null,null,null,null,null,{"$f":"IF(ISNUMBER(#REF!),#REF!,\"\")","v":""}]
[null,null,null,null,null,null,null,null,null,null,null,null,{"$f":"IF(ISNUMBER(#REF!),#REF!,\"\")","v":""}]
[null,null,null,null,null,null,null,null,null,null,null,null,{"$f":"IF(ISNUMBER(#REF!),#REF!,\"\")","v":""}]
[null,null,null,null,null,null,null,null,null,null,null,null,{"$f":"IF(ISNUMBER(#REF!),#REF!,\"\")","v":""}]
[null,null,null,null,null,null,null,null,null,null,null,null,{"$f":"IF(ISNUMBER(#REF!),#REF!,\"\")","v":""}]
[null,null,null,null,null,null,null,null,null,null,null,null,{"$f":"IF(ISNUMBER(#REF!),#REF!,\"\")","v":""}]
[null,null,null,null,null,null,null,null,null,null,null,null,{"$f":"IF(ISNUMBER(#REF!),#REF!,\"\")","v":""}]
[null,null,null,null,null,null,null,null,null,null,null,null,{"$f":"IF(ISNUMBER(#REF!),#REF!,\"\")","v":""}]
[null,null,null,null,null,null,null,null,null,null,null,null,{"$f":"IF(ISNUMBER(#REF!),#REF!,\"\")","v":""}]
[null,null,null,null,null,null,null,null,null,null,null,null,{"$f":"IF(ISNUMBER(#REF!),#REF!,\"\")","v":""}]
[null,null,null,null,null,null,null,null,null,null,null,null,{"$f":"IF(ISNUMBER(#REF!),#REF!,\"\")","v":""}]
[null,null,null,null,null,null,null,null,null,null,null,null,{"$f":"IF(ISNUMBER(#REF!),#REF!,\"\")","v":""}]
[null,null,null,null,null,null,null,null,null,null,null,null,{"$f":"IF(ISNUMBER(#REF!),#REF!,\"\")","v":""}]
[null,null,null,null,null,null,null,null,null,null,null,null,{"$f":"IF(ISNUMBER(#REF!),#REF!,\"\")","v":""}]
[null,null,null,null,null,null,null,null,null,null,null,null,{"$f":"IF(ISNUMBER(#REF!),#REF!,\"\")","v":""}]
[null,null,null,null,null,null,null,null,null,null,null,null,{"$f":"IF(ISNUMBER(#REF!),#REF!,\"\")","v":""}]
[null,null,null,null,null,null,null,null,null,null,null,null,{"$f":"IF(ISNUMBER(#REF!),#REF!,\"\")","v":""}]
[null,null,null,null,null,null,null,null,null,null,null,null,{"$f":"IF(ISNUMBER(#REF!),#REF!,\"\")","v":""}]
[null,null,null,null,null,null,null,null,null,null,null,null,{"$f":"IF(ISNUMBER(#REF!),#REF!,\"\")","v":""}]
[null,null,null,null,null,null,null,null,null,null,null,null,{"$f":"IF(ISNUMBER(#REF!),#REF!,\"\")","v":""}]
[null,null,null,null,null,null,null,null,null,null,null,null,{"$f":"IF(ISNUMBER(#REF!),#REF!,\"\")","v":""}]
[null,null,null,null,null,null,null,null,null,null,null,null,{"$f":"IF(ISNUMBER(#REF!),#REF!,\"\")","v":""}]
[null,null,null,null,null,null,null,null,null,null,null,null,{"$f":"IF(ISNUMBER(#REF!),#REF!,\"\")","v":""}]
[null,null,null,null,null,null,null,null,null,null,null,null,{"$f":"IF(ISNUMBER(#REF!),#REF!,\"\")","v":""}]
[null,null,null,null,null,null,null,null,null,null,null,null,{"$f":"IF(ISNUMBER(#REF!),#REF!,\"\")","v":""}]
[null,null,null,null,null,null,null,null,null,null,null,null,{"$f":"IF(ISNUMBER(#REF!),#REF!,\"\")","v":""}]
[null,null,null,null,null,null,null,null,null,null,null,null,{"$f":"IF(ISNUMBER(#REF!),#REF!,\"\")","v":""}]
[null,null,null,null,null,null,null,null,null,null,null,null,{"$f":"IF(ISNUMBER(#REF!),#REF!,\"\")","v":""}]
[null,null,null,null,null,null,null,null,null,null,null,null,{"$f":"IF(ISNUMBER(#REF!),#REF!,\"\")","v":""}]
[null,null,null,null,null,null,null,null,null,null,null,null,{"$f":"IF(ISNUMBER(#REF!),#REF!,\"\")","v":""}]
[null,null,null,null,null,null,null,null,null,null,null,null,{"$f":"IF(ISNUMBER(#REF!),#REF!,\"\")","v":""}]
[null,null,null,null,null,null,null,null,null,null,null,null,{"$f":"IF(ISNUMBER(#REF!),#REF!,\"\")","v":""}]
[null,null,null,null,null,null,null,null,null,null,null,null,{"$f":"IF(ISNUMBER(#REF!),#REF!,\"\")","v":""}]
[null,null,null,null,null,null,null,null,null,null,null,null,{"$f":"IF(ISNUMBER(#REF!),#REF!,\"\")","v":""}]
[null,null,null,null,null,null,null,null,null,null,null,null,{"$f":"IF(ISNUMBER(#REF!),#REF!,\"\")","v":""}]
[null,null,null,null,null,null,null,null,null,null,null,null,{"$f":"IF(ISNUMBER(#REF!),#REF!,\"\")","v":""}]
[null,null,null,null,null,null,null,null,null,null,null,null,{"$f":"IF(ISNUMBER(#REF!),#REF!,\"\")","v":""}]
[null,null,null,null,null,null,null,null,null,null,null,null,{"$f":"IF(ISNUMBER(#REF!),#REF!,\"\")","v":""}]
[null,null,null,null,null,null,null,null,null,null,null,null,{"$f":"IF(ISNUMBER(#REF!),#REF!,\"\")","v":""}]
[null,null,null,null,null,null,null,null,null,null,null,null,{"$f":"IF(ISNUMBER(#REF!),#REF!,\"\")","v":""}]
[null,null,null,null,null,null,null,null,null,null,null,null,{"$f":"IF(ISNUMBER(#REF!),#REF!,\"\")","v":""}]
[null,null,null,null,null,null,null,null,null,null,null,null,{"$f":"IF(ISNUMBER(#REF!),#REF!,\"\")","v":""}]
[null,null,null,null,null,null,null,null,null,null,null,null,{"$f":"IF(ISNUMBER(#REF!),#REF!,\"\")","v":""}]
[null,null,null,null,null,null,null,null,null,null,null,null,{"$f":"IF(ISNUMBER(#REF!),#REF!,\"\")","v":""}]
[null,null,null,null,null,null,null,null,null,null,null,null,{"$f":"IF(ISNUMBER(#REF!),#REF!,\"\")","v":""}]
[null,null,null,null,null,null,null,null,null,null,null,null,{"$f":"IF(ISNUMBER(#REF!),#REF!,\"\")","v":""}]
[null,null,null,null,null,null,null,null,null,null,null,null,{"$f":"IF(ISNUMBER(#REF!),#REF!,\"\")","v":""}]
[null,null,null,null,null,null,null,null,null,null,null,null,{"$f":"IF(ISNUMBER(#REF!),#REF!,\"\")","v":""}]
[null,null,null,null,null,null,null,null,null,null,null,null,{"$f":"IF(ISNUMBER(#REF!),#REF!,\"\")","v":""}]
[null,null,null,null,null,null,null,null,null,null,null,null,{"$f":"IF(ISNUMBER(#REF!),#REF!,\"\")","v":""}]
[null,null,null,null,null,null,null,null,null,null,null,null,{"$f":"IF(ISNUMBER(#REF!),#REF!,\"\")","v":""}]
[null,null,null,null,null,null,null,null,null,null,null,null,{"$f":"IF(ISNUMBER(#REF!),#REF!,\"\")","v":""}]
[null,null,null,null,null,null,null,null,null,null,null,null,{"$f":"IF(ISNUMBER(#REF!),#REF!,\"\")","v":""}]
[null,null,null,null,null,null,null,null,null,null,null,null,{"$f":"IF(ISNUMBER(#REF!),#REF!,\"\")","v":""}]
[null,null,null,null,null,null,null,null,null,null,null,null,{"$f":"IF(ISNUMBER(#REF!),#REF!,\"\")","v":""}]
[null,null,null,null,null,null,null,null,null,null,null,null,{"$f":"IF(ISNUMBER(#REF!),#REF!,\"\")","v":""}]
[null,null,null,null,null,null,null,null,null,null,null,null,{"$f":"IF(ISNUMBER(#REF!),#REF!,\"\")","v":""}]
[null,null,null,null,null,null,null,null,null,null,null,null,{"$f":"IF(ISNUMBER(#REF!),#REF!,\"\")","v":""}]
[null,null,null,null,null,null,null,null,null,null,null,null,{"$f":"IF(ISNUMBER(#REF!),#REF!,\"\")","v":""}]
[null,null,null,null,null,null,null,null,null,null,null,null,{"$f":"IF(ISNUMBER(#REF!),#REF!,\"\")","v":""}]
[null,null,null,null,null,null,null,null,null,null,null,null,{"$f":"IF(ISNUMBER(#REF!),#REF!,\"\")","v":""}]
[null,null,null,null,null,null,null,null,null,null,null,null,{"$f":"IF(ISNUMBER(#REF!),#REF!,\"\")","v":""}]
[null,null,null,null,null,null,null,null,null,null,null,null,{"$f":"IF(ISNUMBER(#REF!),#REF!,\"\")","v":""}]
[null,null,null,null,null,null,null,null,null,null,null,null,{"$f":"IF(ISNUMBER(#REF!),#REF!,\"\")","v":""}]
[null,null,null,null,null,null,null,null,null,null,null,null,{"$f":"IF(ISNUMBER(#REF!),#REF!,\"\")","v":""}]
[null,null,null,null,null,null,null,null,null,null,null,null,{"$f":"IF(ISNUMBER(#REF!),#REF!,\"\")","v":""}]
[null,null,null,null,null,null,null,null,null,null,null,null,{"$f":"IF(ISNUMBER(#REF!),#REF!,\"\")","v":""}]
[null,null,null,null,null,null,null,null,null,null,null,null,{"$f":"IF(ISNUMBER(#REF!),#REF!,\"\")","v":""}]
[null,null,null,null,null,null,null,null,null,null,null,null,{"$f":"IF(ISNUMBER(#REF!),#REF!,\"\")","v":""}]
[null,null,null,null,null,null,null,null,null,null,null,null,{"$f":"IF(ISNUMBER(#REF!),#REF!,\"\")","v":""}]
[null,null,null,null,null,null,null,null,null,null,null,null,{"$f":"IF(ISNUMBER(#REF!),#REF!,\"\")","v":""}]
[null,null,null,null,null,null,null,null,null,null,null,null,{"$f":"IF(ISNUMBER(#REF!),#REF!,\"\")","v":""}]
[null,null,null,null,null,null,null,null,null,null,null,null,{"$f":"IF(ISNUMBER(#REF!),#REF!,\"\")","v":""}]
[null,null,null,null,null,null,null,null,null,null,null,null,{"$f":"IF(ISNUMBER(#REF!),#REF!,\"\")","v":""}]
[null,null,null,null,null,null,null,null,null,null,null,null,{"$f":"IF(ISNUMBER(#REF!),#REF!,\"\")","v":""}]
[null,null,null,null,null,null,null,null,null,null,null,null,{"$f":"IF(ISNUMBER(#REF!),#REF!,\"\")","v":""}]
[null,null,null,null,null,null,null,null,null,null,null,null,{"$f":"IF(ISNUMBER(#REF!),#REF!,\"\")","v":""}]
[null,null,null,null,null,null,null,null,null,null,null,null,{"$f":"IF(ISNUMBER(#REF!),#REF!,\"\")","v":""}]
[null,null,null,null,null,null,null,null,null,null,null,null,{"$f":"IF(ISNUMBER(#REF!),#REF!,\"\")","v":""}]
[null,null,null,null,null,null,null,null,null,null,null,null,{"$f":"IF(ISNUMBER(#REF!),#REF!,\"\")","v":""}]
[null,null,null,null,null,null,null,null,null,null,null,null,{"$f":"IF(ISNUMBER(#REF!),#REF!,\"\")","v":""}]
[null,null,null,null,null,null,null,null,null,null,null,null,{"$f":"IF(ISNUMBER(#REF!),#REF!,\"\")","v":""}]
[null,null,null,null,null,null,null,null,null,null,null,null,{"$f":"IF(ISNUMBER(#REF!),#REF!,\"\")","v":""}]
[null,null,null,null,null,null,null,null,null,null,null,null,{"$f":"IF(ISNUMBER(#REF!),#REF!,\"\")","v":""}]
[null,null,null,null,null,null,null,null,null,null,null,null,{"$f":"IF(ISNUMBER(#REF!),#REF!,\"\")","v":""}]
[null,null,null,null,null,null,null,null,null,null,null,null,{"$f":"IF(ISNUMBER(#REF!),#REF!,\"\")","v":""}]
[null,null,null,null,null,null,null,null,null,null,null,null,{"$f":"IF(ISNUMBER(#REF!),#REF!,\"\")","v":""}]
[null,null,null,null,null,null,null,null,null,null,null,null,{"$f":"IF(ISNUMBER(#REF!),#REF!,\"\")","v":""}]
[null,null,null,null,null,null,null,null,null,null,null,null,{"$f":"IF(ISNUMBER(#REF!),#REF!,\"\")","v":""}]
[null,null,null,null,null,null,null,null,null,null,null,null,{"$f":"IF(ISNUMBER(#REF!),#REF!,\"\")","v":""}]
[null,null,null,null,null,null,null,null,null,null,null,null,{"$f":"IF(ISNUMBER(#REF!),#REF!,\"\")","v":""}]
[null,null,null,null,null,null,null,null,null,null,null,null,{"$f":"IF(ISNUMBER(#REF!),#REF!,\"\")","v":""}]
[null,null,null,null,null,null,null,null,null,null,null,null,{"$f":"IF(ISNUMBER(#REF!),#REF!,\"\")","v":""}]
[null,null,null,null,null,null,null,null,null,null,null,null,{"$f":"IF(ISNUMBER(#REF!),#REF!,\"\")","v":""}]
[null,null,null,null,null,null,null,null,null,null,null,null,{"$f":"IF(ISNUMBER(#REF!),#REF!,\"\")","v":""}]
[null,null,null,null,null,null,null,null,null,null,null,null,{"$f":"IF(ISNUMBER(#REF!),#REF!,\"\")","v":""}]
[null,null,null,null,null,null,null,null,null,null,null,null,{"$f":"IF(ISNUMBER(#REF!),#REF!,\"\")","v":""}]
[null,null,null,null,null,null,null,null,null,null,null,null,{"$f":"IF(ISNUMBER(#REF!),#REF!,\"\")","v":""}]
[null,null,null,null,null,null,null,null,null,null,null,null,{"$f":"IF(ISNUMBER(#REF!),#REF!,\"\")","v":""}]
[null,null,null,null,null,null,null,null,null,null,null,null,{"$f":"IF(ISNUMBER(#REF!),#REF!,\"\")","v":""}]
[null,null,null,null,null,null,null,null,null,null,null,null,{"$f":"IF(ISNUMBER(#REF!),#REF!,\"\")","v":""}]
[null,null,null,null,null,null,null,null,null,null,null,null,{"$f":"IF(ISNUMBER(#REF!),#REF!,\"\")","v":""}]
[null,null,null,null,null,null,null,null,null,null,null,null,{"$f":"IF(ISNUMBER(#REF!),#REF!,\"\")","v":""}]
[null,null,null,null,null,null,null,null,null,null,null,null,{"$f":"IF(ISNUMBER(#REF!),#REF!,\"\")","v":""}]
[null,null,null,null,null,null,null,null,null,null,null,null,{"$f":"IF(ISNUMBER(#REF!),#REF!,\"\")","v":""}]
[null,null,null,null,null,null,null,null,null,null,null,null,{"$f":"IF(ISNUMBER(#REF!),#REF!,\"\")","v":""}]
[null,null,null,null,null,null,null,null,null,null,null,null,{"$f":"IF(ISNUMBER(#REF!),#REF!,\"\")","v":""}]
[null,null,null,null,null,null,null,null,null,null,null,null,{"$f":"IF(ISNUMBER(#REF!),#REF!,\"\")","v":""}]
[null,null,null,null,null,null,null,null,null,null,null,null,{"$f":"IF(ISNUMBER(#REF!),#REF!,\"\")","v":""}]
[null,null,null,null,null,null,null,null,null,null,null,null,{"$f":"IF(ISNUMBER(#REF!),#REF!,\"\")","v":""}]
[null,null,null,null,null,null,null,null,null,null,null,null,{"$f":"IF(ISNUMBER(#REF!),#REF!,\"\")","v":""}]
[null,null,null,null,null,null,null,null,null,null,null,null,{"$f":"IF(ISNUMBER(#REF!),#REF!,\"\")","v":""}]
[null,null,null,null,null,null,null,null,null,null,null,null,{"$f":"IF(ISNUMBER(#REF!),#REF!,\"\")","v":""}]
[null,null,null,null,null,null,null,null,null,null,null,null,{"$f":"IF(ISNUMBER(#REF!),#REF!,\"\")","v":""}]
[null,null,null,null,null,null,null,null,null,null,null,null,{"$f":"IF(ISNUMBER(#REF!),#REF!,\"\")","v":""}]
[null,null,null,null,null,null,null,null,null,null,null,null,{"$f":"IF(ISNUMBER(#REF!),#REF!,\"\")","v":""}]
[null,null,null,null,null,null,null,null,null,null,null,null,{"$f":"IF(ISNUMBER(#REF!),#REF!,\"\")","v":""}]
[null,null,null,null,null,null,null,null,null,null,null,null,{"$f":"IF(ISNUMBER(#REF!),#REF!,\"\")","v":""}]
[null,null,null,null,null,null,null,null,null,null,null,null,{"$f":"IF(ISNUMBER(#REF!),#REF!,\"\")","v":""}]
[null,null,null,null,null,null,null,null,null,null,null,null,{"$f":"IF(ISNUMBER(#REF!),#REF!,\"\")","v":""}]
[null,null,null,null,null,null,null,null,null,null,null,null,{"$f":"IF(ISNUMBER(#REF!),#REF!,\"\")","v":""}]
[null,null,null,null,null,null,null,null,null,null,null,null,{"$f":"IF(ISNUMBER(#REF!),#REF!,\"\")","v":""}]
[null,null,null,null,null,null,null,null,null,null,null,null,{"$f":"IF(ISNUMBER(#REF!),#REF!,\"\")","v":""}]
[null,null,null,null,null,null,null,null,null,null,null,null,{"$f":"IF(ISNUMBER(#REF!),#REF!,\"\")","v":""}]
[null,null,null,null,null,null,null,null,null,null,null,null,{"$f":"IF(ISNUMBER(#REF!),#REF!,\"\")","v":""}]
[null,null,null,null,null,null,null,null,null,null,null,null,{"$f":"IF(ISNUMBER(#REF!),#REF!,\"\")","v":""}]
[null,null,null,null,null,null,null,null,null,null,null,null,{"$f":"IF(ISNUMBER(#REF!),#REF!,\"\")","v":""}]
[null,null,null,null,null,null,null,null,null,null,null,null,{"$f":"IF(ISNUMBER(#REF!),#REF!,\"\")","v":""}]
[null,null,null,null,null,null,null,null,null,null,null,null,{"$f":"IF(ISNUMBER(#REF!),#REF!,\"\")","v":""}]
[null,null,null,null,null,null,null,null,null,null,null,null,{"$f":"IF(ISNUMBER(#REF!),#REF!,\"\")","v":""}]
[null,null,null,null,null,null,null,null,null,null,null,null,{"$f":"IF(ISNUMBER(#REF!),#REF!,\"\")","v":""}]
[null,null,null,null,null,null,null,null,null,null,null,null,{"$f":"IF(ISNUMBER(#REF!),#REF!,\"\")","v":""}]
[null,null,null,null,null,null,null,null,null,null,null,null,{"$f":"IF(ISNUMBER(#REF!),#REF!,\"\")","v":""}]